{"text_format":"1","workbook":"xlsx","n_sheets":6,"sheets":["Content","Products","Pricing Policies","Change Log","Base","Base Prod"],"not_rendered":{"charts":0,"images":8,"macros":1,"external_links":0,"defined_names":3,"comments":0,"pivot_tables":0},"unopened":[],"bounds":{"document_bytes":16777216,"sheet_cells":100000,"rows_first":2000,"rows_last":500,"rows_between":2000,"halvings":0,"cell_chars":16384,"cell_head_chars":4096},"cells_cut":0,"cells_raw":0,"read":"whole","date_system":"1900"}

{"sheet":"Content","index":0,"n_rows":28,"n_cols":4,"rows_kept":28,"cut":false,"hidden":false,"merged":[[43,1,44,4],[0,3,1,18],[2,3,2,18]]}
[null,null,null,"Product Price List"]
[]
[null,null,null,"September 2016"]
[null,"Product Category",null,"Product Name"]
[]
[null,"Business"]
[null,null,null,"Bitdefender GravityZone Business Security"]
[null,null,null,"Bitdefender GravityZone Advanced Business Security"]
[null,null,null,"Bitdefender GravityZone Enterprise Security"]
[null,null,null,"            GravityZone Security for Virtualized Environments VDI"]
[null,null,null,"            GravityZone Security for Virtualized Environments VS"]
[null,null,null,"            GravityZone Security for Virtualized Environments CPU"]
[]
[null,null,null,"            GravityZone Security for Endpoints Physical Workstations"]
[null,null,null,"            GravityZone Security for Endpoints Physical Servers"]
[]
[null,null,null,"            GravityZone Security for Exchange"]
[null,null,null,"            GravityZone Security for Mobile"]
[null,null,null,"Bitdefender Security for Mail Servers - Linux"]
[]
[null,"Consumer",null,"      Bitdefender Antivirus Plus 2016"]
[null,null,null,"      Bitdefender Internet Security 2016"]
[null,null,null,"      Bitdefender Total Security 2016"]
[null,null,null,"      Bitdefender Total Security Multi-Device 2016"]
[null,null,null,"      Bitdefender Family pack 2016*"]
[null,null,null,"      Bitdefender Mobile Security for Android"]
[null,null,null,"      Bitdefender Antivirus  for Mac"]
[null,null,null,"* Bitdefender Family pack 2016 offers one license per household"]

{"sheet":"Products","index":1,"n_rows":312,"n_cols":31,"rows_kept":312,"cut":false,"hidden":false,"merged":[[7,25,7,26],[7,5,7,6],[0,1,0,8],[1,1,1,8],[2,1,2,8],[5,1,5,7],[11,1,11,5],[11,6,11,7],[4,1,4,7]]}
[]
[null,"Bitdefender Solutions",null,null,null,null,null,null,null,null,null,null,null,null,null,null,null,null,null,null,null,null,null,null,null,null,null,"Consumer with VAT","Business Standard",null,"Business Standard"]
[null,null,null,null,null,null,null,null,null,null,null,null,null,null,null,null,null,null,null,null,null,null,null,null,null,null,null,"Consumer without VAT","Education & Non Profit",null,{"$f":"IF(OR($Y$7=2,$Y$7=1),\"\",AC3)","v":"Education & Non Profit"}]
[null,"Note : The prices below are without VAT",null,null,null,null,null,null,null,null,null,null,null,null,null,null,null,null,null,null,null,null,null,null,null,null,null,"Business","Government",null,{"$f":"IF(OR($Y$7=2,$Y$7=1),\"\",AC4)","v":"Government"}]
[null,"Enter the desired number of units in the appropriate yellow cell to calculate the price. Unless otherwise specified, all the units are users.",null,null,null,null,null,null,null,null,null,null,null,null,null,null,null,null,null,null,null,null,null,null,null,null,null,"Previous & Legacy Business","Renew",null,"Renew"]
[null,null,null,null,null,null,null,null,null,null,null,null,null,null,null,null,null,null,null,null,null,null,null,null,null,null,null,null,"Competitive Upgrade",null,"Competitive Upgrade"]
[null,null,null,null,null,null,null,null,null,null,null,null,null,null,null,null,null,null,null,null,null,null,null,null,3,{"$f":"IF(Y7=1,AB2,IF(Y7=2,AB3,IF(Y7=3,AB4,AB5)))","v":"Business"},null,null,"Education & Non Profit Renew",null,"Education & Non Profit Renew"]
[null,"Select Portfolio Type","Select Offer Type",null,null,"Discount from MSRP",null,{"$f":"'Base Prod'!G10","v":0},null,null,null,null,null,null,null,null,null,null,null,null,null,null,null,null,1,{"$f":"IF(OR(Y7=1,Y7=2),AC2,IF(Y8=1,AC2,IF(Y8=2,AC3,IF(Y8=3,AC4,IF(Y8=4,AC5,IF(Y8=5,AC6,IF(Y8=6,AC7,AC8)))))))","v":"Business Standard"},null,null,"Government Renew",null,"Government Renew"]
[]
[]
[]
[null,"Total price per choosen configuration",null,null,null,null,{"$f":"SUM(G14:G172)","v":0}]
[null,"Product","Period","Users","Price/Unit","# Units","Total Price ","Part #"]
[null,{"$f":"'Base Prod'!A14","v":"Bitdefender GravityZone Business Security"},{"$f":"'Base Prod'!B14","v":"1 year"},{"$f":"'Base Prod'!C14","v":"3 - 14"},{"$f":"'Base Prod'!D14","v":33.32},null,{"$f":"'Base Prod'!F14","v":0},{"$f":"'Base Prod'!G14","v":"AL1286100A-EN"}]
[null,{"$f":"'Base Prod'!A15","v":"Bitdefender GravityZone Business Security"},{"$f":"'Base Prod'!B15","v":"1 year"},{"$f":"'Base Prod'!C15","v":"15 - 24"},{"$f":"'Base Prod'!D15","v":29.37},null,{"$f":"'Base Prod'!F15","v":0},{"$f":"'Base Prod'!G15","v":"AL1286100B-EN"}]
[null,{"$f":"'Base Prod'!A16","v":"Bitdefender GravityZone Business Security"},{"$f":"'Base Prod'!B16","v":"1 year"},{"$f":"'Base Prod'!C16","v":"25 - 49"},{"$f":"'Base Prod'!D16","v":27.69},null,{"$f":"'Base Prod'!F16","v":0},{"$f":"'Base Prod'!G16","v":"AL1286100C-EN"}]
[null,{"$f":"'Base Prod'!A17","v":"Bitdefender GravityZone Business Security"},{"$f":"'Base Prod'!B17","v":"1 year"},{"$f":"'Base Prod'!C17","v":"50 - 99"},{"$f":"'Base Prod'!D17","v":24.33},null,{"$f":"'Base Prod'!F17","v":0},{"$f":"'Base Prod'!G17","v":"AL1286100D-EN"}]
[null,{"$f":"'Base Prod'!A18","v":"Bitdefender GravityZone Business Security"},{"$f":"'Base Prod'!B18","v":"1 year"},{"$f":"'Base Prod'!C18","v":"100 - 149"},{"$f":"'Base Prod'!D18","v":22.38},null,{"$f":"'Base Prod'!F18","v":0},{"$f":"'Base Prod'!G18","v":"AL1286100E-EN"}]
[null,{"$f":"'Base Prod'!A19","v":"Bitdefender GravityZone Business Security"},{"$f":"'Base Prod'!B19","v":"1 year"},{"$f":"'Base Prod'!C19","v":"150 - 249"},{"$f":"'Base Prod'!D19","v":21.49},null,{"$f":"'Base Prod'!F19","v":0},{"$f":"'Base Prod'!G19","v":"AL1286100F-EN"}]
[null,{"$f":"'Base Prod'!A20","v":"Bitdefender GravityZone Business Security"},{"$f":"'Base Prod'!B20","v":"1 year"},{"$f":"'Base Prod'!C20","v":"250 - 499"},{"$f":"'Base Prod'!D20","v":20.41},null,{"$f":"'Base Prod'!F20","v":0},{"$f":"'Base Prod'!G20","v":"AL1286100G-EN"}]
[null,{"$f":"'Base Prod'!A21","v":"Bitdefender GravityZone Business Security"},{"$f":"'Base Prod'!B21","v":"1 year"},{"$f":"'Base Prod'!C21","v":"500 - 999"},{"$f":"'Base Prod'!D21","v":20.11},null,{"$f":"'Base Prod'!F21","v":0},{"$f":"'Base Prod'!G21","v":"AL1286100H-EN"}]
[null,{"$f":"'Base Prod'!A22","v":"Bitdefender GravityZone Business Security"},{"$f":"'Base Prod'!B22","v":"1 year"},{"$f":"'Base Prod'!C22","v":"1000 - 2999"},{"$f":"'Base Prod'!D22","v":19.809999999999999},null,{"$f":"'Base Prod'!F22","v":0},{"$f":"'Base Prod'!G22","v":"AL1286100I-EN"}]
[null,{"$f":"'Base Prod'!A23","v":"Bitdefender GravityZone Business Security"},{"$f":"'Base Prod'!B23","v":"1 year"},{"$f":"'Base Prod'!C23","v":"3000+"},{"$f":"'Base Prod'!D23","v":19.510000000000002},null,{"$f":"'Base Prod'!F23","v":0},{"$f":"'Base Prod'!G23","v":"AL1286100J-EN"}]
[null,{"$f":"'Base Prod'!A24","v":"Bitdefender GravityZone Business Security"},{"$f":"'Base Prod'!B24","v":"2 years"},{"$f":"'Base Prod'!C24","v":"3 - 14"},{"$f":"'Base Prod'!D24","v":53.31},null,{"$f":"'Base Prod'!F24","v":0},{"$f":"'Base Prod'!G24","v":"AL1286200A-EN"}]
[null,{"$f":"'Base Prod'!A25","v":"Bitdefender GravityZone Business Security"},{"$f":"'Base Prod'!B25","v":"2 years"},{"$f":"'Base Prod'!C25","v":"15 - 24"},{"$f":"'Base Prod'!D25","v":46.99},null,{"$f":"'Base Prod'!F25","v":0},{"$f":"'Base Prod'!G25","v":"AL1286200B-EN"}]
[null,{"$f":"'Base Prod'!A26","v":"Bitdefender GravityZone Business Security"},{"$f":"'Base Prod'!B26","v":"2 years"},{"$f":"'Base Prod'!C26","v":"25 - 49"},{"$f":"'Base Prod'!D26","v":44.3},null,{"$f":"'Base Prod'!F26","v":0},{"$f":"'Base Prod'!G26","v":"AL1286200C-EN"}]
[null,{"$f":"'Base Prod'!A27","v":"Bitdefender GravityZone Business Security"},{"$f":"'Base Prod'!B27","v":"2 years"},{"$f":"'Base Prod'!C27","v":"50 - 99"},{"$f":"'Base Prod'!D27","v":38.93},null,{"$f":"'Base Prod'!F27","v":0},{"$f":"'Base Prod'!G27","v":"AL1286200D-EN"}]
[null,{"$f":"'Base Prod'!A28","v":"Bitdefender GravityZone Business Security"},{"$f":"'Base Prod'!B28","v":"2 years"},{"$f":"'Base Prod'!C28","v":"100 - 149"},{"$f":"'Base Prod'!D28","v":35.81},null,{"$f":"'Base Prod'!F28","v":0},{"$f":"'Base Prod'!G28","v":"AL1286200E-EN"}]
[null,{"$f":"'Base Prod'!A29","v":"Bitdefender GravityZone Business Security"},{"$f":"'Base Prod'!B29","v":"2 years"},{"$f":"'Base Prod'!C29","v":"150 - 249"},{"$f":"'Base Prod'!D29","v":34.380000000000003},null,{"$f":"'Base Prod'!F29","v":0},{"$f":"'Base Prod'!G29","v":"AL1286200F-EN"}]
[null,{"$f":"'Base Prod'!A30","v":"Bitdefender GravityZone Business Security"},{"$f":"'Base Prod'!B30","v":"2 years"},{"$f":"'Base Prod'!C30","v":"250 - 499"},{"$f":"'Base Prod'!D30","v":32.659999999999997},null,{"$f":"'Base Prod'!F30","v":0},{"$f":"'Base Prod'!G30","v":"AL1286200G-EN"}]
[null,{"$f":"'Base Prod'!A31","v":"Bitdefender GravityZone Business Security"},{"$f":"'Base Prod'!B31","v":"2 years"},{"$f":"'Base Prod'!C31","v":"500 - 999"},{"$f":"'Base Prod'!D31","v":32.18},null,{"$f":"'Base Prod'!F31","v":0},{"$f":"'Base Prod'!G31","v":"AL1286200H-EN"}]
[null,{"$f":"'Base Prod'!A32","v":"Bitdefender GravityZone Business Security"},{"$f":"'Base Prod'!B32","v":"2 years"},{"$f":"'Base Prod'!C32","v":"1000 - 2999"},{"$f":"'Base Prod'!D32","v":31.7},null,{"$f":"'Base Prod'!F32","v":0},{"$f":"'Base Prod'!G32","v":"AL1286200I-EN"}]
[null,{"$f":"'Base Prod'!A33","v":"Bitdefender GravityZone Business Security"},{"$f":"'Base Prod'!B33","v":"2 years"},{"$f":"'Base Prod'!C33","v":"3000+"},{"$f":"'Base Prod'!D33","v":31.22},null,{"$f":"'Base Prod'!F33","v":0},{"$f":"'Base Prod'!G33","v":"AL1286200J-EN"}]
[null,{"$f":"'Base Prod'!A34","v":"Bitdefender GravityZone Business Security"},{"$f":"'Base Prod'!B34","v":"3 years"},{"$f":"'Base Prod'!C34","v":"3 - 14"},{"$f":"'Base Prod'!D34","v":68.25},null,{"$f":"'Base Prod'!F34","v":0},{"$f":"'Base Prod'!G34","v":"AL1286300A-EN"}]
[null,{"$f":"'Base Prod'!A35","v":"Bitdefender GravityZone Business Security"},{"$f":"'Base Prod'!B35","v":"3 years"},{"$f":"'Base Prod'!C35","v":"15 - 24"},{"$f":"'Base Prod'!D35","v":60.21},null,{"$f":"'Base Prod'!F35","v":0},{"$f":"'Base Prod'!G35","v":"AL1286300B-EN"}]
[null,{"$f":"'Base Prod'!A36","v":"Bitdefender GravityZone Business Security"},{"$f":"'Base Prod'!B36","v":"3 years"},{"$f":"'Base Prod'!C36","v":"25 - 49"},{"$f":"'Base Prod'!D36","v":56.76},null,{"$f":"'Base Prod'!F36","v":0},{"$f":"'Base Prod'!G36","v":"AL1286300C-EN"}]
[null,{"$f":"'Base Prod'!A37","v":"Bitdefender GravityZone Business Security"},{"$f":"'Base Prod'!B37","v":"3 years"},{"$f":"'Base Prod'!C37","v":"50 - 99"},{"$f":"'Base Prod'!D37","v":49.88},null,{"$f":"'Base Prod'!F37","v":0},{"$f":"'Base Prod'!G37","v":"AL1286300D-EN"}]
[null,{"$f":"'Base Prod'!A38","v":"Bitdefender GravityZone Business Security"},{"$f":"'Base Prod'!B38","v":"3 years"},{"$f":"'Base Prod'!C38","v":"100 - 149"},{"$f":"'Base Prod'!D38","v":45.88},null,{"$f":"'Base Prod'!F38","v":0},{"$f":"'Base Prod'!G38","v":"AL1286300E-EN"}]
[null,{"$f":"'Base Prod'!A39","v":"Bitdefender GravityZone Business Security"},{"$f":"'Base Prod'!B39","v":"3 years"},{"$f":"'Base Prod'!C39","v":"150 - 249"},{"$f":"'Base Prod'!D39","v":44.05},null,{"$f":"'Base Prod'!F39","v":0},{"$f":"'Base Prod'!G39","v":"AL1286300F-EN"}]
[null,{"$f":"'Base Prod'!A40","v":"Bitdefender GravityZone Business Security"},{"$f":"'Base Prod'!B40","v":"3 years"},{"$f":"'Base Prod'!C40","v":"250 - 499"},{"$f":"'Base Prod'!D40","v":41.84},null,{"$f":"'Base Prod'!F40","v":0},{"$f":"'Base Prod'!G40","v":"AL1286300G-EN"}]
[null,{"$f":"'Base Prod'!A41","v":"Bitdefender GravityZone Business Security"},{"$f":"'Base Prod'!B41","v":"3 years"},{"$f":"'Base Prod'!C41","v":"500 - 999"},{"$f":"'Base Prod'!D41","v":41.23},null,{"$f":"'Base Prod'!F41","v":0},{"$f":"'Base Prod'!G41","v":"AL1286300H-EN"}]
[null,{"$f":"'Base Prod'!A42","v":"Bitdefender GravityZone Business Security"},{"$f":"'Base Prod'!B42","v":"3 years"},{"$f":"'Base Prod'!C42","v":"1000 - 2999"},{"$f":"'Base Prod'!D42","v":40.61},null,{"$f":"'Base Prod'!F42","v":0},{"$f":"'Base Prod'!G42","v":"AL1286300I-EN"}]
[null,{"$f":"'Base Prod'!A43","v":"Bitdefender GravityZone Business Security"},{"$f":"'Base Prod'!B43","v":"3 years"},{"$f":"'Base Prod'!C43","v":"3000+"},{"$f":"'Base Prod'!D43","v":40},null,{"$f":"'Base Prod'!F43","v":0},{"$f":"'Base Prod'!G43","v":"AL1286300J-EN"}]
[null,{"$f":"'Base Prod'!A44","v":"Bitdefender GravityZone Advanced Business Security"},{"$f":"'Base Prod'!B44","v":"1 year"},{"$f":"'Base Prod'!C44","v":"5 - 14"},{"$f":"'Base Prod'!D44","v":48.32},null,{"$f":"'Base Prod'!F44","v":0},{"$f":"'Base Prod'!G44","v":"AL1287100A-EN"}]
[null,{"$f":"'Base Prod'!A45","v":"Bitdefender GravityZone Advanced Business Security"},{"$f":"'Base Prod'!B45","v":"1 year"},{"$f":"'Base Prod'!C45","v":"15 - 24"},{"$f":"'Base Prod'!D45","v":44.66},null,{"$f":"'Base Prod'!F45","v":0},{"$f":"'Base Prod'!G45","v":"AL1287100B-EN"}]
[null,{"$f":"'Base Prod'!A46","v":"Bitdefender GravityZone Advanced Business Security"},{"$f":"'Base Prod'!B46","v":"1 year"},{"$f":"'Base Prod'!C46","v":"25 - 49"},{"$f":"'Base Prod'!D46","v":39.99},null,{"$f":"'Base Prod'!F46","v":0},{"$f":"'Base Prod'!G46","v":"AL1287100C-EN"}]
[null,{"$f":"'Base Prod'!A47","v":"Bitdefender GravityZone Advanced Business Security"},{"$f":"'Base Prod'!B47","v":"1 year"},{"$f":"'Base Prod'!C47","v":"50 - 99"},{"$f":"'Base Prod'!D47","v":35.99},null,{"$f":"'Base Prod'!F47","v":0},{"$f":"'Base Prod'!G47","v":"AL1287100D-EN"}]
[null,{"$f":"'Base Prod'!A48","v":"Bitdefender GravityZone Advanced Business Security"},{"$f":"'Base Prod'!B48","v":"1 year"},{"$f":"'Base Prod'!C48","v":"100 - 149"},{"$f":"'Base Prod'!D48","v":32.659999999999997},null,{"$f":"'Base Prod'!F48","v":0},{"$f":"'Base Prod'!G48","v":"AL1287100E-EN"}]
[null,{"$f":"'Base Prod'!A49","v":"Bitdefender GravityZone Advanced Business Security"},{"$f":"'Base Prod'!B49","v":"1 year"},{"$f":"'Base Prod'!C49","v":"150 - 249"},{"$f":"'Base Prod'!D49","v":28.09},null,{"$f":"'Base Prod'!F49","v":0},{"$f":"'Base Prod'!G49","v":"AL1287100F-EN"}]
[null,{"$f":"'Base Prod'!A50","v":"Bitdefender GravityZone Advanced Business Security"},{"$f":"'Base Prod'!B50","v":"1 year"},{"$f":"'Base Prod'!C50","v":"250 - 499"},{"$f":"'Base Prod'!D50","v":25.84},null,{"$f":"'Base Prod'!F50","v":0},{"$f":"'Base Prod'!G50","v":"AL1287100G-EN"}]
[null,{"$f":"'Base Prod'!A51","v":"Bitdefender GravityZone Advanced Business Security"},{"$f":"'Base Prod'!B51","v":"1 year"},{"$f":"'Base Prod'!C51","v":"500 - 999"},{"$f":"'Base Prod'!D51","v":24.03},null,{"$f":"'Base Prod'!F51","v":0},{"$f":"'Base Prod'!G51","v":"AL1287100H-EN"}]
[null,{"$f":"'Base Prod'!A52","v":"Bitdefender GravityZone Advanced Business Security"},{"$f":"'Base Prod'!B52","v":"1 year"},{"$f":"'Base Prod'!C52","v":"1000 - 2999"},{"$f":"'Base Prod'!D52","v":22.83},null,{"$f":"'Base Prod'!F52","v":0},{"$f":"'Base Prod'!G52","v":"AL1287100I-EN"}]
[null,{"$f":"'Base Prod'!A53","v":"Bitdefender GravityZone Advanced Business Security"},{"$f":"'Base Prod'!B53","v":"1 year"},{"$f":"'Base Prod'!C53","v":"3000+"},{"$f":"'Base Prod'!D53","v":22.14},null,{"$f":"'Base Prod'!F53","v":0},{"$f":"'Base Prod'!G53","v":"AL1287100J-EN"}]
[null,{"$f":"'Base Prod'!A54","v":"Bitdefender GravityZone Advanced Business Security"},{"$f":"'Base Prod'!B54","v":"2 years"},{"$f":"'Base Prod'!C54","v":"5 - 14"},{"$f":"'Base Prod'!D54","v":77.31},null,{"$f":"'Base Prod'!F54","v":0},{"$f":"'Base Prod'!G54","v":"AL1287200A-EN"}]
[null,{"$f":"'Base Prod'!A55","v":"Bitdefender GravityZone Advanced Business Security"},{"$f":"'Base Prod'!B55","v":"2 years"},{"$f":"'Base Prod'!C55","v":"15 - 24"},{"$f":"'Base Prod'!D55","v":71.459999999999994},null,{"$f":"'Base Prod'!F55","v":0},{"$f":"'Base Prod'!G55","v":"AL1287200B-EN"}]
[null,{"$f":"'Base Prod'!A56","v":"Bitdefender GravityZone Advanced Business Security"},{"$f":"'Base Prod'!B56","v":"2 years"},{"$f":"'Base Prod'!C56","v":"25 - 49"},{"$f":"'Base Prod'!D56","v":63.98},null,{"$f":"'Base Prod'!F56","v":0},{"$f":"'Base Prod'!G56","v":"AL1287200C-EN"}]
[null,{"$f":"'Base Prod'!A57","v":"Bitdefender GravityZone Advanced Business Security"},{"$f":"'Base Prod'!B57","v":"2 years"},{"$f":"'Base Prod'!C57","v":"50 - 99"},{"$f":"'Base Prod'!D57","v":57.58},null,{"$f":"'Base Prod'!F57","v":0},{"$f":"'Base Prod'!G57","v":"AL1287200D-EN"}]
[null,{"$f":"'Base Prod'!A58","v":"Bitdefender GravityZone Advanced Business Security"},{"$f":"'Base Prod'!B58","v":"2 years"},{"$f":"'Base Prod'!C58","v":"100 - 149"},{"$f":"'Base Prod'!D58","v":52.26},null,{"$f":"'Base Prod'!F58","v":0},{"$f":"'Base Prod'!G58","v":"AL1287200E-EN"}]
[null,{"$f":"'Base Prod'!A59","v":"Bitdefender GravityZone Advanced Business Security"},{"$f":"'Base Prod'!B59","v":"2 years"},{"$f":"'Base Prod'!C59","v":"150 - 249"},{"$f":"'Base Prod'!D59","v":44.94},null,{"$f":"'Base Prod'!F59","v":0},{"$f":"'Base Prod'!G59","v":"AL1287200F-EN"}]
[null,{"$f":"'Base Prod'!A60","v":"Bitdefender GravityZone Advanced Business Security"},{"$f":"'Base Prod'!B60","v":"2 years"},{"$f":"'Base Prod'!C60","v":"250 - 499"},{"$f":"'Base Prod'!D60","v":41.34},null,{"$f":"'Base Prod'!F60","v":0},{"$f":"'Base Prod'!G60","v":"AL1287200G-EN"}]
[null,{"$f":"'Base Prod'!A61","v":"Bitdefender GravityZone Advanced Business Security"},{"$f":"'Base Prod'!B61","v":"2 years"},{"$f":"'Base Prod'!C61","v":"500 - 999"},{"$f":"'Base Prod'!D61","v":38.450000000000003},null,{"$f":"'Base Prod'!F61","v":0},{"$f":"'Base Prod'!G61","v":"AL1287200H-EN"}]
[null,{"$f":"'Base Prod'!A62","v":"Bitdefender GravityZone Advanced Business Security"},{"$f":"'Base Prod'!B62","v":"2 years"},{"$f":"'Base Prod'!C62","v":"1000 - 2999"},{"$f":"'Base Prod'!D62","v":36.53},null,{"$f":"'Base Prod'!F62","v":0},{"$f":"'Base Prod'!G62","v":"AL1287200I-EN"}]
[null,{"$f":"'Base Prod'!A63","v":"Bitdefender GravityZone Advanced Business Security"},{"$f":"'Base Prod'!B63","v":"2 years"},{"$f":"'Base Prod'!C63","v":"3000+"},{"$f":"'Base Prod'!D63","v":35.42},null,{"$f":"'Base Prod'!F63","v":0},{"$f":"'Base Prod'!G63","v":"AL1287200J-EN"}]
[null,{"$f":"'Base Prod'!A64","v":"Bitdefender GravityZone Advanced Business Security"},{"$f":"'Base Prod'!B64","v":"3 years"},{"$f":"'Base Prod'!C64","v":"5 - 14"},{"$f":"'Base Prod'!D64","v":99.06},null,{"$f":"'Base Prod'!F64","v":0},{"$f":"'Base Prod'!G64","v":"AL1287300A-EN"}]
[null,{"$f":"'Base Prod'!A65","v":"Bitdefender GravityZone Advanced Business Security"},{"$f":"'Base Prod'!B65","v":"3 years"},{"$f":"'Base Prod'!C65","v":"15 - 24"},{"$f":"'Base Prod'!D65","v":91.55},null,{"$f":"'Base Prod'!F65","v":0},{"$f":"'Base Prod'!G65","v":"AL1287300B-EN"}]
[null,{"$f":"'Base Prod'!A66","v":"Bitdefender GravityZone Advanced Business Security"},{"$f":"'Base Prod'!B66","v":"3 years"},{"$f":"'Base Prod'!C66","v":"25 - 49"},{"$f":"'Base Prod'!D66","v":81.98},null,{"$f":"'Base Prod'!F66","v":0},{"$f":"'Base Prod'!G66","v":"AL1287300C-EN"}]
[null,{"$f":"'Base Prod'!A67","v":"Bitdefender GravityZone Advanced Business Security"},{"$f":"'Base Prod'!B67","v":"3 years"},{"$f":"'Base Prod'!C67","v":"50 - 99"},{"$f":"'Base Prod'!D67","v":73.78},null,{"$f":"'Base Prod'!F67","v":0},{"$f":"'Base Prod'!G67","v":"AL1287300D-EN"}]
[null,{"$f":"'Base Prod'!A68","v":"Bitdefender GravityZone Advanced Business Security"},{"$f":"'Base Prod'!B68","v":"3 years"},{"$f":"'Base Prod'!C68","v":"100 - 149"},{"$f":"'Base Prod'!D68","v":66.95},null,{"$f":"'Base Prod'!F68","v":0},{"$f":"'Base Prod'!G68","v":"AL1287300E-EN"}]
[null,{"$f":"'Base Prod'!A69","v":"Bitdefender GravityZone Advanced Business Security"},{"$f":"'Base Prod'!B69","v":"3 years"},{"$f":"'Base Prod'!C69","v":"150 - 249"},{"$f":"'Base Prod'!D69","v":57.58},null,{"$f":"'Base Prod'!F69","v":0},{"$f":"'Base Prod'!G69","v":"AL1287300F-EN"}]
[null,{"$f":"'Base Prod'!A70","v":"Bitdefender GravityZone Advanced Business Security"},{"$f":"'Base Prod'!B70","v":"3 years"},{"$f":"'Base Prod'!C70","v":"250 - 499"},{"$f":"'Base Prod'!D70","v":52.97},null,{"$f":"'Base Prod'!F70","v":0},{"$f":"'Base Prod'!G70","v":"AL1287300G-EN"}]
[null,{"$f":"'Base Prod'!A71","v":"Bitdefender GravityZone Advanced Business Security"},{"$f":"'Base Prod'!B71","v":"3 years"},{"$f":"'Base Prod'!C71","v":"500 - 999"},{"$f":"'Base Prod'!D71","v":49.26},null,{"$f":"'Base Prod'!F71","v":0},{"$f":"'Base Prod'!G71","v":"AL1287300H-EN"}]
[null,{"$f":"'Base Prod'!A72","v":"Bitdefender GravityZone Advanced Business Security"},{"$f":"'Base Prod'!B72","v":"3 years"},{"$f":"'Base Prod'!C72","v":"1000 - 2999"},{"$f":"'Base Prod'!D72","v":46.8},null,{"$f":"'Base Prod'!F72","v":0},{"$f":"'Base Prod'!G72","v":"AL1287300I-EN"}]
[null,{"$f":"'Base Prod'!A73","v":"Bitdefender GravityZone Advanced Business Security"},{"$f":"'Base Prod'!B73","v":"3 years"},{"$f":"'Base Prod'!C73","v":"3000+"},{"$f":"'Base Prod'!D73","v":45.39},null,{"$f":"'Base Prod'!F73","v":0},{"$f":"'Base Prod'!G73","v":"AL1287300J-EN"}]
[null,{"$f":"'Base Prod'!A74","v":"GravityZone Security for Virtualized Environments VDI"},{"$f":"'Base Prod'!B74","v":"1 year"},{"$f":"'Base Prod'!C74","v":"5 - 14"},{"$f":"'Base Prod'!D74","v":31},null,{"$f":"'Base Prod'!F74","v":0},{"$f":"'Base Prod'!G74","v":"BL1211100A-EN"}]
[null,{"$f":"'Base Prod'!A75","v":"GravityZone Security for Virtualized Environments VDI"},{"$f":"'Base Prod'!B75","v":"1 year"},{"$f":"'Base Prod'!C75","v":"15 - 24"},{"$f":"'Base Prod'!D75","v":29.75},null,{"$f":"'Base Prod'!F75","v":0},{"$f":"'Base Prod'!G75","v":"BL1211100B-EN"}]
[null,{"$f":"'Base Prod'!A76","v":"GravityZone Security for Virtualized Environments VDI"},{"$f":"'Base Prod'!B76","v":"1 year"},{"$f":"'Base Prod'!C76","v":"25 - 49"},{"$f":"'Base Prod'!D76","v":28.25},null,{"$f":"'Base Prod'!F76","v":0},{"$f":"'Base Prod'!G76","v":"BL1211100C-EN"}]
[null,{"$f":"'Base Prod'!A77","v":"GravityZone Security for Virtualized Environments VDI"},{"$f":"'Base Prod'!B77","v":"1 year"},{"$f":"'Base Prod'!C77","v":"50 - 99"},{"$f":"'Base Prod'!D77","v":26.3},null,{"$f":"'Base Prod'!F77","v":0},{"$f":"'Base Prod'!G77","v":"BL1211100D-EN"}]
[null,{"$f":"'Base Prod'!A78","v":"GravityZone Security for Virtualized Environments VDI"},{"$f":"'Base Prod'!B78","v":"1 year"},{"$f":"'Base Prod'!C78","v":"100 - 149"},{"$f":"'Base Prod'!D78","v":23.9},null,{"$f":"'Base Prod'!F78","v":0},{"$f":"'Base Prod'!G78","v":"BL1211100E-EN"}]
[null,{"$f":"'Base Prod'!A79","v":"GravityZone Security for Virtualized Environments VDI"},{"$f":"'Base Prod'!B79","v":"1 year"},{"$f":"'Base Prod'!C79","v":"150 - 249"},{"$f":"'Base Prod'!D79","v":22.65},null,{"$f":"'Base Prod'!F79","v":0},{"$f":"'Base Prod'!G79","v":"BL1211100F-EN"}]
[null,{"$f":"'Base Prod'!A80","v":"GravityZone Security for Virtualized Environments VDI"},{"$f":"'Base Prod'!B80","v":"1 year"},{"$f":"'Base Prod'!C80","v":"250 - 499"},{"$f":"'Base Prod'!D80","v":20.399999999999999},null,{"$f":"'Base Prod'!F80","v":0},{"$f":"'Base Prod'!G80","v":"BL1211100G-EN"}]
[null,{"$f":"'Base Prod'!A81","v":"GravityZone Security for Virtualized Environments VDI"},{"$f":"'Base Prod'!B81","v":"1 year"},{"$f":"'Base Prod'!C81","v":"500 - 999"},{"$f":"'Base Prod'!D81","v":18.350000000000001},null,{"$f":"'Base Prod'!F81","v":0},{"$f":"'Base Prod'!G81","v":"BL1211100H-EN"}]
[null,{"$f":"'Base Prod'!A82","v":"GravityZone Security for Virtualized Environments VDI"},{"$f":"'Base Prod'!B82","v":"1 year"},{"$f":"'Base Prod'!C82","v":"1000 - 2999"},{"$f":"'Base Prod'!D82","v":16.5},null,{"$f":"'Base Prod'!F82","v":0},{"$f":"'Base Prod'!G82","v":"BL1211100I-EN"}]
[null,{"$f":"'Base Prod'!A83","v":"GravityZone Security for Virtualized Environments VDI"},{"$f":"'Base Prod'!B83","v":"1 year"},{"$f":"'Base Prod'!C83","v":"3000+"},{"$f":"'Base Prod'!D83","v":14.85},null,{"$f":"'Base Prod'!F83","v":0},{"$f":"'Base Prod'!G83","v":"BL1211100J-EN"}]
[null,{"$f":"'Base Prod'!A84","v":"GravityZone Security for Virtualized Environments VDI"},{"$f":"'Base Prod'!B84","v":"2 years"},{"$f":"'Base Prod'!C84","v":"5 - 14"},{"$f":"'Base Prod'!D84","v":49.6},null,{"$f":"'Base Prod'!F84","v":0},{"$f":"'Base Prod'!G84","v":"BL1211200A-EN"}]
[null,{"$f":"'Base Prod'!A85","v":"GravityZone Security for Virtualized Environments VDI"},{"$f":"'Base Prod'!B85","v":"2 years"},{"$f":"'Base Prod'!C85","v":"15 - 24"},{"$f":"'Base Prod'!D85","v":47.6},null,{"$f":"'Base Prod'!F85","v":0},{"$f":"'Base Prod'!G85","v":"BL1211200B-EN"}]
[null,{"$f":"'Base Prod'!A86","v":"GravityZone Security for Virtualized Environments VDI"},{"$f":"'Base Prod'!B86","v":"2 years"},{"$f":"'Base Prod'!C86","v":"25 - 49"},{"$f":"'Base Prod'!D86","v":45.2},null,{"$f":"'Base Prod'!F86","v":0},{"$f":"'Base Prod'!G86","v":"BL1211200C-EN"}]
[null,{"$f":"'Base Prod'!A87","v":"GravityZone Security for Virtualized Environments VDI"},{"$f":"'Base Prod'!B87","v":"2 years"},{"$f":"'Base Prod'!C87","v":"50 - 99"},{"$f":"'Base Prod'!D87","v":42.08},null,{"$f":"'Base Prod'!F87","v":0},{"$f":"'Base Prod'!G87","v":"BL1211200D-EN"}]
[null,{"$f":"'Base Prod'!A88","v":"GravityZone Security for Virtualized Environments VDI"},{"$f":"'Base Prod'!B88","v":"2 years"},{"$f":"'Base Prod'!C88","v":"100 - 149"},{"$f":"'Base Prod'!D88","v":38.24},null,{"$f":"'Base Prod'!F88","v":0},{"$f":"'Base Prod'!G88","v":"BL1211200E-EN"}]
[null,{"$f":"'Base Prod'!A89","v":"GravityZone Security for Virtualized Environments VDI"},{"$f":"'Base Prod'!B89","v":"2 years"},{"$f":"'Base Prod'!C89","v":"150 - 249"},{"$f":"'Base Prod'!D89","v":36.24},null,{"$f":"'Base Prod'!F89","v":0},{"$f":"'Base Prod'!G89","v":"BL1211200F-EN"}]
[null,{"$f":"'Base Prod'!A90","v":"GravityZone Security for Virtualized Environments VDI"},{"$f":"'Base Prod'!B90","v":"2 years"},{"$f":"'Base Prod'!C90","v":"250 - 499"},{"$f":"'Base Prod'!D90","v":32.64},null,{"$f":"'Base Prod'!F90","v":0},{"$f":"'Base Prod'!G90","v":"BL1211200G-EN"}]
[null,{"$f":"'Base Prod'!A91","v":"GravityZone Security for Virtualized Environments VDI"},{"$f":"'Base Prod'!B91","v":"2 years"},{"$f":"'Base Prod'!C91","v":"500 - 999"},{"$f":"'Base Prod'!D91","v":29.36},null,{"$f":"'Base Prod'!F91","v":0},{"$f":"'Base Prod'!G91","v":"BL1211200H-EN"}]
[null,{"$f":"'Base Prod'!A92","v":"GravityZone Security for Virtualized Environments VDI"},{"$f":"'Base Prod'!B92","v":"2 years"},{"$f":"'Base Prod'!C92","v":"1000 - 2999"},{"$f":"'Base Prod'!D92","v":26.4},null,{"$f":"'Base Prod'!F92","v":0},{"$f":"'Base Prod'!G92","v":"BL1211200I-EN"}]
[null,{"$f":"'Base Prod'!A93","v":"GravityZone Security for Virtualized Environments VDI"},{"$f":"'Base Prod'!B93","v":"2 years"},{"$f":"'Base Prod'!C93","v":"3000+"},{"$f":"'Base Prod'!D93","v":23.76},null,{"$f":"'Base Prod'!F93","v":0},{"$f":"'Base Prod'!G93","v":"BL1211200J-EN"}]
[null,{"$f":"'Base Prod'!A94","v":"GravityZone Security for Virtualized Environments VDI"},{"$f":"'Base Prod'!B94","v":"3 years"},{"$f":"'Base Prod'!C94","v":"5 - 14"},{"$f":"'Base Prod'!D94","v":63.55},null,{"$f":"'Base Prod'!F94","v":0},{"$f":"'Base Prod'!G94","v":"BL1211300A-EN"}]
[null,{"$f":"'Base Prod'!A95","v":"GravityZone Security for Virtualized Environments VDI"},{"$f":"'Base Prod'!B95","v":"3 years"},{"$f":"'Base Prod'!C95","v":"15 - 24"},{"$f":"'Base Prod'!D95","v":60.99},null,{"$f":"'Base Prod'!F95","v":0},{"$f":"'Base Prod'!G95","v":"BL1211300B-EN"}]
[null,{"$f":"'Base Prod'!A96","v":"GravityZone Security for Virtualized Environments VDI"},{"$f":"'Base Prod'!B96","v":"3 years"},{"$f":"'Base Prod'!C96","v":"25 - 49"},{"$f":"'Base Prod'!D96","v":57.91},null,{"$f":"'Base Prod'!F96","v":0},{"$f":"'Base Prod'!G96","v":"BL1211300C-EN"}]
[null,{"$f":"'Base Prod'!A97","v":"GravityZone Security for Virtualized Environments VDI"},{"$f":"'Base Prod'!B97","v":"3 years"},{"$f":"'Base Prod'!C97","v":"50 - 99"},{"$f":"'Base Prod'!D97","v":53.92},null,{"$f":"'Base Prod'!F97","v":0},{"$f":"'Base Prod'!G97","v":"BL1211300D-EN"}]
[null,{"$f":"'Base Prod'!A98","v":"GravityZone Security for Virtualized Environments VDI"},{"$f":"'Base Prod'!B98","v":"3 years"},{"$f":"'Base Prod'!C98","v":"100 - 149"},{"$f":"'Base Prod'!D98","v":49},null,{"$f":"'Base Prod'!F98","v":0},{"$f":"'Base Prod'!G98","v":"BL1211300E-EN"}]
[null,{"$f":"'Base Prod'!A99","v":"GravityZone Security for Virtualized Environments VDI"},{"$f":"'Base Prod'!B99","v":"3 years"},{"$f":"'Base Prod'!C99","v":"150 - 249"},{"$f":"'Base Prod'!D99","v":46.43},null,{"$f":"'Base Prod'!F99","v":0},{"$f":"'Base Prod'!G99","v":"BL1211300F-EN"}]
[null,{"$f":"'Base Prod'!A100","v":"GravityZone Security for Virtualized Environments VDI"},{"$f":"'Base Prod'!B100","v":"3 years"},{"$f":"'Base Prod'!C100","v":"250 - 499"},{"$f":"'Base Prod'!D100","v":41.82},null,{"$f":"'Base Prod'!F100","v":0},{"$f":"'Base Prod'!G100","v":"BL1211300G-EN"}]
[null,{"$f":"'Base Prod'!A101","v":"GravityZone Security for Virtualized Environments VDI"},{"$f":"'Base Prod'!B101","v":"3 years"},{"$f":"'Base Prod'!C101","v":"500 - 999"},{"$f":"'Base Prod'!D101","v":37.619999999999997},null,{"$f":"'Base Prod'!F101","v":0},{"$f":"'Base Prod'!G101","v":"BL1211300H-EN"}]
[null,{"$f":"'Base Prod'!A102","v":"GravityZone Security for Virtualized Environments VDI"},{"$f":"'Base Prod'!B102","v":"3 years"},{"$f":"'Base Prod'!C102","v":"1000 - 2999"},{"$f":"'Base Prod'!D102","v":33.83},null,{"$f":"'Base Prod'!F102","v":0},{"$f":"'Base Prod'!G102","v":"BL1211300I-EN"}]
[null,{"$f":"'Base Prod'!A103","v":"GravityZone Security for Virtualized Environments VDI"},{"$f":"'Base Prod'!B103","v":"3 years"},{"$f":"'Base Prod'!C103","v":"3000+"},{"$f":"'Base Prod'!D103","v":30.44},null,{"$f":"'Base Prod'!F103","v":0},{"$f":"'Base Prod'!G103","v":"BL1211300J-EN"}]
[null,{"$f":"'Base Prod'!A104","v":"GravityZone Security for Virtualized Environments VS"},{"$f":"'Base Prod'!B104","v":"1 year"},{"$f":"'Base Prod'!C104","v":"1 - 14"},{"$f":"'Base Prod'!D104","v":92},null,{"$f":"'Base Prod'!F104","v":0},{"$f":"'Base Prod'!G104","v":"BL1225100A-EN"}]
[null,{"$f":"'Base Prod'!A105","v":"GravityZone Security for Virtualized Environments VS"},{"$f":"'Base Prod'!B105","v":"1 year"},{"$f":"'Base Prod'!C105","v":"15 - 24"},{"$f":"'Base Prod'!D105","v":82.8},null,{"$f":"'Base Prod'!F105","v":0},{"$f":"'Base Prod'!G105","v":"BL1225100B-EN"}]
[null,{"$f":"'Base Prod'!A106","v":"GravityZone Security for Virtualized Environments VS"},{"$f":"'Base Prod'!B106","v":"1 year"},{"$f":"'Base Prod'!C106","v":"25 - 49"},{"$f":"'Base Prod'!D106","v":76.2},null,{"$f":"'Base Prod'!F106","v":0},{"$f":"'Base Prod'!G106","v":"BL1225100C-EN"}]
[null,{"$f":"'Base Prod'!A107","v":"GravityZone Security for Virtualized Environments VS"},{"$f":"'Base Prod'!B107","v":"1 year"},{"$f":"'Base Prod'!C107","v":"50 - 99"},{"$f":"'Base Prod'!D107","v":68.5},null,{"$f":"'Base Prod'!F107","v":0},{"$f":"'Base Prod'!G107","v":"BL1225100D-EN"}]
[null,{"$f":"'Base Prod'!A108","v":"GravityZone Security for Virtualized Environments VS"},{"$f":"'Base Prod'!B108","v":"1 year"},{"$f":"'Base Prod'!C108","v":"100 - 149"},{"$f":"'Base Prod'!D108","v":61.7},null,{"$f":"'Base Prod'!F108","v":0},{"$f":"'Base Prod'!G108","v":"BL1225100E-EN"}]
[null,{"$f":"'Base Prod'!A109","v":"GravityZone Security for Virtualized Environments VS"},{"$f":"'Base Prod'!B109","v":"1 year"},{"$f":"'Base Prod'!C109","v":"150 - 249"},{"$f":"'Base Prod'!D109","v":58.6},null,{"$f":"'Base Prod'!F109","v":0},{"$f":"'Base Prod'!G109","v":"BL1225100F-EN"}]
[null,{"$f":"'Base Prod'!A110","v":"GravityZone Security for Virtualized Environments VS"},{"$f":"'Base Prod'!B110","v":"1 year"},{"$f":"'Base Prod'!C110","v":"250 - 499"},{"$f":"'Base Prod'!D110","v":53.35},null,{"$f":"'Base Prod'!F110","v":0},{"$f":"'Base Prod'!G110","v":"BL1225100G-EN"}]
[null,{"$f":"'Base Prod'!A111","v":"GravityZone Security for Virtualized Environments VS"},{"$f":"'Base Prod'!B111","v":"1 year"},{"$f":"'Base Prod'!C111","v":"500 - 999"},{"$f":"'Base Prod'!D111","v":48},null,{"$f":"'Base Prod'!F111","v":0},{"$f":"'Base Prod'!G111","v":"BL1225100H-EN"}]
[null,{"$f":"'Base Prod'!A112","v":"GravityZone Security for Virtualized Environments VS"},{"$f":"'Base Prod'!B112","v":"1 year"},{"$f":"'Base Prod'!C112","v":"1000 - 2999"},{"$f":"'Base Prod'!D112","v":43.7},null,{"$f":"'Base Prod'!F112","v":0},{"$f":"'Base Prod'!G112","v":"BL1225100I-EN"}]
[null,{"$f":"'Base Prod'!A113","v":"GravityZone Security for Virtualized Environments VS"},{"$f":"'Base Prod'!B113","v":"1 year"},{"$f":"'Base Prod'!C113","v":"3000+"},{"$f":"'Base Prod'!D113","v":39.75},null,{"$f":"'Base Prod'!F113","v":0},{"$f":"'Base Prod'!G113","v":"BL1225100J-EN"}]
[null,{"$f":"'Base Prod'!A114","v":"GravityZone Security for Virtualized Environments VS"},{"$f":"'Base Prod'!B114","v":"2 years"},{"$f":"'Base Prod'!C114","v":"1 - 14"},{"$f":"'Base Prod'!D114","v":147.19999999999999},null,{"$f":"'Base Prod'!F114","v":0},{"$f":"'Base Prod'!G114","v":"BL1225200A-EN"}]
[null,{"$f":"'Base Prod'!A115","v":"GravityZone Security for Virtualized Environments VS"},{"$f":"'Base Prod'!B115","v":"2 years"},{"$f":"'Base Prod'!C115","v":"15 - 24"},{"$f":"'Base Prod'!D115","v":132.47999999999999},null,{"$f":"'Base Prod'!F115","v":0},{"$f":"'Base Prod'!G115","v":"BL1225200B-EN"}]
[null,{"$f":"'Base Prod'!A116","v":"GravityZone Security for Virtualized Environments VS"},{"$f":"'Base Prod'!B116","v":"2 years"},{"$f":"'Base Prod'!C116","v":"25 - 49"},{"$f":"'Base Prod'!D116","v":121.92},null,{"$f":"'Base Prod'!F116","v":0},{"$f":"'Base Prod'!G116","v":"BL1225200C-EN"}]
[null,{"$f":"'Base Prod'!A117","v":"GravityZone Security for Virtualized Environments VS"},{"$f":"'Base Prod'!B117","v":"2 years"},{"$f":"'Base Prod'!C117","v":"50 - 99"},{"$f":"'Base Prod'!D117","v":109.6},null,{"$f":"'Base Prod'!F117","v":0},{"$f":"'Base Prod'!G117","v":"BL1225200D-EN"}]
[null,{"$f":"'Base Prod'!A118","v":"GravityZone Security for Virtualized Environments VS"},{"$f":"'Base Prod'!B118","v":"2 years"},{"$f":"'Base Prod'!C118","v":"100 - 149"},{"$f":"'Base Prod'!D118","v":98.72},null,{"$f":"'Base Prod'!F118","v":0},{"$f":"'Base Prod'!G118","v":"BL1225200E-EN"}]
[null,{"$f":"'Base Prod'!A119","v":"GravityZone Security for Virtualized Environments VS"},{"$f":"'Base Prod'!B119","v":"2 years"},{"$f":"'Base Prod'!C119","v":"150 - 249"},{"$f":"'Base Prod'!D119","v":93.76},null,{"$f":"'Base Prod'!F119","v":0},{"$f":"'Base Prod'!G119","v":"BL1225200F-EN"}]
[null,{"$f":"'Base Prod'!A120","v":"GravityZone Security for Virtualized Environments VS"},{"$f":"'Base Prod'!B120","v":"2 years"},{"$f":"'Base Prod'!C120","v":"250 - 499"},{"$f":"'Base Prod'!D120","v":85.36},null,{"$f":"'Base Prod'!F120","v":0},{"$f":"'Base Prod'!G120","v":"BL1225200G-EN"}]
[null,{"$f":"'Base Prod'!A121","v":"GravityZone Security for Virtualized Environments VS"},{"$f":"'Base Prod'!B121","v":"2 years"},{"$f":"'Base Prod'!C121","v":"500 - 999"},{"$f":"'Base Prod'!D121","v":76.8},null,{"$f":"'Base Prod'!F121","v":0},{"$f":"'Base Prod'!G121","v":"BL1225200H-EN"}]
[null,{"$f":"'Base Prod'!A122","v":"GravityZone Security for Virtualized Environments VS"},{"$f":"'Base Prod'!B122","v":"2 years"},{"$f":"'Base Prod'!C122","v":"1000 - 2999"},{"$f":"'Base Prod'!D122","v":69.92},null,{"$f":"'Base Prod'!F122","v":0},{"$f":"'Base Prod'!G122","v":"BL1225200I-EN"}]
[null,{"$f":"'Base Prod'!A123","v":"GravityZone Security for Virtualized Environments VS"},{"$f":"'Base Prod'!B123","v":"2 years"},{"$f":"'Base Prod'!C123","v":"3000+"},{"$f":"'Base Prod'!D123","v":63.6},null,{"$f":"'Base Prod'!F123","v":0},{"$f":"'Base Prod'!G123","v":"BL1225200J-EN"}]
[null,{"$f":"'Base Prod'!A124","v":"GravityZone Security for Virtualized Environments VS"},{"$f":"'Base Prod'!B124","v":"3 years"},{"$f":"'Base Prod'!C124","v":"1 - 14"},{"$f":"'Base Prod'!D124","v":188.6},null,{"$f":"'Base Prod'!F124","v":0},{"$f":"'Base Prod'!G124","v":"BL1225300A-EN"}]
[null,{"$f":"'Base Prod'!A125","v":"GravityZone Security for Virtualized Environments VS"},{"$f":"'Base Prod'!B125","v":"3 years"},{"$f":"'Base Prod'!C125","v":"15 - 24"},{"$f":"'Base Prod'!D125","v":169.74},null,{"$f":"'Base Prod'!F125","v":0},{"$f":"'Base Prod'!G125","v":"BL1225300B-EN"}]
[null,{"$f":"'Base Prod'!A126","v":"GravityZone Security for Virtualized Environments VS"},{"$f":"'Base Prod'!B126","v":"3 years"},{"$f":"'Base Prod'!C126","v":"25 - 49"},{"$f":"'Base Prod'!D126","v":156.21},null,{"$f":"'Base Prod'!F126","v":0},{"$f":"'Base Prod'!G126","v":"BL1225300C-EN"}]
[null,{"$f":"'Base Prod'!A127","v":"GravityZone Security for Virtualized Environments VS"},{"$f":"'Base Prod'!B127","v":"3 years"},{"$f":"'Base Prod'!C127","v":"50 - 99"},{"$f":"'Base Prod'!D127","v":140.43},null,{"$f":"'Base Prod'!F127","v":0},{"$f":"'Base Prod'!G127","v":"BL1225300D-EN"}]
[null,{"$f":"'Base Prod'!A128","v":"GravityZone Security for Virtualized Environments VS"},{"$f":"'Base Prod'!B128","v":"3 years"},{"$f":"'Base Prod'!C128","v":"100 - 149"},{"$f":"'Base Prod'!D128","v":126.49},null,{"$f":"'Base Prod'!F128","v":0},{"$f":"'Base Prod'!G128","v":"BL1225300E-EN"}]
[null,{"$f":"'Base Prod'!A129","v":"GravityZone Security for Virtualized Environments VS"},{"$f":"'Base Prod'!B129","v":"3 years"},{"$f":"'Base Prod'!C129","v":"150 - 249"},{"$f":"'Base Prod'!D129","v":120.13},null,{"$f":"'Base Prod'!F129","v":0},{"$f":"'Base Prod'!G129","v":"BL1225300F-EN"}]
[null,{"$f":"'Base Prod'!A130","v":"GravityZone Security for Virtualized Environments VS"},{"$f":"'Base Prod'!B130","v":"3 years"},{"$f":"'Base Prod'!C130","v":"250 - 499"},{"$f":"'Base Prod'!D130","v":109.37},null,{"$f":"'Base Prod'!F130","v":0},{"$f":"'Base Prod'!G130","v":"BL1225300G-EN"}]
[null,{"$f":"'Base Prod'!A131","v":"GravityZone Security for Virtualized Environments VS"},{"$f":"'Base Prod'!B131","v":"3 years"},{"$f":"'Base Prod'!C131","v":"500 - 999"},{"$f":"'Base Prod'!D131","v":98.4},null,{"$f":"'Base Prod'!F131","v":0},{"$f":"'Base Prod'!G131","v":"BL1225300H-EN"}]
[null,{"$f":"'Base Prod'!A132","v":"GravityZone Security for Virtualized Environments VS"},{"$f":"'Base Prod'!B132","v":"3 years"},{"$f":"'Base Prod'!C132","v":"1000 - 2999"},{"$f":"'Base Prod'!D132","v":89.59},null,{"$f":"'Base Prod'!F132","v":0},{"$f":"'Base Prod'!G132","v":"BL1225300I-EN"}]
[null,{"$f":"'Base Prod'!A133","v":"GravityZone Security for Virtualized Environments VS"},{"$f":"'Base Prod'!B133","v":"3 years"},{"$f":"'Base Prod'!C133","v":"3000+"},{"$f":"'Base Prod'!D133","v":81.489999999999995},null,{"$f":"'Base Prod'!F133","v":0},{"$f":"'Base Prod'!G133","v":"BL1225300J-EN"}]
[null,{"$f":"'Base Prod'!A134","v":"GravityZone Security for Virtualized Environments CPU"},{"$f":"'Base Prod'!B134","v":"1 year"},{"$f":"'Base Prod'!C134","v":"1 - 14"},{"$f":"'Base Prod'!D134","v":800},null,{"$f":"'Base Prod'!F134","v":0},{"$f":"'Base Prod'!G134","v":"BL1226100A-EN"}]
[null,{"$f":"'Base Prod'!A135","v":"GravityZone Security for Virtualized Environments CPU"},{"$f":"'Base Prod'!B135","v":"1 year"},{"$f":"'Base Prod'!C135","v":"15 - 24"},{"$f":"'Base Prod'!D135","v":760},null,{"$f":"'Base Prod'!F135","v":0},{"$f":"'Base Prod'!G135","v":"BL1226100B-EN"}]
[null,{"$f":"'Base Prod'!A136","v":"GravityZone Security for Virtualized Environments CPU"},{"$f":"'Base Prod'!B136","v":"1 year"},{"$f":"'Base Prod'!C136","v":"25 - 49"},{"$f":"'Base Prod'!D136","v":725},null,{"$f":"'Base Prod'!F136","v":0},{"$f":"'Base Prod'!G136","v":"BL1226100C-EN"}]
[null,{"$f":"'Base Prod'!A137","v":"GravityZone Security for Virtualized Environments CPU"},{"$f":"'Base Prod'!B137","v":"1 year"},{"$f":"'Base Prod'!C137","v":"50 - 99"},{"$f":"'Base Prod'!D137","v":690},null,{"$f":"'Base Prod'!F137","v":0},{"$f":"'Base Prod'!G137","v":"BL1226100D-EN"}]
[null,{"$f":"'Base Prod'!A138","v":"GravityZone Security for Virtualized Environments CPU"},{"$f":"'Base Prod'!B138","v":"1 year"},{"$f":"'Base Prod'!C138","v":"100 - 149"},{"$f":"'Base Prod'!D138","v":630},null,{"$f":"'Base Prod'!F138","v":0},{"$f":"'Base Prod'!G138","v":"BL1226100E-EN"}]
[null,{"$f":"'Base Prod'!A139","v":"GravityZone Security for Virtualized Environments CPU"},{"$f":"'Base Prod'!B139","v":"1 year"},{"$f":"'Base Prod'!C139","v":"150 - 249"},{"$f":"'Base Prod'!D139","v":600},null,{"$f":"'Base Prod'!F139","v":0},{"$f":"'Base Prod'!G139","v":"BL1226100F-EN"}]
[null,{"$f":"'Base Prod'!A140","v":"GravityZone Security for Virtualized Environments CPU"},{"$f":"'Base Prod'!B140","v":"1 year"},{"$f":"'Base Prod'!C140","v":"250 - 499"},{"$f":"'Base Prod'!D140","v":570},null,{"$f":"'Base Prod'!F140","v":0},{"$f":"'Base Prod'!G140","v":"BL1226100G-EN"}]
[null,{"$f":"'Base Prod'!A141","v":"GravityZone Security for Virtualized Environments CPU"},{"$f":"'Base Prod'!B141","v":"1 year"},{"$f":"'Base Prod'!C141","v":"500+"},{"$f":"'Base Prod'!D141","v":545},null,{"$f":"'Base Prod'!F141","v":0},{"$f":"'Base Prod'!G141","v":"BL1226100H-EN"}]
[null,{"$f":"'Base Prod'!A142","v":"GravityZone Security for Virtualized Environments CPU"},{"$f":"'Base Prod'!B142","v":"2 years"},{"$f":"'Base Prod'!C142","v":"1 - 14"},{"$f":"'Base Prod'!D142","v":1280},null,{"$f":"'Base Prod'!F142","v":0},{"$f":"'Base Prod'!G142","v":"BL1226200A-EN"}]
[null,{"$f":"'Base Prod'!A143","v":"GravityZone Security for Virtualized Environments CPU"},{"$f":"'Base Prod'!B143","v":"2 years"},{"$f":"'Base Prod'!C143","v":"15 - 24"},{"$f":"'Base Prod'!D143","v":1216},null,{"$f":"'Base Prod'!F143","v":0},{"$f":"'Base Prod'!G143","v":"BL1226200B-EN"}]
[null,{"$f":"'Base Prod'!A144","v":"GravityZone Security for Virtualized Environments CPU"},{"$f":"'Base Prod'!B144","v":"2 years"},{"$f":"'Base Prod'!C144","v":"25 - 49"},{"$f":"'Base Prod'!D144","v":1160},null,{"$f":"'Base Prod'!F144","v":0},{"$f":"'Base Prod'!G144","v":"BL1226200C-EN"}]
[null,{"$f":"'Base Prod'!A145","v":"GravityZone Security for Virtualized Environments CPU"},{"$f":"'Base Prod'!B145","v":"2 years"},{"$f":"'Base Prod'!C145","v":"50 - 99"},{"$f":"'Base Prod'!D145","v":1104},null,{"$f":"'Base Prod'!F145","v":0},{"$f":"'Base Prod'!G145","v":"BL1226200D-EN"}]
[null,{"$f":"'Base Prod'!A146","v":"GravityZone Security for Virtualized Environments CPU"},{"$f":"'Base Prod'!B146","v":"2 years"},{"$f":"'Base Prod'!C146","v":"100 - 149"},{"$f":"'Base Prod'!D146","v":1008},null,{"$f":"'Base Prod'!F146","v":0},{"$f":"'Base Prod'!G146","v":"BL1226200E-EN"}]
[null,{"$f":"'Base Prod'!A147","v":"GravityZone Security for Virtualized Environments CPU"},{"$f":"'Base Prod'!B147","v":"2 years"},{"$f":"'Base Prod'!C147","v":"150 - 249"},{"$f":"'Base Prod'!D147","v":960},null,{"$f":"'Base Prod'!F147","v":0},{"$f":"'Base Prod'!G147","v":"BL1226200F-EN"}]
[null,{"$f":"'Base Prod'!A148","v":"GravityZone Security for Virtualized Environments CPU"},{"$f":"'Base Prod'!B148","v":"2 years"},{"$f":"'Base Prod'!C148","v":"250 - 499"},{"$f":"'Base Prod'!D148","v":912},null,{"$f":"'Base Prod'!F148","v":0},{"$f":"'Base Prod'!G148","v":"BL1226200G-EN"}]
[null,{"$f":"'Base Prod'!A149","v":"GravityZone Security for Virtualized Environments CPU"},{"$f":"'Base Prod'!B149","v":"2 years"},{"$f":"'Base Prod'!C149","v":"500+"},{"$f":"'Base Prod'!D149","v":872},null,{"$f":"'Base Prod'!F149","v":0},{"$f":"'Base Prod'!G149","v":"BL1226200H-EN"}]
[null,{"$f":"'Base Prod'!A150","v":"GravityZone Security for Virtualized Environments CPU"},{"$f":"'Base Prod'!B150","v":"3 years"},{"$f":"'Base Prod'!C150","v":"1 - 14"},{"$f":"'Base Prod'!D150","v":1640},null,{"$f":"'Base Prod'!F150","v":0},{"$f":"'Base Prod'!G150","v":"BL1226300A-EN"}]
[null,{"$f":"'Base Prod'!A151","v":"GravityZone Security for Virtualized Environments CPU"},{"$f":"'Base Prod'!B151","v":"3 years"},{"$f":"'Base Prod'!C151","v":"15 - 24"},{"$f":"'Base Prod'!D151","v":1558},null,{"$f":"'Base Prod'!F151","v":0},{"$f":"'Base Prod'!G151","v":"BL1226300B-EN"}]
[null,{"$f":"'Base Prod'!A152","v":"GravityZone Security for Virtualized Environments CPU"},{"$f":"'Base Prod'!B152","v":"3 years"},{"$f":"'Base Prod'!C152","v":"25 - 49"},{"$f":"'Base Prod'!D152","v":1486.25},null,{"$f":"'Base Prod'!F152","v":0},{"$f":"'Base Prod'!G152","v":"BL1226300C-EN"}]
[null,{"$f":"'Base Prod'!A153","v":"GravityZone Security for Virtualized Environments CPU"},{"$f":"'Base Prod'!B153","v":"3 years"},{"$f":"'Base Prod'!C153","v":"50 - 99"},{"$f":"'Base Prod'!D153","v":1414.5},null,{"$f":"'Base Prod'!F153","v":0},{"$f":"'Base Prod'!G153","v":"BL1226300D-EN"}]
[null,{"$f":"'Base Prod'!A154","v":"GravityZone Security for Virtualized Environments CPU"},{"$f":"'Base Prod'!B154","v":"3 years"},{"$f":"'Base Prod'!C154","v":"100 - 149"},{"$f":"'Base Prod'!D154","v":1291.5},null,{"$f":"'Base Prod'!F154","v":0},{"$f":"'Base Prod'!G154","v":"BL1226300E-EN"}]
[null,{"$f":"'Base Prod'!A155","v":"GravityZone Security for Virtualized Environments CPU"},{"$f":"'Base Prod'!B155","v":"3 years"},{"$f":"'Base Prod'!C155","v":"150 - 249"},{"$f":"'Base Prod'!D155","v":1230},null,{"$f":"'Base Prod'!F155","v":0},{"$f":"'Base Prod'!G155","v":"BL1226300F-EN"}]
[null,{"$f":"'Base Prod'!A156","v":"GravityZone Security for Virtualized Environments CPU"},{"$f":"'Base Prod'!B156","v":"3 years"},{"$f":"'Base Prod'!C156","v":"250 - 499"},{"$f":"'Base Prod'!D156","v":1168.5},null,{"$f":"'Base Prod'!F156","v":0},{"$f":"'Base Prod'!G156","v":"BL1226300G-EN"}]
[null,{"$f":"'Base Prod'!A157","v":"GravityZone Security for Virtualized Environments CPU"},{"$f":"'Base Prod'!B157","v":"3 years"},{"$f":"'Base Prod'!C157","v":"500+"},{"$f":"'Base Prod'!D157","v":1117.25},null,{"$f":"'Base Prod'!F157","v":0},{"$f":"'Base Prod'!G157","v":"BL1226300H-EN"}]
[null,{"$f":"'Base Prod'!A158","v":"GravityZone Security for Endpoints Physical Workstations"},{"$f":"'Base Prod'!B158","v":"1 year"},{"$f":"'Base Prod'!C158","v":"5 - 14"},{"$f":"'Base Prod'!D158","v":31},null,{"$f":"'Base Prod'!F158","v":0},{"$f":"'Base Prod'!G158","v":"AL1216100A-EN"}]
[null,{"$f":"'Base Prod'!A159","v":"GravityZone Security for Endpoints Physical Workstations"},{"$f":"'Base Prod'!B159","v":"1 year"},{"$f":"'Base Prod'!C159","v":"15 - 24"},{"$f":"'Base Prod'!D159","v":27.2},null,{"$f":"'Base Prod'!F159","v":0},{"$f":"'Base Prod'!G159","v":"AL1216100B-EN"}]
[null,{"$f":"'Base Prod'!A160","v":"GravityZone Security for Endpoints Physical Workstations"},{"$f":"'Base Prod'!B160","v":"1 year"},{"$f":"'Base Prod'!C160","v":"25 - 49"},{"$f":"'Base Prod'!D160","v":25},null,{"$f":"'Base Prod'!F160","v":0},{"$f":"'Base Prod'!G160","v":"AL1216100C-EN"}]
[null,{"$f":"'Base Prod'!A161","v":"GravityZone Security for Endpoints Physical Workstations"},{"$f":"'Base Prod'!B161","v":"1 year"},{"$f":"'Base Prod'!C161","v":"50 - 99"},{"$f":"'Base Prod'!D161","v":22.5},null,{"$f":"'Base Prod'!F161","v":0},{"$f":"'Base Prod'!G161","v":"AL1216100D-EN"}]
[null,{"$f":"'Base Prod'!A162","v":"GravityZone Security for Endpoints Physical Workstations"},{"$f":"'Base Prod'!B162","v":"1 year"},{"$f":"'Base Prod'!C162","v":"100 - 149"},{"$f":"'Base Prod'!D162","v":20.25},null,{"$f":"'Base Prod'!F162","v":0},{"$f":"'Base Prod'!G162","v":"AL1216100E-EN"}]
[null,{"$f":"'Base Prod'!A163","v":"GravityZone Security for Endpoints Physical Workstations"},{"$f":"'Base Prod'!B163","v":"1 year"},{"$f":"'Base Prod'!C163","v":"150 - 249"},{"$f":"'Base Prod'!D163","v":18.25},null,{"$f":"'Base Prod'!F163","v":0},{"$f":"'Base Prod'!G163","v":"AL1216100F-EN"}]
[null,{"$f":"'Base Prod'!A164","v":"GravityZone Security for Endpoints Physical Workstations"},{"$f":"'Base Prod'!B164","v":"1 year"},{"$f":"'Base Prod'!C164","v":"250 - 499"},{"$f":"'Base Prod'!D164","v":16.5},null,{"$f":"'Base Prod'!F164","v":0},{"$f":"'Base Prod'!G164","v":"AL1216100G-EN"}]
[null,{"$f":"'Base Prod'!A165","v":"GravityZone Security for Endpoints Physical Workstations"},{"$f":"'Base Prod'!B165","v":"1 year"},{"$f":"'Base Prod'!C165","v":"500 - 999"},{"$f":"'Base Prod'!D165","v":14.85},null,{"$f":"'Base Prod'!F165","v":0},{"$f":"'Base Prod'!G165","v":"AL1216100H-EN"}]
[null,{"$f":"'Base Prod'!A166","v":"GravityZone Security for Endpoints Physical Workstations"},{"$f":"'Base Prod'!B166","v":"1 year"},{"$f":"'Base Prod'!C166","v":"1000 - 2999"},{"$f":"'Base Prod'!D166","v":13.35},null,{"$f":"'Base Prod'!F166","v":0},{"$f":"'Base Prod'!G166","v":"AL1216100I-EN"}]
[null,{"$f":"'Base Prod'!A167","v":"GravityZone Security for Endpoints Physical Workstations"},{"$f":"'Base Prod'!B167","v":"1 year"},{"$f":"'Base Prod'!C167","v":"3000+"},{"$f":"'Base Prod'!D167","v":12},null,{"$f":"'Base Prod'!F167","v":0},{"$f":"'Base Prod'!G167","v":"AL1216100J-EN"}]
[null,{"$f":"'Base Prod'!A168","v":"GravityZone Security for Endpoints Physical Workstations"},{"$f":"'Base Prod'!B168","v":"2 years"},{"$f":"'Base Prod'!C168","v":"5 - 14"},{"$f":"'Base Prod'!D168","v":49.6},null,{"$f":"'Base Prod'!F168","v":0},{"$f":"'Base Prod'!G168","v":"AL1216200A-EN"}]
[null,{"$f":"'Base Prod'!A169","v":"GravityZone Security for Endpoints Physical Workstations"},{"$f":"'Base Prod'!B169","v":"2 years"},{"$f":"'Base Prod'!C169","v":"15 - 24"},{"$f":"'Base Prod'!D169","v":43.52},null,{"$f":"'Base Prod'!F169","v":0},{"$f":"'Base Prod'!G169","v":"AL1216200B-EN"}]
[null,{"$f":"'Base Prod'!A170","v":"GravityZone Security for Endpoints Physical Workstations"},{"$f":"'Base Prod'!B170","v":"2 years"},{"$f":"'Base Prod'!C170","v":"25 - 49"},{"$f":"'Base Prod'!D170","v":40},null,{"$f":"'Base Prod'!F170","v":0},{"$f":"'Base Prod'!G170","v":"AL1216200C-EN"}]
[null,{"$f":"'Base Prod'!A171","v":"GravityZone Security for Endpoints Physical Workstations"},{"$f":"'Base Prod'!B171","v":"2 years"},{"$f":"'Base Prod'!C171","v":"50 - 99"},{"$f":"'Base Prod'!D171","v":36},null,{"$f":"'Base Prod'!F171","v":0},{"$f":"'Base Prod'!G171","v":"AL1216200D-EN"}]
[null,{"$f":"'Base Prod'!A172","v":"GravityZone Security for Endpoints Physical Workstations"},{"$f":"'Base Prod'!B172","v":"2 years"},{"$f":"'Base Prod'!C172","v":"100 - 149"},{"$f":"'Base Prod'!D172","v":32.4},null,{"$f":"'Base Prod'!F172","v":0},{"$f":"'Base Prod'!G172","v":"AL1216200E-EN"}]
[null,{"$f":"'Base Prod'!A173","v":"GravityZone Security for Endpoints Physical Workstations"},{"$f":"'Base Prod'!B173","v":"2 years"},{"$f":"'Base Prod'!C173","v":"150 - 249"},{"$f":"'Base Prod'!D173","v":29.2},null,{"$f":"'Base Prod'!F173","v":0},{"$f":"'Base Prod'!G173","v":"AL1216200F-EN"}]
[null,{"$f":"'Base Prod'!A174","v":"GravityZone Security for Endpoints Physical Workstations"},{"$f":"'Base Prod'!B174","v":"2 years"},{"$f":"'Base Prod'!C174","v":"250 - 499"},{"$f":"'Base Prod'!D174","v":26.4},null,{"$f":"'Base Prod'!F174","v":0},{"$f":"'Base Prod'!G174","v":"AL1216200G-EN"}]
[null,{"$f":"'Base Prod'!A175","v":"GravityZone Security for Endpoints Physical Workstations"},{"$f":"'Base Prod'!B175","v":"2 years"},{"$f":"'Base Prod'!C175","v":"500 - 999"},{"$f":"'Base Prod'!D175","v":23.76},null,{"$f":"'Base Prod'!F175","v":0},{"$f":"'Base Prod'!G175","v":"AL1216200H-EN"}]
[null,{"$f":"'Base Prod'!A176","v":"GravityZone Security for Endpoints Physical Workstations"},{"$f":"'Base Prod'!B176","v":"2 years"},{"$f":"'Base Prod'!C176","v":"1000 - 2999"},{"$f":"'Base Prod'!D176","v":21.36},null,{"$f":"'Base Prod'!F176","v":0},{"$f":"'Base Prod'!G176","v":"AL1216200I-EN"}]
[null,{"$f":"'Base Prod'!A177","v":"GravityZone Security for Endpoints Physical Workstations"},{"$f":"'Base Prod'!B177","v":"2 years"},{"$f":"'Base Prod'!C177","v":"3000+"},{"$f":"'Base Prod'!D177","v":19.2},null,{"$f":"'Base Prod'!F177","v":0},{"$f":"'Base Prod'!G177","v":"AL1216200J-EN"}]
[null,{"$f":"'Base Prod'!A178","v":"GravityZone Security for Endpoints Physical Workstations"},{"$f":"'Base Prod'!B178","v":"3 years"},{"$f":"'Base Prod'!C178","v":"5 - 14"},{"$f":"'Base Prod'!D178","v":63.55},null,{"$f":"'Base Prod'!F178","v":0},{"$f":"'Base Prod'!G178","v":"AL1216300A-EN"}]
[null,{"$f":"'Base Prod'!A179","v":"GravityZone Security for Endpoints Physical Workstations"},{"$f":"'Base Prod'!B179","v":"3 years"},{"$f":"'Base Prod'!C179","v":"15 - 24"},{"$f":"'Base Prod'!D179","v":55.76},null,{"$f":"'Base Prod'!F179","v":0},{"$f":"'Base Prod'!G179","v":"AL1216300B-EN"}]
[null,{"$f":"'Base Prod'!A180","v":"GravityZone Security for Endpoints Physical Workstations"},{"$f":"'Base Prod'!B180","v":"3 years"},{"$f":"'Base Prod'!C180","v":"25 - 49"},{"$f":"'Base Prod'!D180","v":51.25},null,{"$f":"'Base Prod'!F180","v":0},{"$f":"'Base Prod'!G180","v":"AL1216300C-EN"}]
[null,{"$f":"'Base Prod'!A181","v":"GravityZone Security for Endpoints Physical Workstations"},{"$f":"'Base Prod'!B181","v":"3 years"},{"$f":"'Base Prod'!C181","v":"50 - 99"},{"$f":"'Base Prod'!D181","v":46.13},null,{"$f":"'Base Prod'!F181","v":0},{"$f":"'Base Prod'!G181","v":"AL1216300D-EN"}]
[null,{"$f":"'Base Prod'!A182","v":"GravityZone Security for Endpoints Physical Workstations"},{"$f":"'Base Prod'!B182","v":"3 years"},{"$f":"'Base Prod'!C182","v":"100 - 149"},{"$f":"'Base Prod'!D182","v":41.51},null,{"$f":"'Base Prod'!F182","v":0},{"$f":"'Base Prod'!G182","v":"AL1216300E-EN"}]
[null,{"$f":"'Base Prod'!A183","v":"GravityZone Security for Endpoints Physical Workstations"},{"$f":"'Base Prod'!B183","v":"3 years"},{"$f":"'Base Prod'!C183","v":"150 - 249"},{"$f":"'Base Prod'!D183","v":37.409999999999997},null,{"$f":"'Base Prod'!F183","v":0},{"$f":"'Base Prod'!G183","v":"AL1216300F-EN"}]
[null,{"$f":"'Base Prod'!A184","v":"GravityZone Security for Endpoints Physical Workstations"},{"$f":"'Base Prod'!B184","v":"3 years"},{"$f":"'Base Prod'!C184","v":"250 - 499"},{"$f":"'Base Prod'!D184","v":33.83},null,{"$f":"'Base Prod'!F184","v":0},{"$f":"'Base Prod'!G184","v":"AL1216300G-EN"}]
[null,{"$f":"'Base Prod'!A185","v":"GravityZone Security for Endpoints Physical Workstations"},{"$f":"'Base Prod'!B185","v":"3 years"},{"$f":"'Base Prod'!C185","v":"500 - 999"},{"$f":"'Base Prod'!D185","v":30.44},null,{"$f":"'Base Prod'!F185","v":0},{"$f":"'Base Prod'!G185","v":"AL1216300H-EN"}]
[null,{"$f":"'Base Prod'!A186","v":"GravityZone Security for Endpoints Physical Workstations"},{"$f":"'Base Prod'!B186","v":"3 years"},{"$f":"'Base Prod'!C186","v":"1000 - 2999"},{"$f":"'Base Prod'!D186","v":27.37},null,{"$f":"'Base Prod'!F186","v":0},{"$f":"'Base Prod'!G186","v":"AL1216300I-EN"}]
[null,{"$f":"'Base Prod'!A187","v":"GravityZone Security for Endpoints Physical Workstations"},{"$f":"'Base Prod'!B187","v":"3 years"},{"$f":"'Base Prod'!C187","v":"3000+"},{"$f":"'Base Prod'!D187","v":24.6},null,{"$f":"'Base Prod'!F187","v":0},{"$f":"'Base Prod'!G187","v":"AL1216300J-EN"}]
[null,{"$f":"'Base Prod'!A188","v":"GravityZone Security for Endpoints Physical Servers"},{"$f":"'Base Prod'!B188","v":"1 year"},{"$f":"'Base Prod'!C188","v":"1 - 14"},{"$f":"'Base Prod'!D188","v":70},null,{"$f":"'Base Prod'!F188","v":0},{"$f":"'Base Prod'!G188","v":"AL1227100A-EN"}]
[null,{"$f":"'Base Prod'!A189","v":"GravityZone Security for Endpoints Physical Servers"},{"$f":"'Base Prod'!B189","v":"1 year"},{"$f":"'Base Prod'!C189","v":"15 - 24"},{"$f":"'Base Prod'!D189","v":63},null,{"$f":"'Base Prod'!F189","v":0},{"$f":"'Base Prod'!G189","v":"AL1227100B-EN"}]
[null,{"$f":"'Base Prod'!A190","v":"GravityZone Security for Endpoints Physical Servers"},{"$f":"'Base Prod'!B190","v":"1 year"},{"$f":"'Base Prod'!C190","v":"25 - 49"},{"$f":"'Base Prod'!D190","v":56.7},null,{"$f":"'Base Prod'!F190","v":0},{"$f":"'Base Prod'!G190","v":"AL1227100C-EN"}]
[null,{"$f":"'Base Prod'!A191","v":"GravityZone Security for Endpoints Physical Servers"},{"$f":"'Base Prod'!B191","v":"1 year"},{"$f":"'Base Prod'!C191","v":"50 - 99"},{"$f":"'Base Prod'!D191","v":51.03},null,{"$f":"'Base Prod'!F191","v":0},{"$f":"'Base Prod'!G191","v":"AL1227100D-EN"}]
[null,{"$f":"'Base Prod'!A192","v":"GravityZone Security for Endpoints Physical Servers"},{"$f":"'Base Prod'!B192","v":"1 year"},{"$f":"'Base Prod'!C192","v":"100 - 149"},{"$f":"'Base Prod'!D192","v":48.49},null,{"$f":"'Base Prod'!F192","v":0},{"$f":"'Base Prod'!G192","v":"AL1227100E-EN"}]
[null,{"$f":"'Base Prod'!A193","v":"GravityZone Security for Endpoints Physical Servers"},{"$f":"'Base Prod'!B193","v":"1 year"},{"$f":"'Base Prod'!C193","v":"150 - 249"},{"$f":"'Base Prod'!D193","v":46.06},null,{"$f":"'Base Prod'!F193","v":0},{"$f":"'Base Prod'!G193","v":"AL1227100F-EN"}]
[null,{"$f":"'Base Prod'!A194","v":"GravityZone Security for Endpoints Physical Servers"},{"$f":"'Base Prod'!B194","v":"1 year"},{"$f":"'Base Prod'!C194","v":"250 - 499"},{"$f":"'Base Prod'!D194","v":43.75},null,{"$f":"'Base Prod'!F194","v":0},{"$f":"'Base Prod'!G194","v":"AL1227100G-EN"}]
[null,{"$f":"'Base Prod'!A195","v":"GravityZone Security for Endpoints Physical Servers"},{"$f":"'Base Prod'!B195","v":"1 year"},{"$f":"'Base Prod'!C195","v":"500 - 999"},{"$f":"'Base Prod'!D195","v":41.57},null,{"$f":"'Base Prod'!F195","v":0},{"$f":"'Base Prod'!G195","v":"AL1227100H-EN"}]
[null,{"$f":"'Base Prod'!A196","v":"GravityZone Security for Endpoints Physical Servers"},{"$f":"'Base Prod'!B196","v":"1 year"},{"$f":"'Base Prod'!C196","v":"1000 - 2999"},{"$f":"'Base Prod'!D196","v":39.49},null,{"$f":"'Base Prod'!F196","v":0},{"$f":"'Base Prod'!G196","v":"AL1227100I-EN"}]
[null,{"$f":"'Base Prod'!A197","v":"GravityZone Security for Endpoints Physical Servers"},{"$f":"'Base Prod'!B197","v":"1 year"},{"$f":"'Base Prod'!C197","v":"3000+"},{"$f":"'Base Prod'!D197","v":37.51},null,{"$f":"'Base Prod'!F197","v":0},{"$f":"'Base Prod'!G197","v":"AL1227100J-EN"}]
[null,{"$f":"'Base Prod'!A198","v":"GravityZone Security for Endpoints Physical Servers"},{"$f":"'Base Prod'!B198","v":"2 years"},{"$f":"'Base Prod'!C198","v":"1 - 14"},{"$f":"'Base Prod'!D198","v":112},null,{"$f":"'Base Prod'!F198","v":0},{"$f":"'Base Prod'!G198","v":"AL1227200A-EN"}]
[null,{"$f":"'Base Prod'!A199","v":"GravityZone Security for Endpoints Physical Servers"},{"$f":"'Base Prod'!B199","v":"2 years"},{"$f":"'Base Prod'!C199","v":"15 - 24"},{"$f":"'Base Prod'!D199","v":100.8},null,{"$f":"'Base Prod'!F199","v":0},{"$f":"'Base Prod'!G199","v":"AL1227200B-EN"}]
[null,{"$f":"'Base Prod'!A200","v":"GravityZone Security for Endpoints Physical Servers"},{"$f":"'Base Prod'!B200","v":"2 years"},{"$f":"'Base Prod'!C200","v":"25 - 49"},{"$f":"'Base Prod'!D200","v":90.72},null,{"$f":"'Base Prod'!F200","v":0},{"$f":"'Base Prod'!G200","v":"AL1227200C-EN"}]
[null,{"$f":"'Base Prod'!A201","v":"GravityZone Security for Endpoints Physical Servers"},{"$f":"'Base Prod'!B201","v":"2 years"},{"$f":"'Base Prod'!C201","v":"50 - 99"},{"$f":"'Base Prod'!D201","v":81.66},null,{"$f":"'Base Prod'!F201","v":0},{"$f":"'Base Prod'!G201","v":"AL1227200D-EN"}]
[null,{"$f":"'Base Prod'!A202","v":"GravityZone Security for Endpoints Physical Servers"},{"$f":"'Base Prod'!B202","v":"2 years"},{"$f":"'Base Prod'!C202","v":"100 - 149"},{"$f":"'Base Prod'!D202","v":77.58},null,{"$f":"'Base Prod'!F202","v":0},{"$f":"'Base Prod'!G202","v":"AL1227200E-EN"}]
[null,{"$f":"'Base Prod'!A203","v":"GravityZone Security for Endpoints Physical Servers"},{"$f":"'Base Prod'!B203","v":"2 years"},{"$f":"'Base Prod'!C203","v":"150 - 249"},{"$f":"'Base Prod'!D203","v":73.7},null,{"$f":"'Base Prod'!F203","v":0},{"$f":"'Base Prod'!G203","v":"AL1227200F-EN"}]
[null,{"$f":"'Base Prod'!A204","v":"GravityZone Security for Endpoints Physical Servers"},{"$f":"'Base Prod'!B204","v":"2 years"},{"$f":"'Base Prod'!C204","v":"250 - 499"},{"$f":"'Base Prod'!D204","v":70.010000000000005},null,{"$f":"'Base Prod'!F204","v":0},{"$f":"'Base Prod'!G204","v":"AL1227200G-EN"}]
[null,{"$f":"'Base Prod'!A205","v":"GravityZone Security for Endpoints Physical Servers"},{"$f":"'Base Prod'!B205","v":"2 years"},{"$f":"'Base Prod'!C205","v":"500 - 999"},{"$f":"'Base Prod'!D205","v":66.510000000000005},null,{"$f":"'Base Prod'!F205","v":0},{"$f":"'Base Prod'!G205","v":"AL1227200H-EN"}]
[null,{"$f":"'Base Prod'!A206","v":"GravityZone Security for Endpoints Physical Servers"},{"$f":"'Base Prod'!B206","v":"2 years"},{"$f":"'Base Prod'!C206","v":"1000 - 2999"},{"$f":"'Base Prod'!D206","v":63.18},null,{"$f":"'Base Prod'!F206","v":0},{"$f":"'Base Prod'!G206","v":"AL1227200I-EN"}]
[null,{"$f":"'Base Prod'!A207","v":"GravityZone Security for Endpoints Physical Servers"},{"$f":"'Base Prod'!B207","v":"2 years"},{"$f":"'Base Prod'!C207","v":"3000+"},{"$f":"'Base Prod'!D207","v":60.02},null,{"$f":"'Base Prod'!F207","v":0},{"$f":"'Base Prod'!G207","v":"AL1227200J-EN"}]
[null,{"$f":"'Base Prod'!A208","v":"GravityZone Security for Endpoints Physical Servers"},{"$f":"'Base Prod'!B208","v":"3 years"},{"$f":"'Base Prod'!C208","v":"1 - 14"},{"$f":"'Base Prod'!D208","v":143.5},null,{"$f":"'Base Prod'!F208","v":0},{"$f":"'Base Prod'!G208","v":"AL1227300A-EN"}]
[null,{"$f":"'Base Prod'!A209","v":"GravityZone Security for Endpoints Physical Servers"},{"$f":"'Base Prod'!B209","v":"3 years"},{"$f":"'Base Prod'!C209","v":"15 - 24"},{"$f":"'Base Prod'!D209","v":129.15},null,{"$f":"'Base Prod'!F209","v":0},{"$f":"'Base Prod'!G209","v":"AL1227300B-EN"}]
[null,{"$f":"'Base Prod'!A210","v":"GravityZone Security for Endpoints Physical Servers"},{"$f":"'Base Prod'!B210","v":"3 years"},{"$f":"'Base Prod'!C210","v":"25 - 49"},{"$f":"'Base Prod'!D210","v":116.24},null,{"$f":"'Base Prod'!F210","v":0},{"$f":"'Base Prod'!G210","v":"AL1227300C-EN"}]
[null,{"$f":"'Base Prod'!A211","v":"GravityZone Security for Endpoints Physical Servers"},{"$f":"'Base Prod'!B211","v":"3 years"},{"$f":"'Base Prod'!C211","v":"50 - 99"},{"$f":"'Base Prod'!D211","v":104.62},null,{"$f":"'Base Prod'!F211","v":0},{"$f":"'Base Prod'!G211","v":"AL1227300D-EN"}]
[null,{"$f":"'Base Prod'!A212","v":"GravityZone Security for Endpoints Physical Servers"},{"$f":"'Base Prod'!B212","v":"3 years"},{"$f":"'Base Prod'!C212","v":"100 - 149"},{"$f":"'Base Prod'!D212","v":99.39},null,{"$f":"'Base Prod'!F212","v":0},{"$f":"'Base Prod'!G212","v":"AL1227300E-EN"}]
[null,{"$f":"'Base Prod'!A213","v":"GravityZone Security for Endpoints Physical Servers"},{"$f":"'Base Prod'!B213","v":"3 years"},{"$f":"'Base Prod'!C213","v":"150 - 249"},{"$f":"'Base Prod'!D213","v":94.42},null,{"$f":"'Base Prod'!F213","v":0},{"$f":"'Base Prod'!G213","v":"AL1227300F-EN"}]
[null,{"$f":"'Base Prod'!A214","v":"GravityZone Security for Endpoints Physical Servers"},{"$f":"'Base Prod'!B214","v":"3 years"},{"$f":"'Base Prod'!C214","v":"250 - 499"},{"$f":"'Base Prod'!D214","v":89.7},null,{"$f":"'Base Prod'!F214","v":0},{"$f":"'Base Prod'!G214","v":"AL1227300G-EN"}]
[null,{"$f":"'Base Prod'!A215","v":"GravityZone Security for Endpoints Physical Servers"},{"$f":"'Base Prod'!B215","v":"3 years"},{"$f":"'Base Prod'!C215","v":"500 - 999"},{"$f":"'Base Prod'!D215","v":85.22},null,{"$f":"'Base Prod'!F215","v":0},{"$f":"'Base Prod'!G215","v":"AL1227300H-EN"}]
[null,{"$f":"'Base Prod'!A216","v":"GravityZone Security for Endpoints Physical Servers"},{"$f":"'Base Prod'!B216","v":"3 years"},{"$f":"'Base Prod'!C216","v":"1000 - 2999"},{"$f":"'Base Prod'!D216","v":80.95},null,{"$f":"'Base Prod'!F216","v":0},{"$f":"'Base Prod'!G216","v":"AL1227300I-EN"}]
[null,{"$f":"'Base Prod'!A217","v":"GravityZone Security for Endpoints Physical Servers"},{"$f":"'Base Prod'!B217","v":"3 years"},{"$f":"'Base Prod'!C217","v":"3000+"},{"$f":"'Base Prod'!D217","v":76.900000000000006},null,{"$f":"'Base Prod'!F217","v":0},{"$f":"'Base Prod'!G217","v":"AL1227300J-EN"}]
[null,{"$f":"'Base Prod'!A218","v":"GravityZone Security for Exchange"},{"$f":"'Base Prod'!B218","v":"1 year"},{"$f":"'Base Prod'!C218","v":"5 - 14"},{"$f":"'Base Prod'!D218","v":23.54},null,{"$f":"'Base Prod'!F218","v":0},{"$f":"'Base Prod'!G218","v":"AL1241100A-EN"}]
[null,{"$f":"'Base Prod'!A219","v":"GravityZone Security for Exchange"},{"$f":"'Base Prod'!B219","v":"1 year"},{"$f":"'Base Prod'!C219","v":"15 - 24"},{"$f":"'Base Prod'!D219","v":21.39},null,{"$f":"'Base Prod'!F219","v":0},{"$f":"'Base Prod'!G219","v":"AL1241100B-EN"}]
[null,{"$f":"'Base Prod'!A220","v":"GravityZone Security for Exchange"},{"$f":"'Base Prod'!B220","v":"1 year"},{"$f":"'Base Prod'!C220","v":"25 - 49"},{"$f":"'Base Prod'!D220","v":19.25},null,{"$f":"'Base Prod'!F220","v":0},{"$f":"'Base Prod'!G220","v":"AL1241100C-EN"}]
[null,{"$f":"'Base Prod'!A221","v":"GravityZone Security for Exchange"},{"$f":"'Base Prod'!B221","v":"1 year"},{"$f":"'Base Prod'!C221","v":"50 - 99"},{"$f":"'Base Prod'!D221","v":17.47},null,{"$f":"'Base Prod'!F221","v":0},{"$f":"'Base Prod'!G221","v":"AL1241100D-EN"}]
[null,{"$f":"'Base Prod'!A222","v":"GravityZone Security for Exchange"},{"$f":"'Base Prod'!B222","v":"1 year"},{"$f":"'Base Prod'!C222","v":"100 - 149"},{"$f":"'Base Prod'!D222","v":15.68},null,{"$f":"'Base Prod'!F222","v":0},{"$f":"'Base Prod'!G222","v":"AL1241100E-EN"}]
[null,{"$f":"'Base Prod'!A223","v":"GravityZone Security for Exchange"},{"$f":"'Base Prod'!B223","v":"1 year"},{"$f":"'Base Prod'!C223","v":"150 - 249"},{"$f":"'Base Prod'!D223","v":14.39},null,{"$f":"'Base Prod'!F223","v":0},{"$f":"'Base Prod'!G223","v":"AL1241100F-EN"}]
[null,{"$f":"'Base Prod'!A224","v":"GravityZone Security for Exchange"},{"$f":"'Base Prod'!B224","v":"1 year"},{"$f":"'Base Prod'!C224","v":"250 - 499"},{"$f":"'Base Prod'!D224","v":13.18},null,{"$f":"'Base Prod'!F224","v":0},{"$f":"'Base Prod'!G224","v":"AL1241100G-EN"}]
[null,{"$f":"'Base Prod'!A225","v":"GravityZone Security for Exchange"},{"$f":"'Base Prod'!B225","v":"1 year"},{"$f":"'Base Prod'!C225","v":"500 - 999"},{"$f":"'Base Prod'!D225","v":12.1},null,{"$f":"'Base Prod'!F225","v":0},{"$f":"'Base Prod'!G225","v":"AL1241100H-EN"}]
[null,{"$f":"'Base Prod'!A226","v":"GravityZone Security for Exchange"},{"$f":"'Base Prod'!B226","v":"1 year"},{"$f":"'Base Prod'!C226","v":"1000 - 2999"},{"$f":"'Base Prod'!D226","v":11.03},null,{"$f":"'Base Prod'!F226","v":0},{"$f":"'Base Prod'!G226","v":"AL1241100I-EN"}]
[null,{"$f":"'Base Prod'!A227","v":"GravityZone Security for Exchange"},{"$f":"'Base Prod'!B227","v":"1 year"},{"$f":"'Base Prod'!C227","v":"3000+"},{"$f":"'Base Prod'!D227","v":9.9600000000000009},null,{"$f":"'Base Prod'!F227","v":0},{"$f":"'Base Prod'!G227","v":"AL1241100J-EN"}]
[null,{"$f":"'Base Prod'!A228","v":"GravityZone Security for Exchange"},{"$f":"'Base Prod'!B228","v":"2 years"},{"$f":"'Base Prod'!C228","v":"5 - 14"},{"$f":"'Base Prod'!D228","v":37.659999999999997},null,{"$f":"'Base Prod'!F228","v":0},{"$f":"'Base Prod'!G228","v":"AL1241200A-EN"}]
[null,{"$f":"'Base Prod'!A229","v":"GravityZone Security for Exchange"},{"$f":"'Base Prod'!B229","v":"2 years"},{"$f":"'Base Prod'!C229","v":"15 - 24"},{"$f":"'Base Prod'!D229","v":34.229999999999997},null,{"$f":"'Base Prod'!F229","v":0},{"$f":"'Base Prod'!G229","v":"AL1241200B-EN"}]
[null,{"$f":"'Base Prod'!A230","v":"GravityZone Security for Exchange"},{"$f":"'Base Prod'!B230","v":"2 years"},{"$f":"'Base Prod'!C230","v":"25 - 49"},{"$f":"'Base Prod'!D230","v":30.8},null,{"$f":"'Base Prod'!F230","v":0},{"$f":"'Base Prod'!G230","v":"AL1241200C-EN"}]
[null,{"$f":"'Base Prod'!A231","v":"GravityZone Security for Exchange"},{"$f":"'Base Prod'!B231","v":"2 years"},{"$f":"'Base Prod'!C231","v":"50 - 99"},{"$f":"'Base Prod'!D231","v":27.95},null,{"$f":"'Base Prod'!F231","v":0},{"$f":"'Base Prod'!G231","v":"AL1241200D-EN"}]
[null,{"$f":"'Base Prod'!A232","v":"GravityZone Security for Exchange"},{"$f":"'Base Prod'!B232","v":"2 years"},{"$f":"'Base Prod'!C232","v":"100 - 149"},{"$f":"'Base Prod'!D232","v":25.09},null,{"$f":"'Base Prod'!F232","v":0},{"$f":"'Base Prod'!G232","v":"AL1241200E-EN"}]
[null,{"$f":"'Base Prod'!A233","v":"GravityZone Security for Exchange"},{"$f":"'Base Prod'!B233","v":"2 years"},{"$f":"'Base Prod'!C233","v":"150 - 249"},{"$f":"'Base Prod'!D233","v":23.02},null,{"$f":"'Base Prod'!F233","v":0},{"$f":"'Base Prod'!G233","v":"AL1241200F-EN"}]
[null,{"$f":"'Base Prod'!A234","v":"GravityZone Security for Exchange"},{"$f":"'Base Prod'!B234","v":"2 years"},{"$f":"'Base Prod'!C234","v":"250 - 499"},{"$f":"'Base Prod'!D234","v":21.08},null,{"$f":"'Base Prod'!F234","v":0},{"$f":"'Base Prod'!G234","v":"AL1241200G-EN"}]
[null,{"$f":"'Base Prod'!A235","v":"GravityZone Security for Exchange"},{"$f":"'Base Prod'!B235","v":"2 years"},{"$f":"'Base Prod'!C235","v":"500 - 999"},{"$f":"'Base Prod'!D235","v":19.37},null,{"$f":"'Base Prod'!F235","v":0},{"$f":"'Base Prod'!G235","v":"AL1241200H-EN"}]
[null,{"$f":"'Base Prod'!A236","v":"GravityZone Security for Exchange"},{"$f":"'Base Prod'!B236","v":"2 years"},{"$f":"'Base Prod'!C236","v":"1000 - 2999"},{"$f":"'Base Prod'!D236","v":17.649999999999999},null,{"$f":"'Base Prod'!F236","v":0},{"$f":"'Base Prod'!G236","v":"AL1241200I-EN"}]
[null,{"$f":"'Base Prod'!A237","v":"GravityZone Security for Exchange"},{"$f":"'Base Prod'!B237","v":"2 years"},{"$f":"'Base Prod'!C237","v":"3000+"},{"$f":"'Base Prod'!D237","v":15.94},null,{"$f":"'Base Prod'!F237","v":0},{"$f":"'Base Prod'!G237","v":"AL1241200J-EN"}]
[null,{"$f":"'Base Prod'!A238","v":"GravityZone Security for Exchange"},{"$f":"'Base Prod'!B238","v":"3 years"},{"$f":"'Base Prod'!C238","v":"5 - 14"},{"$f":"'Base Prod'!D238","v":48.25},null,{"$f":"'Base Prod'!F238","v":0},{"$f":"'Base Prod'!G238","v":"AL1241300A-EN"}]
[null,{"$f":"'Base Prod'!A239","v":"GravityZone Security for Exchange"},{"$f":"'Base Prod'!B239","v":"3 years"},{"$f":"'Base Prod'!C239","v":"15 - 24"},{"$f":"'Base Prod'!D239","v":43.86},null,{"$f":"'Base Prod'!F239","v":0},{"$f":"'Base Prod'!G239","v":"AL1241300B-EN"}]
[null,{"$f":"'Base Prod'!A240","v":"GravityZone Security for Exchange"},{"$f":"'Base Prod'!B240","v":"3 years"},{"$f":"'Base Prod'!C240","v":"25 - 49"},{"$f":"'Base Prod'!D240","v":39.47},null,{"$f":"'Base Prod'!F240","v":0},{"$f":"'Base Prod'!G240","v":"AL1241300C-EN"}]
[null,{"$f":"'Base Prod'!A241","v":"GravityZone Security for Exchange"},{"$f":"'Base Prod'!B241","v":"3 years"},{"$f":"'Base Prod'!C241","v":"50 - 99"},{"$f":"'Base Prod'!D241","v":35.81},null,{"$f":"'Base Prod'!F241","v":0},{"$f":"'Base Prod'!G241","v":"AL1241300D-EN"}]
[null,{"$f":"'Base Prod'!A242","v":"GravityZone Security for Exchange"},{"$f":"'Base Prod'!B242","v":"3 years"},{"$f":"'Base Prod'!C242","v":"100 - 149"},{"$f":"'Base Prod'!D242","v":32.15},null,{"$f":"'Base Prod'!F242","v":0},{"$f":"'Base Prod'!G242","v":"AL1241300E-EN"}]
[null,{"$f":"'Base Prod'!A243","v":"GravityZone Security for Exchange"},{"$f":"'Base Prod'!B243","v":"3 years"},{"$f":"'Base Prod'!C243","v":"150 - 249"},{"$f":"'Base Prod'!D243","v":29.5},null,{"$f":"'Base Prod'!F243","v":0},{"$f":"'Base Prod'!G243","v":"AL1241300F-EN"}]
[null,{"$f":"'Base Prod'!A244","v":"GravityZone Security for Exchange"},{"$f":"'Base Prod'!B244","v":"3 years"},{"$f":"'Base Prod'!C244","v":"250 - 499"},{"$f":"'Base Prod'!D244","v":27.01},null,{"$f":"'Base Prod'!F244","v":0},{"$f":"'Base Prod'!G244","v":"AL1241300G-EN"}]
[null,{"$f":"'Base Prod'!A245","v":"GravityZone Security for Exchange"},{"$f":"'Base Prod'!B245","v":"3 years"},{"$f":"'Base Prod'!C245","v":"500 - 999"},{"$f":"'Base Prod'!D245","v":24.82},null,{"$f":"'Base Prod'!F245","v":0},{"$f":"'Base Prod'!G245","v":"AL1241300H-EN"}]
[null,{"$f":"'Base Prod'!A246","v":"GravityZone Security for Exchange"},{"$f":"'Base Prod'!B246","v":"3 years"},{"$f":"'Base Prod'!C246","v":"1000 - 2999"},{"$f":"'Base Prod'!D246","v":22.62},null,{"$f":"'Base Prod'!F246","v":0},{"$f":"'Base Prod'!G246","v":"AL1241300I-EN"}]
[null,{"$f":"'Base Prod'!A247","v":"GravityZone Security for Exchange"},{"$f":"'Base Prod'!B247","v":"3 years"},{"$f":"'Base Prod'!C247","v":"3000+"},{"$f":"'Base Prod'!D247","v":20.420000000000002},null,{"$f":"'Base Prod'!F247","v":0},{"$f":"'Base Prod'!G247","v":"AL1241300J-EN"}]
[null,{"$f":"'Base Prod'!A248","v":"GravityZone Security for Mobile"},{"$f":"'Base Prod'!B248","v":"1 year"},{"$f":"'Base Prod'!C248","v":"5 - 14"},{"$f":"'Base Prod'!D248","v":16.649999999999999},null,{"$f":"'Base Prod'!F248","v":0},{"$f":"'Base Prod'!G248","v":"BL1213100A-EN"}]
[null,{"$f":"'Base Prod'!A249","v":"GravityZone Security for Mobile"},{"$f":"'Base Prod'!B249","v":"1 year"},{"$f":"'Base Prod'!C249","v":"15 - 24"},{"$f":"'Base Prod'!D249","v":15.33},null,{"$f":"'Base Prod'!F249","v":0},{"$f":"'Base Prod'!G249","v":"BL1213100B-EN"}]
[null,{"$f":"'Base Prod'!A250","v":"GravityZone Security for Mobile"},{"$f":"'Base Prod'!B250","v":"1 year"},{"$f":"'Base Prod'!C250","v":"25 - 49"},{"$f":"'Base Prod'!D250","v":14.2},null,{"$f":"'Base Prod'!F250","v":0},{"$f":"'Base Prod'!G250","v":"BL1213100C-EN"}]
[null,{"$f":"'Base Prod'!A251","v":"GravityZone Security for Mobile"},{"$f":"'Base Prod'!B251","v":"1 year"},{"$f":"'Base Prod'!C251","v":"50 - 99"},{"$f":"'Base Prod'!D251","v":13.3},null,{"$f":"'Base Prod'!F251","v":0},{"$f":"'Base Prod'!G251","v":"BL1213100D-EN"}]
[null,{"$f":"'Base Prod'!A252","v":"GravityZone Security for Mobile"},{"$f":"'Base Prod'!B252","v":"1 year"},{"$f":"'Base Prod'!C252","v":"100 - 149"},{"$f":"'Base Prod'!D252","v":11.85},null,{"$f":"'Base Prod'!F252","v":0},{"$f":"'Base Prod'!G252","v":"BL1213100E-EN"}]
[null,{"$f":"'Base Prod'!A253","v":"GravityZone Security for Mobile"},{"$f":"'Base Prod'!B253","v":"1 year"},{"$f":"'Base Prod'!C253","v":"150 - 249"},{"$f":"'Base Prod'!D253","v":10.63},null,{"$f":"'Base Prod'!F253","v":0},{"$f":"'Base Prod'!G253","v":"BL1213100F-EN"}]
[null,{"$f":"'Base Prod'!A254","v":"GravityZone Security for Mobile"},{"$f":"'Base Prod'!B254","v":"1 year"},{"$f":"'Base Prod'!C254","v":"250 - 499"},{"$f":"'Base Prod'!D254","v":9.8800000000000008},null,{"$f":"'Base Prod'!F254","v":0},{"$f":"'Base Prod'!G254","v":"BL1213100G-EN"}]
[null,{"$f":"'Base Prod'!A255","v":"GravityZone Security for Mobile"},{"$f":"'Base Prod'!B255","v":"1 year"},{"$f":"'Base Prod'!C255","v":"500 - 999"},{"$f":"'Base Prod'!D255","v":8.4},null,{"$f":"'Base Prod'!F255","v":0},{"$f":"'Base Prod'!G255","v":"BL1213100H-EN"}]
[null,{"$f":"'Base Prod'!A256","v":"GravityZone Security for Mobile"},{"$f":"'Base Prod'!B256","v":"1 year"},{"$f":"'Base Prod'!C256","v":"1000 - 2999"},{"$f":"'Base Prod'!D256","v":7.55},null,{"$f":"'Base Prod'!F256","v":0},{"$f":"'Base Prod'!G256","v":"BL1213100I-EN"}]
[null,{"$f":"'Base Prod'!A257","v":"GravityZone Security for Mobile"},{"$f":"'Base Prod'!B257","v":"1 year"},{"$f":"'Base Prod'!C257","v":"3000+"},{"$f":"'Base Prod'!D257","v":6.7},null,{"$f":"'Base Prod'!F257","v":0},{"$f":"'Base Prod'!G257","v":"BL1213100J-EN"}]
[null,{"$f":"'Base Prod'!A258","v":"GravityZone Security for Mobile"},{"$f":"'Base Prod'!B258","v":"2 years"},{"$f":"'Base Prod'!C258","v":"5 - 14"},{"$f":"'Base Prod'!D258","v":26.64},null,{"$f":"'Base Prod'!F258","v":0},{"$f":"'Base Prod'!G258","v":"BL1213200A-EN"}]
[null,{"$f":"'Base Prod'!A259","v":"GravityZone Security for Mobile"},{"$f":"'Base Prod'!B259","v":"2 years"},{"$f":"'Base Prod'!C259","v":"15 - 24"},{"$f":"'Base Prod'!D259","v":24.53},null,{"$f":"'Base Prod'!F259","v":0},{"$f":"'Base Prod'!G259","v":"BL1213200B-EN"}]
[null,{"$f":"'Base Prod'!A260","v":"GravityZone Security for Mobile"},{"$f":"'Base Prod'!B260","v":"2 years"},{"$f":"'Base Prod'!C260","v":"25 - 49"},{"$f":"'Base Prod'!D260","v":22.72},null,{"$f":"'Base Prod'!F260","v":0},{"$f":"'Base Prod'!G260","v":"BL1213200C-EN"}]
[null,{"$f":"'Base Prod'!A261","v":"GravityZone Security for Mobile"},{"$f":"'Base Prod'!B261","v":"2 years"},{"$f":"'Base Prod'!C261","v":"50 - 99"},{"$f":"'Base Prod'!D261","v":21.28},null,{"$f":"'Base Prod'!F261","v":0},{"$f":"'Base Prod'!G261","v":"BL1213200D-EN"}]
[null,{"$f":"'Base Prod'!A262","v":"GravityZone Security for Mobile"},{"$f":"'Base Prod'!B262","v":"2 years"},{"$f":"'Base Prod'!C262","v":"100 - 149"},{"$f":"'Base Prod'!D262","v":18.96},null,{"$f":"'Base Prod'!F262","v":0},{"$f":"'Base Prod'!G262","v":"BL1213200E-EN"}]
[null,{"$f":"'Base Prod'!A263","v":"GravityZone Security for Mobile"},{"$f":"'Base Prod'!B263","v":"2 years"},{"$f":"'Base Prod'!C263","v":"150 - 249"},{"$f":"'Base Prod'!D263","v":17.010000000000002},null,{"$f":"'Base Prod'!F263","v":0},{"$f":"'Base Prod'!G263","v":"BL1213200F-EN"}]
[null,{"$f":"'Base Prod'!A264","v":"GravityZone Security for Mobile"},{"$f":"'Base Prod'!B264","v":"2 years"},{"$f":"'Base Prod'!C264","v":"250 - 499"},{"$f":"'Base Prod'!D264","v":15.81},null,{"$f":"'Base Prod'!F264","v":0},{"$f":"'Base Prod'!G264","v":"BL1213200G-EN"}]
[null,{"$f":"'Base Prod'!A265","v":"GravityZone Security for Mobile"},{"$f":"'Base Prod'!B265","v":"2 years"},{"$f":"'Base Prod'!C265","v":"500 - 999"},{"$f":"'Base Prod'!D265","v":13.44},null,{"$f":"'Base Prod'!F265","v":0},{"$f":"'Base Prod'!G265","v":"BL1213200H-EN"}]
[null,{"$f":"'Base Prod'!A266","v":"GravityZone Security for Mobile"},{"$f":"'Base Prod'!B266","v":"2 years"},{"$f":"'Base Prod'!C266","v":"1000 - 2999"},{"$f":"'Base Prod'!D266","v":12.08},null,{"$f":"'Base Prod'!F266","v":0},{"$f":"'Base Prod'!G266","v":"BL1213200I-EN"}]
[null,{"$f":"'Base Prod'!A267","v":"GravityZone Security for Mobile"},{"$f":"'Base Prod'!B267","v":"2 years"},{"$f":"'Base Prod'!C267","v":"3000+"},{"$f":"'Base Prod'!D267","v":10.72},null,{"$f":"'Base Prod'!F267","v":0},{"$f":"'Base Prod'!G267","v":"BL1213200J-EN"}]
[null,{"$f":"'Base Prod'!A268","v":"GravityZone Security for Mobile"},{"$f":"'Base Prod'!B268","v":"3 years"},{"$f":"'Base Prod'!C268","v":"5 - 14"},{"$f":"'Base Prod'!D268","v":34.130000000000003},null,{"$f":"'Base Prod'!F268","v":0},{"$f":"'Base Prod'!G268","v":"BL1213300A-EN"}]
[null,{"$f":"'Base Prod'!A269","v":"GravityZone Security for Mobile"},{"$f":"'Base Prod'!B269","v":"3 years"},{"$f":"'Base Prod'!C269","v":"15 - 24"},{"$f":"'Base Prod'!D269","v":31.43},null,{"$f":"'Base Prod'!F269","v":0},{"$f":"'Base Prod'!G269","v":"BL1213300B-EN"}]
[null,{"$f":"'Base Prod'!A270","v":"GravityZone Security for Mobile"},{"$f":"'Base Prod'!B270","v":"3 years"},{"$f":"'Base Prod'!C270","v":"25 - 49"},{"$f":"'Base Prod'!D270","v":29.11},null,{"$f":"'Base Prod'!F270","v":0},{"$f":"'Base Prod'!G270","v":"BL1213300C-EN"}]
[null,{"$f":"'Base Prod'!A271","v":"GravityZone Security for Mobile"},{"$f":"'Base Prod'!B271","v":"3 years"},{"$f":"'Base Prod'!C271","v":"50 - 99"},{"$f":"'Base Prod'!D271","v":27.27},null,{"$f":"'Base Prod'!F271","v":0},{"$f":"'Base Prod'!G271","v":"BL1213300D-EN"}]
[null,{"$f":"'Base Prod'!A272","v":"GravityZone Security for Mobile"},{"$f":"'Base Prod'!B272","v":"3 years"},{"$f":"'Base Prod'!C272","v":"100 - 149"},{"$f":"'Base Prod'!D272","v":24.29},null,{"$f":"'Base Prod'!F272","v":0},{"$f":"'Base Prod'!G272","v":"BL1213300E-EN"}]
[null,{"$f":"'Base Prod'!A273","v":"GravityZone Security for Mobile"},{"$f":"'Base Prod'!B273","v":"3 years"},{"$f":"'Base Prod'!C273","v":"150 - 249"},{"$f":"'Base Prod'!D273","v":21.79},null,{"$f":"'Base Prod'!F273","v":0},{"$f":"'Base Prod'!G273","v":"BL1213300F-EN"}]
[null,{"$f":"'Base Prod'!A274","v":"GravityZone Security for Mobile"},{"$f":"'Base Prod'!B274","v":"3 years"},{"$f":"'Base Prod'!C274","v":"250 - 499"},{"$f":"'Base Prod'!D274","v":20.25},null,{"$f":"'Base Prod'!F274","v":0},{"$f":"'Base Prod'!G274","v":"BL1213300G-EN"}]
[null,{"$f":"'Base Prod'!A275","v":"GravityZone Security for Mobile"},{"$f":"'Base Prod'!B275","v":"3 years"},{"$f":"'Base Prod'!C275","v":"500 - 999"},{"$f":"'Base Prod'!D275","v":17.22},null,{"$f":"'Base Prod'!F275","v":0},{"$f":"'Base Prod'!G275","v":"BL1213300H-EN"}]
[null,{"$f":"'Base Prod'!A276","v":"GravityZone Security for Mobile"},{"$f":"'Base Prod'!B276","v":"3 years"},{"$f":"'Base Prod'!C276","v":"1000 - 2999"},{"$f":"'Base Prod'!D276","v":15.48},null,{"$f":"'Base Prod'!F276","v":0},{"$f":"'Base Prod'!G276","v":"BL1213300I-EN"}]
[null,{"$f":"'Base Prod'!A277","v":"GravityZone Security for Mobile"},{"$f":"'Base Prod'!B277","v":"3 years"},{"$f":"'Base Prod'!C277","v":"3000+"},{"$f":"'Base Prod'!D277","v":13.74},null,{"$f":"'Base Prod'!F277","v":0},{"$f":"'Base Prod'!G277","v":"BL1213300J-EN"}]
[null,{"$f":"'Base Prod'!A278","v":"Bitdefender Security for Mail Servers - Linux"},{"$f":"'Base Prod'!B278","v":"1 year"},{"$f":"'Base Prod'!C278","v":"5 - 14"},{"$f":"'Base Prod'!D278","v":23.54},null,{"$f":"'Base Prod'!F278","v":0},{"$f":"'Base Prod'!G278","v":"AL1242100A-EN"}]
[null,{"$f":"'Base Prod'!A279","v":"Bitdefender Security for Mail Servers - Linux"},{"$f":"'Base Prod'!B279","v":"1 year"},{"$f":"'Base Prod'!C279","v":"15 - 24"},{"$f":"'Base Prod'!D279","v":21.39},null,{"$f":"'Base Prod'!F279","v":0},{"$f":"'Base Prod'!G279","v":"AL1242100B-EN"}]
[null,{"$f":"'Base Prod'!A280","v":"Bitdefender Security for Mail Servers - Linux"},{"$f":"'Base Prod'!B280","v":"1 year"},{"$f":"'Base Prod'!C280","v":"25 - 49"},{"$f":"'Base Prod'!D280","v":19.25},null,{"$f":"'Base Prod'!F280","v":0},{"$f":"'Base Prod'!G280","v":"AL1242100C-EN"}]
[null,{"$f":"'Base Prod'!A281","v":"Bitdefender Security for Mail Servers - Linux"},{"$f":"'Base Prod'!B281","v":"1 year"},{"$f":"'Base Prod'!C281","v":"50 - 99"},{"$f":"'Base Prod'!D281","v":17.47},null,{"$f":"'Base Prod'!F281","v":0},{"$f":"'Base Prod'!G281","v":"AL1242100D-EN"}]
[null,{"$f":"'Base Prod'!A282","v":"Bitdefender Security for Mail Servers - Linux"},{"$f":"'Base Prod'!B282","v":"1 year"},{"$f":"'Base Prod'!C282","v":"100 - 149"},{"$f":"'Base Prod'!D282","v":15.68},null,{"$f":"'Base Prod'!F282","v":0},{"$f":"'Base Prod'!G282","v":"AL1242100E-EN"}]
[null,{"$f":"'Base Prod'!A283","v":"Bitdefender Security for Mail Servers - Linux"},{"$f":"'Base Prod'!B283","v":"1 year"},{"$f":"'Base Prod'!C283","v":"150 - 249"},{"$f":"'Base Prod'!D283","v":14.39},null,{"$f":"'Base Prod'!F283","v":0},{"$f":"'Base Prod'!G283","v":"AL1242100F-EN"}]
[null,{"$f":"'Base Prod'!A284","v":"Bitdefender Security for Mail Servers - Linux"},{"$f":"'Base Prod'!B284","v":"1 year"},{"$f":"'Base Prod'!C284","v":"250 - 499"},{"$f":"'Base Prod'!D284","v":13.18},null,{"$f":"'Base Prod'!F284","v":0},{"$f":"'Base Prod'!G284","v":"AL1242100G-EN"}]
[null,{"$f":"'Base Prod'!A285","v":"Bitdefender Security for Mail Servers - Linux"},{"$f":"'Base Prod'!B285","v":"1 year"},{"$f":"'Base Prod'!C285","v":"500 - 999"},{"$f":"'Base Prod'!D285","v":12.1},null,{"$f":"'Base Prod'!F285","v":0},{"$f":"'Base Prod'!G285","v":"AL1242100H-EN"}]
[null,{"$f":"'Base Prod'!A286","v":"Bitdefender Security for Mail Servers - Linux"},{"$f":"'Base Prod'!B286","v":"1 year"},{"$f":"'Base Prod'!C286","v":"1000 - 2999"},{"$f":"'Base Prod'!D286","v":11.03},null,{"$f":"'Base Prod'!F286","v":0},{"$f":"'Base Prod'!G286","v":"AL1242100I-EN"}]
[null,{"$f":"'Base Prod'!A287","v":"Bitdefender Security for Mail Servers - Linux"},{"$f":"'Base Prod'!B287","v":"1 year"},{"$f":"'Base Prod'!C287","v":"3000+"},{"$f":"'Base Prod'!D287","v":9.9600000000000009},null,{"$f":"'Base Prod'!F287","v":0},{"$f":"'Base Prod'!G287","v":"AL1242100J-EN"}]
[null,{"$f":"'Base Prod'!A288","v":"Bitdefender Security for Mail Servers - Linux"},{"$f":"'Base Prod'!B288","v":"2 years"},{"$f":"'Base Prod'!C288","v":"5 - 14"},{"$f":"'Base Prod'!D288","v":37.659999999999997},null,{"$f":"'Base Prod'!F288","v":0},{"$f":"'Base Prod'!G288","v":"AL1242200A-EN"}]
[null,{"$f":"'Base Prod'!A289","v":"Bitdefender Security for Mail Servers - Linux"},{"$f":"'Base Prod'!B289","v":"2 years"},{"$f":"'Base Prod'!C289","v":"15 - 24"},{"$f":"'Base Prod'!D289","v":34.229999999999997},null,{"$f":"'Base Prod'!F289","v":0},{"$f":"'Base Prod'!G289","v":"AL1242200B-EN"}]
[null,{"$f":"'Base Prod'!A290","v":"Bitdefender Security for Mail Servers - Linux"},{"$f":"'Base Prod'!B290","v":"2 years"},{"$f":"'Base Prod'!C290","v":"25 - 49"},{"$f":"'Base Prod'!D290","v":30.8},null,{"$f":"'Base Prod'!F290","v":0},{"$f":"'Base Prod'!G290","v":"AL1242200C-EN"}]
[null,{"$f":"'Base Prod'!A291","v":"Bitdefender Security for Mail Servers - Linux"},{"$f":"'Base Prod'!B291","v":"2 years"},{"$f":"'Base Prod'!C291","v":"50 - 99"},{"$f":"'Base Prod'!D291","v":27.95},null,{"$f":"'Base Prod'!F291","v":0},{"$f":"'Base Prod'!G291","v":"AL1242200D-EN"}]
[null,{"$f":"'Base Prod'!A292","v":"Bitdefender Security for Mail Servers - Linux"},{"$f":"'Base Prod'!B292","v":"2 years"},{"$f":"'Base Prod'!C292","v":"100 - 149"},{"$f":"'Base Prod'!D292","v":25.09},null,{"$f":"'Base Prod'!F292","v":0},{"$f":"'Base Prod'!G292","v":"AL1242200E-EN"}]
[null,{"$f":"'Base Prod'!A293","v":"Bitdefender Security for Mail Servers - Linux"},{"$f":"'Base Prod'!B293","v":"2 years"},{"$f":"'Base Prod'!C293","v":"150 - 249"},{"$f":"'Base Prod'!D293","v":23.02},null,{"$f":"'Base Prod'!F293","v":0},{"$f":"'Base Prod'!G293","v":"AL1242200F-EN"}]
[null,{"$f":"'Base Prod'!A294","v":"Bitdefender Security for Mail Servers - Linux"},{"$f":"'Base Prod'!B294","v":"2 years"},{"$f":"'Base Prod'!C294","v":"250 - 499"},{"$f":"'Base Prod'!D294","v":21.08},null,{"$f":"'Base Prod'!F294","v":0},{"$f":"'Base Prod'!G294","v":"AL1242200G-EN"}]
[null,{"$f":"'Base Prod'!A295","v":"Bitdefender Security for Mail Servers - Linux"},{"$f":"'Base Prod'!B295","v":"2 years"},{"$f":"'Base Prod'!C295","v":"500 - 999"},{"$f":"'Base Prod'!D295","v":19.37},null,{"$f":"'Base Prod'!F295","v":0},{"$f":"'Base Prod'!G295","v":"AL1242200H-EN"}]
[null,{"$f":"'Base Prod'!A296","v":"Bitdefender Security for Mail Servers - Linux"},{"$f":"'Base Prod'!B296","v":"2 years"},{"$f":"'Base Prod'!C296","v":"1000 - 2999"},{"$f":"'Base Prod'!D296","v":17.649999999999999},null,{"$f":"'Base Prod'!F296","v":0},{"$f":"'Base Prod'!G296","v":"AL1242200I-EN"}]
[null,{"$f":"'Base Prod'!A297","v":"Bitdefender Security for Mail Servers - Linux"},{"$f":"'Base Prod'!B297","v":"2 years"},{"$f":"'Base Prod'!C297","v":"3000+"},{"$f":"'Base Prod'!D297","v":15.94},null,{"$f":"'Base Prod'!F297","v":0},{"$f":"'Base Prod'!G297","v":"AL1242200J-EN"}]
[null,{"$f":"'Base Prod'!A298","v":"Bitdefender Security for Mail Servers - Linux"},{"$f":"'Base Prod'!B298","v":"3 years"},{"$f":"'Base Prod'!C298","v":"5 - 14"},{"$f":"'Base Prod'!D298","v":48.25},null,{"$f":"'Base Prod'!F298","v":0},{"$f":"'Base Prod'!G298","v":"AL1242300A-EN"}]
[null,{"$f":"'Base Prod'!A299","v":"Bitdefender Security for Mail Servers - Linux"},{"$f":"'Base Prod'!B299","v":"3 years"},{"$f":"'Base Prod'!C299","v":"15 - 24"},{"$f":"'Base Prod'!D299","v":43.86},null,{"$f":"'Base Prod'!F299","v":0},{"$f":"'Base Prod'!G299","v":"AL1242300B-EN"}]
[null,{"$f":"'Base Prod'!A300","v":"Bitdefender Security for Mail Servers - Linux"},{"$f":"'Base Prod'!B300","v":"3 years"},{"$f":"'Base Prod'!C300","v":"25 - 49"},{"$f":"'Base Prod'!D300","v":39.47},null,{"$f":"'Base Prod'!F300","v":0},{"$f":"'Base Prod'!G300","v":"AL1242300C-EN"}]
[null,{"$f":"'Base Prod'!A301","v":"Bitdefender Security for Mail Servers - Linux"},{"$f":"'Base Prod'!B301","v":"3 years"},{"$f":"'Base Prod'!C301","v":"50 - 99"},{"$f":"'Base Prod'!D301","v":35.81},null,{"$f":"'Base Prod'!F301","v":0},{"$f":"'Base Prod'!G301","v":"AL1242300D-EN"}]
[null,{"$f":"'Base Prod'!A302","v":"Bitdefender Security for Mail Servers - Linux"},{"$f":"'Base Prod'!B302","v":"3 years"},{"$f":"'Base Prod'!C302","v":"100 - 149"},{"$f":"'Base Prod'!D302","v":32.15},null,{"$f":"'Base Prod'!F302","v":0},{"$f":"'Base Prod'!G302","v":"AL1242300E-EN"}]
[null,{"$f":"'Base Prod'!A303","v":"Bitdefender Security for Mail Servers - Linux"},{"$f":"'Base Prod'!B303","v":"3 years"},{"$f":"'Base Prod'!C303","v":"150 - 249"},{"$f":"'Base Prod'!D303","v":29.5},null,{"$f":"'Base Prod'!F303","v":0},{"$f":"'Base Prod'!G303","v":"AL1242300F-EN"}]
[null,{"$f":"'Base Prod'!A304","v":"Bitdefender Security for Mail Servers - Linux"},{"$f":"'Base Prod'!B304","v":"3 years"},{"$f":"'Base Prod'!C304","v":"250 - 499"},{"$f":"'Base Prod'!D304","v":27.01},null,{"$f":"'Base Prod'!F304","v":0},{"$f":"'Base Prod'!G304","v":"AL1242300G-EN"}]
[null,{"$f":"'Base Prod'!A305","v":"Bitdefender Security for Mail Servers - Linux"},{"$f":"'Base Prod'!B305","v":"3 years"},{"$f":"'Base Prod'!C305","v":"500 - 999"},{"$f":"'Base Prod'!D305","v":24.82},null,{"$f":"'Base Prod'!F305","v":0},{"$f":"'Base Prod'!G305","v":"AL1242300H-EN"}]
[null,{"$f":"'Base Prod'!A306","v":"Bitdefender Security for Mail Servers - Linux"},{"$f":"'Base Prod'!B306","v":"3 years"},{"$f":"'Base Prod'!C306","v":"1000 - 2999"},{"$f":"'Base Prod'!D306","v":22.62},null,{"$f":"'Base Prod'!F306","v":0},{"$f":"'Base Prod'!G306","v":"AL1242300I-EN"}]
[null,{"$f":"'Base Prod'!A307","v":"Bitdefender Security for Mail Servers - Linux"},{"$f":"'Base Prod'!B307","v":"3 years"},{"$f":"'Base Prod'!C307","v":"3000+"},{"$f":"'Base Prod'!D307","v":20.420000000000002},null,{"$f":"'Base Prod'!F307","v":0},{"$f":"'Base Prod'!G307","v":"AL1242300J-EN"}]
[null,{"$f":"'Base Prod'!A308","v":0},{"$f":"'Base Prod'!B308","v":0},{"$f":"'Base Prod'!C308","v":0},{"$f":"'Base Prod'!D308","v":0},null,{"$f":"'Base Prod'!F308","v":0},{"$f":"'Base Prod'!G308","v":0}]
[null,{"$f":"'Base Prod'!A309","v":0},{"$f":"'Base Prod'!B309","v":0},{"$f":"'Base Prod'!C309","v":0},{"$f":"'Base Prod'!D309","v":0},null,{"$f":"'Base Prod'!F309","v":0},{"$f":"'Base Prod'!G309","v":0}]
[null,{"$f":"'Base Prod'!A310","v":0},{"$f":"'Base Prod'!B310","v":0},{"$f":"'Base Prod'!C310","v":0},{"$f":"'Base Prod'!D310","v":0},null,{"$f":"'Base Prod'!F310","v":0},{"$f":"'Base Prod'!G310","v":0}]
[null,{"$f":"'Base Prod'!A311","v":0},{"$f":"'Base Prod'!B311","v":0},{"$f":"'Base Prod'!C311","v":0},{"$f":"'Base Prod'!D311","v":0},null,{"$f":"'Base Prod'!F311","v":0},{"$f":"'Base Prod'!G311","v":0}]
[null,{"$f":"'Base Prod'!A312","v":0},{"$f":"'Base Prod'!B312","v":0},{"$f":"'Base Prod'!C312","v":0},{"$f":"'Base Prod'!D312","v":0},null,{"$f":"'Base Prod'!F312","v":0},{"$f":"'Base Prod'!G312","v":0}]

{"sheet":"Pricing Policies","index":2,"n_rows":31,"n_cols":6,"rows_kept":31,"cut":false,"hidden":false,"merged":[[21,1,21,8],[1,1,2,8],[4,1,4,8],[9,1,9,8],[10,1,10,8],[19,1,19,8],[11,1,11,8],[17,1,17,8],[6,1,6,8],[13,1,13,8],[8,1,8,8],[15,1,15,8]]}
[]
[null,"Pricing Policies"]
[]
[]
[null,"For Business and Enterprise products several discounts apply according to customer status or vertical. These discounts are for: education, government, renewal, renewal for education, renewal for Government and Competitive Upgrade"]
[]
[null,"Eligibility for discounts"]
[]
[null,"Eligibility for Education & Non Profit Organizations discount: any customer that represent a Education & Non Profit Organization"]
[null,"Eligibility for Government discount: any customer that represent a Government agency or organization, public authority or local government"]
[null,"Eligibilty for Renewal discount: Renewal discount applies for any Bitdefender customer that wants to extend any time his licensing period for existing product purchased"]
[null,"Eligibilty for Competitive Upgrade discount: any customer that has bought an equivalent product from our competitors."]
[]
[null,"Requirements for discounts"]
[]
[null,"In order to receive the Education, Non Profit and Government discount the following documents must be provided :\n1. Link to agency’s web-site, from where is clearly stated the Education/ Non Profit/ Government status\n2. Scanned contract stamped with institution’s official stamp\n"]
[]
[null,"Renewal discount applies for any Bitdefender customer that wants to extend any time his licensing period for existing product purchased"]
[]
[null,"In order to receive Competitive Upgrade discount one of the following documents must be provided :\n1. A scanned version of the License Agreement\n2. Document, bill that confirms the purchase of competing software\nExpiration date of the competitor license should be maximum 1 year from order date.\n"]
[]
[null,"Discounts in percentages"]
[]
[null,null,"Offer type","Percentage",null,"Note: the percentages apply to Business standard prices"]
[null,null,"Business standard",0]
[null,null,"Education & Non Profit Organizations",-0.5]
[null,null,"Government",-0.4]
[null,null,"Renewal",-0.35]
[null,null,"Competitive Upgrade",-0.3]
[null,null,"Education & Non Profit Renew",-0.55000000000000004]
[null,null,"Government Renew",-0.5]

{"sheet":"Change Log","index":3,"n_rows":61,"n_cols":6,"rows_kept":61,"cut":false,"hidden":false,"merged":[[6,1,11,4],[6,5,11,5],[0,1,1,10],[2,1,2,10],[59,0,59,4],[14,1,14,5],[5,1,5,5],[85,0,86,2],[60,0,60,4],[15,5,17,5],[15,1,17,4],[18,1,18,5],[36,5,39,5],[36,1,57,4],[40,5,57,5],[14,0,57,0],[19,1,35,4],[19,5,35,5]]}
[null,"Log Book"]
[]
[null,"September 2016"]
[null,"Summary",null,null,null,"Effective date"]
[]
[null," Business"]
[null,"Ø  Business portofolio updated:\n             ü     Price changes were made for a majority of products         \n             ü     On Bitdefender GravityZone Security for CPU the tiers and SKUs were reduced to only 500+        \n             ü Discount modified for EDU and EDU Renewal",null,null,null,"1st September 2016"]
[]
[]
[]
[]
[]
[]
[]
["Changes"," Consumer"]
[null,"\nØ  Bitdefender New Classic Line"]
[]
[]
[null," Business"]
[null,"Ø  Business portofolio updated:\n             ü   New products: \n                           Bitdefender GravityZone Business Security \n                           Bitdefender GravityZone Advanced Business Security\n             ü New product versions:Bitdefender GravityZone Enterprise Security\n                           GravityZone Security for Virtualized Environments VDI\n                           GravityZone Security for Virtualized Environments VS\n                           GravityZone Security for Virtualized Environments CPU\n                           GravityZone Security for Endpoints Physical Workstations     \n                           GravityZone Security for Endpoints Physical Servers       \n                           GravityZone Security for Exchange  \n                           GravityZone Security for Mobile                  \n             ü   Product name change: \n                            Legacy - Bitdefender Security for Mail Servers becomes Bitdefender Security for Linux Mail Servers\nØ All the products above have SKU / part numbers updated according to new releases.\nØ The GravityZone Security for Endpoints from the Previous portfolio was split in the new portfolio in GravityZone Security for Endpoints Physical Workstations and  GravityZone Security for Endpoints Physical Servers.",null,null,null,"20th May 2015"]
[]
[]
[]
[]
[]
[]
[]
[]
[]
[]
[]
[]
[]
[]
[]
[]
[null,"Ø  Previous Business portofolio will become EOS (*)\n             ü   Previous portfolio products: \n                           Bitdefender Small Office Security both cloud and on premise versions\n                           Bitdefender Security for Endpoints both cloud and on premise versions\n             ü Legacy Business Solutions 3.6:\n                             Legacy - Bitdefender Client Security 3.6\n                             Legacy - Bitdefender Small Office Security 3.6\n                             Legacy - Bitdefender Business Security 3.6\n                             Legacy - Bitdefender SBS Security 3.6\n                             Legacy - Bitdefender Corporate Security 3.6\n                             Legacy - Bitdefender Antivirus for Mac - Business Edition\n                             Legacy - Bitdefender Antivirus Scanner for Unices\n                             Legacy - Bitdefender Security for File Servers\n                             Legacy - Bitdefender Security for Samba\n                             Legacy - Bitdefender Security for SharePoint\n                             Legacy - Bitdefender Security for Exchange\n                             Legacy - Bitdefender Security for Mail Servers\nØ Previous portfollio and Legacy Business Solution 3.6 will be available only for one year sales\nØ Legacy Business Solutions 3.6 - will be End of Sale for Renewal from December 2015\nØ Legacy Business Solutions 3.6 - will be EOT(*) from December 2015 and EOSU(*) from December 2016 ",null,null,null,"December 2015"]
[]
[]
[]
[null,null,null,null,null,"31th May 2015"]
[]
[]
[]
[]
[]
[]
[]
[]
[]
[]
[]
[]
[]
[]
[]
[]
[]
["*End of Sale Date (EOS) represents the last day to order a Bitdefender product through Bitdefender points-of-sale. The product will no longer be for sale. "]
["**End of Technology Support (EOT) represents the last day after which the product is no longer supported by the engineering team. Product update releases will no longer be created for major software releases (“X.X”) that have reached the EOT stage. After EOT date, but before EOL/EOSU date, existing maintenance releases and patches will remain posted for download, but support will be generally limited to investigation and troubleshooting in an attempt to provide solutions and workarounds. During this period you may be advised to upgrade to the most current product version."]
["***End of Support (EOSU) represents the last day for standard support queries and it also represents the first day for end of product life. After this date, all the support queries in regards to the disused product will be redirected to the migration product included in the Bitdefender EOL Matrix."]

{"sheet":"Base","index":4,"n_rows":386,"n_cols":32,"rows_kept":386,"cut":false,"hidden":true,"merged":[]}
[null,null,"Business Standard",0]
[null,null,"Education & Non Profit",-0.5]
["tier 1",1,"Government",-0.4,null,null,null,null,null,null,null,null,null,null,null,null,null,null,null,null,null,null,null,null,"Bitdefender US Price List "]
["tier 2",1,"Renew",-0.35,null,null,null,null,null,null,null,null,null,null,null,null,null,null,null,null,null,null,null,null,"HOME & SMALL OFFICE/HOME OFFICE","2013-06-01"]
["Discount from MSRP",{"$f":"IF(LEFT(Products!Z7,8)=\"Consumer\",0,IF(Products!$Z$8=$C$1,$D$1,IF(Products!$Z$8=$C$2,$D$2,IF(Products!$Z$8=$C$3,$D$3,IF(Products!$Z$8=$C$4,$D$4,IF(Products!$Z$8=$C$5,$D$5,IF(Products!$Z$8=$C$6,$D$6,IF(Products!$Z$8=$C$7,$D$7))))))))","v":0},"Competitive Upgrade",-0.3,null,null,null,null,null,null,null,null,null,null,null,null,null,null,null,null,null,null,null,null,"$, Taxes included"]
[null,null,"Education & Non Profit Renew",-0.55000000000000004,null,null,null,null,null,null,null,null,null,null,null,null,null,null,null,null,null,null,null,null,"Product","Period","Users",null,"Price","BD Part #","Alt. Part#"]
[null,null,"Government Renew",-0.5]
[null,null,null,null,null,null,null,null,null,null,null,null,null,null,null,null,null,null,null,null,null,null,null,null,"Note: Only the license key is provided. "]
["Product","Period","Users","Concatenate",null,"Price/Unit",null,"Part #","Part # STD","Part # EDU","Part # GOV","Part # RNW","Part # EDU RNW","Part # GOV RNW","Part # CUPG","Product Code","Part # STD","Part # EDU","Part # GOV","Part # RNW","Part # EDU RNW","Part # GOV RNW","Part # CUPG",null,"For boxes replace the second character of the part number (L) with \"B\""]
[{"$f":"IF(Products!$Z$8=$C$1,Q10,IF(Products!$Z$8=$C$2,R10,IF(Products!$Z$8=$C$3,S10,IF(Products!$Z$8=$C$4,T10,IF(Products!$Z$8=$C$5,W10,IF(Products!$Z$8=$C$6,U10,IF(Products!$Z$8=$C$7,V10)))))))","v":"Bitdefender GravityZone Business Security"},"1 year","3 - 14",{"$f":"CONCATENATE(A10,B10,C10)","v":"Bitdefender GravityZone Business Security1 year3 - 14"},null,33.32,{"$f":"IF(Products!$Z$8=$C$1,ROUND(F10*$B$3,2),IF(Products!$Z$8=$C$2,ROUND(F10*$B$3*(1+$D$2),2),IF(Products!$Z$8=$C$3,ROUND(F10*$B$3*(1+$D$3),2),IF(Products!$Z$8=$C$4,ROUND(F10*$B$3*(1+$D$4),2),IF(Products!$Z$8=$C$5,ROUND(F10*$B$3*(1+$D$5),2),IF(Products!$Z$8=$C$6,ROUND(F10*$B$3*(1+$D$6),2),IF(Products!$Z$8=$C$7,ROUND(F10*$B$3*(1+$D$7),2))))))))","v":33.32},{"$f":"IF(Products!$Z$8=$C$1,I10,IF(Products!$Z$8=$C$2,J10,IF(Products!$Z$8=$C$3,K10,IF(Products!$Z$8=$C$4,L10,IF(Products!$Z$8=$C$5,O10,IF(Products!$Z$8=$C$6,M10,IF(Products!$Z$8=$C$7,N10)))))))","v":"AL1286100A-EN"},"AL1286100A-EN","AL1586100A-EN","AL1686100A-EN","AL3286100A-EN","AL3586100A-EN","AL3686100A-EN","AL5286100A-EN",null,"Bitdefender GravityZone Business Security",{"$f":"CONCATENATE(Q10,\" - EDU\")","v":"Bitdefender GravityZone Business Security - EDU"},{"$f":"CONCATENATE(Q10,\" - GOV\")","v":"Bitdefender GravityZone Business Security - GOV"},{"$f":"CONCATENATE(Q10,\" - R\")","v":"Bitdefender GravityZone Business Security - R"},{"$f":"CONCATENATE(Q10,\" - EDU R\")","v":"Bitdefender GravityZone Business Security - EDU R"},{"$f":"CONCATENATE(Q10,\" - GOV R\")","v":"Bitdefender GravityZone Business Security - GOV R"},{"$f":"CONCATENATE(Q10,\" - CUPG\")","v":"Bitdefender GravityZone Business Security - CUPG"}]
[{"$f":"IF(Products!$Z$8=$C$1,Q11,IF(Products!$Z$8=$C$2,R11,IF(Products!$Z$8=$C$3,S11,IF(Products!$Z$8=$C$4,T11,IF(Products!$Z$8=$C$5,W11,IF(Products!$Z$8=$C$6,U11,IF(Products!$Z$8=$C$7,V11)))))))","v":"Bitdefender GravityZone Business Security"},"1 year","15 - 24","Bitdefender GravityZone Business Security1 year15 - 24",null,29.37,{"$f":"IF(Products!$Z$8=$C$1,ROUND(F11*$B$3,2),IF(Products!$Z$8=$C$2,ROUND(F11*$B$3*(1+$D$2),2),IF(Products!$Z$8=$C$3,ROUND(F11*$B$3*(1+$D$3),2),IF(Products!$Z$8=$C$4,ROUND(F11*$B$3*(1+$D$4),2),IF(Products!$Z$8=$C$5,ROUND(F11*$B$3*(1+$D$5),2),IF(Products!$Z$8=$C$6,ROUND(F11*$B$3*(1+$D$6),2),IF(Products!$Z$8=$C$7,ROUND(F11*$B$3*(1+$D$7),2))))))))","v":29.37},{"$f":"IF(Products!$Z$8=$C$1,I11,IF(Products!$Z$8=$C$2,J11,IF(Products!$Z$8=$C$3,K11,IF(Products!$Z$8=$C$4,L11,IF(Products!$Z$8=$C$5,O11,IF(Products!$Z$8=$C$6,M11,IF(Products!$Z$8=$C$7,N11)))))))","v":"AL1286100B-EN"},"AL1286100B-EN","AL1586100B-EN","AL1686100B-EN","AL3286100B-EN","AL3586100B-EN","AL3686100B-EN","AL5286100B-EN",null,"Bitdefender GravityZone Business Security","Bitdefender GravityZone Business Security - EDU","Bitdefender GravityZone Business Security - GOV","Bitdefender GravityZone Business Security - R","Bitdefender GravityZone Business Security - EDU R","Bitdefender GravityZone Business Security - GOV R","Bitdefender GravityZone Business Security - CUPG",null,"STANDARD PRICES "]
[{"$f":"IF(Products!$Z$8=$C$1,Q12,IF(Products!$Z$8=$C$2,R12,IF(Products!$Z$8=$C$3,S12,IF(Products!$Z$8=$C$4,T12,IF(Products!$Z$8=$C$5,W12,IF(Products!$Z$8=$C$6,U12,IF(Products!$Z$8=$C$7,V12)))))))","v":"Bitdefender GravityZone Business Security"},"1 year","25 - 49","Bitdefender GravityZone Business Security1 year25 - 49",null,27.69,{"$f":"IF(Products!$Z$8=$C$1,ROUND(F12*$B$3,2),IF(Products!$Z$8=$C$2,ROUND(F12*$B$3*(1+$D$2),2),IF(Products!$Z$8=$C$3,ROUND(F12*$B$3*(1+$D$3),2),IF(Products!$Z$8=$C$4,ROUND(F12*$B$3*(1+$D$4),2),IF(Products!$Z$8=$C$5,ROUND(F12*$B$3*(1+$D$5),2),IF(Products!$Z$8=$C$6,ROUND(F12*$B$3*(1+$D$6),2),IF(Products!$Z$8=$C$7,ROUND(F12*$B$3*(1+$D$7),2))))))))","v":27.69},{"$f":"IF(Products!$Z$8=$C$1,I12,IF(Products!$Z$8=$C$2,J12,IF(Products!$Z$8=$C$3,K12,IF(Products!$Z$8=$C$4,L12,IF(Products!$Z$8=$C$5,O12,IF(Products!$Z$8=$C$6,M12,IF(Products!$Z$8=$C$7,N12)))))))","v":"AL1286100C-EN"},"AL1286100C-EN","AL1586100C-EN","AL1686100C-EN","AL3286100C-EN","AL3586100C-EN","AL3686100C-EN","AL5286100C-EN",null,"Bitdefender GravityZone Business Security","Bitdefender GravityZone Business Security - EDU","Bitdefender GravityZone Business Security - GOV","Bitdefender GravityZone Business Security - R","Bitdefender GravityZone Business Security - EDU R","Bitdefender GravityZone Business Security - GOV R","Bitdefender GravityZone Business Security - CUPG",null,"NEW Bitdefender",null,null,null,"without VAT",null,"with VAT","VAT"]
[{"$f":"IF(Products!$Z$8=$C$1,Q13,IF(Products!$Z$8=$C$2,R13,IF(Products!$Z$8=$C$3,S13,IF(Products!$Z$8=$C$4,T13,IF(Products!$Z$8=$C$5,W13,IF(Products!$Z$8=$C$6,U13,IF(Products!$Z$8=$C$7,V13)))))))","v":"Bitdefender GravityZone Business Security"},"1 year","50 - 99","Bitdefender GravityZone Business Security1 year50 - 99",null,24.33,{"$f":"IF(Products!$Z$8=$C$1,ROUND(F13*$B$3,2),IF(Products!$Z$8=$C$2,ROUND(F13*$B$3*(1+$D$2),2),IF(Products!$Z$8=$C$3,ROUND(F13*$B$3*(1+$D$3),2),IF(Products!$Z$8=$C$4,ROUND(F13*$B$3*(1+$D$4),2),IF(Products!$Z$8=$C$5,ROUND(F13*$B$3*(1+$D$5),2),IF(Products!$Z$8=$C$6,ROUND(F13*$B$3*(1+$D$6),2),IF(Products!$Z$8=$C$7,ROUND(F13*$B$3*(1+$D$7),2))))))))","v":24.33},{"$f":"IF(Products!$Z$8=$C$1,I13,IF(Products!$Z$8=$C$2,J13,IF(Products!$Z$8=$C$3,K13,IF(Products!$Z$8=$C$4,L13,IF(Products!$Z$8=$C$5,O13,IF(Products!$Z$8=$C$6,M13,IF(Products!$Z$8=$C$7,N13)))))))","v":"AL1286100D-EN"},"AL1286100D-EN","AL1586100D-EN","AL1686100D-EN","AL3286100D-EN","AL3586100D-EN","AL3686100D-EN","AL5286100D-EN",null,"Bitdefender GravityZone Business Security","Bitdefender GravityZone Business Security - EDU","Bitdefender GravityZone Business Security - GOV","Bitdefender GravityZone Business Security - R","Bitdefender GravityZone Business Security - EDU R","Bitdefender GravityZone Business Security - GOV R","Bitdefender GravityZone Business Security - CUPG",null,"Bitdefender Antivirus Plus 2016","1 year","1 PC",{"$f":"CONCATENATE(Y13,Z13,AA13)","v":"Bitdefender Antivirus Plus 20161 year1 PC"},24.55,"UL11011001-EN",29.95,0.22]
[{"$f":"IF(Products!$Z$8=$C$1,Q14,IF(Products!$Z$8=$C$2,R14,IF(Products!$Z$8=$C$3,S14,IF(Products!$Z$8=$C$4,T14,IF(Products!$Z$8=$C$5,W14,IF(Products!$Z$8=$C$6,U14,IF(Products!$Z$8=$C$7,V14)))))))","v":"Bitdefender GravityZone Business Security"},"1 year","100 - 149","Bitdefender GravityZone Business Security1 year100 - 149",null,22.38,{"$f":"IF(Products!$Z$8=$C$1,ROUND(F14*$B$3,2),IF(Products!$Z$8=$C$2,ROUND(F14*$B$3*(1+$D$2),2),IF(Products!$Z$8=$C$3,ROUND(F14*$B$3*(1+$D$3),2),IF(Products!$Z$8=$C$4,ROUND(F14*$B$3*(1+$D$4),2),IF(Products!$Z$8=$C$5,ROUND(F14*$B$3*(1+$D$5),2),IF(Products!$Z$8=$C$6,ROUND(F14*$B$3*(1+$D$6),2),IF(Products!$Z$8=$C$7,ROUND(F14*$B$3*(1+$D$7),2))))))))","v":22.38},{"$f":"IF(Products!$Z$8=$C$1,I14,IF(Products!$Z$8=$C$2,J14,IF(Products!$Z$8=$C$3,K14,IF(Products!$Z$8=$C$4,L14,IF(Products!$Z$8=$C$5,O14,IF(Products!$Z$8=$C$6,M14,IF(Products!$Z$8=$C$7,N14)))))))","v":"AL1286100E-EN"},"AL1286100E-EN","AL1586100E-EN","AL1686100E-EN","AL3286100E-EN","AL3586100E-EN","AL3686100E-EN","AL5286100E-EN",null,"Bitdefender GravityZone Business Security","Bitdefender GravityZone Business Security - EDU","Bitdefender GravityZone Business Security - GOV","Bitdefender GravityZone Business Security - R","Bitdefender GravityZone Business Security - EDU R","Bitdefender GravityZone Business Security - GOV R","Bitdefender GravityZone Business Security - CUPG",null,"Bitdefender Antivirus Plus 2016","1 year","3 PCs",{"$f":"CONCATENATE(Y14,Z14,AA14)","v":"Bitdefender Antivirus Plus 20161 year3 PCs"},32.75,"UL11011003-EN",39.950000000000003]
[{"$f":"IF(Products!$Z$8=$C$1,Q15,IF(Products!$Z$8=$C$2,R15,IF(Products!$Z$8=$C$3,S15,IF(Products!$Z$8=$C$4,T15,IF(Products!$Z$8=$C$5,W15,IF(Products!$Z$8=$C$6,U15,IF(Products!$Z$8=$C$7,V15)))))))","v":"Bitdefender GravityZone Business Security"},"1 year","150 - 249","Bitdefender GravityZone Business Security1 year150 - 249",null,21.49,{"$f":"IF(Products!$Z$8=$C$1,ROUND(F15*$B$3,2),IF(Products!$Z$8=$C$2,ROUND(F15*$B$3*(1+$D$2),2),IF(Products!$Z$8=$C$3,ROUND(F15*$B$3*(1+$D$3),2),IF(Products!$Z$8=$C$4,ROUND(F15*$B$3*(1+$D$4),2),IF(Products!$Z$8=$C$5,ROUND(F15*$B$3*(1+$D$5),2),IF(Products!$Z$8=$C$6,ROUND(F15*$B$3*(1+$D$6),2),IF(Products!$Z$8=$C$7,ROUND(F15*$B$3*(1+$D$7),2))))))))","v":21.49},{"$f":"IF(Products!$Z$8=$C$1,I15,IF(Products!$Z$8=$C$2,J15,IF(Products!$Z$8=$C$3,K15,IF(Products!$Z$8=$C$4,L15,IF(Products!$Z$8=$C$5,O15,IF(Products!$Z$8=$C$6,M15,IF(Products!$Z$8=$C$7,N15)))))))","v":"AL1286100F-EN"},"AL1286100F-EN","AL1586100F-EN","AL1686100F-EN","AL3286100F-EN","AL3586100F-EN","AL3686100F-EN","AL5286100F-EN",null,"Bitdefender GravityZone Business Security","Bitdefender GravityZone Business Security - EDU","Bitdefender GravityZone Business Security - GOV","Bitdefender GravityZone Business Security - R","Bitdefender GravityZone Business Security - EDU R","Bitdefender GravityZone Business Security - GOV R","Bitdefender GravityZone Business Security - CUPG",null,"Bitdefender Antivirus Plus 2016","1 year","5 PCs","Bitdefender Antivirus Plus 20161 year5 PCs",53.24,"UL11011005-EN",64.95]
[{"$f":"IF(Products!$Z$8=$C$1,Q16,IF(Products!$Z$8=$C$2,R16,IF(Products!$Z$8=$C$3,S16,IF(Products!$Z$8=$C$4,T16,IF(Products!$Z$8=$C$5,W16,IF(Products!$Z$8=$C$6,U16,IF(Products!$Z$8=$C$7,V16)))))))","v":"Bitdefender GravityZone Business Security"},"1 year","250 - 499","Bitdefender GravityZone Business Security1 year250 - 499",null,20.41,{"$f":"IF(Products!$Z$8=$C$1,ROUND(F16*$B$3,2),IF(Products!$Z$8=$C$2,ROUND(F16*$B$3*(1+$D$2),2),IF(Products!$Z$8=$C$3,ROUND(F16*$B$3*(1+$D$3),2),IF(Products!$Z$8=$C$4,ROUND(F16*$B$3*(1+$D$4),2),IF(Products!$Z$8=$C$5,ROUND(F16*$B$3*(1+$D$5),2),IF(Products!$Z$8=$C$6,ROUND(F16*$B$3*(1+$D$6),2),IF(Products!$Z$8=$C$7,ROUND(F16*$B$3*(1+$D$7),2))))))))","v":20.41},{"$f":"IF(Products!$Z$8=$C$1,I16,IF(Products!$Z$8=$C$2,J16,IF(Products!$Z$8=$C$3,K16,IF(Products!$Z$8=$C$4,L16,IF(Products!$Z$8=$C$5,O16,IF(Products!$Z$8=$C$6,M16,IF(Products!$Z$8=$C$7,N16)))))))","v":"AL1286100G-EN"},"AL1286100G-EN","AL1586100G-EN","AL1686100G-EN","AL3286100G-EN","AL3586100G-EN","AL3686100G-EN","AL5286100G-EN",null,"Bitdefender GravityZone Business Security","Bitdefender GravityZone Business Security - EDU","Bitdefender GravityZone Business Security - GOV","Bitdefender GravityZone Business Security - R","Bitdefender GravityZone Business Security - EDU R","Bitdefender GravityZone Business Security - GOV R","Bitdefender GravityZone Business Security - CUPG",null,"Bitdefender Antivirus Plus 2016","1 year","10 PCs","Bitdefender Antivirus Plus 20161 year10 PCs",90.12,"UL11011010-EN",109.95]
[{"$f":"IF(Products!$Z$8=$C$1,Q17,IF(Products!$Z$8=$C$2,R17,IF(Products!$Z$8=$C$3,S17,IF(Products!$Z$8=$C$4,T17,IF(Products!$Z$8=$C$5,W17,IF(Products!$Z$8=$C$6,U17,IF(Products!$Z$8=$C$7,V17)))))))","v":"Bitdefender GravityZone Business Security"},"1 year","500 - 999","Bitdefender GravityZone Business Security1 year500 - 999",null,20.11,{"$f":"IF(Products!$Z$8=$C$1,ROUND(F17*$B$3,2),IF(Products!$Z$8=$C$2,ROUND(F17*$B$3*(1+$D$2),2),IF(Products!$Z$8=$C$3,ROUND(F17*$B$3*(1+$D$3),2),IF(Products!$Z$8=$C$4,ROUND(F17*$B$3*(1+$D$4),2),IF(Products!$Z$8=$C$5,ROUND(F17*$B$3*(1+$D$5),2),IF(Products!$Z$8=$C$6,ROUND(F17*$B$3*(1+$D$6),2),IF(Products!$Z$8=$C$7,ROUND(F17*$B$3*(1+$D$7),2))))))))","v":20.11},{"$f":"IF(Products!$Z$8=$C$1,I17,IF(Products!$Z$8=$C$2,J17,IF(Products!$Z$8=$C$3,K17,IF(Products!$Z$8=$C$4,L17,IF(Products!$Z$8=$C$5,O17,IF(Products!$Z$8=$C$6,M17,IF(Products!$Z$8=$C$7,N17)))))))","v":"AL1286100H-EN"},"AL1286100H-EN","AL1586100H-EN","AL1686100H-EN","AL3286100H-EN","AL3586100H-EN","AL3686100H-EN","AL5286100H-EN",null,"Bitdefender GravityZone Business Security","Bitdefender GravityZone Business Security - EDU","Bitdefender GravityZone Business Security - GOV","Bitdefender GravityZone Business Security - R","Bitdefender GravityZone Business Security - EDU R","Bitdefender GravityZone Business Security - GOV R","Bitdefender GravityZone Business Security - CUPG",null,"Bitdefender Antivirus Plus 2016","2 years","1 PC","Bitdefender Antivirus Plus 20162 years1 PC",40.94,"UL11012001-EN",49.95]
[{"$f":"IF(Products!$Z$8=$C$1,Q18,IF(Products!$Z$8=$C$2,R18,IF(Products!$Z$8=$C$3,S18,IF(Products!$Z$8=$C$4,T18,IF(Products!$Z$8=$C$5,W18,IF(Products!$Z$8=$C$6,U18,IF(Products!$Z$8=$C$7,V18)))))))","v":"Bitdefender GravityZone Business Security"},"1 year","1000 - 2999","Bitdefender GravityZone Business Security1 year1000 - 2999",null,19.809999999999999,{"$f":"IF(Products!$Z$8=$C$1,ROUND(F18*$B$3,2),IF(Products!$Z$8=$C$2,ROUND(F18*$B$3*(1+$D$2),2),IF(Products!$Z$8=$C$3,ROUND(F18*$B$3*(1+$D$3),2),IF(Products!$Z$8=$C$4,ROUND(F18*$B$3*(1+$D$4),2),IF(Products!$Z$8=$C$5,ROUND(F18*$B$3*(1+$D$5),2),IF(Products!$Z$8=$C$6,ROUND(F18*$B$3*(1+$D$6),2),IF(Products!$Z$8=$C$7,ROUND(F18*$B$3*(1+$D$7),2))))))))","v":19.809999999999999},{"$f":"IF(Products!$Z$8=$C$1,I18,IF(Products!$Z$8=$C$2,J18,IF(Products!$Z$8=$C$3,K18,IF(Products!$Z$8=$C$4,L18,IF(Products!$Z$8=$C$5,O18,IF(Products!$Z$8=$C$6,M18,IF(Products!$Z$8=$C$7,N18)))))))","v":"AL1286100I-EN"},"AL1286100I-EN","AL1586100I-EN","AL1686100I-EN","AL3286100I-EN","AL3586100I-EN","AL3686100I-EN","AL5286100I-EN",null,"Bitdefender GravityZone Business Security","Bitdefender GravityZone Business Security - EDU","Bitdefender GravityZone Business Security - GOV","Bitdefender GravityZone Business Security - R","Bitdefender GravityZone Business Security - EDU R","Bitdefender GravityZone Business Security - GOV R","Bitdefender GravityZone Business Security - CUPG",null,"Bitdefender Antivirus Plus 2016","2 years","3 PCs","Bitdefender Antivirus Plus 20162 years3 PCs",57.34,"UL11012003-EN",69.95]
[{"$f":"IF(Products!$Z$8=$C$1,Q19,IF(Products!$Z$8=$C$2,R19,IF(Products!$Z$8=$C$3,S19,IF(Products!$Z$8=$C$4,T19,IF(Products!$Z$8=$C$5,W19,IF(Products!$Z$8=$C$6,U19,IF(Products!$Z$8=$C$7,V19)))))))","v":"Bitdefender GravityZone Business Security"},"1 year","3000+","Bitdefender GravityZone Business Security1 year3000+",null,19.510000000000002,{"$f":"IF(Products!$Z$8=$C$1,ROUND(F19*$B$3,2),IF(Products!$Z$8=$C$2,ROUND(F19*$B$3*(1+$D$2),2),IF(Products!$Z$8=$C$3,ROUND(F19*$B$3*(1+$D$3),2),IF(Products!$Z$8=$C$4,ROUND(F19*$B$3*(1+$D$4),2),IF(Products!$Z$8=$C$5,ROUND(F19*$B$3*(1+$D$5),2),IF(Products!$Z$8=$C$6,ROUND(F19*$B$3*(1+$D$6),2),IF(Products!$Z$8=$C$7,ROUND(F19*$B$3*(1+$D$7),2))))))))","v":19.510000000000002},{"$f":"IF(Products!$Z$8=$C$1,I19,IF(Products!$Z$8=$C$2,J19,IF(Products!$Z$8=$C$3,K19,IF(Products!$Z$8=$C$4,L19,IF(Products!$Z$8=$C$5,O19,IF(Products!$Z$8=$C$6,M19,IF(Products!$Z$8=$C$7,N19)))))))","v":"AL1286100J-EN"},"AL1286100J-EN","AL1586100J-EN","AL1686100J-EN","AL3286100J-EN","AL3586100J-EN","AL3686100J-EN","AL5286100J-EN",null,"Bitdefender GravityZone Business Security","Bitdefender GravityZone Business Security - EDU","Bitdefender GravityZone Business Security - GOV","Bitdefender GravityZone Business Security - R","Bitdefender GravityZone Business Security - EDU R","Bitdefender GravityZone Business Security - GOV R","Bitdefender GravityZone Business Security - CUPG",null,"Bitdefender Antivirus Plus 2016","2 years","5 PCs","Bitdefender Antivirus Plus 20162 years5 PCs",81.93,"UL11012005-EN",99.95]
[{"$f":"IF(Products!$Z$8=$C$1,Q20,IF(Products!$Z$8=$C$2,R20,IF(Products!$Z$8=$C$3,S20,IF(Products!$Z$8=$C$4,T20,IF(Products!$Z$8=$C$5,W20,IF(Products!$Z$8=$C$6,U20,IF(Products!$Z$8=$C$7,V20)))))))","v":"Bitdefender GravityZone Business Security"},"2 years","3 - 14","Bitdefender GravityZone Business Security2 years3 - 14",null,53.31,{"$f":"IF(Products!$Z$8=$C$1,ROUND(F20*$B$3,2),IF(Products!$Z$8=$C$2,ROUND(F20*$B$3*(1+$D$2),2),IF(Products!$Z$8=$C$3,ROUND(F20*$B$3*(1+$D$3),2),IF(Products!$Z$8=$C$4,ROUND(F20*$B$3*(1+$D$4),2),IF(Products!$Z$8=$C$5,ROUND(F20*$B$3*(1+$D$5),2),IF(Products!$Z$8=$C$6,ROUND(F20*$B$3*(1+$D$6),2),IF(Products!$Z$8=$C$7,ROUND(F20*$B$3*(1+$D$7),2))))))))","v":53.31},{"$f":"IF(Products!$Z$8=$C$1,I20,IF(Products!$Z$8=$C$2,J20,IF(Products!$Z$8=$C$3,K20,IF(Products!$Z$8=$C$4,L20,IF(Products!$Z$8=$C$5,O20,IF(Products!$Z$8=$C$6,M20,IF(Products!$Z$8=$C$7,N20)))))))","v":"AL1286200A-EN"},"AL1286200A-EN","AL1586200A-EN","AL1686200A-EN","AL3286200A-EN","AL3586200A-EN","AL3686200A-EN","AL5286200A-EN",null,"Bitdefender GravityZone Business Security","Bitdefender GravityZone Business Security - EDU","Bitdefender GravityZone Business Security - GOV","Bitdefender GravityZone Business Security - R","Bitdefender GravityZone Business Security - EDU R","Bitdefender GravityZone Business Security - GOV R","Bitdefender GravityZone Business Security - CUPG",null,"Bitdefender Antivirus Plus 2016","2 years","10 PCs","Bitdefender Antivirus Plus 20162 years10 PCs",139.30000000000001,"UL11012010-EN",169.95]
[{"$f":"IF(Products!$Z$8=$C$1,Q21,IF(Products!$Z$8=$C$2,R21,IF(Products!$Z$8=$C$3,S21,IF(Products!$Z$8=$C$4,T21,IF(Products!$Z$8=$C$5,W21,IF(Products!$Z$8=$C$6,U21,IF(Products!$Z$8=$C$7,V21)))))))","v":"Bitdefender GravityZone Business Security"},"2 years","15 - 24","Bitdefender GravityZone Business Security2 years15 - 24",null,46.99,{"$f":"IF(Products!$Z$8=$C$1,ROUND(F21*$B$3,2),IF(Products!$Z$8=$C$2,ROUND(F21*$B$3*(1+$D$2),2),IF(Products!$Z$8=$C$3,ROUND(F21*$B$3*(1+$D$3),2),IF(Products!$Z$8=$C$4,ROUND(F21*$B$3*(1+$D$4),2),IF(Products!$Z$8=$C$5,ROUND(F21*$B$3*(1+$D$5),2),IF(Products!$Z$8=$C$6,ROUND(F21*$B$3*(1+$D$6),2),IF(Products!$Z$8=$C$7,ROUND(F21*$B$3*(1+$D$7),2))))))))","v":46.99},{"$f":"IF(Products!$Z$8=$C$1,I21,IF(Products!$Z$8=$C$2,J21,IF(Products!$Z$8=$C$3,K21,IF(Products!$Z$8=$C$4,L21,IF(Products!$Z$8=$C$5,O21,IF(Products!$Z$8=$C$6,M21,IF(Products!$Z$8=$C$7,N21)))))))","v":"AL1286200B-EN"},"AL1286200B-EN","AL1586200B-EN","AL1686200B-EN","AL3286200B-EN","AL3586200B-EN","AL3686200B-EN","AL5286200B-EN",null,"Bitdefender GravityZone Business Security","Bitdefender GravityZone Business Security - EDU","Bitdefender GravityZone Business Security - GOV","Bitdefender GravityZone Business Security - R","Bitdefender GravityZone Business Security - EDU R","Bitdefender GravityZone Business Security - GOV R","Bitdefender GravityZone Business Security - CUPG",null,"Bitdefender Antivirus Plus 2016","3 years","1 PC","Bitdefender Antivirus Plus 20163 years1 PC",57.34,"UL11013001-EN",69.95]
[{"$f":"IF(Products!$Z$8=$C$1,Q22,IF(Products!$Z$8=$C$2,R22,IF(Products!$Z$8=$C$3,S22,IF(Products!$Z$8=$C$4,T22,IF(Products!$Z$8=$C$5,W22,IF(Products!$Z$8=$C$6,U22,IF(Products!$Z$8=$C$7,V22)))))))","v":"Bitdefender GravityZone Business Security"},"2 years","25 - 49","Bitdefender GravityZone Business Security2 years25 - 49",null,44.3,{"$f":"IF(Products!$Z$8=$C$1,ROUND(F22*$B$3,2),IF(Products!$Z$8=$C$2,ROUND(F22*$B$3*(1+$D$2),2),IF(Products!$Z$8=$C$3,ROUND(F22*$B$3*(1+$D$3),2),IF(Products!$Z$8=$C$4,ROUND(F22*$B$3*(1+$D$4),2),IF(Products!$Z$8=$C$5,ROUND(F22*$B$3*(1+$D$5),2),IF(Products!$Z$8=$C$6,ROUND(F22*$B$3*(1+$D$6),2),IF(Products!$Z$8=$C$7,ROUND(F22*$B$3*(1+$D$7),2))))))))","v":44.3},{"$f":"IF(Products!$Z$8=$C$1,I22,IF(Products!$Z$8=$C$2,J22,IF(Products!$Z$8=$C$3,K22,IF(Products!$Z$8=$C$4,L22,IF(Products!$Z$8=$C$5,O22,IF(Products!$Z$8=$C$6,M22,IF(Products!$Z$8=$C$7,N22)))))))","v":"AL1286200C-EN"},"AL1286200C-EN","AL1586200C-EN","AL1686200C-EN","AL3286200C-EN","AL3586200C-EN","AL3686200C-EN","AL5286200C-EN",null,"Bitdefender GravityZone Business Security","Bitdefender GravityZone Business Security - EDU","Bitdefender GravityZone Business Security - GOV","Bitdefender GravityZone Business Security - R","Bitdefender GravityZone Business Security - EDU R","Bitdefender GravityZone Business Security - GOV R","Bitdefender GravityZone Business Security - CUPG",null,"Bitdefender Antivirus Plus 2016","3 years","3 PCs","Bitdefender Antivirus Plus 20163 years3 PCs",73.73,"UL11013003-EN",89.95]
[{"$f":"IF(Products!$Z$8=$C$1,Q23,IF(Products!$Z$8=$C$2,R23,IF(Products!$Z$8=$C$3,S23,IF(Products!$Z$8=$C$4,T23,IF(Products!$Z$8=$C$5,W23,IF(Products!$Z$8=$C$6,U23,IF(Products!$Z$8=$C$7,V23)))))))","v":"Bitdefender GravityZone Business Security"},"2 years","50 - 99","Bitdefender GravityZone Business Security2 years50 - 99",null,38.93,{"$f":"IF(Products!$Z$8=$C$1,ROUND(F23*$B$3,2),IF(Products!$Z$8=$C$2,ROUND(F23*$B$3*(1+$D$2),2),IF(Products!$Z$8=$C$3,ROUND(F23*$B$3*(1+$D$3),2),IF(Products!$Z$8=$C$4,ROUND(F23*$B$3*(1+$D$4),2),IF(Products!$Z$8=$C$5,ROUND(F23*$B$3*(1+$D$5),2),IF(Products!$Z$8=$C$6,ROUND(F23*$B$3*(1+$D$6),2),IF(Products!$Z$8=$C$7,ROUND(F23*$B$3*(1+$D$7),2))))))))","v":38.93},{"$f":"IF(Products!$Z$8=$C$1,I23,IF(Products!$Z$8=$C$2,J23,IF(Products!$Z$8=$C$3,K23,IF(Products!$Z$8=$C$4,L23,IF(Products!$Z$8=$C$5,O23,IF(Products!$Z$8=$C$6,M23,IF(Products!$Z$8=$C$7,N23)))))))","v":"AL1286200D-EN"},"AL1286200D-EN","AL1586200D-EN","AL1686200D-EN","AL3286200D-EN","AL3586200D-EN","AL3686200D-EN","AL5286200D-EN",null,"Bitdefender GravityZone Business Security","Bitdefender GravityZone Business Security - EDU","Bitdefender GravityZone Business Security - GOV","Bitdefender GravityZone Business Security - R","Bitdefender GravityZone Business Security - EDU R","Bitdefender GravityZone Business Security - GOV R","Bitdefender GravityZone Business Security - CUPG",null,"Bitdefender Antivirus Plus 2016","3 years","5 PCs","Bitdefender Antivirus Plus 20163 years5 PCs",106.52,"UL11013005-EN",129.94999999999999]
[{"$f":"IF(Products!$Z$8=$C$1,Q24,IF(Products!$Z$8=$C$2,R24,IF(Products!$Z$8=$C$3,S24,IF(Products!$Z$8=$C$4,T24,IF(Products!$Z$8=$C$5,W24,IF(Products!$Z$8=$C$6,U24,IF(Products!$Z$8=$C$7,V24)))))))","v":"Bitdefender GravityZone Business Security"},"2 years","100 - 149","Bitdefender GravityZone Business Security2 years100 - 149",null,35.81,{"$f":"IF(Products!$Z$8=$C$1,ROUND(F24*$B$3,2),IF(Products!$Z$8=$C$2,ROUND(F24*$B$3*(1+$D$2),2),IF(Products!$Z$8=$C$3,ROUND(F24*$B$3*(1+$D$3),2),IF(Products!$Z$8=$C$4,ROUND(F24*$B$3*(1+$D$4),2),IF(Products!$Z$8=$C$5,ROUND(F24*$B$3*(1+$D$5),2),IF(Products!$Z$8=$C$6,ROUND(F24*$B$3*(1+$D$6),2),IF(Products!$Z$8=$C$7,ROUND(F24*$B$3*(1+$D$7),2))))))))","v":35.81},{"$f":"IF(Products!$Z$8=$C$1,I24,IF(Products!$Z$8=$C$2,J24,IF(Products!$Z$8=$C$3,K24,IF(Products!$Z$8=$C$4,L24,IF(Products!$Z$8=$C$5,O24,IF(Products!$Z$8=$C$6,M24,IF(Products!$Z$8=$C$7,N24)))))))","v":"AL1286200E-EN"},"AL1286200E-EN","AL1586200E-EN","AL1686200E-EN","AL3286200E-EN","AL3586200E-EN","AL3686200E-EN","AL5286200E-EN",null,"Bitdefender GravityZone Business Security","Bitdefender GravityZone Business Security - EDU","Bitdefender GravityZone Business Security - GOV","Bitdefender GravityZone Business Security - R","Bitdefender GravityZone Business Security - EDU R","Bitdefender GravityZone Business Security - GOV R","Bitdefender GravityZone Business Security - CUPG",null,"Bitdefender Antivirus Plus 2016","3 years","10 PCs","Bitdefender Antivirus Plus 20163 years10 PCs",196.68,"UL11013010-EN",239.95]
[{"$f":"IF(Products!$Z$8=$C$1,Q25,IF(Products!$Z$8=$C$2,R25,IF(Products!$Z$8=$C$3,S25,IF(Products!$Z$8=$C$4,T25,IF(Products!$Z$8=$C$5,W25,IF(Products!$Z$8=$C$6,U25,IF(Products!$Z$8=$C$7,V25)))))))","v":"Bitdefender GravityZone Business Security"},"2 years","150 - 249","Bitdefender GravityZone Business Security2 years150 - 249",null,34.380000000000003,{"$f":"IF(Products!$Z$8=$C$1,ROUND(F25*$B$3,2),IF(Products!$Z$8=$C$2,ROUND(F25*$B$3*(1+$D$2),2),IF(Products!$Z$8=$C$3,ROUND(F25*$B$3*(1+$D$3),2),IF(Products!$Z$8=$C$4,ROUND(F25*$B$3*(1+$D$4),2),IF(Products!$Z$8=$C$5,ROUND(F25*$B$3*(1+$D$5),2),IF(Products!$Z$8=$C$6,ROUND(F25*$B$3*(1+$D$6),2),IF(Products!$Z$8=$C$7,ROUND(F25*$B$3*(1+$D$7),2))))))))","v":34.380000000000003},{"$f":"IF(Products!$Z$8=$C$1,I25,IF(Products!$Z$8=$C$2,J25,IF(Products!$Z$8=$C$3,K25,IF(Products!$Z$8=$C$4,L25,IF(Products!$Z$8=$C$5,O25,IF(Products!$Z$8=$C$6,M25,IF(Products!$Z$8=$C$7,N25)))))))","v":"AL1286200F-EN"},"AL1286200F-EN","AL1586200F-EN","AL1686200F-EN","AL3286200F-EN","AL3586200F-EN","AL3686200F-EN","AL5286200F-EN",null,"Bitdefender GravityZone Business Security","Bitdefender GravityZone Business Security - EDU","Bitdefender GravityZone Business Security - GOV","Bitdefender GravityZone Business Security - R","Bitdefender GravityZone Business Security - EDU R","Bitdefender GravityZone Business Security - GOV R","Bitdefender GravityZone Business Security - CUPG",null,"Bitdefender Internet Security 2016","1 year","1 PC","Bitdefender Internet Security 20161 year1 PC",40.94,"UL11031001-EN",49.95]
[{"$f":"IF(Products!$Z$8=$C$1,Q26,IF(Products!$Z$8=$C$2,R26,IF(Products!$Z$8=$C$3,S26,IF(Products!$Z$8=$C$4,T26,IF(Products!$Z$8=$C$5,W26,IF(Products!$Z$8=$C$6,U26,IF(Products!$Z$8=$C$7,V26)))))))","v":"Bitdefender GravityZone Business Security"},"2 years","250 - 499","Bitdefender GravityZone Business Security2 years250 - 499",null,32.659999999999997,{"$f":"IF(Products!$Z$8=$C$1,ROUND(F26*$B$3,2),IF(Products!$Z$8=$C$2,ROUND(F26*$B$3*(1+$D$2),2),IF(Products!$Z$8=$C$3,ROUND(F26*$B$3*(1+$D$3),2),IF(Products!$Z$8=$C$4,ROUND(F26*$B$3*(1+$D$4),2),IF(Products!$Z$8=$C$5,ROUND(F26*$B$3*(1+$D$5),2),IF(Products!$Z$8=$C$6,ROUND(F26*$B$3*(1+$D$6),2),IF(Products!$Z$8=$C$7,ROUND(F26*$B$3*(1+$D$7),2))))))))","v":32.659999999999997},{"$f":"IF(Products!$Z$8=$C$1,I26,IF(Products!$Z$8=$C$2,J26,IF(Products!$Z$8=$C$3,K26,IF(Products!$Z$8=$C$4,L26,IF(Products!$Z$8=$C$5,O26,IF(Products!$Z$8=$C$6,M26,IF(Products!$Z$8=$C$7,N26)))))))","v":"AL1286200G-EN"},"AL1286200G-EN","AL1586200G-EN","AL1686200G-EN","AL3286200G-EN","AL3586200G-EN","AL3686200G-EN","AL5286200G-EN",null,"Bitdefender GravityZone Business Security","Bitdefender GravityZone Business Security - EDU","Bitdefender GravityZone Business Security - GOV","Bitdefender GravityZone Business Security - R","Bitdefender GravityZone Business Security - EDU R","Bitdefender GravityZone Business Security - GOV R","Bitdefender GravityZone Business Security - CUPG",null,"Bitdefender Internet Security 2016","1 year","3 PCs","Bitdefender Internet Security 20161 year3 PCs",49.14,"UL11031003-EN",59.95]
[{"$f":"IF(Products!$Z$8=$C$1,Q27,IF(Products!$Z$8=$C$2,R27,IF(Products!$Z$8=$C$3,S27,IF(Products!$Z$8=$C$4,T27,IF(Products!$Z$8=$C$5,W27,IF(Products!$Z$8=$C$6,U27,IF(Products!$Z$8=$C$7,V27)))))))","v":"Bitdefender GravityZone Business Security"},"2 years","500 - 999","Bitdefender GravityZone Business Security2 years500 - 999",null,32.18,{"$f":"IF(Products!$Z$8=$C$1,ROUND(F27*$B$3,2),IF(Products!$Z$8=$C$2,ROUND(F27*$B$3*(1+$D$2),2),IF(Products!$Z$8=$C$3,ROUND(F27*$B$3*(1+$D$3),2),IF(Products!$Z$8=$C$4,ROUND(F27*$B$3*(1+$D$4),2),IF(Products!$Z$8=$C$5,ROUND(F27*$B$3*(1+$D$5),2),IF(Products!$Z$8=$C$6,ROUND(F27*$B$3*(1+$D$6),2),IF(Products!$Z$8=$C$7,ROUND(F27*$B$3*(1+$D$7),2))))))))","v":32.18},{"$f":"IF(Products!$Z$8=$C$1,I27,IF(Products!$Z$8=$C$2,J27,IF(Products!$Z$8=$C$3,K27,IF(Products!$Z$8=$C$4,L27,IF(Products!$Z$8=$C$5,O27,IF(Products!$Z$8=$C$6,M27,IF(Products!$Z$8=$C$7,N27)))))))","v":"AL1286200H-EN"},"AL1286200H-EN","AL1586200H-EN","AL1686200H-EN","AL3286200H-EN","AL3586200H-EN","AL3686200H-EN","AL5286200H-EN",null,"Bitdefender GravityZone Business Security","Bitdefender GravityZone Business Security - EDU","Bitdefender GravityZone Business Security - GOV","Bitdefender GravityZone Business Security - R","Bitdefender GravityZone Business Security - EDU R","Bitdefender GravityZone Business Security - GOV R","Bitdefender GravityZone Business Security - CUPG",null,"Bitdefender Internet Security 2016","1 year","5 PCs","Bitdefender Internet Security 20161 year5 PCs",77.83,"UL11031005-EN",94.95]
[{"$f":"IF(Products!$Z$8=$C$1,Q28,IF(Products!$Z$8=$C$2,R28,IF(Products!$Z$8=$C$3,S28,IF(Products!$Z$8=$C$4,T28,IF(Products!$Z$8=$C$5,W28,IF(Products!$Z$8=$C$6,U28,IF(Products!$Z$8=$C$7,V28)))))))","v":"Bitdefender GravityZone Business Security"},"2 years","1000 - 2999","Bitdefender GravityZone Business Security2 years1000 - 2999",null,31.7,{"$f":"IF(Products!$Z$8=$C$1,ROUND(F28*$B$3,2),IF(Products!$Z$8=$C$2,ROUND(F28*$B$3*(1+$D$2),2),IF(Products!$Z$8=$C$3,ROUND(F28*$B$3*(1+$D$3),2),IF(Products!$Z$8=$C$4,ROUND(F28*$B$3*(1+$D$4),2),IF(Products!$Z$8=$C$5,ROUND(F28*$B$3*(1+$D$5),2),IF(Products!$Z$8=$C$6,ROUND(F28*$B$3*(1+$D$6),2),IF(Products!$Z$8=$C$7,ROUND(F28*$B$3*(1+$D$7),2))))))))","v":31.7},{"$f":"IF(Products!$Z$8=$C$1,I28,IF(Products!$Z$8=$C$2,J28,IF(Products!$Z$8=$C$3,K28,IF(Products!$Z$8=$C$4,L28,IF(Products!$Z$8=$C$5,O28,IF(Products!$Z$8=$C$6,M28,IF(Products!$Z$8=$C$7,N28)))))))","v":"AL1286200I-EN"},"AL1286200I-EN","AL1586200I-EN","AL1686200I-EN","AL3286200I-EN","AL3586200I-EN","AL3686200I-EN","AL5286200I-EN",null,"Bitdefender GravityZone Business Security","Bitdefender GravityZone Business Security - EDU","Bitdefender GravityZone Business Security - GOV","Bitdefender GravityZone Business Security - R","Bitdefender GravityZone Business Security - EDU R","Bitdefender GravityZone Business Security - GOV R","Bitdefender GravityZone Business Security - CUPG",null,"Bitdefender Internet Security 2016","1 year","10 PCs","Bitdefender Internet Security 20161 year10 PCs",147.5,"UL11031010-EN",179.95]
[{"$f":"IF(Products!$Z$8=$C$1,Q29,IF(Products!$Z$8=$C$2,R29,IF(Products!$Z$8=$C$3,S29,IF(Products!$Z$8=$C$4,T29,IF(Products!$Z$8=$C$5,W29,IF(Products!$Z$8=$C$6,U29,IF(Products!$Z$8=$C$7,V29)))))))","v":"Bitdefender GravityZone Business Security"},"2 years","3000+","Bitdefender GravityZone Business Security2 years3000+",null,31.22,{"$f":"IF(Products!$Z$8=$C$1,ROUND(F29*$B$3,2),IF(Products!$Z$8=$C$2,ROUND(F29*$B$3*(1+$D$2),2),IF(Products!$Z$8=$C$3,ROUND(F29*$B$3*(1+$D$3),2),IF(Products!$Z$8=$C$4,ROUND(F29*$B$3*(1+$D$4),2),IF(Products!$Z$8=$C$5,ROUND(F29*$B$3*(1+$D$5),2),IF(Products!$Z$8=$C$6,ROUND(F29*$B$3*(1+$D$6),2),IF(Products!$Z$8=$C$7,ROUND(F29*$B$3*(1+$D$7),2))))))))","v":31.22},{"$f":"IF(Products!$Z$8=$C$1,I29,IF(Products!$Z$8=$C$2,J29,IF(Products!$Z$8=$C$3,K29,IF(Products!$Z$8=$C$4,L29,IF(Products!$Z$8=$C$5,O29,IF(Products!$Z$8=$C$6,M29,IF(Products!$Z$8=$C$7,N29)))))))","v":"AL1286200J-EN"},"AL1286200J-EN","AL1586200J-EN","AL1686200J-EN","AL3286200J-EN","AL3586200J-EN","AL3686200J-EN","AL5286200J-EN",null,"Bitdefender GravityZone Business Security","Bitdefender GravityZone Business Security - EDU","Bitdefender GravityZone Business Security - GOV","Bitdefender GravityZone Business Security - R","Bitdefender GravityZone Business Security - EDU R","Bitdefender GravityZone Business Security - GOV R","Bitdefender GravityZone Business Security - CUPG",null,"Bitdefender Internet Security 2016","2 years","1 PC","Bitdefender Internet Security 20162 years1 PC",65.53,"UL11032001-EN",79.95]
[{"$f":"IF(Products!$Z$8=$C$1,Q30,IF(Products!$Z$8=$C$2,R30,IF(Products!$Z$8=$C$3,S30,IF(Products!$Z$8=$C$4,T30,IF(Products!$Z$8=$C$5,W30,IF(Products!$Z$8=$C$6,U30,IF(Products!$Z$8=$C$7,V30)))))))","v":"Bitdefender GravityZone Business Security"},"3 years","3 - 14","Bitdefender GravityZone Business Security3 years3 - 14",null,68.254750000000001,{"$f":"IF(Products!$Z$8=$C$1,ROUND(F30*$B$3,2),IF(Products!$Z$8=$C$2,ROUND(F30*$B$3*(1+$D$2),2),IF(Products!$Z$8=$C$3,ROUND(F30*$B$3*(1+$D$3),2),IF(Products!$Z$8=$C$4,ROUND(F30*$B$3*(1+$D$4),2),IF(Products!$Z$8=$C$5,ROUND(F30*$B$3*(1+$D$5),2),IF(Products!$Z$8=$C$6,ROUND(F30*$B$3*(1+$D$6),2),IF(Products!$Z$8=$C$7,ROUND(F30*$B$3*(1+$D$7),2))))))))","v":68.25},{"$f":"IF(Products!$Z$8=$C$1,I30,IF(Products!$Z$8=$C$2,J30,IF(Products!$Z$8=$C$3,K30,IF(Products!$Z$8=$C$4,L30,IF(Products!$Z$8=$C$5,O30,IF(Products!$Z$8=$C$6,M30,IF(Products!$Z$8=$C$7,N30)))))))","v":"AL1286300A-EN"},"AL1286300A-EN","AL1586300A-EN","AL1686300A-EN","AL3286300A-EN","AL3586300A-EN","AL3686300A-EN","AL5286300A-EN",null,"Bitdefender GravityZone Business Security","Bitdefender GravityZone Business Security - EDU","Bitdefender GravityZone Business Security - GOV","Bitdefender GravityZone Business Security - R","Bitdefender GravityZone Business Security - EDU R","Bitdefender GravityZone Business Security - GOV R","Bitdefender GravityZone Business Security - CUPG",null,"Bitdefender Internet Security 2016","2 years","3 PCs","Bitdefender Internet Security 20162 years3 PCs",81.93,"UL11032003-EN",99.95]
[{"$f":"IF(Products!$Z$8=$C$1,Q31,IF(Products!$Z$8=$C$2,R31,IF(Products!$Z$8=$C$3,S31,IF(Products!$Z$8=$C$4,T31,IF(Products!$Z$8=$C$5,W31,IF(Products!$Z$8=$C$6,U31,IF(Products!$Z$8=$C$7,V31)))))))","v":"Bitdefender GravityZone Business Security"},"3 years","15 - 24","Bitdefender GravityZone Business Security3 years15 - 24",null,60.208499999999994,{"$f":"IF(Products!$Z$8=$C$1,ROUND(F31*$B$3,2),IF(Products!$Z$8=$C$2,ROUND(F31*$B$3*(1+$D$2),2),IF(Products!$Z$8=$C$3,ROUND(F31*$B$3*(1+$D$3),2),IF(Products!$Z$8=$C$4,ROUND(F31*$B$3*(1+$D$4),2),IF(Products!$Z$8=$C$5,ROUND(F31*$B$3*(1+$D$5),2),IF(Products!$Z$8=$C$6,ROUND(F31*$B$3*(1+$D$6),2),IF(Products!$Z$8=$C$7,ROUND(F31*$B$3*(1+$D$7),2))))))))","v":60.21},{"$f":"IF(Products!$Z$8=$C$1,I31,IF(Products!$Z$8=$C$2,J31,IF(Products!$Z$8=$C$3,K31,IF(Products!$Z$8=$C$4,L31,IF(Products!$Z$8=$C$5,O31,IF(Products!$Z$8=$C$6,M31,IF(Products!$Z$8=$C$7,N31)))))))","v":"AL1286300B-EN"},"AL1286300B-EN","AL1586300B-EN","AL1686300B-EN","AL3286300B-EN","AL3586300B-EN","AL3686300B-EN","AL5286300B-EN",null,"Bitdefender GravityZone Business Security","Bitdefender GravityZone Business Security - EDU","Bitdefender GravityZone Business Security - GOV","Bitdefender GravityZone Business Security - R","Bitdefender GravityZone Business Security - EDU R","Bitdefender GravityZone Business Security - GOV R","Bitdefender GravityZone Business Security - CUPG",null,"Bitdefender Internet Security 2016","2 years","5 PCs","Bitdefender Internet Security 20162 years5 PCs",139.30000000000001,"UL11032005-EN",169.95]
[{"$f":"IF(Products!$Z$8=$C$1,Q32,IF(Products!$Z$8=$C$2,R32,IF(Products!$Z$8=$C$3,S32,IF(Products!$Z$8=$C$4,T32,IF(Products!$Z$8=$C$5,W32,IF(Products!$Z$8=$C$6,U32,IF(Products!$Z$8=$C$7,V32)))))))","v":"Bitdefender GravityZone Business Security"},"3 years","25 - 49","Bitdefender GravityZone Business Security3 years25 - 49",null,56.764499999999998,{"$f":"IF(Products!$Z$8=$C$1,ROUND(F32*$B$3,2),IF(Products!$Z$8=$C$2,ROUND(F32*$B$3*(1+$D$2),2),IF(Products!$Z$8=$C$3,ROUND(F32*$B$3*(1+$D$3),2),IF(Products!$Z$8=$C$4,ROUND(F32*$B$3*(1+$D$4),2),IF(Products!$Z$8=$C$5,ROUND(F32*$B$3*(1+$D$5),2),IF(Products!$Z$8=$C$6,ROUND(F32*$B$3*(1+$D$6),2),IF(Products!$Z$8=$C$7,ROUND(F32*$B$3*(1+$D$7),2))))))))","v":56.76},{"$f":"IF(Products!$Z$8=$C$1,I32,IF(Products!$Z$8=$C$2,J32,IF(Products!$Z$8=$C$3,K32,IF(Products!$Z$8=$C$4,L32,IF(Products!$Z$8=$C$5,O32,IF(Products!$Z$8=$C$6,M32,IF(Products!$Z$8=$C$7,N32)))))))","v":"AL1286300C-EN"},"AL1286300C-EN","AL1586300C-EN","AL1686300C-EN","AL3286300C-EN","AL3586300C-EN","AL3686300C-EN","AL5286300C-EN",null,"Bitdefender GravityZone Business Security","Bitdefender GravityZone Business Security - EDU","Bitdefender GravityZone Business Security - GOV","Bitdefender GravityZone Business Security - R","Bitdefender GravityZone Business Security - EDU R","Bitdefender GravityZone Business Security - GOV R","Bitdefender GravityZone Business Security - CUPG",null,"Bitdefender Internet Security 2016","2 years","10 PCs","Bitdefender Internet Security 20162 years10 PCs",245.86,"UL11032010-EN",299.95]
[{"$f":"IF(Products!$Z$8=$C$1,Q33,IF(Products!$Z$8=$C$2,R33,IF(Products!$Z$8=$C$3,S33,IF(Products!$Z$8=$C$4,T33,IF(Products!$Z$8=$C$5,W33,IF(Products!$Z$8=$C$6,U33,IF(Products!$Z$8=$C$7,V33)))))))","v":"Bitdefender GravityZone Business Security"},"3 years","50 - 99","Bitdefender GravityZone Business Security3 years50 - 99",null,49.876499999999993,{"$f":"IF(Products!$Z$8=$C$1,ROUND(F33*$B$3,2),IF(Products!$Z$8=$C$2,ROUND(F33*$B$3*(1+$D$2),2),IF(Products!$Z$8=$C$3,ROUND(F33*$B$3*(1+$D$3),2),IF(Products!$Z$8=$C$4,ROUND(F33*$B$3*(1+$D$4),2),IF(Products!$Z$8=$C$5,ROUND(F33*$B$3*(1+$D$5),2),IF(Products!$Z$8=$C$6,ROUND(F33*$B$3*(1+$D$6),2),IF(Products!$Z$8=$C$7,ROUND(F33*$B$3*(1+$D$7),2))))))))","v":49.88},{"$f":"IF(Products!$Z$8=$C$1,I33,IF(Products!$Z$8=$C$2,J33,IF(Products!$Z$8=$C$3,K33,IF(Products!$Z$8=$C$4,L33,IF(Products!$Z$8=$C$5,O33,IF(Products!$Z$8=$C$6,M33,IF(Products!$Z$8=$C$7,N33)))))))","v":"AL1286300D-EN"},"AL1286300D-EN","AL1586300D-EN","AL1686300D-EN","AL3286300D-EN","AL3586300D-EN","AL3686300D-EN","AL5286300D-EN",null,"Bitdefender GravityZone Business Security","Bitdefender GravityZone Business Security - EDU","Bitdefender GravityZone Business Security - GOV","Bitdefender GravityZone Business Security - R","Bitdefender GravityZone Business Security - EDU R","Bitdefender GravityZone Business Security - GOV R","Bitdefender GravityZone Business Security - CUPG",null,"Bitdefender Internet Security 2016","3 years","1 PC","Bitdefender Internet Security 20163 years1 PC",98.32,"UL11033001-EN",119.95]
[{"$f":"IF(Products!$Z$8=$C$1,Q34,IF(Products!$Z$8=$C$2,R34,IF(Products!$Z$8=$C$3,S34,IF(Products!$Z$8=$C$4,T34,IF(Products!$Z$8=$C$5,W34,IF(Products!$Z$8=$C$6,U34,IF(Products!$Z$8=$C$7,V34)))))))","v":"Bitdefender GravityZone Business Security"},"3 years","100 - 149","Bitdefender GravityZone Business Security3 years100 - 149",null,45.878999999999991,{"$f":"IF(Products!$Z$8=$C$1,ROUND(F34*$B$3,2),IF(Products!$Z$8=$C$2,ROUND(F34*$B$3*(1+$D$2),2),IF(Products!$Z$8=$C$3,ROUND(F34*$B$3*(1+$D$3),2),IF(Products!$Z$8=$C$4,ROUND(F34*$B$3*(1+$D$4),2),IF(Products!$Z$8=$C$5,ROUND(F34*$B$3*(1+$D$5),2),IF(Products!$Z$8=$C$6,ROUND(F34*$B$3*(1+$D$6),2),IF(Products!$Z$8=$C$7,ROUND(F34*$B$3*(1+$D$7),2))))))))","v":45.88},{"$f":"IF(Products!$Z$8=$C$1,I34,IF(Products!$Z$8=$C$2,J34,IF(Products!$Z$8=$C$3,K34,IF(Products!$Z$8=$C$4,L34,IF(Products!$Z$8=$C$5,O34,IF(Products!$Z$8=$C$6,M34,IF(Products!$Z$8=$C$7,N34)))))))","v":"AL1286300E-EN"},"AL1286300E-EN","AL1586300E-EN","AL1686300E-EN","AL3286300E-EN","AL3586300E-EN","AL3686300E-EN","AL5286300E-EN",null,"Bitdefender GravityZone Business Security","Bitdefender GravityZone Business Security - EDU","Bitdefender GravityZone Business Security - GOV","Bitdefender GravityZone Business Security - R","Bitdefender GravityZone Business Security - EDU R","Bitdefender GravityZone Business Security - GOV R","Bitdefender GravityZone Business Security - CUPG",null,"Bitdefender Internet Security 2016","3 years","3 PCs","Bitdefender Internet Security 20163 years3 PCs",114.71,"UL11033003-EN",139.94999999999999]
[{"$f":"IF(Products!$Z$8=$C$1,Q35,IF(Products!$Z$8=$C$2,R35,IF(Products!$Z$8=$C$3,S35,IF(Products!$Z$8=$C$4,T35,IF(Products!$Z$8=$C$5,W35,IF(Products!$Z$8=$C$6,U35,IF(Products!$Z$8=$C$7,V35)))))))","v":"Bitdefender GravityZone Business Security"},"3 years","150 - 249","Bitdefender GravityZone Business Security3 years150 - 249",null,44.05449999999999,{"$f":"IF(Products!$Z$8=$C$1,ROUND(F35*$B$3,2),IF(Products!$Z$8=$C$2,ROUND(F35*$B$3*(1+$D$2),2),IF(Products!$Z$8=$C$3,ROUND(F35*$B$3*(1+$D$3),2),IF(Products!$Z$8=$C$4,ROUND(F35*$B$3*(1+$D$4),2),IF(Products!$Z$8=$C$5,ROUND(F35*$B$3*(1+$D$5),2),IF(Products!$Z$8=$C$6,ROUND(F35*$B$3*(1+$D$6),2),IF(Products!$Z$8=$C$7,ROUND(F35*$B$3*(1+$D$7),2))))))))","v":44.05},{"$f":"IF(Products!$Z$8=$C$1,I35,IF(Products!$Z$8=$C$2,J35,IF(Products!$Z$8=$C$3,K35,IF(Products!$Z$8=$C$4,L35,IF(Products!$Z$8=$C$5,O35,IF(Products!$Z$8=$C$6,M35,IF(Products!$Z$8=$C$7,N35)))))))","v":"AL1286300F-EN"},"AL1286300F-EN","AL1586300F-EN","AL1686300F-EN","AL3286300F-EN","AL3586300F-EN","AL3686300F-EN","AL5286300F-EN",null,"Bitdefender GravityZone Business Security","Bitdefender GravityZone Business Security - EDU","Bitdefender GravityZone Business Security - GOV","Bitdefender GravityZone Business Security - R","Bitdefender GravityZone Business Security - EDU R","Bitdefender GravityZone Business Security - GOV R","Bitdefender GravityZone Business Security - CUPG",null,"Bitdefender Internet Security 2016","3 years","5 PCs","Bitdefender Internet Security 20163 years5 PCs",188.48,"UL11033005-EN",229.95]
[{"$f":"IF(Products!$Z$8=$C$1,Q36,IF(Products!$Z$8=$C$2,R36,IF(Products!$Z$8=$C$3,S36,IF(Products!$Z$8=$C$4,T36,IF(Products!$Z$8=$C$5,W36,IF(Products!$Z$8=$C$6,U36,IF(Products!$Z$8=$C$7,V36)))))))","v":"Bitdefender GravityZone Business Security"},"3 years","250 - 499","Bitdefender GravityZone Business Security3 years250 - 499",null,41.840499999999999,{"$f":"IF(Products!$Z$8=$C$1,ROUND(F36*$B$3,2),IF(Products!$Z$8=$C$2,ROUND(F36*$B$3*(1+$D$2),2),IF(Products!$Z$8=$C$3,ROUND(F36*$B$3*(1+$D$3),2),IF(Products!$Z$8=$C$4,ROUND(F36*$B$3*(1+$D$4),2),IF(Products!$Z$8=$C$5,ROUND(F36*$B$3*(1+$D$5),2),IF(Products!$Z$8=$C$6,ROUND(F36*$B$3*(1+$D$6),2),IF(Products!$Z$8=$C$7,ROUND(F36*$B$3*(1+$D$7),2))))))))","v":41.84},{"$f":"IF(Products!$Z$8=$C$1,I36,IF(Products!$Z$8=$C$2,J36,IF(Products!$Z$8=$C$3,K36,IF(Products!$Z$8=$C$4,L36,IF(Products!$Z$8=$C$5,O36,IF(Products!$Z$8=$C$6,M36,IF(Products!$Z$8=$C$7,N36)))))))","v":"AL1286300G-EN"},"AL1286300G-EN","AL1586300G-EN","AL1686300G-EN","AL3286300G-EN","AL3586300G-EN","AL3686300G-EN","AL5286300G-EN",null,"Bitdefender GravityZone Business Security","Bitdefender GravityZone Business Security - EDU","Bitdefender GravityZone Business Security - GOV","Bitdefender GravityZone Business Security - R","Bitdefender GravityZone Business Security - EDU R","Bitdefender GravityZone Business Security - GOV R","Bitdefender GravityZone Business Security - CUPG",null,"Bitdefender Internet Security 2016","3 years","10 PCs","Bitdefender Internet Security 20163 years10 PCs",336.02,"UL11033010-EN",409.95]
[{"$f":"IF(Products!$Z$8=$C$1,Q37,IF(Products!$Z$8=$C$2,R37,IF(Products!$Z$8=$C$3,S37,IF(Products!$Z$8=$C$4,T37,IF(Products!$Z$8=$C$5,W37,IF(Products!$Z$8=$C$6,U37,IF(Products!$Z$8=$C$7,V37)))))))","v":"Bitdefender GravityZone Business Security"},"3 years","500 - 999","Bitdefender GravityZone Business Security3 years500 - 999",null,41.225499999999997,{"$f":"IF(Products!$Z$8=$C$1,ROUND(F37*$B$3,2),IF(Products!$Z$8=$C$2,ROUND(F37*$B$3*(1+$D$2),2),IF(Products!$Z$8=$C$3,ROUND(F37*$B$3*(1+$D$3),2),IF(Products!$Z$8=$C$4,ROUND(F37*$B$3*(1+$D$4),2),IF(Products!$Z$8=$C$5,ROUND(F37*$B$3*(1+$D$5),2),IF(Products!$Z$8=$C$6,ROUND(F37*$B$3*(1+$D$6),2),IF(Products!$Z$8=$C$7,ROUND(F37*$B$3*(1+$D$7),2))))))))","v":41.23},{"$f":"IF(Products!$Z$8=$C$1,I37,IF(Products!$Z$8=$C$2,J37,IF(Products!$Z$8=$C$3,K37,IF(Products!$Z$8=$C$4,L37,IF(Products!$Z$8=$C$5,O37,IF(Products!$Z$8=$C$6,M37,IF(Products!$Z$8=$C$7,N37)))))))","v":"AL1286300H-EN"},"AL1286300H-EN","AL1586300H-EN","AL1686300H-EN","AL3286300H-EN","AL3586300H-EN","AL3686300H-EN","AL5286300H-EN",null,"Bitdefender GravityZone Business Security","Bitdefender GravityZone Business Security - EDU","Bitdefender GravityZone Business Security - GOV","Bitdefender GravityZone Business Security - R","Bitdefender GravityZone Business Security - EDU R","Bitdefender GravityZone Business Security - GOV R","Bitdefender GravityZone Business Security - CUPG",null,"Bitdefender Total Security 2016","1 year","1 PC","Bitdefender Total Security 20161 year1 PC",49.14,"UL11051001-EN",59.95]
[{"$f":"IF(Products!$Z$8=$C$1,Q38,IF(Products!$Z$8=$C$2,R38,IF(Products!$Z$8=$C$3,S38,IF(Products!$Z$8=$C$4,T38,IF(Products!$Z$8=$C$5,W38,IF(Products!$Z$8=$C$6,U38,IF(Products!$Z$8=$C$7,V38)))))))","v":"Bitdefender GravityZone Business Security"},"3 years","1000 - 2999","Bitdefender GravityZone Business Security3 years1000 - 2999",null,40.610499999999995,{"$f":"IF(Products!$Z$8=$C$1,ROUND(F38*$B$3,2),IF(Products!$Z$8=$C$2,ROUND(F38*$B$3*(1+$D$2),2),IF(Products!$Z$8=$C$3,ROUND(F38*$B$3*(1+$D$3),2),IF(Products!$Z$8=$C$4,ROUND(F38*$B$3*(1+$D$4),2),IF(Products!$Z$8=$C$5,ROUND(F38*$B$3*(1+$D$5),2),IF(Products!$Z$8=$C$6,ROUND(F38*$B$3*(1+$D$6),2),IF(Products!$Z$8=$C$7,ROUND(F38*$B$3*(1+$D$7),2))))))))","v":40.61},{"$f":"IF(Products!$Z$8=$C$1,I38,IF(Products!$Z$8=$C$2,J38,IF(Products!$Z$8=$C$3,K38,IF(Products!$Z$8=$C$4,L38,IF(Products!$Z$8=$C$5,O38,IF(Products!$Z$8=$C$6,M38,IF(Products!$Z$8=$C$7,N38)))))))","v":"AL1286300I-EN"},"AL1286300I-EN","AL1586300I-EN","AL1686300I-EN","AL3286300I-EN","AL3586300I-EN","AL3686300I-EN","AL5286300I-EN",null,"Bitdefender GravityZone Business Security","Bitdefender GravityZone Business Security - EDU","Bitdefender GravityZone Business Security - GOV","Bitdefender GravityZone Business Security - R","Bitdefender GravityZone Business Security - EDU R","Bitdefender GravityZone Business Security - GOV R","Bitdefender GravityZone Business Security - CUPG",null,"Bitdefender Total Security 2016","1 year","3 PCs","Bitdefender Total Security 20161 year3 PCs",57.34,"UL11051003-EN",69.95]
[{"$f":"IF(Products!$Z$8=$C$1,Q39,IF(Products!$Z$8=$C$2,R39,IF(Products!$Z$8=$C$3,S39,IF(Products!$Z$8=$C$4,T39,IF(Products!$Z$8=$C$5,W39,IF(Products!$Z$8=$C$6,U39,IF(Products!$Z$8=$C$7,V39)))))))","v":"Bitdefender GravityZone Business Security"},"3 years","3000+","Bitdefender GravityZone Business Security3 years3000+",null,39.9955,{"$f":"IF(Products!$Z$8=$C$1,ROUND(F39*$B$3,2),IF(Products!$Z$8=$C$2,ROUND(F39*$B$3*(1+$D$2),2),IF(Products!$Z$8=$C$3,ROUND(F39*$B$3*(1+$D$3),2),IF(Products!$Z$8=$C$4,ROUND(F39*$B$3*(1+$D$4),2),IF(Products!$Z$8=$C$5,ROUND(F39*$B$3*(1+$D$5),2),IF(Products!$Z$8=$C$6,ROUND(F39*$B$3*(1+$D$6),2),IF(Products!$Z$8=$C$7,ROUND(F39*$B$3*(1+$D$7),2))))))))","v":40},{"$f":"IF(Products!$Z$8=$C$1,I39,IF(Products!$Z$8=$C$2,J39,IF(Products!$Z$8=$C$3,K39,IF(Products!$Z$8=$C$4,L39,IF(Products!$Z$8=$C$5,O39,IF(Products!$Z$8=$C$6,M39,IF(Products!$Z$8=$C$7,N39)))))))","v":"AL1286300J-EN"},"AL1286300J-EN","AL1586300J-EN","AL1686300J-EN","AL3286300J-EN","AL3586300J-EN","AL3686300J-EN","AL5286300J-EN",null,"Bitdefender GravityZone Business Security","Bitdefender GravityZone Business Security - EDU","Bitdefender GravityZone Business Security - GOV","Bitdefender GravityZone Business Security - R","Bitdefender GravityZone Business Security - EDU R","Bitdefender GravityZone Business Security - GOV R","Bitdefender GravityZone Business Security - CUPG",null,"Bitdefender Total Security 2016","1 year","5 PCs","Bitdefender Total Security 20161 year5 PCs",90.12,"UL11051005-EN",109.95]
[{"$f":"IF(Products!$Z$8=$C$1,Q40,IF(Products!$Z$8=$C$2,R40,IF(Products!$Z$8=$C$3,S40,IF(Products!$Z$8=$C$4,T40,IF(Products!$Z$8=$C$5,W40,IF(Products!$Z$8=$C$6,U40,IF(Products!$Z$8=$C$7,V40)))))))","v":"Bitdefender GravityZone Advanced Business Security"},"1 year","5 - 14","Bitdefender GravityZone Advanced Business Security1 year5 - 14",null,48.32,{"$f":"IF(Products!$Z$8=$C$1,ROUND(F40*$B$3,2),IF(Products!$Z$8=$C$2,ROUND(F40*$B$3*(1+$D$2),2),IF(Products!$Z$8=$C$3,ROUND(F40*$B$3*(1+$D$3),2),IF(Products!$Z$8=$C$4,ROUND(F40*$B$3*(1+$D$4),2),IF(Products!$Z$8=$C$5,ROUND(F40*$B$3*(1+$D$5),2),IF(Products!$Z$8=$C$6,ROUND(F40*$B$3*(1+$D$6),2),IF(Products!$Z$8=$C$7,ROUND(F40*$B$3*(1+$D$7),2))))))))","v":48.32},{"$f":"IF(Products!$Z$8=$C$1,I40,IF(Products!$Z$8=$C$2,J40,IF(Products!$Z$8=$C$3,K40,IF(Products!$Z$8=$C$4,L40,IF(Products!$Z$8=$C$5,O40,IF(Products!$Z$8=$C$6,M40,IF(Products!$Z$8=$C$7,N40)))))))","v":"AL1287100A-EN"},"AL1287100A-EN","AL1587100A-EN","AL1687100A-EN","AL3287100A-EN","AL3587100A-EN","AL3687100A-EN","AL5287100A-EN",null,"Bitdefender GravityZone Advanced Business Security","Bitdefender GravityZone Advanced Business Security - EDU","Bitdefender GravityZone Advanced Business Security - GOV","Bitdefender GravityZone Advanced Business Security - R","Bitdefender GravityZone Advanced Business Security - EDU R","Bitdefender GravityZone Advanced Business Security - GOV R","Bitdefender GravityZone Advanced Business Security - CUPG",null,"Bitdefender Total Security 2016","1 year","10 PCs","Bitdefender Total Security 20161 year10 PCs",163.89,"UL11051010-EN",199.95]
[{"$f":"IF(Products!$Z$8=$C$1,Q41,IF(Products!$Z$8=$C$2,R41,IF(Products!$Z$8=$C$3,S41,IF(Products!$Z$8=$C$4,T41,IF(Products!$Z$8=$C$5,W41,IF(Products!$Z$8=$C$6,U41,IF(Products!$Z$8=$C$7,V41)))))))","v":"Bitdefender GravityZone Advanced Business Security"},"1 year","15 - 24","Bitdefender GravityZone Advanced Business Security1 year15 - 24",null,44.66,{"$f":"IF(Products!$Z$8=$C$1,ROUND(F41*$B$3,2),IF(Products!$Z$8=$C$2,ROUND(F41*$B$3*(1+$D$2),2),IF(Products!$Z$8=$C$3,ROUND(F41*$B$3*(1+$D$3),2),IF(Products!$Z$8=$C$4,ROUND(F41*$B$3*(1+$D$4),2),IF(Products!$Z$8=$C$5,ROUND(F41*$B$3*(1+$D$5),2),IF(Products!$Z$8=$C$6,ROUND(F41*$B$3*(1+$D$6),2),IF(Products!$Z$8=$C$7,ROUND(F41*$B$3*(1+$D$7),2))))))))","v":44.66},{"$f":"IF(Products!$Z$8=$C$1,I41,IF(Products!$Z$8=$C$2,J41,IF(Products!$Z$8=$C$3,K41,IF(Products!$Z$8=$C$4,L41,IF(Products!$Z$8=$C$5,O41,IF(Products!$Z$8=$C$6,M41,IF(Products!$Z$8=$C$7,N41)))))))","v":"AL1287100B-EN"},"AL1287100B-EN","AL1587100B-EN","AL1687100B-EN","AL3287100B-EN","AL3587100B-EN","AL3687100B-EN","AL5287100B-EN",null,"Bitdefender GravityZone Advanced Business Security","Bitdefender GravityZone Advanced Business Security - EDU","Bitdefender GravityZone Advanced Business Security - GOV","Bitdefender GravityZone Advanced Business Security - R","Bitdefender GravityZone Advanced Business Security - EDU R","Bitdefender GravityZone Advanced Business Security - GOV R","Bitdefender GravityZone Advanced Business Security - CUPG",null,"Bitdefender Total Security 2016","2 years","1 PC","Bitdefender Total Security 20162 years1 PC",81.93,"UL11052001-EN",99.95]
[{"$f":"IF(Products!$Z$8=$C$1,Q42,IF(Products!$Z$8=$C$2,R42,IF(Products!$Z$8=$C$3,S42,IF(Products!$Z$8=$C$4,T42,IF(Products!$Z$8=$C$5,W42,IF(Products!$Z$8=$C$6,U42,IF(Products!$Z$8=$C$7,V42)))))))","v":"Bitdefender GravityZone Advanced Business Security"},"1 year","25 - 49","Bitdefender GravityZone Advanced Business Security1 year25 - 49",null,39.99,{"$f":"IF(Products!$Z$8=$C$1,ROUND(F42*$B$3,2),IF(Products!$Z$8=$C$2,ROUND(F42*$B$3*(1+$D$2),2),IF(Products!$Z$8=$C$3,ROUND(F42*$B$3*(1+$D$3),2),IF(Products!$Z$8=$C$4,ROUND(F42*$B$3*(1+$D$4),2),IF(Products!$Z$8=$C$5,ROUND(F42*$B$3*(1+$D$5),2),IF(Products!$Z$8=$C$6,ROUND(F42*$B$3*(1+$D$6),2),IF(Products!$Z$8=$C$7,ROUND(F42*$B$3*(1+$D$7),2))))))))","v":39.99},{"$f":"IF(Products!$Z$8=$C$1,I42,IF(Products!$Z$8=$C$2,J42,IF(Products!$Z$8=$C$3,K42,IF(Products!$Z$8=$C$4,L42,IF(Products!$Z$8=$C$5,O42,IF(Products!$Z$8=$C$6,M42,IF(Products!$Z$8=$C$7,N42)))))))","v":"AL1287100C-EN"},"AL1287100C-EN","AL1587100C-EN","AL1687100C-EN","AL3287100C-EN","AL3587100C-EN","AL3687100C-EN","AL5287100C-EN",null,"Bitdefender GravityZone Advanced Business Security","Bitdefender GravityZone Advanced Business Security - EDU","Bitdefender GravityZone Advanced Business Security - GOV","Bitdefender GravityZone Advanced Business Security - R","Bitdefender GravityZone Advanced Business Security - EDU R","Bitdefender GravityZone Advanced Business Security - GOV R","Bitdefender GravityZone Advanced Business Security - CUPG",null,"Bitdefender Total Security 2016","2 years","3 PCs","Bitdefender Total Security 20162 years3 PCs",98.32,"UL11052003-EN",119.95]
[{"$f":"IF(Products!$Z$8=$C$1,Q43,IF(Products!$Z$8=$C$2,R43,IF(Products!$Z$8=$C$3,S43,IF(Products!$Z$8=$C$4,T43,IF(Products!$Z$8=$C$5,W43,IF(Products!$Z$8=$C$6,U43,IF(Products!$Z$8=$C$7,V43)))))))","v":"Bitdefender GravityZone Advanced Business Security"},"1 year","50 - 99","Bitdefender GravityZone Advanced Business Security1 year50 - 99",null,35.99,{"$f":"IF(Products!$Z$8=$C$1,ROUND(F43*$B$3,2),IF(Products!$Z$8=$C$2,ROUND(F43*$B$3*(1+$D$2),2),IF(Products!$Z$8=$C$3,ROUND(F43*$B$3*(1+$D$3),2),IF(Products!$Z$8=$C$4,ROUND(F43*$B$3*(1+$D$4),2),IF(Products!$Z$8=$C$5,ROUND(F43*$B$3*(1+$D$5),2),IF(Products!$Z$8=$C$6,ROUND(F43*$B$3*(1+$D$6),2),IF(Products!$Z$8=$C$7,ROUND(F43*$B$3*(1+$D$7),2))))))))","v":35.99},{"$f":"IF(Products!$Z$8=$C$1,I43,IF(Products!$Z$8=$C$2,J43,IF(Products!$Z$8=$C$3,K43,IF(Products!$Z$8=$C$4,L43,IF(Products!$Z$8=$C$5,O43,IF(Products!$Z$8=$C$6,M43,IF(Products!$Z$8=$C$7,N43)))))))","v":"AL1287100D-EN"},"AL1287100D-EN","AL1587100D-EN","AL1687100D-EN","AL3287100D-EN","AL3587100D-EN","AL3687100D-EN","AL5287100D-EN",null,"Bitdefender GravityZone Advanced Business Security","Bitdefender GravityZone Advanced Business Security - EDU","Bitdefender GravityZone Advanced Business Security - GOV","Bitdefender GravityZone Advanced Business Security - R","Bitdefender GravityZone Advanced Business Security - EDU R","Bitdefender GravityZone Advanced Business Security - GOV R","Bitdefender GravityZone Advanced Business Security - CUPG",null,"Bitdefender Total Security 2016","2 years","5 PCs","Bitdefender Total Security 20162 years5 PCs",163.89,"UL11052005-EN",199.95]
[{"$f":"IF(Products!$Z$8=$C$1,Q44,IF(Products!$Z$8=$C$2,R44,IF(Products!$Z$8=$C$3,S44,IF(Products!$Z$8=$C$4,T44,IF(Products!$Z$8=$C$5,W44,IF(Products!$Z$8=$C$6,U44,IF(Products!$Z$8=$C$7,V44)))))))","v":"Bitdefender GravityZone Advanced Business Security"},"1 year","100 - 149","Bitdefender GravityZone Advanced Business Security1 year100 - 149",null,32.659999999999997,{"$f":"IF(Products!$Z$8=$C$1,ROUND(F44*$B$3,2),IF(Products!$Z$8=$C$2,ROUND(F44*$B$3*(1+$D$2),2),IF(Products!$Z$8=$C$3,ROUND(F44*$B$3*(1+$D$3),2),IF(Products!$Z$8=$C$4,ROUND(F44*$B$3*(1+$D$4),2),IF(Products!$Z$8=$C$5,ROUND(F44*$B$3*(1+$D$5),2),IF(Products!$Z$8=$C$6,ROUND(F44*$B$3*(1+$D$6),2),IF(Products!$Z$8=$C$7,ROUND(F44*$B$3*(1+$D$7),2))))))))","v":32.659999999999997},{"$f":"IF(Products!$Z$8=$C$1,I44,IF(Products!$Z$8=$C$2,J44,IF(Products!$Z$8=$C$3,K44,IF(Products!$Z$8=$C$4,L44,IF(Products!$Z$8=$C$5,O44,IF(Products!$Z$8=$C$6,M44,IF(Products!$Z$8=$C$7,N44)))))))","v":"AL1287100E-EN"},"AL1287100E-EN","AL1587100E-EN","AL1687100E-EN","AL3287100E-EN","AL3587100E-EN","AL3687100E-EN","AL5287100E-EN",null,"Bitdefender GravityZone Advanced Business Security","Bitdefender GravityZone Advanced Business Security - EDU","Bitdefender GravityZone Advanced Business Security - GOV","Bitdefender GravityZone Advanced Business Security - R","Bitdefender GravityZone Advanced Business Security - EDU R","Bitdefender GravityZone Advanced Business Security - GOV R","Bitdefender GravityZone Advanced Business Security - CUPG",null,"Bitdefender Total Security 2016","2 years","10 PCs","Bitdefender Total Security 20162 years10 PCs",270.45,"UL11052010-EN",329.95]
[{"$f":"IF(Products!$Z$8=$C$1,Q45,IF(Products!$Z$8=$C$2,R45,IF(Products!$Z$8=$C$3,S45,IF(Products!$Z$8=$C$4,T45,IF(Products!$Z$8=$C$5,W45,IF(Products!$Z$8=$C$6,U45,IF(Products!$Z$8=$C$7,V45)))))))","v":"Bitdefender GravityZone Advanced Business Security"},"1 year","150 - 249","Bitdefender GravityZone Advanced Business Security1 year150 - 249",null,28.09,{"$f":"IF(Products!$Z$8=$C$1,ROUND(F45*$B$3,2),IF(Products!$Z$8=$C$2,ROUND(F45*$B$3*(1+$D$2),2),IF(Products!$Z$8=$C$3,ROUND(F45*$B$3*(1+$D$3),2),IF(Products!$Z$8=$C$4,ROUND(F45*$B$3*(1+$D$4),2),IF(Products!$Z$8=$C$5,ROUND(F45*$B$3*(1+$D$5),2),IF(Products!$Z$8=$C$6,ROUND(F45*$B$3*(1+$D$6),2),IF(Products!$Z$8=$C$7,ROUND(F45*$B$3*(1+$D$7),2))))))))","v":28.09},{"$f":"IF(Products!$Z$8=$C$1,I45,IF(Products!$Z$8=$C$2,J45,IF(Products!$Z$8=$C$3,K45,IF(Products!$Z$8=$C$4,L45,IF(Products!$Z$8=$C$5,O45,IF(Products!$Z$8=$C$6,M45,IF(Products!$Z$8=$C$7,N45)))))))","v":"AL1287100F-EN"},"AL1287100F-EN","AL1587100F-EN","AL1687100F-EN","AL3287100F-EN","AL3587100F-EN","AL3687100F-EN","AL5287100F-EN",null,"Bitdefender GravityZone Advanced Business Security","Bitdefender GravityZone Advanced Business Security - EDU","Bitdefender GravityZone Advanced Business Security - GOV","Bitdefender GravityZone Advanced Business Security - R","Bitdefender GravityZone Advanced Business Security - EDU R","Bitdefender GravityZone Advanced Business Security - GOV R","Bitdefender GravityZone Advanced Business Security - CUPG",null,"Bitdefender Total Security 2016","3 years","1 PC","Bitdefender Total Security 20163 years1 PC",106.52,"UL11053001-EN",129.94999999999999]
[{"$f":"IF(Products!$Z$8=$C$1,Q46,IF(Products!$Z$8=$C$2,R46,IF(Products!$Z$8=$C$3,S46,IF(Products!$Z$8=$C$4,T46,IF(Products!$Z$8=$C$5,W46,IF(Products!$Z$8=$C$6,U46,IF(Products!$Z$8=$C$7,V46)))))))","v":"Bitdefender GravityZone Advanced Business Security"},"1 year","250 - 499","Bitdefender GravityZone Advanced Business Security1 year250 - 499",null,25.84,{"$f":"IF(Products!$Z$8=$C$1,ROUND(F46*$B$3,2),IF(Products!$Z$8=$C$2,ROUND(F46*$B$3*(1+$D$2),2),IF(Products!$Z$8=$C$3,ROUND(F46*$B$3*(1+$D$3),2),IF(Products!$Z$8=$C$4,ROUND(F46*$B$3*(1+$D$4),2),IF(Products!$Z$8=$C$5,ROUND(F46*$B$3*(1+$D$5),2),IF(Products!$Z$8=$C$6,ROUND(F46*$B$3*(1+$D$6),2),IF(Products!$Z$8=$C$7,ROUND(F46*$B$3*(1+$D$7),2))))))))","v":25.84},{"$f":"IF(Products!$Z$8=$C$1,I46,IF(Products!$Z$8=$C$2,J46,IF(Products!$Z$8=$C$3,K46,IF(Products!$Z$8=$C$4,L46,IF(Products!$Z$8=$C$5,O46,IF(Products!$Z$8=$C$6,M46,IF(Products!$Z$8=$C$7,N46)))))))","v":"AL1287100G-EN"},"AL1287100G-EN","AL1587100G-EN","AL1687100G-EN","AL3287100G-EN","AL3587100G-EN","AL3687100G-EN","AL5287100G-EN",null,"Bitdefender GravityZone Advanced Business Security","Bitdefender GravityZone Advanced Business Security - EDU","Bitdefender GravityZone Advanced Business Security - GOV","Bitdefender GravityZone Advanced Business Security - R","Bitdefender GravityZone Advanced Business Security - EDU R","Bitdefender GravityZone Advanced Business Security - GOV R","Bitdefender GravityZone Advanced Business Security - CUPG",null,"Bitdefender Total Security 2016","3 years","3 PCs","Bitdefender Total Security 20163 years3 PCs",131.11000000000001,"UL11053003-EN",159.94999999999999]
[{"$f":"IF(Products!$Z$8=$C$1,Q47,IF(Products!$Z$8=$C$2,R47,IF(Products!$Z$8=$C$3,S47,IF(Products!$Z$8=$C$4,T47,IF(Products!$Z$8=$C$5,W47,IF(Products!$Z$8=$C$6,U47,IF(Products!$Z$8=$C$7,V47)))))))","v":"Bitdefender GravityZone Advanced Business Security"},"1 year","500 - 999","Bitdefender GravityZone Advanced Business Security1 year500 - 999",null,24.03,{"$f":"IF(Products!$Z$8=$C$1,ROUND(F47*$B$3,2),IF(Products!$Z$8=$C$2,ROUND(F47*$B$3*(1+$D$2),2),IF(Products!$Z$8=$C$3,ROUND(F47*$B$3*(1+$D$3),2),IF(Products!$Z$8=$C$4,ROUND(F47*$B$3*(1+$D$4),2),IF(Products!$Z$8=$C$5,ROUND(F47*$B$3*(1+$D$5),2),IF(Products!$Z$8=$C$6,ROUND(F47*$B$3*(1+$D$6),2),IF(Products!$Z$8=$C$7,ROUND(F47*$B$3*(1+$D$7),2))))))))","v":24.03},{"$f":"IF(Products!$Z$8=$C$1,I47,IF(Products!$Z$8=$C$2,J47,IF(Products!$Z$8=$C$3,K47,IF(Products!$Z$8=$C$4,L47,IF(Products!$Z$8=$C$5,O47,IF(Products!$Z$8=$C$6,M47,IF(Products!$Z$8=$C$7,N47)))))))","v":"AL1287100H-EN"},"AL1287100H-EN","AL1587100H-EN","AL1687100H-EN","AL3287100H-EN","AL3587100H-EN","AL3687100H-EN","AL5287100H-EN",null,"Bitdefender GravityZone Advanced Business Security","Bitdefender GravityZone Advanced Business Security - EDU","Bitdefender GravityZone Advanced Business Security - GOV","Bitdefender GravityZone Advanced Business Security - R","Bitdefender GravityZone Advanced Business Security - EDU R","Bitdefender GravityZone Advanced Business Security - GOV R","Bitdefender GravityZone Advanced Business Security - CUPG",null,"Bitdefender Total Security 2016","3 years","5 PCs","Bitdefender Total Security 20163 years5 PCs",221.27,"UL11053005-EN",269.95]
[{"$f":"IF(Products!$Z$8=$C$1,Q48,IF(Products!$Z$8=$C$2,R48,IF(Products!$Z$8=$C$3,S48,IF(Products!$Z$8=$C$4,T48,IF(Products!$Z$8=$C$5,W48,IF(Products!$Z$8=$C$6,U48,IF(Products!$Z$8=$C$7,V48)))))))","v":"Bitdefender GravityZone Advanced Business Security"},"1 year","1000 - 2999","Bitdefender GravityZone Advanced Business Security1 year1000 - 2999",null,22.83,{"$f":"IF(Products!$Z$8=$C$1,ROUND(F48*$B$3,2),IF(Products!$Z$8=$C$2,ROUND(F48*$B$3*(1+$D$2),2),IF(Products!$Z$8=$C$3,ROUND(F48*$B$3*(1+$D$3),2),IF(Products!$Z$8=$C$4,ROUND(F48*$B$3*(1+$D$4),2),IF(Products!$Z$8=$C$5,ROUND(F48*$B$3*(1+$D$5),2),IF(Products!$Z$8=$C$6,ROUND(F48*$B$3*(1+$D$6),2),IF(Products!$Z$8=$C$7,ROUND(F48*$B$3*(1+$D$7),2))))))))","v":22.83},{"$f":"IF(Products!$Z$8=$C$1,I48,IF(Products!$Z$8=$C$2,J48,IF(Products!$Z$8=$C$3,K48,IF(Products!$Z$8=$C$4,L48,IF(Products!$Z$8=$C$5,O48,IF(Products!$Z$8=$C$6,M48,IF(Products!$Z$8=$C$7,N48)))))))","v":"AL1287100I-EN"},"AL1287100I-EN","AL1587100I-EN","AL1687100I-EN","AL3287100I-EN","AL3587100I-EN","AL3687100I-EN","AL5287100I-EN",null,"Bitdefender GravityZone Advanced Business Security","Bitdefender GravityZone Advanced Business Security - EDU","Bitdefender GravityZone Advanced Business Security - GOV","Bitdefender GravityZone Advanced Business Security - R","Bitdefender GravityZone Advanced Business Security - EDU R","Bitdefender GravityZone Advanced Business Security - GOV R","Bitdefender GravityZone Advanced Business Security - CUPG",null,"Bitdefender Total Security 2016","3 years","10 PCs","Bitdefender Total Security 20163 years10 PCs",368.81,"UL11053010-EN",449.95]
[{"$f":"IF(Products!$Z$8=$C$1,Q49,IF(Products!$Z$8=$C$2,R49,IF(Products!$Z$8=$C$3,S49,IF(Products!$Z$8=$C$4,T49,IF(Products!$Z$8=$C$5,W49,IF(Products!$Z$8=$C$6,U49,IF(Products!$Z$8=$C$7,V49)))))))","v":"Bitdefender GravityZone Advanced Business Security"},"1 year","3000+","Bitdefender GravityZone Advanced Business Security1 year3000+",null,22.14,{"$f":"IF(Products!$Z$8=$C$1,ROUND(F49*$B$3,2),IF(Products!$Z$8=$C$2,ROUND(F49*$B$3*(1+$D$2),2),IF(Products!$Z$8=$C$3,ROUND(F49*$B$3*(1+$D$3),2),IF(Products!$Z$8=$C$4,ROUND(F49*$B$3*(1+$D$4),2),IF(Products!$Z$8=$C$5,ROUND(F49*$B$3*(1+$D$5),2),IF(Products!$Z$8=$C$6,ROUND(F49*$B$3*(1+$D$6),2),IF(Products!$Z$8=$C$7,ROUND(F49*$B$3*(1+$D$7),2))))))))","v":22.14},{"$f":"IF(Products!$Z$8=$C$1,I49,IF(Products!$Z$8=$C$2,J49,IF(Products!$Z$8=$C$3,K49,IF(Products!$Z$8=$C$4,L49,IF(Products!$Z$8=$C$5,O49,IF(Products!$Z$8=$C$6,M49,IF(Products!$Z$8=$C$7,N49)))))))","v":"AL1287100J-EN"},"AL1287100J-EN","AL1587100J-EN","AL1687100J-EN","AL3287100J-EN","AL3587100J-EN","AL3687100J-EN","AL5287100J-EN",null,"Bitdefender GravityZone Advanced Business Security","Bitdefender GravityZone Advanced Business Security - EDU","Bitdefender GravityZone Advanced Business Security - GOV","Bitdefender GravityZone Advanced Business Security - R","Bitdefender GravityZone Advanced Business Security - EDU R","Bitdefender GravityZone Advanced Business Security - GOV R","Bitdefender GravityZone Advanced Business Security - CUPG",null,"Bitdefender Total Security Multi-Device 2016","1 year","5 devices","Bitdefender Total Security Multi-Device 20161 year5 devices",57.34,"BL11911005-EN",69.95]
[{"$f":"IF(Products!$Z$8=$C$1,Q50,IF(Products!$Z$8=$C$2,R50,IF(Products!$Z$8=$C$3,S50,IF(Products!$Z$8=$C$4,T50,IF(Products!$Z$8=$C$5,W50,IF(Products!$Z$8=$C$6,U50,IF(Products!$Z$8=$C$7,V50)))))))","v":"Bitdefender GravityZone Advanced Business Security"},"2 years","5 - 14","Bitdefender GravityZone Advanced Business Security2 years5 - 14",null,77.31,{"$f":"IF(Products!$Z$8=$C$1,ROUND(F50*$B$3,2),IF(Products!$Z$8=$C$2,ROUND(F50*$B$3*(1+$D$2),2),IF(Products!$Z$8=$C$3,ROUND(F50*$B$3*(1+$D$3),2),IF(Products!$Z$8=$C$4,ROUND(F50*$B$3*(1+$D$4),2),IF(Products!$Z$8=$C$5,ROUND(F50*$B$3*(1+$D$5),2),IF(Products!$Z$8=$C$6,ROUND(F50*$B$3*(1+$D$6),2),IF(Products!$Z$8=$C$7,ROUND(F50*$B$3*(1+$D$7),2))))))))","v":77.31},{"$f":"IF(Products!$Z$8=$C$1,I50,IF(Products!$Z$8=$C$2,J50,IF(Products!$Z$8=$C$3,K50,IF(Products!$Z$8=$C$4,L50,IF(Products!$Z$8=$C$5,O50,IF(Products!$Z$8=$C$6,M50,IF(Products!$Z$8=$C$7,N50)))))))","v":"AL1287200A-EN"},"AL1287200A-EN","AL1587200A-EN","AL1687200A-EN","AL3287200A-EN","AL3587200A-EN","AL3687200A-EN","AL5287200A-EN",null,"Bitdefender GravityZone Advanced Business Security","Bitdefender GravityZone Advanced Business Security - EDU","Bitdefender GravityZone Advanced Business Security - GOV","Bitdefender GravityZone Advanced Business Security - R","Bitdefender GravityZone Advanced Business Security - EDU R","Bitdefender GravityZone Advanced Business Security - GOV R","Bitdefender GravityZone Advanced Business Security - CUPG",null,"Bitdefender Total Security Multi-Device 2016","1 year","10 devices","Bitdefender Total Security Multi-Device 20161 year10 devices",65.53,"BL11911010-EN",79.95]
[{"$f":"IF(Products!$Z$8=$C$1,Q51,IF(Products!$Z$8=$C$2,R51,IF(Products!$Z$8=$C$3,S51,IF(Products!$Z$8=$C$4,T51,IF(Products!$Z$8=$C$5,W51,IF(Products!$Z$8=$C$6,U51,IF(Products!$Z$8=$C$7,V51)))))))","v":"Bitdefender GravityZone Advanced Business Security"},"2 years","15 - 24","Bitdefender GravityZone Advanced Business Security2 years15 - 24",null,71.459999999999994,{"$f":"IF(Products!$Z$8=$C$1,ROUND(F51*$B$3,2),IF(Products!$Z$8=$C$2,ROUND(F51*$B$3*(1+$D$2),2),IF(Products!$Z$8=$C$3,ROUND(F51*$B$3*(1+$D$3),2),IF(Products!$Z$8=$C$4,ROUND(F51*$B$3*(1+$D$4),2),IF(Products!$Z$8=$C$5,ROUND(F51*$B$3*(1+$D$5),2),IF(Products!$Z$8=$C$6,ROUND(F51*$B$3*(1+$D$6),2),IF(Products!$Z$8=$C$7,ROUND(F51*$B$3*(1+$D$7),2))))))))","v":71.459999999999994},{"$f":"IF(Products!$Z$8=$C$1,I51,IF(Products!$Z$8=$C$2,J51,IF(Products!$Z$8=$C$3,K51,IF(Products!$Z$8=$C$4,L51,IF(Products!$Z$8=$C$5,O51,IF(Products!$Z$8=$C$6,M51,IF(Products!$Z$8=$C$7,N51)))))))","v":"AL1287200B-EN"},"AL1287200B-EN","AL1587200B-EN","AL1687200B-EN","AL3287200B-EN","AL3587200B-EN","AL3687200B-EN","AL5287200B-EN",null,"Bitdefender GravityZone Advanced Business Security","Bitdefender GravityZone Advanced Business Security - EDU","Bitdefender GravityZone Advanced Business Security - GOV","Bitdefender GravityZone Advanced Business Security - R","Bitdefender GravityZone Advanced Business Security - EDU R","Bitdefender GravityZone Advanced Business Security - GOV R","Bitdefender GravityZone Advanced Business Security - CUPG",null,"Bitdefender Total Security Multi-Device 2016","2 years","5 devices","Bitdefender Total Security Multi-Device 20162 years5 devices",98.32,"BL11912005-EN",119.95]
[{"$f":"IF(Products!$Z$8=$C$1,Q52,IF(Products!$Z$8=$C$2,R52,IF(Products!$Z$8=$C$3,S52,IF(Products!$Z$8=$C$4,T52,IF(Products!$Z$8=$C$5,W52,IF(Products!$Z$8=$C$6,U52,IF(Products!$Z$8=$C$7,V52)))))))","v":"Bitdefender GravityZone Advanced Business Security"},"2 years","25 - 49","Bitdefender GravityZone Advanced Business Security2 years25 - 49",null,63.98,{"$f":"IF(Products!$Z$8=$C$1,ROUND(F52*$B$3,2),IF(Products!$Z$8=$C$2,ROUND(F52*$B$3*(1+$D$2),2),IF(Products!$Z$8=$C$3,ROUND(F52*$B$3*(1+$D$3),2),IF(Products!$Z$8=$C$4,ROUND(F52*$B$3*(1+$D$4),2),IF(Products!$Z$8=$C$5,ROUND(F52*$B$3*(1+$D$5),2),IF(Products!$Z$8=$C$6,ROUND(F52*$B$3*(1+$D$6),2),IF(Products!$Z$8=$C$7,ROUND(F52*$B$3*(1+$D$7),2))))))))","v":63.98},{"$f":"IF(Products!$Z$8=$C$1,I52,IF(Products!$Z$8=$C$2,J52,IF(Products!$Z$8=$C$3,K52,IF(Products!$Z$8=$C$4,L52,IF(Products!$Z$8=$C$5,O52,IF(Products!$Z$8=$C$6,M52,IF(Products!$Z$8=$C$7,N52)))))))","v":"AL1287200C-EN"},"AL1287200C-EN","AL1587200C-EN","AL1687200C-EN","AL3287200C-EN","AL3587200C-EN","AL3687200C-EN","AL5287200C-EN",null,"Bitdefender GravityZone Advanced Business Security","Bitdefender GravityZone Advanced Business Security - EDU","Bitdefender GravityZone Advanced Business Security - GOV","Bitdefender GravityZone Advanced Business Security - R","Bitdefender GravityZone Advanced Business Security - EDU R","Bitdefender GravityZone Advanced Business Security - GOV R","Bitdefender GravityZone Advanced Business Security - CUPG",null,"Bitdefender Total Security Multi-Device 2016","2 years","10 devices","Bitdefender Total Security Multi-Device 20162 years10 devices",106.52,"BL11912010-EN",129.94999999999999]
[{"$f":"IF(Products!$Z$8=$C$1,Q53,IF(Products!$Z$8=$C$2,R53,IF(Products!$Z$8=$C$3,S53,IF(Products!$Z$8=$C$4,T53,IF(Products!$Z$8=$C$5,W53,IF(Products!$Z$8=$C$6,U53,IF(Products!$Z$8=$C$7,V53)))))))","v":"Bitdefender GravityZone Advanced Business Security"},"2 years","50 - 99","Bitdefender GravityZone Advanced Business Security2 years50 - 99",null,57.58,{"$f":"IF(Products!$Z$8=$C$1,ROUND(F53*$B$3,2),IF(Products!$Z$8=$C$2,ROUND(F53*$B$3*(1+$D$2),2),IF(Products!$Z$8=$C$3,ROUND(F53*$B$3*(1+$D$3),2),IF(Products!$Z$8=$C$4,ROUND(F53*$B$3*(1+$D$4),2),IF(Products!$Z$8=$C$5,ROUND(F53*$B$3*(1+$D$5),2),IF(Products!$Z$8=$C$6,ROUND(F53*$B$3*(1+$D$6),2),IF(Products!$Z$8=$C$7,ROUND(F53*$B$3*(1+$D$7),2))))))))","v":57.58},{"$f":"IF(Products!$Z$8=$C$1,I53,IF(Products!$Z$8=$C$2,J53,IF(Products!$Z$8=$C$3,K53,IF(Products!$Z$8=$C$4,L53,IF(Products!$Z$8=$C$5,O53,IF(Products!$Z$8=$C$6,M53,IF(Products!$Z$8=$C$7,N53)))))))","v":"AL1287200D-EN"},"AL1287200D-EN","AL1587200D-EN","AL1687200D-EN","AL3287200D-EN","AL3587200D-EN","AL3687200D-EN","AL5287200D-EN",null,"Bitdefender GravityZone Advanced Business Security","Bitdefender GravityZone Advanced Business Security - EDU","Bitdefender GravityZone Advanced Business Security - GOV","Bitdefender GravityZone Advanced Business Security - R","Bitdefender GravityZone Advanced Business Security - EDU R","Bitdefender GravityZone Advanced Business Security - GOV R","Bitdefender GravityZone Advanced Business Security - CUPG",null,"Bitdefender Total Security Multi-Device 2016","3 years","5 devices","Bitdefender Total Security Multi-Device 20163 years5 devices",131.11000000000001,"BL11913005-EN",159.94999999999999]
[{"$f":"IF(Products!$Z$8=$C$1,Q54,IF(Products!$Z$8=$C$2,R54,IF(Products!$Z$8=$C$3,S54,IF(Products!$Z$8=$C$4,T54,IF(Products!$Z$8=$C$5,W54,IF(Products!$Z$8=$C$6,U54,IF(Products!$Z$8=$C$7,V54)))))))","v":"Bitdefender GravityZone Advanced Business Security"},"2 years","100 - 149","Bitdefender GravityZone Advanced Business Security2 years100 - 149",null,52.26,{"$f":"IF(Products!$Z$8=$C$1,ROUND(F54*$B$3,2),IF(Products!$Z$8=$C$2,ROUND(F54*$B$3*(1+$D$2),2),IF(Products!$Z$8=$C$3,ROUND(F54*$B$3*(1+$D$3),2),IF(Products!$Z$8=$C$4,ROUND(F54*$B$3*(1+$D$4),2),IF(Products!$Z$8=$C$5,ROUND(F54*$B$3*(1+$D$5),2),IF(Products!$Z$8=$C$6,ROUND(F54*$B$3*(1+$D$6),2),IF(Products!$Z$8=$C$7,ROUND(F54*$B$3*(1+$D$7),2))))))))","v":52.26},{"$f":"IF(Products!$Z$8=$C$1,I54,IF(Products!$Z$8=$C$2,J54,IF(Products!$Z$8=$C$3,K54,IF(Products!$Z$8=$C$4,L54,IF(Products!$Z$8=$C$5,O54,IF(Products!$Z$8=$C$6,M54,IF(Products!$Z$8=$C$7,N54)))))))","v":"AL1287200E-EN"},"AL1287200E-EN","AL1587200E-EN","AL1687200E-EN","AL3287200E-EN","AL3587200E-EN","AL3687200E-EN","AL5287200E-EN",null,"Bitdefender GravityZone Advanced Business Security","Bitdefender GravityZone Advanced Business Security - EDU","Bitdefender GravityZone Advanced Business Security - GOV","Bitdefender GravityZone Advanced Business Security - R","Bitdefender GravityZone Advanced Business Security - EDU R","Bitdefender GravityZone Advanced Business Security - GOV R","Bitdefender GravityZone Advanced Business Security - CUPG",null,"Bitdefender Total Security Multi-Device 2016","3 years","10 devices","Bitdefender Total Security Multi-Device 20163 years10 devices",139.30000000000001,"BL11913010-EN",169.95]
[{"$f":"IF(Products!$Z$8=$C$1,Q55,IF(Products!$Z$8=$C$2,R55,IF(Products!$Z$8=$C$3,S55,IF(Products!$Z$8=$C$4,T55,IF(Products!$Z$8=$C$5,W55,IF(Products!$Z$8=$C$6,U55,IF(Products!$Z$8=$C$7,V55)))))))","v":"Bitdefender GravityZone Advanced Business Security"},"2 years","150 - 249","Bitdefender GravityZone Advanced Business Security2 years150 - 249",null,44.94,{"$f":"IF(Products!$Z$8=$C$1,ROUND(F55*$B$3,2),IF(Products!$Z$8=$C$2,ROUND(F55*$B$3*(1+$D$2),2),IF(Products!$Z$8=$C$3,ROUND(F55*$B$3*(1+$D$3),2),IF(Products!$Z$8=$C$4,ROUND(F55*$B$3*(1+$D$4),2),IF(Products!$Z$8=$C$5,ROUND(F55*$B$3*(1+$D$5),2),IF(Products!$Z$8=$C$6,ROUND(F55*$B$3*(1+$D$6),2),IF(Products!$Z$8=$C$7,ROUND(F55*$B$3*(1+$D$7),2))))))))","v":44.94},{"$f":"IF(Products!$Z$8=$C$1,I55,IF(Products!$Z$8=$C$2,J55,IF(Products!$Z$8=$C$3,K55,IF(Products!$Z$8=$C$4,L55,IF(Products!$Z$8=$C$5,O55,IF(Products!$Z$8=$C$6,M55,IF(Products!$Z$8=$C$7,N55)))))))","v":"AL1287200F-EN"},"AL1287200F-EN","AL1587200F-EN","AL1687200F-EN","AL3287200F-EN","AL3587200F-EN","AL3687200F-EN","AL5287200F-EN",null,"Bitdefender GravityZone Advanced Business Security","Bitdefender GravityZone Advanced Business Security - EDU","Bitdefender GravityZone Advanced Business Security - GOV","Bitdefender GravityZone Advanced Business Security - R","Bitdefender GravityZone Advanced Business Security - EDU R","Bitdefender GravityZone Advanced Business Security - GOV R","Bitdefender GravityZone Advanced Business Security - CUPG",null,"Bitdefender Family pack 2016","1 year","Unlimited","Bitdefender Family pack 20161 yearUnlimited",81.93,"UL11151000-EN",99.95]
[{"$f":"IF(Products!$Z$8=$C$1,Q56,IF(Products!$Z$8=$C$2,R56,IF(Products!$Z$8=$C$3,S56,IF(Products!$Z$8=$C$4,T56,IF(Products!$Z$8=$C$5,W56,IF(Products!$Z$8=$C$6,U56,IF(Products!$Z$8=$C$7,V56)))))))","v":"Bitdefender GravityZone Advanced Business Security"},"2 years","250 - 499","Bitdefender GravityZone Advanced Business Security2 years250 - 499",null,41.34,{"$f":"IF(Products!$Z$8=$C$1,ROUND(F56*$B$3,2),IF(Products!$Z$8=$C$2,ROUND(F56*$B$3*(1+$D$2),2),IF(Products!$Z$8=$C$3,ROUND(F56*$B$3*(1+$D$3),2),IF(Products!$Z$8=$C$4,ROUND(F56*$B$3*(1+$D$4),2),IF(Products!$Z$8=$C$5,ROUND(F56*$B$3*(1+$D$5),2),IF(Products!$Z$8=$C$6,ROUND(F56*$B$3*(1+$D$6),2),IF(Products!$Z$8=$C$7,ROUND(F56*$B$3*(1+$D$7),2))))))))","v":41.34},{"$f":"IF(Products!$Z$8=$C$1,I56,IF(Products!$Z$8=$C$2,J56,IF(Products!$Z$8=$C$3,K56,IF(Products!$Z$8=$C$4,L56,IF(Products!$Z$8=$C$5,O56,IF(Products!$Z$8=$C$6,M56,IF(Products!$Z$8=$C$7,N56)))))))","v":"AL1287200G-EN"},"AL1287200G-EN","AL1587200G-EN","AL1687200G-EN","AL3287200G-EN","AL3587200G-EN","AL3687200G-EN","AL5287200G-EN",null,"Bitdefender GravityZone Advanced Business Security","Bitdefender GravityZone Advanced Business Security - EDU","Bitdefender GravityZone Advanced Business Security - GOV","Bitdefender GravityZone Advanced Business Security - R","Bitdefender GravityZone Advanced Business Security - EDU R","Bitdefender GravityZone Advanced Business Security - GOV R","Bitdefender GravityZone Advanced Business Security - CUPG",null,"Bitdefender Family pack 2016","2 years","Unlimited","Bitdefender Family pack 20162 yearsUnlimited",131.11000000000001,"UL11152000-EN",159.94999999999999]
[{"$f":"IF(Products!$Z$8=$C$1,Q57,IF(Products!$Z$8=$C$2,R57,IF(Products!$Z$8=$C$3,S57,IF(Products!$Z$8=$C$4,T57,IF(Products!$Z$8=$C$5,W57,IF(Products!$Z$8=$C$6,U57,IF(Products!$Z$8=$C$7,V57)))))))","v":"Bitdefender GravityZone Advanced Business Security"},"2 years","500 - 999","Bitdefender GravityZone Advanced Business Security2 years500 - 999",null,38.450000000000003,{"$f":"IF(Products!$Z$8=$C$1,ROUND(F57*$B$3,2),IF(Products!$Z$8=$C$2,ROUND(F57*$B$3*(1+$D$2),2),IF(Products!$Z$8=$C$3,ROUND(F57*$B$3*(1+$D$3),2),IF(Products!$Z$8=$C$4,ROUND(F57*$B$3*(1+$D$4),2),IF(Products!$Z$8=$C$5,ROUND(F57*$B$3*(1+$D$5),2),IF(Products!$Z$8=$C$6,ROUND(F57*$B$3*(1+$D$6),2),IF(Products!$Z$8=$C$7,ROUND(F57*$B$3*(1+$D$7),2))))))))","v":38.450000000000003},{"$f":"IF(Products!$Z$8=$C$1,I57,IF(Products!$Z$8=$C$2,J57,IF(Products!$Z$8=$C$3,K57,IF(Products!$Z$8=$C$4,L57,IF(Products!$Z$8=$C$5,O57,IF(Products!$Z$8=$C$6,M57,IF(Products!$Z$8=$C$7,N57)))))))","v":"AL1287200H-EN"},"AL1287200H-EN","AL1587200H-EN","AL1687200H-EN","AL3287200H-EN","AL3587200H-EN","AL3687200H-EN","AL5287200H-EN",null,"Bitdefender GravityZone Advanced Business Security","Bitdefender GravityZone Advanced Business Security - EDU","Bitdefender GravityZone Advanced Business Security - GOV","Bitdefender GravityZone Advanced Business Security - R","Bitdefender GravityZone Advanced Business Security - EDU R","Bitdefender GravityZone Advanced Business Security - GOV R","Bitdefender GravityZone Advanced Business Security - CUPG",null,"Bitdefender Family pack 2016","3 years","Unlimited","Bitdefender Family pack 20163 yearsUnlimited",163.89,"UL11153000-EN",199.95]
[{"$f":"IF(Products!$Z$8=$C$1,Q58,IF(Products!$Z$8=$C$2,R58,IF(Products!$Z$8=$C$3,S58,IF(Products!$Z$8=$C$4,T58,IF(Products!$Z$8=$C$5,W58,IF(Products!$Z$8=$C$6,U58,IF(Products!$Z$8=$C$7,V58)))))))","v":"Bitdefender GravityZone Advanced Business Security"},"2 years","1000 - 2999","Bitdefender GravityZone Advanced Business Security2 years1000 - 2999",null,36.53,{"$f":"IF(Products!$Z$8=$C$1,ROUND(F58*$B$3,2),IF(Products!$Z$8=$C$2,ROUND(F58*$B$3*(1+$D$2),2),IF(Products!$Z$8=$C$3,ROUND(F58*$B$3*(1+$D$3),2),IF(Products!$Z$8=$C$4,ROUND(F58*$B$3*(1+$D$4),2),IF(Products!$Z$8=$C$5,ROUND(F58*$B$3*(1+$D$5),2),IF(Products!$Z$8=$C$6,ROUND(F58*$B$3*(1+$D$6),2),IF(Products!$Z$8=$C$7,ROUND(F58*$B$3*(1+$D$7),2))))))))","v":36.53},{"$f":"IF(Products!$Z$8=$C$1,I58,IF(Products!$Z$8=$C$2,J58,IF(Products!$Z$8=$C$3,K58,IF(Products!$Z$8=$C$4,L58,IF(Products!$Z$8=$C$5,O58,IF(Products!$Z$8=$C$6,M58,IF(Products!$Z$8=$C$7,N58)))))))","v":"AL1287200I-EN"},"AL1287200I-EN","AL1587200I-EN","AL1687200I-EN","AL3287200I-EN","AL3587200I-EN","AL3687200I-EN","AL5287200I-EN",null,"Bitdefender GravityZone Advanced Business Security","Bitdefender GravityZone Advanced Business Security - EDU","Bitdefender GravityZone Advanced Business Security - GOV","Bitdefender GravityZone Advanced Business Security - R","Bitdefender GravityZone Advanced Business Security - EDU R","Bitdefender GravityZone Advanced Business Security - GOV R","Bitdefender GravityZone Advanced Business Security - CUPG",null,"Bitdefender Mobile Security for Android","1 year","1 device","Bitdefender Mobile Security for Android1 year1 device",8.16,"EL11311001-EN",9.9499999999999993]
[{"$f":"IF(Products!$Z$8=$C$1,Q59,IF(Products!$Z$8=$C$2,R59,IF(Products!$Z$8=$C$3,S59,IF(Products!$Z$8=$C$4,T59,IF(Products!$Z$8=$C$5,W59,IF(Products!$Z$8=$C$6,U59,IF(Products!$Z$8=$C$7,V59)))))))","v":"Bitdefender GravityZone Advanced Business Security"},"2 years","3000+","Bitdefender GravityZone Advanced Business Security2 years3000+",null,35.42,{"$f":"IF(Products!$Z$8=$C$1,ROUND(F59*$B$3,2),IF(Products!$Z$8=$C$2,ROUND(F59*$B$3*(1+$D$2),2),IF(Products!$Z$8=$C$3,ROUND(F59*$B$3*(1+$D$3),2),IF(Products!$Z$8=$C$4,ROUND(F59*$B$3*(1+$D$4),2),IF(Products!$Z$8=$C$5,ROUND(F59*$B$3*(1+$D$5),2),IF(Products!$Z$8=$C$6,ROUND(F59*$B$3*(1+$D$6),2),IF(Products!$Z$8=$C$7,ROUND(F59*$B$3*(1+$D$7),2))))))))","v":35.42},{"$f":"IF(Products!$Z$8=$C$1,I59,IF(Products!$Z$8=$C$2,J59,IF(Products!$Z$8=$C$3,K59,IF(Products!$Z$8=$C$4,L59,IF(Products!$Z$8=$C$5,O59,IF(Products!$Z$8=$C$6,M59,IF(Products!$Z$8=$C$7,N59)))))))","v":"AL1287200J-EN"},"AL1287200J-EN","AL1587200J-EN","AL1687200J-EN","AL3287200J-EN","AL3587200J-EN","AL3687200J-EN","AL5287200J-EN",null,"Bitdefender GravityZone Advanced Business Security","Bitdefender GravityZone Advanced Business Security - EDU","Bitdefender GravityZone Advanced Business Security - GOV","Bitdefender GravityZone Advanced Business Security - R","Bitdefender GravityZone Advanced Business Security - EDU R","Bitdefender GravityZone Advanced Business Security - GOV R","Bitdefender GravityZone Advanced Business Security - CUPG",null,"Bitdefender Antivirus  for Mac","1 year","1 Mac","Bitdefender Antivirus  for Mac1 year1 Mac",32.75,"TL11401001-EN",39.950000000000003]
[{"$f":"IF(Products!$Z$8=$C$1,Q60,IF(Products!$Z$8=$C$2,R60,IF(Products!$Z$8=$C$3,S60,IF(Products!$Z$8=$C$4,T60,IF(Products!$Z$8=$C$5,W60,IF(Products!$Z$8=$C$6,U60,IF(Products!$Z$8=$C$7,V60)))))))","v":"Bitdefender GravityZone Advanced Business Security"},"3 years","5 - 14","Bitdefender GravityZone Advanced Business Security3 years5 - 14",null,99.055999999999997,{"$f":"IF(Products!$Z$8=$C$1,ROUND(F60*$B$3,2),IF(Products!$Z$8=$C$2,ROUND(F60*$B$3*(1+$D$2),2),IF(Products!$Z$8=$C$3,ROUND(F60*$B$3*(1+$D$3),2),IF(Products!$Z$8=$C$4,ROUND(F60*$B$3*(1+$D$4),2),IF(Products!$Z$8=$C$5,ROUND(F60*$B$3*(1+$D$5),2),IF(Products!$Z$8=$C$6,ROUND(F60*$B$3*(1+$D$6),2),IF(Products!$Z$8=$C$7,ROUND(F60*$B$3*(1+$D$7),2))))))))","v":99.06},{"$f":"IF(Products!$Z$8=$C$1,I60,IF(Products!$Z$8=$C$2,J60,IF(Products!$Z$8=$C$3,K60,IF(Products!$Z$8=$C$4,L60,IF(Products!$Z$8=$C$5,O60,IF(Products!$Z$8=$C$6,M60,IF(Products!$Z$8=$C$7,N60)))))))","v":"AL1287300A-EN"},"AL1287300A-EN","AL1587300A-EN","AL1687300A-EN","AL3287300A-EN","AL3587300A-EN","AL3687300A-EN","AL5287300A-EN",null,"Bitdefender GravityZone Advanced Business Security","Bitdefender GravityZone Advanced Business Security - EDU","Bitdefender GravityZone Advanced Business Security - GOV","Bitdefender GravityZone Advanced Business Security - R","Bitdefender GravityZone Advanced Business Security - EDU R","Bitdefender GravityZone Advanced Business Security - GOV R","Bitdefender GravityZone Advanced Business Security - CUPG",null,"Bitdefender Antivirus  for Mac","1 year","3 Mac","Bitdefender Antivirus  for Mac1 year3 Mac",49.14,"TL11401003-EN",59.95]
[{"$f":"IF(Products!$Z$8=$C$1,Q61,IF(Products!$Z$8=$C$2,R61,IF(Products!$Z$8=$C$3,S61,IF(Products!$Z$8=$C$4,T61,IF(Products!$Z$8=$C$5,W61,IF(Products!$Z$8=$C$6,U61,IF(Products!$Z$8=$C$7,V61)))))))","v":"Bitdefender GravityZone Advanced Business Security"},"3 years","15 - 24","Bitdefender GravityZone Advanced Business Security3 years15 - 24",null,91.552999999999983,{"$f":"IF(Products!$Z$8=$C$1,ROUND(F61*$B$3,2),IF(Products!$Z$8=$C$2,ROUND(F61*$B$3*(1+$D$2),2),IF(Products!$Z$8=$C$3,ROUND(F61*$B$3*(1+$D$3),2),IF(Products!$Z$8=$C$4,ROUND(F61*$B$3*(1+$D$4),2),IF(Products!$Z$8=$C$5,ROUND(F61*$B$3*(1+$D$5),2),IF(Products!$Z$8=$C$6,ROUND(F61*$B$3*(1+$D$6),2),IF(Products!$Z$8=$C$7,ROUND(F61*$B$3*(1+$D$7),2))))))))","v":91.55},{"$f":"IF(Products!$Z$8=$C$1,I61,IF(Products!$Z$8=$C$2,J61,IF(Products!$Z$8=$C$3,K61,IF(Products!$Z$8=$C$4,L61,IF(Products!$Z$8=$C$5,O61,IF(Products!$Z$8=$C$6,M61,IF(Products!$Z$8=$C$7,N61)))))))","v":"AL1287300B-EN"},"AL1287300B-EN","AL1587300B-EN","AL1687300B-EN","AL3287300B-EN","AL3587300B-EN","AL3687300B-EN","AL5287300B-EN",null,"Bitdefender GravityZone Advanced Business Security","Bitdefender GravityZone Advanced Business Security - EDU","Bitdefender GravityZone Advanced Business Security - GOV","Bitdefender GravityZone Advanced Business Security - R","Bitdefender GravityZone Advanced Business Security - EDU R","Bitdefender GravityZone Advanced Business Security - GOV R","Bitdefender GravityZone Advanced Business Security - CUPG",null,"Bitdefender Antivirus  for Mac","2 years","1 Mac","Bitdefender Antivirus  for Mac2 years1 Mac",49.14,"TL11402001-EN",59.95]
[{"$f":"IF(Products!$Z$8=$C$1,Q62,IF(Products!$Z$8=$C$2,R62,IF(Products!$Z$8=$C$3,S62,IF(Products!$Z$8=$C$4,T62,IF(Products!$Z$8=$C$5,W62,IF(Products!$Z$8=$C$6,U62,IF(Products!$Z$8=$C$7,V62)))))))","v":"Bitdefender GravityZone Advanced Business Security"},"3 years","25 - 49","Bitdefender GravityZone Advanced Business Security3 years25 - 49",null,81.979500000000002,{"$f":"IF(Products!$Z$8=$C$1,ROUND(F62*$B$3,2),IF(Products!$Z$8=$C$2,ROUND(F62*$B$3*(1+$D$2),2),IF(Products!$Z$8=$C$3,ROUND(F62*$B$3*(1+$D$3),2),IF(Products!$Z$8=$C$4,ROUND(F62*$B$3*(1+$D$4),2),IF(Products!$Z$8=$C$5,ROUND(F62*$B$3*(1+$D$5),2),IF(Products!$Z$8=$C$6,ROUND(F62*$B$3*(1+$D$6),2),IF(Products!$Z$8=$C$7,ROUND(F62*$B$3*(1+$D$7),2))))))))","v":81.98},{"$f":"IF(Products!$Z$8=$C$1,I62,IF(Products!$Z$8=$C$2,J62,IF(Products!$Z$8=$C$3,K62,IF(Products!$Z$8=$C$4,L62,IF(Products!$Z$8=$C$5,O62,IF(Products!$Z$8=$C$6,M62,IF(Products!$Z$8=$C$7,N62)))))))","v":"AL1287300C-EN"},"AL1287300C-EN","AL1587300C-EN","AL1687300C-EN","AL3287300C-EN","AL3587300C-EN","AL3687300C-EN","AL5287300C-EN",null,"Bitdefender GravityZone Advanced Business Security","Bitdefender GravityZone Advanced Business Security - EDU","Bitdefender GravityZone Advanced Business Security - GOV","Bitdefender GravityZone Advanced Business Security - R","Bitdefender GravityZone Advanced Business Security - EDU R","Bitdefender GravityZone Advanced Business Security - GOV R","Bitdefender GravityZone Advanced Business Security - CUPG",null,"Bitdefender Antivirus  for Mac","2 years","3 Mac","Bitdefender Antivirus  for Mac2 years3 Mac",73.73,"TL11402003-EN",89.95]
[{"$f":"IF(Products!$Z$8=$C$1,Q63,IF(Products!$Z$8=$C$2,R63,IF(Products!$Z$8=$C$3,S63,IF(Products!$Z$8=$C$4,T63,IF(Products!$Z$8=$C$5,W63,IF(Products!$Z$8=$C$6,U63,IF(Products!$Z$8=$C$7,V63)))))))","v":"Bitdefender GravityZone Advanced Business Security"},"3 years","50 - 99","Bitdefender GravityZone Advanced Business Security3 years50 - 99",null,73.779499999999999,{"$f":"IF(Products!$Z$8=$C$1,ROUND(F63*$B$3,2),IF(Products!$Z$8=$C$2,ROUND(F63*$B$3*(1+$D$2),2),IF(Products!$Z$8=$C$3,ROUND(F63*$B$3*(1+$D$3),2),IF(Products!$Z$8=$C$4,ROUND(F63*$B$3*(1+$D$4),2),IF(Products!$Z$8=$C$5,ROUND(F63*$B$3*(1+$D$5),2),IF(Products!$Z$8=$C$6,ROUND(F63*$B$3*(1+$D$6),2),IF(Products!$Z$8=$C$7,ROUND(F63*$B$3*(1+$D$7),2))))))))","v":73.78},{"$f":"IF(Products!$Z$8=$C$1,I63,IF(Products!$Z$8=$C$2,J63,IF(Products!$Z$8=$C$3,K63,IF(Products!$Z$8=$C$4,L63,IF(Products!$Z$8=$C$5,O63,IF(Products!$Z$8=$C$6,M63,IF(Products!$Z$8=$C$7,N63)))))))","v":"AL1287300D-EN"},"AL1287300D-EN","AL1587300D-EN","AL1687300D-EN","AL3287300D-EN","AL3587300D-EN","AL3687300D-EN","AL5287300D-EN",null,"Bitdefender GravityZone Advanced Business Security","Bitdefender GravityZone Advanced Business Security - EDU","Bitdefender GravityZone Advanced Business Security - GOV","Bitdefender GravityZone Advanced Business Security - R","Bitdefender GravityZone Advanced Business Security - EDU R","Bitdefender GravityZone Advanced Business Security - GOV R","Bitdefender GravityZone Advanced Business Security - CUPG",null,"Bitdefender Antivirus  for Mac","3 years","1 Mac","Bitdefender Antivirus  for Mac3 years1 Mac",73.73,"TL11403001-EN",89.95]
[{"$f":"IF(Products!$Z$8=$C$1,Q64,IF(Products!$Z$8=$C$2,R64,IF(Products!$Z$8=$C$3,S64,IF(Products!$Z$8=$C$4,T64,IF(Products!$Z$8=$C$5,W64,IF(Products!$Z$8=$C$6,U64,IF(Products!$Z$8=$C$7,V64)))))))","v":"Bitdefender GravityZone Advanced Business Security"},"3 years","100 - 149","Bitdefender GravityZone Advanced Business Security3 years100 - 149",null,66.952999999999989,{"$f":"IF(Products!$Z$8=$C$1,ROUND(F64*$B$3,2),IF(Products!$Z$8=$C$2,ROUND(F64*$B$3*(1+$D$2),2),IF(Products!$Z$8=$C$3,ROUND(F64*$B$3*(1+$D$3),2),IF(Products!$Z$8=$C$4,ROUND(F64*$B$3*(1+$D$4),2),IF(Products!$Z$8=$C$5,ROUND(F64*$B$3*(1+$D$5),2),IF(Products!$Z$8=$C$6,ROUND(F64*$B$3*(1+$D$6),2),IF(Products!$Z$8=$C$7,ROUND(F64*$B$3*(1+$D$7),2))))))))","v":66.95},{"$f":"IF(Products!$Z$8=$C$1,I64,IF(Products!$Z$8=$C$2,J64,IF(Products!$Z$8=$C$3,K64,IF(Products!$Z$8=$C$4,L64,IF(Products!$Z$8=$C$5,O64,IF(Products!$Z$8=$C$6,M64,IF(Products!$Z$8=$C$7,N64)))))))","v":"AL1287300E-EN"},"AL1287300E-EN","AL1587300E-EN","AL1687300E-EN","AL3287300E-EN","AL3587300E-EN","AL3687300E-EN","AL5287300E-EN",null,"Bitdefender GravityZone Advanced Business Security","Bitdefender GravityZone Advanced Business Security - EDU","Bitdefender GravityZone Advanced Business Security - GOV","Bitdefender GravityZone Advanced Business Security - R","Bitdefender GravityZone Advanced Business Security - EDU R","Bitdefender GravityZone Advanced Business Security - GOV R","Bitdefender GravityZone Advanced Business Security - CUPG",null,"Bitdefender Antivirus  for Mac","3 years","3 Mac","Bitdefender Antivirus  for Mac3 years3 Mac",106.52,"TL11403003-EN",129.94999999999999]
[{"$f":"IF(Products!$Z$8=$C$1,Q65,IF(Products!$Z$8=$C$2,R65,IF(Products!$Z$8=$C$3,S65,IF(Products!$Z$8=$C$4,T65,IF(Products!$Z$8=$C$5,W65,IF(Products!$Z$8=$C$6,U65,IF(Products!$Z$8=$C$7,V65)))))))","v":"Bitdefender GravityZone Advanced Business Security"},"3 years","150 - 249","Bitdefender GravityZone Advanced Business Security3 years150 - 249",null,57.584499999999991,{"$f":"IF(Products!$Z$8=$C$1,ROUND(F65*$B$3,2),IF(Products!$Z$8=$C$2,ROUND(F65*$B$3*(1+$D$2),2),IF(Products!$Z$8=$C$3,ROUND(F65*$B$3*(1+$D$3),2),IF(Products!$Z$8=$C$4,ROUND(F65*$B$3*(1+$D$4),2),IF(Products!$Z$8=$C$5,ROUND(F65*$B$3*(1+$D$5),2),IF(Products!$Z$8=$C$6,ROUND(F65*$B$3*(1+$D$6),2),IF(Products!$Z$8=$C$7,ROUND(F65*$B$3*(1+$D$7),2))))))))","v":57.58},{"$f":"IF(Products!$Z$8=$C$1,I65,IF(Products!$Z$8=$C$2,J65,IF(Products!$Z$8=$C$3,K65,IF(Products!$Z$8=$C$4,L65,IF(Products!$Z$8=$C$5,O65,IF(Products!$Z$8=$C$6,M65,IF(Products!$Z$8=$C$7,N65)))))))","v":"AL1287300F-EN"},"AL1287300F-EN","AL1587300F-EN","AL1687300F-EN","AL3287300F-EN","AL3587300F-EN","AL3687300F-EN","AL5287300F-EN",null,"Bitdefender GravityZone Advanced Business Security","Bitdefender GravityZone Advanced Business Security - EDU","Bitdefender GravityZone Advanced Business Security - GOV","Bitdefender GravityZone Advanced Business Security - R","Bitdefender GravityZone Advanced Business Security - EDU R","Bitdefender GravityZone Advanced Business Security - GOV R","Bitdefender GravityZone Advanced Business Security - CUPG"]
[{"$f":"IF(Products!$Z$8=$C$1,Q66,IF(Products!$Z$8=$C$2,R66,IF(Products!$Z$8=$C$3,S66,IF(Products!$Z$8=$C$4,T66,IF(Products!$Z$8=$C$5,W66,IF(Products!$Z$8=$C$6,U66,IF(Products!$Z$8=$C$7,V66)))))))","v":"Bitdefender GravityZone Advanced Business Security"},"3 years","250 - 499","Bitdefender GravityZone Advanced Business Security3 years250 - 499",null,52.971999999999994,{"$f":"IF(Products!$Z$8=$C$1,ROUND(F66*$B$3,2),IF(Products!$Z$8=$C$2,ROUND(F66*$B$3*(1+$D$2),2),IF(Products!$Z$8=$C$3,ROUND(F66*$B$3*(1+$D$3),2),IF(Products!$Z$8=$C$4,ROUND(F66*$B$3*(1+$D$4),2),IF(Products!$Z$8=$C$5,ROUND(F66*$B$3*(1+$D$5),2),IF(Products!$Z$8=$C$6,ROUND(F66*$B$3*(1+$D$6),2),IF(Products!$Z$8=$C$7,ROUND(F66*$B$3*(1+$D$7),2))))))))","v":52.97},{"$f":"IF(Products!$Z$8=$C$1,I66,IF(Products!$Z$8=$C$2,J66,IF(Products!$Z$8=$C$3,K66,IF(Products!$Z$8=$C$4,L66,IF(Products!$Z$8=$C$5,O66,IF(Products!$Z$8=$C$6,M66,IF(Products!$Z$8=$C$7,N66)))))))","v":"AL1287300G-EN"},"AL1287300G-EN","AL1587300G-EN","AL1687300G-EN","AL3287300G-EN","AL3587300G-EN","AL3687300G-EN","AL5287300G-EN",null,"Bitdefender GravityZone Advanced Business Security","Bitdefender GravityZone Advanced Business Security - EDU","Bitdefender GravityZone Advanced Business Security - GOV","Bitdefender GravityZone Advanced Business Security - R","Bitdefender GravityZone Advanced Business Security - EDU R","Bitdefender GravityZone Advanced Business Security - GOV R","Bitdefender GravityZone Advanced Business Security - CUPG"]
[{"$f":"IF(Products!$Z$8=$C$1,Q67,IF(Products!$Z$8=$C$2,R67,IF(Products!$Z$8=$C$3,S67,IF(Products!$Z$8=$C$4,T67,IF(Products!$Z$8=$C$5,W67,IF(Products!$Z$8=$C$6,U67,IF(Products!$Z$8=$C$7,V67)))))))","v":"Bitdefender GravityZone Advanced Business Security"},"3 years","500 - 999","Bitdefender GravityZone Advanced Business Security3 years500 - 999",null,49.261499999999998,{"$f":"IF(Products!$Z$8=$C$1,ROUND(F67*$B$3,2),IF(Products!$Z$8=$C$2,ROUND(F67*$B$3*(1+$D$2),2),IF(Products!$Z$8=$C$3,ROUND(F67*$B$3*(1+$D$3),2),IF(Products!$Z$8=$C$4,ROUND(F67*$B$3*(1+$D$4),2),IF(Products!$Z$8=$C$5,ROUND(F67*$B$3*(1+$D$5),2),IF(Products!$Z$8=$C$6,ROUND(F67*$B$3*(1+$D$6),2),IF(Products!$Z$8=$C$7,ROUND(F67*$B$3*(1+$D$7),2))))))))","v":49.26},{"$f":"IF(Products!$Z$8=$C$1,I67,IF(Products!$Z$8=$C$2,J67,IF(Products!$Z$8=$C$3,K67,IF(Products!$Z$8=$C$4,L67,IF(Products!$Z$8=$C$5,O67,IF(Products!$Z$8=$C$6,M67,IF(Products!$Z$8=$C$7,N67)))))))","v":"AL1287300H-EN"},"AL1287300H-EN","AL1587300H-EN","AL1687300H-EN","AL3287300H-EN","AL3587300H-EN","AL3687300H-EN","AL5287300H-EN",null,"Bitdefender GravityZone Advanced Business Security","Bitdefender GravityZone Advanced Business Security - EDU","Bitdefender GravityZone Advanced Business Security - GOV","Bitdefender GravityZone Advanced Business Security - R","Bitdefender GravityZone Advanced Business Security - EDU R","Bitdefender GravityZone Advanced Business Security - GOV R","Bitdefender GravityZone Advanced Business Security - CUPG"]
[{"$f":"IF(Products!$Z$8=$C$1,Q68,IF(Products!$Z$8=$C$2,R68,IF(Products!$Z$8=$C$3,S68,IF(Products!$Z$8=$C$4,T68,IF(Products!$Z$8=$C$5,W68,IF(Products!$Z$8=$C$6,U68,IF(Products!$Z$8=$C$7,V68)))))))","v":"Bitdefender GravityZone Advanced Business Security"},"3 years","1000 - 2999","Bitdefender GravityZone Advanced Business Security3 years1000 - 2999",null,46.80149999999999,{"$f":"IF(Products!$Z$8=$C$1,ROUND(F68*$B$3,2),IF(Products!$Z$8=$C$2,ROUND(F68*$B$3*(1+$D$2),2),IF(Products!$Z$8=$C$3,ROUND(F68*$B$3*(1+$D$3),2),IF(Products!$Z$8=$C$4,ROUND(F68*$B$3*(1+$D$4),2),IF(Products!$Z$8=$C$5,ROUND(F68*$B$3*(1+$D$5),2),IF(Products!$Z$8=$C$6,ROUND(F68*$B$3*(1+$D$6),2),IF(Products!$Z$8=$C$7,ROUND(F68*$B$3*(1+$D$7),2))))))))","v":46.8},{"$f":"IF(Products!$Z$8=$C$1,I68,IF(Products!$Z$8=$C$2,J68,IF(Products!$Z$8=$C$3,K68,IF(Products!$Z$8=$C$4,L68,IF(Products!$Z$8=$C$5,O68,IF(Products!$Z$8=$C$6,M68,IF(Products!$Z$8=$C$7,N68)))))))","v":"AL1287300I-EN"},"AL1287300I-EN","AL1587300I-EN","AL1687300I-EN","AL3287300I-EN","AL3587300I-EN","AL3687300I-EN","AL5287300I-EN",null,"Bitdefender GravityZone Advanced Business Security","Bitdefender GravityZone Advanced Business Security - EDU","Bitdefender GravityZone Advanced Business Security - GOV","Bitdefender GravityZone Advanced Business Security - R","Bitdefender GravityZone Advanced Business Security - EDU R","Bitdefender GravityZone Advanced Business Security - GOV R","Bitdefender GravityZone Advanced Business Security - CUPG"]
[{"$f":"IF(Products!$Z$8=$C$1,Q69,IF(Products!$Z$8=$C$2,R69,IF(Products!$Z$8=$C$3,S69,IF(Products!$Z$8=$C$4,T69,IF(Products!$Z$8=$C$5,W69,IF(Products!$Z$8=$C$6,U69,IF(Products!$Z$8=$C$7,V69)))))))","v":"Bitdefender GravityZone Advanced Business Security"},"3 years","3000+","Bitdefender GravityZone Advanced Business Security3 years3000+",null,45.387,{"$f":"IF(Products!$Z$8=$C$1,ROUND(F69*$B$3,2),IF(Products!$Z$8=$C$2,ROUND(F69*$B$3*(1+$D$2),2),IF(Products!$Z$8=$C$3,ROUND(F69*$B$3*(1+$D$3),2),IF(Products!$Z$8=$C$4,ROUND(F69*$B$3*(1+$D$4),2),IF(Products!$Z$8=$C$5,ROUND(F69*$B$3*(1+$D$5),2),IF(Products!$Z$8=$C$6,ROUND(F69*$B$3*(1+$D$6),2),IF(Products!$Z$8=$C$7,ROUND(F69*$B$3*(1+$D$7),2))))))))","v":45.39},{"$f":"IF(Products!$Z$8=$C$1,I69,IF(Products!$Z$8=$C$2,J69,IF(Products!$Z$8=$C$3,K69,IF(Products!$Z$8=$C$4,L69,IF(Products!$Z$8=$C$5,O69,IF(Products!$Z$8=$C$6,M69,IF(Products!$Z$8=$C$7,N69)))))))","v":"AL1287300J-EN"},"AL1287300J-EN","AL1587300J-EN","AL1687300J-EN","AL3287300J-EN","AL3587300J-EN","AL3687300J-EN","AL5287300J-EN",null,"Bitdefender GravityZone Advanced Business Security","Bitdefender GravityZone Advanced Business Security - EDU","Bitdefender GravityZone Advanced Business Security - GOV","Bitdefender GravityZone Advanced Business Security - R","Bitdefender GravityZone Advanced Business Security - EDU R","Bitdefender GravityZone Advanced Business Security - GOV R","Bitdefender GravityZone Advanced Business Security - CUPG"]
[{"$f":"IF(Products!$Z$8=$C$1,Q70,IF(Products!$Z$8=$C$2,R70,IF(Products!$Z$8=$C$3,S70,IF(Products!$Z$8=$C$4,T70,IF(Products!$Z$8=$C$5,W70,IF(Products!$Z$8=$C$6,U70,IF(Products!$Z$8=$C$7,V70)))))))","v":"GravityZone Security for Virtualized Environments VDI"},"1 year","5 - 14","GravityZone Security for Virtualized Environments VDI1 year5 - 14",null,31,{"$f":"IF(Products!$Z$8=$C$1,ROUND(F70*$B$3,2),IF(Products!$Z$8=$C$2,ROUND(F70*$B$3*(1+$D$2),2),IF(Products!$Z$8=$C$3,ROUND(F70*$B$3*(1+$D$3),2),IF(Products!$Z$8=$C$4,ROUND(F70*$B$3*(1+$D$4),2),IF(Products!$Z$8=$C$5,ROUND(F70*$B$3*(1+$D$5),2),IF(Products!$Z$8=$C$6,ROUND(F70*$B$3*(1+$D$6),2),IF(Products!$Z$8=$C$7,ROUND(F70*$B$3*(1+$D$7),2))))))))","v":31},{"$f":"IF(Products!$Z$8=$C$1,I70,IF(Products!$Z$8=$C$2,J70,IF(Products!$Z$8=$C$3,K70,IF(Products!$Z$8=$C$4,L70,IF(Products!$Z$8=$C$5,O70,IF(Products!$Z$8=$C$6,M70,IF(Products!$Z$8=$C$7,N70)))))))","v":"BL1211100A-EN"},"BL1211100A-EN","BL1511100A-EN","BL1611100A-EN","BL3211100A-EN","BL3511100A-EN","BL3611100A-EN","BL5211100A-EN",null,"GravityZone Security for Virtualized Environments VDI",{"$f":"CONCATENATE(Q70,\" - EDU\")","v":"GravityZone Security for Virtualized Environments VDI - EDU"},{"$f":"CONCATENATE(Q70,\" - GOV\")","v":"GravityZone Security for Virtualized Environments VDI - GOV"},{"$f":"CONCATENATE(Q70,\" - R\")","v":"GravityZone Security for Virtualized Environments VDI - R"},{"$f":"CONCATENATE(Q70,\" - EDU R\")","v":"GravityZone Security for Virtualized Environments VDI - EDU R"},{"$f":"CONCATENATE(Q70,\" - GOV R\")","v":"GravityZone Security for Virtualized Environments VDI - GOV R"},{"$f":"CONCATENATE(Q70,\" - CUPG\")","v":"GravityZone Security for Virtualized Environments VDI - CUPG"}]
[{"$f":"IF(Products!$Z$8=$C$1,Q71,IF(Products!$Z$8=$C$2,R71,IF(Products!$Z$8=$C$3,S71,IF(Products!$Z$8=$C$4,T71,IF(Products!$Z$8=$C$5,W71,IF(Products!$Z$8=$C$6,U71,IF(Products!$Z$8=$C$7,V71)))))))","v":"GravityZone Security for Virtualized Environments VDI"},"1 year","15 - 24","GravityZone Security for Virtualized Environments VDI1 year15 - 24",null,29.75,{"$f":"IF(Products!$Z$8=$C$1,ROUND(F71*$B$3,2),IF(Products!$Z$8=$C$2,ROUND(F71*$B$3*(1+$D$2),2),IF(Products!$Z$8=$C$3,ROUND(F71*$B$3*(1+$D$3),2),IF(Products!$Z$8=$C$4,ROUND(F71*$B$3*(1+$D$4),2),IF(Products!$Z$8=$C$5,ROUND(F71*$B$3*(1+$D$5),2),IF(Products!$Z$8=$C$6,ROUND(F71*$B$3*(1+$D$6),2),IF(Products!$Z$8=$C$7,ROUND(F71*$B$3*(1+$D$7),2))))))))","v":29.75},{"$f":"IF(Products!$Z$8=$C$1,I71,IF(Products!$Z$8=$C$2,J71,IF(Products!$Z$8=$C$3,K71,IF(Products!$Z$8=$C$4,L71,IF(Products!$Z$8=$C$5,O71,IF(Products!$Z$8=$C$6,M71,IF(Products!$Z$8=$C$7,N71)))))))","v":"BL1211100B-EN"},"BL1211100B-EN","BL1511100B-EN","BL1611100B-EN","BL3211100B-EN","BL3511100B-EN","BL3611100B-EN","BL5211100B-EN",null,"GravityZone Security for Virtualized Environments VDI","GravityZone Security for Virtualized Environments VDI - EDU","GravityZone Security for Virtualized Environments VDI - GOV","GravityZone Security for Virtualized Environments VDI - R","GravityZone Security for Virtualized Environments VDI - EDU R","GravityZone Security for Virtualized Environments VDI - GOV R","GravityZone Security for Virtualized Environments VDI - CUPG"]
[{"$f":"IF(Products!$Z$8=$C$1,Q72,IF(Products!$Z$8=$C$2,R72,IF(Products!$Z$8=$C$3,S72,IF(Products!$Z$8=$C$4,T72,IF(Products!$Z$8=$C$5,W72,IF(Products!$Z$8=$C$6,U72,IF(Products!$Z$8=$C$7,V72)))))))","v":"GravityZone Security for Virtualized Environments VDI"},"1 year","25 - 49","GravityZone Security for Virtualized Environments VDI1 year25 - 49",null,28.25,{"$f":"IF(Products!$Z$8=$C$1,ROUND(F72*$B$3,2),IF(Products!$Z$8=$C$2,ROUND(F72*$B$3*(1+$D$2),2),IF(Products!$Z$8=$C$3,ROUND(F72*$B$3*(1+$D$3),2),IF(Products!$Z$8=$C$4,ROUND(F72*$B$3*(1+$D$4),2),IF(Products!$Z$8=$C$5,ROUND(F72*$B$3*(1+$D$5),2),IF(Products!$Z$8=$C$6,ROUND(F72*$B$3*(1+$D$6),2),IF(Products!$Z$8=$C$7,ROUND(F72*$B$3*(1+$D$7),2))))))))","v":28.25},{"$f":"IF(Products!$Z$8=$C$1,I72,IF(Products!$Z$8=$C$2,J72,IF(Products!$Z$8=$C$3,K72,IF(Products!$Z$8=$C$4,L72,IF(Products!$Z$8=$C$5,O72,IF(Products!$Z$8=$C$6,M72,IF(Products!$Z$8=$C$7,N72)))))))","v":"BL1211100C-EN"},"BL1211100C-EN","BL1511100C-EN","BL1611100C-EN","BL3211100C-EN","BL3511100C-EN","BL3611100C-EN","BL5211100C-EN",null,"GravityZone Security for Virtualized Environments VDI","GravityZone Security for Virtualized Environments VDI - EDU","GravityZone Security for Virtualized Environments VDI - GOV","GravityZone Security for Virtualized Environments VDI - R","GravityZone Security for Virtualized Environments VDI - EDU R","GravityZone Security for Virtualized Environments VDI - GOV R","GravityZone Security for Virtualized Environments VDI - CUPG"]
[{"$f":"IF(Products!$Z$8=$C$1,Q73,IF(Products!$Z$8=$C$2,R73,IF(Products!$Z$8=$C$3,S73,IF(Products!$Z$8=$C$4,T73,IF(Products!$Z$8=$C$5,W73,IF(Products!$Z$8=$C$6,U73,IF(Products!$Z$8=$C$7,V73)))))))","v":"GravityZone Security for Virtualized Environments VDI"},"1 year","50 - 99","GravityZone Security for Virtualized Environments VDI1 year50 - 99",null,26.3,{"$f":"IF(Products!$Z$8=$C$1,ROUND(F73*$B$3,2),IF(Products!$Z$8=$C$2,ROUND(F73*$B$3*(1+$D$2),2),IF(Products!$Z$8=$C$3,ROUND(F73*$B$3*(1+$D$3),2),IF(Products!$Z$8=$C$4,ROUND(F73*$B$3*(1+$D$4),2),IF(Products!$Z$8=$C$5,ROUND(F73*$B$3*(1+$D$5),2),IF(Products!$Z$8=$C$6,ROUND(F73*$B$3*(1+$D$6),2),IF(Products!$Z$8=$C$7,ROUND(F73*$B$3*(1+$D$7),2))))))))","v":26.3},{"$f":"IF(Products!$Z$8=$C$1,I73,IF(Products!$Z$8=$C$2,J73,IF(Products!$Z$8=$C$3,K73,IF(Products!$Z$8=$C$4,L73,IF(Products!$Z$8=$C$5,O73,IF(Products!$Z$8=$C$6,M73,IF(Products!$Z$8=$C$7,N73)))))))","v":"BL1211100D-EN"},"BL1211100D-EN","BL1511100D-EN","BL1611100D-EN","BL3211100D-EN","BL3511100D-EN","BL3611100D-EN","BL5211100D-EN",null,"GravityZone Security for Virtualized Environments VDI","GravityZone Security for Virtualized Environments VDI - EDU","GravityZone Security for Virtualized Environments VDI - GOV","GravityZone Security for Virtualized Environments VDI - R","GravityZone Security for Virtualized Environments VDI - EDU R","GravityZone Security for Virtualized Environments VDI - GOV R","GravityZone Security for Virtualized Environments VDI - CUPG"]
[{"$f":"IF(Products!$Z$8=$C$1,Q74,IF(Products!$Z$8=$C$2,R74,IF(Products!$Z$8=$C$3,S74,IF(Products!$Z$8=$C$4,T74,IF(Products!$Z$8=$C$5,W74,IF(Products!$Z$8=$C$6,U74,IF(Products!$Z$8=$C$7,V74)))))))","v":"GravityZone Security for Virtualized Environments VDI"},"1 year","100 - 149","GravityZone Security for Virtualized Environments VDI1 year100 - 149",null,23.9,{"$f":"IF(Products!$Z$8=$C$1,ROUND(F74*$B$3,2),IF(Products!$Z$8=$C$2,ROUND(F74*$B$3*(1+$D$2),2),IF(Products!$Z$8=$C$3,ROUND(F74*$B$3*(1+$D$3),2),IF(Products!$Z$8=$C$4,ROUND(F74*$B$3*(1+$D$4),2),IF(Products!$Z$8=$C$5,ROUND(F74*$B$3*(1+$D$5),2),IF(Products!$Z$8=$C$6,ROUND(F74*$B$3*(1+$D$6),2),IF(Products!$Z$8=$C$7,ROUND(F74*$B$3*(1+$D$7),2))))))))","v":23.9},{"$f":"IF(Products!$Z$8=$C$1,I74,IF(Products!$Z$8=$C$2,J74,IF(Products!$Z$8=$C$3,K74,IF(Products!$Z$8=$C$4,L74,IF(Products!$Z$8=$C$5,O74,IF(Products!$Z$8=$C$6,M74,IF(Products!$Z$8=$C$7,N74)))))))","v":"BL1211100E-EN"},"BL1211100E-EN","BL1511100E-EN","BL1611100E-EN","BL3211100E-EN","BL3511100E-EN","BL3611100E-EN","BL5211100E-EN",null,"GravityZone Security for Virtualized Environments VDI","GravityZone Security for Virtualized Environments VDI - EDU","GravityZone Security for Virtualized Environments VDI - GOV","GravityZone Security for Virtualized Environments VDI - R","GravityZone Security for Virtualized Environments VDI - EDU R","GravityZone Security for Virtualized Environments VDI - GOV R","GravityZone Security for Virtualized Environments VDI - CUPG"]
[{"$f":"IF(Products!$Z$8=$C$1,Q75,IF(Products!$Z$8=$C$2,R75,IF(Products!$Z$8=$C$3,S75,IF(Products!$Z$8=$C$4,T75,IF(Products!$Z$8=$C$5,W75,IF(Products!$Z$8=$C$6,U75,IF(Products!$Z$8=$C$7,V75)))))))","v":"GravityZone Security for Virtualized Environments VDI"},"1 year","150 - 249","GravityZone Security for Virtualized Environments VDI1 year150 - 249",null,22.65,{"$f":"IF(Products!$Z$8=$C$1,ROUND(F75*$B$3,2),IF(Products!$Z$8=$C$2,ROUND(F75*$B$3*(1+$D$2),2),IF(Products!$Z$8=$C$3,ROUND(F75*$B$3*(1+$D$3),2),IF(Products!$Z$8=$C$4,ROUND(F75*$B$3*(1+$D$4),2),IF(Products!$Z$8=$C$5,ROUND(F75*$B$3*(1+$D$5),2),IF(Products!$Z$8=$C$6,ROUND(F75*$B$3*(1+$D$6),2),IF(Products!$Z$8=$C$7,ROUND(F75*$B$3*(1+$D$7),2))))))))","v":22.65},{"$f":"IF(Products!$Z$8=$C$1,I75,IF(Products!$Z$8=$C$2,J75,IF(Products!$Z$8=$C$3,K75,IF(Products!$Z$8=$C$4,L75,IF(Products!$Z$8=$C$5,O75,IF(Products!$Z$8=$C$6,M75,IF(Products!$Z$8=$C$7,N75)))))))","v":"BL1211100F-EN"},"BL1211100F-EN","BL1511100F-EN","BL1611100F-EN","BL3211100F-EN","BL3511100F-EN","BL3611100F-EN","BL5211100F-EN",null,"GravityZone Security for Virtualized Environments VDI","GravityZone Security for Virtualized Environments VDI - EDU","GravityZone Security for Virtualized Environments VDI - GOV","GravityZone Security for Virtualized Environments VDI - R","GravityZone Security for Virtualized Environments VDI - EDU R","GravityZone Security for Virtualized Environments VDI - GOV R","GravityZone Security for Virtualized Environments VDI - CUPG"]
[{"$f":"IF(Products!$Z$8=$C$1,Q76,IF(Products!$Z$8=$C$2,R76,IF(Products!$Z$8=$C$3,S76,IF(Products!$Z$8=$C$4,T76,IF(Products!$Z$8=$C$5,W76,IF(Products!$Z$8=$C$6,U76,IF(Products!$Z$8=$C$7,V76)))))))","v":"GravityZone Security for Virtualized Environments VDI"},"1 year","250 - 499","GravityZone Security for Virtualized Environments VDI1 year250 - 499",null,20.399999999999999,{"$f":"IF(Products!$Z$8=$C$1,ROUND(F76*$B$3,2),IF(Products!$Z$8=$C$2,ROUND(F76*$B$3*(1+$D$2),2),IF(Products!$Z$8=$C$3,ROUND(F76*$B$3*(1+$D$3),2),IF(Products!$Z$8=$C$4,ROUND(F76*$B$3*(1+$D$4),2),IF(Products!$Z$8=$C$5,ROUND(F76*$B$3*(1+$D$5),2),IF(Products!$Z$8=$C$6,ROUND(F76*$B$3*(1+$D$6),2),IF(Products!$Z$8=$C$7,ROUND(F76*$B$3*(1+$D$7),2))))))))","v":20.399999999999999},{"$f":"IF(Products!$Z$8=$C$1,I76,IF(Products!$Z$8=$C$2,J76,IF(Products!$Z$8=$C$3,K76,IF(Products!$Z$8=$C$4,L76,IF(Products!$Z$8=$C$5,O76,IF(Products!$Z$8=$C$6,M76,IF(Products!$Z$8=$C$7,N76)))))))","v":"BL1211100G-EN"},"BL1211100G-EN","BL1511100G-EN","BL1611100G-EN","BL3211100G-EN","BL3511100G-EN","BL3611100G-EN","BL5211100G-EN",null,"GravityZone Security for Virtualized Environments VDI","GravityZone Security for Virtualized Environments VDI - EDU","GravityZone Security for Virtualized Environments VDI - GOV","GravityZone Security for Virtualized Environments VDI - R","GravityZone Security for Virtualized Environments VDI - EDU R","GravityZone Security for Virtualized Environments VDI - GOV R","GravityZone Security for Virtualized Environments VDI - CUPG"]
[{"$f":"IF(Products!$Z$8=$C$1,Q77,IF(Products!$Z$8=$C$2,R77,IF(Products!$Z$8=$C$3,S77,IF(Products!$Z$8=$C$4,T77,IF(Products!$Z$8=$C$5,W77,IF(Products!$Z$8=$C$6,U77,IF(Products!$Z$8=$C$7,V77)))))))","v":"GravityZone Security for Virtualized Environments VDI"},"1 year","500 - 999","GravityZone Security for Virtualized Environments VDI1 year500 - 999",null,18.350000000000001,{"$f":"IF(Products!$Z$8=$C$1,ROUND(F77*$B$3,2),IF(Products!$Z$8=$C$2,ROUND(F77*$B$3*(1+$D$2),2),IF(Products!$Z$8=$C$3,ROUND(F77*$B$3*(1+$D$3),2),IF(Products!$Z$8=$C$4,ROUND(F77*$B$3*(1+$D$4),2),IF(Products!$Z$8=$C$5,ROUND(F77*$B$3*(1+$D$5),2),IF(Products!$Z$8=$C$6,ROUND(F77*$B$3*(1+$D$6),2),IF(Products!$Z$8=$C$7,ROUND(F77*$B$3*(1+$D$7),2))))))))","v":18.350000000000001},{"$f":"IF(Products!$Z$8=$C$1,I77,IF(Products!$Z$8=$C$2,J77,IF(Products!$Z$8=$C$3,K77,IF(Products!$Z$8=$C$4,L77,IF(Products!$Z$8=$C$5,O77,IF(Products!$Z$8=$C$6,M77,IF(Products!$Z$8=$C$7,N77)))))))","v":"BL1211100H-EN"},"BL1211100H-EN","BL1511100H-EN","BL1611100H-EN","BL3211100H-EN","BL3511100H-EN","BL3611100H-EN","BL5211100H-EN",null,"GravityZone Security for Virtualized Environments VDI","GravityZone Security for Virtualized Environments VDI - EDU","GravityZone Security for Virtualized Environments VDI - GOV","GravityZone Security for Virtualized Environments VDI - R","GravityZone Security for Virtualized Environments VDI - EDU R","GravityZone Security for Virtualized Environments VDI - GOV R","GravityZone Security for Virtualized Environments VDI - CUPG"]
[{"$f":"IF(Products!$Z$8=$C$1,Q78,IF(Products!$Z$8=$C$2,R78,IF(Products!$Z$8=$C$3,S78,IF(Products!$Z$8=$C$4,T78,IF(Products!$Z$8=$C$5,W78,IF(Products!$Z$8=$C$6,U78,IF(Products!$Z$8=$C$7,V78)))))))","v":"GravityZone Security for Virtualized Environments VDI"},"1 year","1000 - 2999","GravityZone Security for Virtualized Environments VDI1 year1000 - 2999",null,16.5,{"$f":"IF(Products!$Z$8=$C$1,ROUND(F78*$B$3,2),IF(Products!$Z$8=$C$2,ROUND(F78*$B$3*(1+$D$2),2),IF(Products!$Z$8=$C$3,ROUND(F78*$B$3*(1+$D$3),2),IF(Products!$Z$8=$C$4,ROUND(F78*$B$3*(1+$D$4),2),IF(Products!$Z$8=$C$5,ROUND(F78*$B$3*(1+$D$5),2),IF(Products!$Z$8=$C$6,ROUND(F78*$B$3*(1+$D$6),2),IF(Products!$Z$8=$C$7,ROUND(F78*$B$3*(1+$D$7),2))))))))","v":16.5},{"$f":"IF(Products!$Z$8=$C$1,I78,IF(Products!$Z$8=$C$2,J78,IF(Products!$Z$8=$C$3,K78,IF(Products!$Z$8=$C$4,L78,IF(Products!$Z$8=$C$5,O78,IF(Products!$Z$8=$C$6,M78,IF(Products!$Z$8=$C$7,N78)))))))","v":"BL1211100I-EN"},"BL1211100I-EN","BL1511100I-EN","BL1611100I-EN","BL3211100I-EN","BL3511100I-EN","BL3611100I-EN","BL5211100I-EN",null,"GravityZone Security for Virtualized Environments VDI","GravityZone Security for Virtualized Environments VDI - EDU","GravityZone Security for Virtualized Environments VDI - GOV","GravityZone Security for Virtualized Environments VDI - R","GravityZone Security for Virtualized Environments VDI - EDU R","GravityZone Security for Virtualized Environments VDI - GOV R","GravityZone Security for Virtualized Environments VDI - CUPG"]
[{"$f":"IF(Products!$Z$8=$C$1,Q79,IF(Products!$Z$8=$C$2,R79,IF(Products!$Z$8=$C$3,S79,IF(Products!$Z$8=$C$4,T79,IF(Products!$Z$8=$C$5,W79,IF(Products!$Z$8=$C$6,U79,IF(Products!$Z$8=$C$7,V79)))))))","v":"GravityZone Security for Virtualized Environments VDI"},"1 year","3000+","GravityZone Security for Virtualized Environments VDI1 year3000+",null,14.85,{"$f":"IF(Products!$Z$8=$C$1,ROUND(F79*$B$3,2),IF(Products!$Z$8=$C$2,ROUND(F79*$B$3*(1+$D$2),2),IF(Products!$Z$8=$C$3,ROUND(F79*$B$3*(1+$D$3),2),IF(Products!$Z$8=$C$4,ROUND(F79*$B$3*(1+$D$4),2),IF(Products!$Z$8=$C$5,ROUND(F79*$B$3*(1+$D$5),2),IF(Products!$Z$8=$C$6,ROUND(F79*$B$3*(1+$D$6),2),IF(Products!$Z$8=$C$7,ROUND(F79*$B$3*(1+$D$7),2))))))))","v":14.85},{"$f":"IF(Products!$Z$8=$C$1,I79,IF(Products!$Z$8=$C$2,J79,IF(Products!$Z$8=$C$3,K79,IF(Products!$Z$8=$C$4,L79,IF(Products!$Z$8=$C$5,O79,IF(Products!$Z$8=$C$6,M79,IF(Products!$Z$8=$C$7,N79)))))))","v":"BL1211100J-EN"},"BL1211100J-EN","BL1511100J-EN","BL1611100J-EN","BL3211100J-EN","BL3511100J-EN","BL3611100J-EN","BL5211100J-EN",null,"GravityZone Security for Virtualized Environments VDI","GravityZone Security for Virtualized Environments VDI - EDU","GravityZone Security for Virtualized Environments VDI - GOV","GravityZone Security for Virtualized Environments VDI - R","GravityZone Security for Virtualized Environments VDI - EDU R","GravityZone Security for Virtualized Environments VDI - GOV R","GravityZone Security for Virtualized Environments VDI - CUPG"]
[{"$f":"IF(Products!$Z$8=$C$1,Q80,IF(Products!$Z$8=$C$2,R80,IF(Products!$Z$8=$C$3,S80,IF(Products!$Z$8=$C$4,T80,IF(Products!$Z$8=$C$5,W80,IF(Products!$Z$8=$C$6,U80,IF(Products!$Z$8=$C$7,V80)))))))","v":"GravityZone Security for Virtualized Environments VDI"},"2 years","5 - 14","GravityZone Security for Virtualized Environments VDI2 years5 - 14",null,49.6,{"$f":"IF(Products!$Z$8=$C$1,ROUND(F80*$B$3,2),IF(Products!$Z$8=$C$2,ROUND(F80*$B$3*(1+$D$2),2),IF(Products!$Z$8=$C$3,ROUND(F80*$B$3*(1+$D$3),2),IF(Products!$Z$8=$C$4,ROUND(F80*$B$3*(1+$D$4),2),IF(Products!$Z$8=$C$5,ROUND(F80*$B$3*(1+$D$5),2),IF(Products!$Z$8=$C$6,ROUND(F80*$B$3*(1+$D$6),2),IF(Products!$Z$8=$C$7,ROUND(F80*$B$3*(1+$D$7),2))))))))","v":49.6},{"$f":"IF(Products!$Z$8=$C$1,I80,IF(Products!$Z$8=$C$2,J80,IF(Products!$Z$8=$C$3,K80,IF(Products!$Z$8=$C$4,L80,IF(Products!$Z$8=$C$5,O80,IF(Products!$Z$8=$C$6,M80,IF(Products!$Z$8=$C$7,N80)))))))","v":"BL1211200A-EN"},"BL1211200A-EN","BL1511200A-EN","BL1611200A-EN","BL3211200A-EN","BL3511200A-EN","BL3611200A-EN","BL5211200A-EN",null,"GravityZone Security for Virtualized Environments VDI","GravityZone Security for Virtualized Environments VDI - EDU","GravityZone Security for Virtualized Environments VDI - GOV","GravityZone Security for Virtualized Environments VDI - R","GravityZone Security for Virtualized Environments VDI - EDU R","GravityZone Security for Virtualized Environments VDI - GOV R","GravityZone Security for Virtualized Environments VDI - CUPG"]
[{"$f":"IF(Products!$Z$8=$C$1,Q81,IF(Products!$Z$8=$C$2,R81,IF(Products!$Z$8=$C$3,S81,IF(Products!$Z$8=$C$4,T81,IF(Products!$Z$8=$C$5,W81,IF(Products!$Z$8=$C$6,U81,IF(Products!$Z$8=$C$7,V81)))))))","v":"GravityZone Security for Virtualized Environments VDI"},"2 years","15 - 24","GravityZone Security for Virtualized Environments VDI2 years15 - 24",null,47.6,{"$f":"IF(Products!$Z$8=$C$1,ROUND(F81*$B$3,2),IF(Products!$Z$8=$C$2,ROUND(F81*$B$3*(1+$D$2),2),IF(Products!$Z$8=$C$3,ROUND(F81*$B$3*(1+$D$3),2),IF(Products!$Z$8=$C$4,ROUND(F81*$B$3*(1+$D$4),2),IF(Products!$Z$8=$C$5,ROUND(F81*$B$3*(1+$D$5),2),IF(Products!$Z$8=$C$6,ROUND(F81*$B$3*(1+$D$6),2),IF(Products!$Z$8=$C$7,ROUND(F81*$B$3*(1+$D$7),2))))))))","v":47.6},{"$f":"IF(Products!$Z$8=$C$1,I81,IF(Products!$Z$8=$C$2,J81,IF(Products!$Z$8=$C$3,K81,IF(Products!$Z$8=$C$4,L81,IF(Products!$Z$8=$C$5,O81,IF(Products!$Z$8=$C$6,M81,IF(Products!$Z$8=$C$7,N81)))))))","v":"BL1211200B-EN"},"BL1211200B-EN","BL1511200B-EN","BL1611200B-EN","BL3211200B-EN","BL3511200B-EN","BL3611200B-EN","BL5211200B-EN",null,"GravityZone Security for Virtualized Environments VDI","GravityZone Security for Virtualized Environments VDI - EDU","GravityZone Security for Virtualized Environments VDI - GOV","GravityZone Security for Virtualized Environments VDI - R","GravityZone Security for Virtualized Environments VDI - EDU R","GravityZone Security for Virtualized Environments VDI - GOV R","GravityZone Security for Virtualized Environments VDI - CUPG"]
[{"$f":"IF(Products!$Z$8=$C$1,Q82,IF(Products!$Z$8=$C$2,R82,IF(Products!$Z$8=$C$3,S82,IF(Products!$Z$8=$C$4,T82,IF(Products!$Z$8=$C$5,W82,IF(Products!$Z$8=$C$6,U82,IF(Products!$Z$8=$C$7,V82)))))))","v":"GravityZone Security for Virtualized Environments VDI"},"2 years","25 - 49","GravityZone Security for Virtualized Environments VDI2 years25 - 49",null,45.2,{"$f":"IF(Products!$Z$8=$C$1,ROUND(F82*$B$3,2),IF(Products!$Z$8=$C$2,ROUND(F82*$B$3*(1+$D$2),2),IF(Products!$Z$8=$C$3,ROUND(F82*$B$3*(1+$D$3),2),IF(Products!$Z$8=$C$4,ROUND(F82*$B$3*(1+$D$4),2),IF(Products!$Z$8=$C$5,ROUND(F82*$B$3*(1+$D$5),2),IF(Products!$Z$8=$C$6,ROUND(F82*$B$3*(1+$D$6),2),IF(Products!$Z$8=$C$7,ROUND(F82*$B$3*(1+$D$7),2))))))))","v":45.2},{"$f":"IF(Products!$Z$8=$C$1,I82,IF(Products!$Z$8=$C$2,J82,IF(Products!$Z$8=$C$3,K82,IF(Products!$Z$8=$C$4,L82,IF(Products!$Z$8=$C$5,O82,IF(Products!$Z$8=$C$6,M82,IF(Products!$Z$8=$C$7,N82)))))))","v":"BL1211200C-EN"},"BL1211200C-EN","BL1511200C-EN","BL1611200C-EN","BL3211200C-EN","BL3511200C-EN","BL3611200C-EN","BL5211200C-EN",null,"GravityZone Security for Virtualized Environments VDI","GravityZone Security for Virtualized Environments VDI - EDU","GravityZone Security for Virtualized Environments VDI - GOV","GravityZone Security for Virtualized Environments VDI - R","GravityZone Security for Virtualized Environments VDI - EDU R","GravityZone Security for Virtualized Environments VDI - GOV R","GravityZone Security for Virtualized Environments VDI - CUPG"]
[{"$f":"IF(Products!$Z$8=$C$1,Q83,IF(Products!$Z$8=$C$2,R83,IF(Products!$Z$8=$C$3,S83,IF(Products!$Z$8=$C$4,T83,IF(Products!$Z$8=$C$5,W83,IF(Products!$Z$8=$C$6,U83,IF(Products!$Z$8=$C$7,V83)))))))","v":"GravityZone Security for Virtualized Environments VDI"},"2 years","50 - 99","GravityZone Security for Virtualized Environments VDI2 years50 - 99",null,42.08,{"$f":"IF(Products!$Z$8=$C$1,ROUND(F83*$B$3,2),IF(Products!$Z$8=$C$2,ROUND(F83*$B$3*(1+$D$2),2),IF(Products!$Z$8=$C$3,ROUND(F83*$B$3*(1+$D$3),2),IF(Products!$Z$8=$C$4,ROUND(F83*$B$3*(1+$D$4),2),IF(Products!$Z$8=$C$5,ROUND(F83*$B$3*(1+$D$5),2),IF(Products!$Z$8=$C$6,ROUND(F83*$B$3*(1+$D$6),2),IF(Products!$Z$8=$C$7,ROUND(F83*$B$3*(1+$D$7),2))))))))","v":42.08},{"$f":"IF(Products!$Z$8=$C$1,I83,IF(Products!$Z$8=$C$2,J83,IF(Products!$Z$8=$C$3,K83,IF(Products!$Z$8=$C$4,L83,IF(Products!$Z$8=$C$5,O83,IF(Products!$Z$8=$C$6,M83,IF(Products!$Z$8=$C$7,N83)))))))","v":"BL1211200D-EN"},"BL1211200D-EN","BL1511200D-EN","BL1611200D-EN","BL3211200D-EN","BL3511200D-EN","BL3611200D-EN","BL5211200D-EN",null,"GravityZone Security for Virtualized Environments VDI","GravityZone Security for Virtualized Environments VDI - EDU","GravityZone Security for Virtualized Environments VDI - GOV","GravityZone Security for Virtualized Environments VDI - R","GravityZone Security for Virtualized Environments VDI - EDU R","GravityZone Security for Virtualized Environments VDI - GOV R","GravityZone Security for Virtualized Environments VDI - CUPG"]
[{"$f":"IF(Products!$Z$8=$C$1,Q84,IF(Products!$Z$8=$C$2,R84,IF(Products!$Z$8=$C$3,S84,IF(Products!$Z$8=$C$4,T84,IF(Products!$Z$8=$C$5,W84,IF(Products!$Z$8=$C$6,U84,IF(Products!$Z$8=$C$7,V84)))))))","v":"GravityZone Security for Virtualized Environments VDI"},"2 years","100 - 149","GravityZone Security for Virtualized Environments VDI2 years100 - 149",null,38.24,{"$f":"IF(Products!$Z$8=$C$1,ROUND(F84*$B$3,2),IF(Products!$Z$8=$C$2,ROUND(F84*$B$3*(1+$D$2),2),IF(Products!$Z$8=$C$3,ROUND(F84*$B$3*(1+$D$3),2),IF(Products!$Z$8=$C$4,ROUND(F84*$B$3*(1+$D$4),2),IF(Products!$Z$8=$C$5,ROUND(F84*$B$3*(1+$D$5),2),IF(Products!$Z$8=$C$6,ROUND(F84*$B$3*(1+$D$6),2),IF(Products!$Z$8=$C$7,ROUND(F84*$B$3*(1+$D$7),2))))))))","v":38.24},{"$f":"IF(Products!$Z$8=$C$1,I84,IF(Products!$Z$8=$C$2,J84,IF(Products!$Z$8=$C$3,K84,IF(Products!$Z$8=$C$4,L84,IF(Products!$Z$8=$C$5,O84,IF(Products!$Z$8=$C$6,M84,IF(Products!$Z$8=$C$7,N84)))))))","v":"BL1211200E-EN"},"BL1211200E-EN","BL1511200E-EN","BL1611200E-EN","BL3211200E-EN","BL3511200E-EN","BL3611200E-EN","BL5211200E-EN",null,"GravityZone Security for Virtualized Environments VDI","GravityZone Security for Virtualized Environments VDI - EDU","GravityZone Security for Virtualized Environments VDI - GOV","GravityZone Security for Virtualized Environments VDI - R","GravityZone Security for Virtualized Environments VDI - EDU R","GravityZone Security for Virtualized Environments VDI - GOV R","GravityZone Security for Virtualized Environments VDI - CUPG"]
[{"$f":"IF(Products!$Z$8=$C$1,Q85,IF(Products!$Z$8=$C$2,R85,IF(Products!$Z$8=$C$3,S85,IF(Products!$Z$8=$C$4,T85,IF(Products!$Z$8=$C$5,W85,IF(Products!$Z$8=$C$6,U85,IF(Products!$Z$8=$C$7,V85)))))))","v":"GravityZone Security for Virtualized Environments VDI"},"2 years","150 - 249","GravityZone Security for Virtualized Environments VDI2 years150 - 249",null,36.24,{"$f":"IF(Products!$Z$8=$C$1,ROUND(F85*$B$3,2),IF(Products!$Z$8=$C$2,ROUND(F85*$B$3*(1+$D$2),2),IF(Products!$Z$8=$C$3,ROUND(F85*$B$3*(1+$D$3),2),IF(Products!$Z$8=$C$4,ROUND(F85*$B$3*(1+$D$4),2),IF(Products!$Z$8=$C$5,ROUND(F85*$B$3*(1+$D$5),2),IF(Products!$Z$8=$C$6,ROUND(F85*$B$3*(1+$D$6),2),IF(Products!$Z$8=$C$7,ROUND(F85*$B$3*(1+$D$7),2))))))))","v":36.24},{"$f":"IF(Products!$Z$8=$C$1,I85,IF(Products!$Z$8=$C$2,J85,IF(Products!$Z$8=$C$3,K85,IF(Products!$Z$8=$C$4,L85,IF(Products!$Z$8=$C$5,O85,IF(Products!$Z$8=$C$6,M85,IF(Products!$Z$8=$C$7,N85)))))))","v":"BL1211200F-EN"},"BL1211200F-EN","BL1511200F-EN","BL1611200F-EN","BL3211200F-EN","BL3511200F-EN","BL3611200F-EN","BL5211200F-EN",null,"GravityZone Security for Virtualized Environments VDI","GravityZone Security for Virtualized Environments VDI - EDU","GravityZone Security for Virtualized Environments VDI - GOV","GravityZone Security for Virtualized Environments VDI - R","GravityZone Security for Virtualized Environments VDI - EDU R","GravityZone Security for Virtualized Environments VDI - GOV R","GravityZone Security for Virtualized Environments VDI - CUPG"]
[{"$f":"IF(Products!$Z$8=$C$1,Q86,IF(Products!$Z$8=$C$2,R86,IF(Products!$Z$8=$C$3,S86,IF(Products!$Z$8=$C$4,T86,IF(Products!$Z$8=$C$5,W86,IF(Products!$Z$8=$C$6,U86,IF(Products!$Z$8=$C$7,V86)))))))","v":"GravityZone Security for Virtualized Environments VDI"},"2 years","250 - 499","GravityZone Security for Virtualized Environments VDI2 years250 - 499",null,32.64,{"$f":"IF(Products!$Z$8=$C$1,ROUND(F86*$B$3,2),IF(Products!$Z$8=$C$2,ROUND(F86*$B$3*(1+$D$2),2),IF(Products!$Z$8=$C$3,ROUND(F86*$B$3*(1+$D$3),2),IF(Products!$Z$8=$C$4,ROUND(F86*$B$3*(1+$D$4),2),IF(Products!$Z$8=$C$5,ROUND(F86*$B$3*(1+$D$5),2),IF(Products!$Z$8=$C$6,ROUND(F86*$B$3*(1+$D$6),2),IF(Products!$Z$8=$C$7,ROUND(F86*$B$3*(1+$D$7),2))))))))","v":32.64},{"$f":"IF(Products!$Z$8=$C$1,I86,IF(Products!$Z$8=$C$2,J86,IF(Products!$Z$8=$C$3,K86,IF(Products!$Z$8=$C$4,L86,IF(Products!$Z$8=$C$5,O86,IF(Products!$Z$8=$C$6,M86,IF(Products!$Z$8=$C$7,N86)))))))","v":"BL1211200G-EN"},"BL1211200G-EN","BL1511200G-EN","BL1611200G-EN","BL3211200G-EN","BL3511200G-EN","BL3611200G-EN","BL5211200G-EN",null,"GravityZone Security for Virtualized Environments VDI","GravityZone Security for Virtualized Environments VDI - EDU","GravityZone Security for Virtualized Environments VDI - GOV","GravityZone Security for Virtualized Environments VDI - R","GravityZone Security for Virtualized Environments VDI - EDU R","GravityZone Security for Virtualized Environments VDI - GOV R","GravityZone Security for Virtualized Environments VDI - CUPG"]
[{"$f":"IF(Products!$Z$8=$C$1,Q87,IF(Products!$Z$8=$C$2,R87,IF(Products!$Z$8=$C$3,S87,IF(Products!$Z$8=$C$4,T87,IF(Products!$Z$8=$C$5,W87,IF(Products!$Z$8=$C$6,U87,IF(Products!$Z$8=$C$7,V87)))))))","v":"GravityZone Security for Virtualized Environments VDI"},"2 years","500 - 999","GravityZone Security for Virtualized Environments VDI2 years500 - 999",null,29.36,{"$f":"IF(Products!$Z$8=$C$1,ROUND(F87*$B$3,2),IF(Products!$Z$8=$C$2,ROUND(F87*$B$3*(1+$D$2),2),IF(Products!$Z$8=$C$3,ROUND(F87*$B$3*(1+$D$3),2),IF(Products!$Z$8=$C$4,ROUND(F87*$B$3*(1+$D$4),2),IF(Products!$Z$8=$C$5,ROUND(F87*$B$3*(1+$D$5),2),IF(Products!$Z$8=$C$6,ROUND(F87*$B$3*(1+$D$6),2),IF(Products!$Z$8=$C$7,ROUND(F87*$B$3*(1+$D$7),2))))))))","v":29.36},{"$f":"IF(Products!$Z$8=$C$1,I87,IF(Products!$Z$8=$C$2,J87,IF(Products!$Z$8=$C$3,K87,IF(Products!$Z$8=$C$4,L87,IF(Products!$Z$8=$C$5,O87,IF(Products!$Z$8=$C$6,M87,IF(Products!$Z$8=$C$7,N87)))))))","v":"BL1211200H-EN"},"BL1211200H-EN","BL1511200H-EN","BL1611200H-EN","BL3211200H-EN","BL3511200H-EN","BL3611200H-EN","BL5211200H-EN",null,"GravityZone Security for Virtualized Environments VDI","GravityZone Security for Virtualized Environments VDI - EDU","GravityZone Security for Virtualized Environments VDI - GOV","GravityZone Security for Virtualized Environments VDI - R","GravityZone Security for Virtualized Environments VDI - EDU R","GravityZone Security for Virtualized Environments VDI - GOV R","GravityZone Security for Virtualized Environments VDI - CUPG"]
[{"$f":"IF(Products!$Z$8=$C$1,Q88,IF(Products!$Z$8=$C$2,R88,IF(Products!$Z$8=$C$3,S88,IF(Products!$Z$8=$C$4,T88,IF(Products!$Z$8=$C$5,W88,IF(Products!$Z$8=$C$6,U88,IF(Products!$Z$8=$C$7,V88)))))))","v":"GravityZone Security for Virtualized Environments VDI"},"2 years","1000 - 2999","GravityZone Security for Virtualized Environments VDI2 years1000 - 2999",null,26.4,{"$f":"IF(Products!$Z$8=$C$1,ROUND(F88*$B$3,2),IF(Products!$Z$8=$C$2,ROUND(F88*$B$3*(1+$D$2),2),IF(Products!$Z$8=$C$3,ROUND(F88*$B$3*(1+$D$3),2),IF(Products!$Z$8=$C$4,ROUND(F88*$B$3*(1+$D$4),2),IF(Products!$Z$8=$C$5,ROUND(F88*$B$3*(1+$D$5),2),IF(Products!$Z$8=$C$6,ROUND(F88*$B$3*(1+$D$6),2),IF(Products!$Z$8=$C$7,ROUND(F88*$B$3*(1+$D$7),2))))))))","v":26.4},{"$f":"IF(Products!$Z$8=$C$1,I88,IF(Products!$Z$8=$C$2,J88,IF(Products!$Z$8=$C$3,K88,IF(Products!$Z$8=$C$4,L88,IF(Products!$Z$8=$C$5,O88,IF(Products!$Z$8=$C$6,M88,IF(Products!$Z$8=$C$7,N88)))))))","v":"BL1211200I-EN"},"BL1211200I-EN","BL1511200I-EN","BL1611200I-EN","BL3211200I-EN","BL3511200I-EN","BL3611200I-EN","BL5211200I-EN",null,"GravityZone Security for Virtualized Environments VDI","GravityZone Security for Virtualized Environments VDI - EDU","GravityZone Security for Virtualized Environments VDI - GOV","GravityZone Security for Virtualized Environments VDI - R","GravityZone Security for Virtualized Environments VDI - EDU R","GravityZone Security for Virtualized Environments VDI - GOV R","GravityZone Security for Virtualized Environments VDI - CUPG"]
[{"$f":"IF(Products!$Z$8=$C$1,Q89,IF(Products!$Z$8=$C$2,R89,IF(Products!$Z$8=$C$3,S89,IF(Products!$Z$8=$C$4,T89,IF(Products!$Z$8=$C$5,W89,IF(Products!$Z$8=$C$6,U89,IF(Products!$Z$8=$C$7,V89)))))))","v":"GravityZone Security for Virtualized Environments VDI"},"2 years","3000+","GravityZone Security for Virtualized Environments VDI2 years3000+",null,23.76,{"$f":"IF(Products!$Z$8=$C$1,ROUND(F89*$B$3,2),IF(Products!$Z$8=$C$2,ROUND(F89*$B$3*(1+$D$2),2),IF(Products!$Z$8=$C$3,ROUND(F89*$B$3*(1+$D$3),2),IF(Products!$Z$8=$C$4,ROUND(F89*$B$3*(1+$D$4),2),IF(Products!$Z$8=$C$5,ROUND(F89*$B$3*(1+$D$5),2),IF(Products!$Z$8=$C$6,ROUND(F89*$B$3*(1+$D$6),2),IF(Products!$Z$8=$C$7,ROUND(F89*$B$3*(1+$D$7),2))))))))","v":23.76},{"$f":"IF(Products!$Z$8=$C$1,I89,IF(Products!$Z$8=$C$2,J89,IF(Products!$Z$8=$C$3,K89,IF(Products!$Z$8=$C$4,L89,IF(Products!$Z$8=$C$5,O89,IF(Products!$Z$8=$C$6,M89,IF(Products!$Z$8=$C$7,N89)))))))","v":"BL1211200J-EN"},"BL1211200J-EN","BL1511200J-EN","BL1611200J-EN","BL3211200J-EN","BL3511200J-EN","BL3611200J-EN","BL5211200J-EN",null,"GravityZone Security for Virtualized Environments VDI","GravityZone Security for Virtualized Environments VDI - EDU","GravityZone Security for Virtualized Environments VDI - GOV","GravityZone Security for Virtualized Environments VDI - R","GravityZone Security for Virtualized Environments VDI - EDU R","GravityZone Security for Virtualized Environments VDI - GOV R","GravityZone Security for Virtualized Environments VDI - CUPG"]
[{"$f":"IF(Products!$Z$8=$C$1,Q90,IF(Products!$Z$8=$C$2,R90,IF(Products!$Z$8=$C$3,S90,IF(Products!$Z$8=$C$4,T90,IF(Products!$Z$8=$C$5,W90,IF(Products!$Z$8=$C$6,U90,IF(Products!$Z$8=$C$7,V90)))))))","v":"GravityZone Security for Virtualized Environments VDI"},"3 years","5 - 14","GravityZone Security for Virtualized Environments VDI3 years5 - 14",null,63.55,{"$f":"IF(Products!$Z$8=$C$1,ROUND(F90*$B$3,2),IF(Products!$Z$8=$C$2,ROUND(F90*$B$3*(1+$D$2),2),IF(Products!$Z$8=$C$3,ROUND(F90*$B$3*(1+$D$3),2),IF(Products!$Z$8=$C$4,ROUND(F90*$B$3*(1+$D$4),2),IF(Products!$Z$8=$C$5,ROUND(F90*$B$3*(1+$D$5),2),IF(Products!$Z$8=$C$6,ROUND(F90*$B$3*(1+$D$6),2),IF(Products!$Z$8=$C$7,ROUND(F90*$B$3*(1+$D$7),2))))))))","v":63.55},{"$f":"IF(Products!$Z$8=$C$1,I90,IF(Products!$Z$8=$C$2,J90,IF(Products!$Z$8=$C$3,K90,IF(Products!$Z$8=$C$4,L90,IF(Products!$Z$8=$C$5,O90,IF(Products!$Z$8=$C$6,M90,IF(Products!$Z$8=$C$7,N90)))))))","v":"BL1211300A-EN"},"BL1211300A-EN","BL1511300A-EN","BL1611300A-EN","BL3211300A-EN","BL3511300A-EN","BL3611300A-EN","BL5211300A-EN",null,"GravityZone Security for Virtualized Environments VDI","GravityZone Security for Virtualized Environments VDI - EDU","GravityZone Security for Virtualized Environments VDI - GOV","GravityZone Security for Virtualized Environments VDI - R","GravityZone Security for Virtualized Environments VDI - EDU R","GravityZone Security for Virtualized Environments VDI - GOV R","GravityZone Security for Virtualized Environments VDI - CUPG"]
[{"$f":"IF(Products!$Z$8=$C$1,Q91,IF(Products!$Z$8=$C$2,R91,IF(Products!$Z$8=$C$3,S91,IF(Products!$Z$8=$C$4,T91,IF(Products!$Z$8=$C$5,W91,IF(Products!$Z$8=$C$6,U91,IF(Products!$Z$8=$C$7,V91)))))))","v":"GravityZone Security for Virtualized Environments VDI"},"3 years","15 - 24","GravityZone Security for Virtualized Environments VDI3 years15 - 24",null,60.987499999999997,{"$f":"IF(Products!$Z$8=$C$1,ROUND(F91*$B$3,2),IF(Products!$Z$8=$C$2,ROUND(F91*$B$3*(1+$D$2),2),IF(Products!$Z$8=$C$3,ROUND(F91*$B$3*(1+$D$3),2),IF(Products!$Z$8=$C$4,ROUND(F91*$B$3*(1+$D$4),2),IF(Products!$Z$8=$C$5,ROUND(F91*$B$3*(1+$D$5),2),IF(Products!$Z$8=$C$6,ROUND(F91*$B$3*(1+$D$6),2),IF(Products!$Z$8=$C$7,ROUND(F91*$B$3*(1+$D$7),2))))))))","v":60.99},{"$f":"IF(Products!$Z$8=$C$1,I91,IF(Products!$Z$8=$C$2,J91,IF(Products!$Z$8=$C$3,K91,IF(Products!$Z$8=$C$4,L91,IF(Products!$Z$8=$C$5,O91,IF(Products!$Z$8=$C$6,M91,IF(Products!$Z$8=$C$7,N91)))))))","v":"BL1211300B-EN"},"BL1211300B-EN","BL1511300B-EN","BL1611300B-EN","BL3211300B-EN","BL3511300B-EN","BL3611300B-EN","BL5211300B-EN",null,"GravityZone Security for Virtualized Environments VDI","GravityZone Security for Virtualized Environments VDI - EDU","GravityZone Security for Virtualized Environments VDI - GOV","GravityZone Security for Virtualized Environments VDI - R","GravityZone Security for Virtualized Environments VDI - EDU R","GravityZone Security for Virtualized Environments VDI - GOV R","GravityZone Security for Virtualized Environments VDI - CUPG"]
[{"$f":"IF(Products!$Z$8=$C$1,Q92,IF(Products!$Z$8=$C$2,R92,IF(Products!$Z$8=$C$3,S92,IF(Products!$Z$8=$C$4,T92,IF(Products!$Z$8=$C$5,W92,IF(Products!$Z$8=$C$6,U92,IF(Products!$Z$8=$C$7,V92)))))))","v":"GravityZone Security for Virtualized Environments VDI"},"3 years","25 - 49","GravityZone Security for Virtualized Environments VDI3 years25 - 49",null,57.912499999999994,{"$f":"IF(Products!$Z$8=$C$1,ROUND(F92*$B$3,2),IF(Products!$Z$8=$C$2,ROUND(F92*$B$3*(1+$D$2),2),IF(Products!$Z$8=$C$3,ROUND(F92*$B$3*(1+$D$3),2),IF(Products!$Z$8=$C$4,ROUND(F92*$B$3*(1+$D$4),2),IF(Products!$Z$8=$C$5,ROUND(F92*$B$3*(1+$D$5),2),IF(Products!$Z$8=$C$6,ROUND(F92*$B$3*(1+$D$6),2),IF(Products!$Z$8=$C$7,ROUND(F92*$B$3*(1+$D$7),2))))))))","v":57.91},{"$f":"IF(Products!$Z$8=$C$1,I92,IF(Products!$Z$8=$C$2,J92,IF(Products!$Z$8=$C$3,K92,IF(Products!$Z$8=$C$4,L92,IF(Products!$Z$8=$C$5,O92,IF(Products!$Z$8=$C$6,M92,IF(Products!$Z$8=$C$7,N92)))))))","v":"BL1211300C-EN"},"BL1211300C-EN","BL1511300C-EN","BL1611300C-EN","BL3211300C-EN","BL3511300C-EN","BL3611300C-EN","BL5211300C-EN",null,"GravityZone Security for Virtualized Environments VDI","GravityZone Security for Virtualized Environments VDI - EDU","GravityZone Security for Virtualized Environments VDI - GOV","GravityZone Security for Virtualized Environments VDI - R","GravityZone Security for Virtualized Environments VDI - EDU R","GravityZone Security for Virtualized Environments VDI - GOV R","GravityZone Security for Virtualized Environments VDI - CUPG"]
[{"$f":"IF(Products!$Z$8=$C$1,Q93,IF(Products!$Z$8=$C$2,R93,IF(Products!$Z$8=$C$3,S93,IF(Products!$Z$8=$C$4,T93,IF(Products!$Z$8=$C$5,W93,IF(Products!$Z$8=$C$6,U93,IF(Products!$Z$8=$C$7,V93)))))))","v":"GravityZone Security for Virtualized Environments VDI"},"3 years","50 - 99","GravityZone Security for Virtualized Environments VDI3 years50 - 99",null,53.914999999999999,{"$f":"IF(Products!$Z$8=$C$1,ROUND(F93*$B$3,2),IF(Products!$Z$8=$C$2,ROUND(F93*$B$3*(1+$D$2),2),IF(Products!$Z$8=$C$3,ROUND(F93*$B$3*(1+$D$3),2),IF(Products!$Z$8=$C$4,ROUND(F93*$B$3*(1+$D$4),2),IF(Products!$Z$8=$C$5,ROUND(F93*$B$3*(1+$D$5),2),IF(Products!$Z$8=$C$6,ROUND(F93*$B$3*(1+$D$6),2),IF(Products!$Z$8=$C$7,ROUND(F93*$B$3*(1+$D$7),2))))))))","v":53.92},{"$f":"IF(Products!$Z$8=$C$1,I93,IF(Products!$Z$8=$C$2,J93,IF(Products!$Z$8=$C$3,K93,IF(Products!$Z$8=$C$4,L93,IF(Products!$Z$8=$C$5,O93,IF(Products!$Z$8=$C$6,M93,IF(Products!$Z$8=$C$7,N93)))))))","v":"BL1211300D-EN"},"BL1211300D-EN","BL1511300D-EN","BL1611300D-EN","BL3211300D-EN","BL3511300D-EN","BL3611300D-EN","BL5211300D-EN",null,"GravityZone Security for Virtualized Environments VDI","GravityZone Security for Virtualized Environments VDI - EDU","GravityZone Security for Virtualized Environments VDI - GOV","GravityZone Security for Virtualized Environments VDI - R","GravityZone Security for Virtualized Environments VDI - EDU R","GravityZone Security for Virtualized Environments VDI - GOV R","GravityZone Security for Virtualized Environments VDI - CUPG"]
[{"$f":"IF(Products!$Z$8=$C$1,Q94,IF(Products!$Z$8=$C$2,R94,IF(Products!$Z$8=$C$3,S94,IF(Products!$Z$8=$C$4,T94,IF(Products!$Z$8=$C$5,W94,IF(Products!$Z$8=$C$6,U94,IF(Products!$Z$8=$C$7,V94)))))))","v":"GravityZone Security for Virtualized Environments VDI"},"3 years","100 - 149","GravityZone Security for Virtualized Environments VDI3 years100 - 149",null,48.99499999999999,{"$f":"IF(Products!$Z$8=$C$1,ROUND(F94*$B$3,2),IF(Products!$Z$8=$C$2,ROUND(F94*$B$3*(1+$D$2),2),IF(Products!$Z$8=$C$3,ROUND(F94*$B$3*(1+$D$3),2),IF(Products!$Z$8=$C$4,ROUND(F94*$B$3*(1+$D$4),2),IF(Products!$Z$8=$C$5,ROUND(F94*$B$3*(1+$D$5),2),IF(Products!$Z$8=$C$6,ROUND(F94*$B$3*(1+$D$6),2),IF(Products!$Z$8=$C$7,ROUND(F94*$B$3*(1+$D$7),2))))))))","v":49},{"$f":"IF(Products!$Z$8=$C$1,I94,IF(Products!$Z$8=$C$2,J94,IF(Products!$Z$8=$C$3,K94,IF(Products!$Z$8=$C$4,L94,IF(Products!$Z$8=$C$5,O94,IF(Products!$Z$8=$C$6,M94,IF(Products!$Z$8=$C$7,N94)))))))","v":"BL1211300E-EN"},"BL1211300E-EN","BL1511300E-EN","BL1611300E-EN","BL3211300E-EN","BL3511300E-EN","BL3611300E-EN","BL5211300E-EN",null,"GravityZone Security for Virtualized Environments VDI","GravityZone Security for Virtualized Environments VDI - EDU","GravityZone Security for Virtualized Environments VDI - GOV","GravityZone Security for Virtualized Environments VDI - R","GravityZone Security for Virtualized Environments VDI - EDU R","GravityZone Security for Virtualized Environments VDI - GOV R","GravityZone Security for Virtualized Environments VDI - CUPG"]
[{"$f":"IF(Products!$Z$8=$C$1,Q95,IF(Products!$Z$8=$C$2,R95,IF(Products!$Z$8=$C$3,S95,IF(Products!$Z$8=$C$4,T95,IF(Products!$Z$8=$C$5,W95,IF(Products!$Z$8=$C$6,U95,IF(Products!$Z$8=$C$7,V95)))))))","v":"GravityZone Security for Virtualized Environments VDI"},"3 years","150 - 249","GravityZone Security for Virtualized Environments VDI3 years150 - 249",null,46.43249999999999,{"$f":"IF(Products!$Z$8=$C$1,ROUND(F95*$B$3,2),IF(Products!$Z$8=$C$2,ROUND(F95*$B$3*(1+$D$2),2),IF(Products!$Z$8=$C$3,ROUND(F95*$B$3*(1+$D$3),2),IF(Products!$Z$8=$C$4,ROUND(F95*$B$3*(1+$D$4),2),IF(Products!$Z$8=$C$5,ROUND(F95*$B$3*(1+$D$5),2),IF(Products!$Z$8=$C$6,ROUND(F95*$B$3*(1+$D$6),2),IF(Products!$Z$8=$C$7,ROUND(F95*$B$3*(1+$D$7),2))))))))","v":46.43},{"$f":"IF(Products!$Z$8=$C$1,I95,IF(Products!$Z$8=$C$2,J95,IF(Products!$Z$8=$C$3,K95,IF(Products!$Z$8=$C$4,L95,IF(Products!$Z$8=$C$5,O95,IF(Products!$Z$8=$C$6,M95,IF(Products!$Z$8=$C$7,N95)))))))","v":"BL1211300F-EN"},"BL1211300F-EN","BL1511300F-EN","BL1611300F-EN","BL3211300F-EN","BL3511300F-EN","BL3611300F-EN","BL5211300F-EN",null,"GravityZone Security for Virtualized Environments VDI","GravityZone Security for Virtualized Environments VDI - EDU","GravityZone Security for Virtualized Environments VDI - GOV","GravityZone Security for Virtualized Environments VDI - R","GravityZone Security for Virtualized Environments VDI - EDU R","GravityZone Security for Virtualized Environments VDI - GOV R","GravityZone Security for Virtualized Environments VDI - CUPG"]
[{"$f":"IF(Products!$Z$8=$C$1,Q96,IF(Products!$Z$8=$C$2,R96,IF(Products!$Z$8=$C$3,S96,IF(Products!$Z$8=$C$4,T96,IF(Products!$Z$8=$C$5,W96,IF(Products!$Z$8=$C$6,U96,IF(Products!$Z$8=$C$7,V96)))))))","v":"GravityZone Security for Virtualized Environments VDI"},"3 years","250 - 499","GravityZone Security for Virtualized Environments VDI3 years250 - 499",null,41.819999999999993,{"$f":"IF(Products!$Z$8=$C$1,ROUND(F96*$B$3,2),IF(Products!$Z$8=$C$2,ROUND(F96*$B$3*(1+$D$2),2),IF(Products!$Z$8=$C$3,ROUND(F96*$B$3*(1+$D$3),2),IF(Products!$Z$8=$C$4,ROUND(F96*$B$3*(1+$D$4),2),IF(Products!$Z$8=$C$5,ROUND(F96*$B$3*(1+$D$5),2),IF(Products!$Z$8=$C$6,ROUND(F96*$B$3*(1+$D$6),2),IF(Products!$Z$8=$C$7,ROUND(F96*$B$3*(1+$D$7),2))))))))","v":41.82},{"$f":"IF(Products!$Z$8=$C$1,I96,IF(Products!$Z$8=$C$2,J96,IF(Products!$Z$8=$C$3,K96,IF(Products!$Z$8=$C$4,L96,IF(Products!$Z$8=$C$5,O96,IF(Products!$Z$8=$C$6,M96,IF(Products!$Z$8=$C$7,N96)))))))","v":"BL1211300G-EN"},"BL1211300G-EN","BL1511300G-EN","BL1611300G-EN","BL3211300G-EN","BL3511300G-EN","BL3611300G-EN","BL5211300G-EN",null,"GravityZone Security for Virtualized Environments VDI","GravityZone Security for Virtualized Environments VDI - EDU","GravityZone Security for Virtualized Environments VDI - GOV","GravityZone Security for Virtualized Environments VDI - R","GravityZone Security for Virtualized Environments VDI - EDU R","GravityZone Security for Virtualized Environments VDI - GOV R","GravityZone Security for Virtualized Environments VDI - CUPG"]
[{"$f":"IF(Products!$Z$8=$C$1,Q97,IF(Products!$Z$8=$C$2,R97,IF(Products!$Z$8=$C$3,S97,IF(Products!$Z$8=$C$4,T97,IF(Products!$Z$8=$C$5,W97,IF(Products!$Z$8=$C$6,U97,IF(Products!$Z$8=$C$7,V97)))))))","v":"GravityZone Security for Virtualized Environments VDI"},"3 years","500 - 999","GravityZone Security for Virtualized Environments VDI3 years500 - 999",null,37.6175,{"$f":"IF(Products!$Z$8=$C$1,ROUND(F97*$B$3,2),IF(Products!$Z$8=$C$2,ROUND(F97*$B$3*(1+$D$2),2),IF(Products!$Z$8=$C$3,ROUND(F97*$B$3*(1+$D$3),2),IF(Products!$Z$8=$C$4,ROUND(F97*$B$3*(1+$D$4),2),IF(Products!$Z$8=$C$5,ROUND(F97*$B$3*(1+$D$5),2),IF(Products!$Z$8=$C$6,ROUND(F97*$B$3*(1+$D$6),2),IF(Products!$Z$8=$C$7,ROUND(F97*$B$3*(1+$D$7),2))))))))","v":37.619999999999997},{"$f":"IF(Products!$Z$8=$C$1,I97,IF(Products!$Z$8=$C$2,J97,IF(Products!$Z$8=$C$3,K97,IF(Products!$Z$8=$C$4,L97,IF(Products!$Z$8=$C$5,O97,IF(Products!$Z$8=$C$6,M97,IF(Products!$Z$8=$C$7,N97)))))))","v":"BL1211300H-EN"},"BL1211300H-EN","BL1511300H-EN","BL1611300H-EN","BL3211300H-EN","BL3511300H-EN","BL3611300H-EN","BL5211300H-EN",null,"GravityZone Security for Virtualized Environments VDI","GravityZone Security for Virtualized Environments VDI - EDU","GravityZone Security for Virtualized Environments VDI - GOV","GravityZone Security for Virtualized Environments VDI - R","GravityZone Security for Virtualized Environments VDI - EDU R","GravityZone Security for Virtualized Environments VDI - GOV R","GravityZone Security for Virtualized Environments VDI - CUPG"]
[{"$f":"IF(Products!$Z$8=$C$1,Q98,IF(Products!$Z$8=$C$2,R98,IF(Products!$Z$8=$C$3,S98,IF(Products!$Z$8=$C$4,T98,IF(Products!$Z$8=$C$5,W98,IF(Products!$Z$8=$C$6,U98,IF(Products!$Z$8=$C$7,V98)))))))","v":"GravityZone Security for Virtualized Environments VDI"},"3 years","1000 - 2999","GravityZone Security for Virtualized Environments VDI3 years1000 - 2999",null,33.824999999999996,{"$f":"IF(Products!$Z$8=$C$1,ROUND(F98*$B$3,2),IF(Products!$Z$8=$C$2,ROUND(F98*$B$3*(1+$D$2),2),IF(Products!$Z$8=$C$3,ROUND(F98*$B$3*(1+$D$3),2),IF(Products!$Z$8=$C$4,ROUND(F98*$B$3*(1+$D$4),2),IF(Products!$Z$8=$C$5,ROUND(F98*$B$3*(1+$D$5),2),IF(Products!$Z$8=$C$6,ROUND(F98*$B$3*(1+$D$6),2),IF(Products!$Z$8=$C$7,ROUND(F98*$B$3*(1+$D$7),2))))))))","v":33.83},{"$f":"IF(Products!$Z$8=$C$1,I98,IF(Products!$Z$8=$C$2,J98,IF(Products!$Z$8=$C$3,K98,IF(Products!$Z$8=$C$4,L98,IF(Products!$Z$8=$C$5,O98,IF(Products!$Z$8=$C$6,M98,IF(Products!$Z$8=$C$7,N98)))))))","v":"BL1211300I-EN"},"BL1211300I-EN","BL1511300I-EN","BL1611300I-EN","BL3211300I-EN","BL3511300I-EN","BL3611300I-EN","BL5211300I-EN",null,"GravityZone Security for Virtualized Environments VDI","GravityZone Security for Virtualized Environments VDI - EDU","GravityZone Security for Virtualized Environments VDI - GOV","GravityZone Security for Virtualized Environments VDI - R","GravityZone Security for Virtualized Environments VDI - EDU R","GravityZone Security for Virtualized Environments VDI - GOV R","GravityZone Security for Virtualized Environments VDI - CUPG"]
[{"$f":"IF(Products!$Z$8=$C$1,Q99,IF(Products!$Z$8=$C$2,R99,IF(Products!$Z$8=$C$3,S99,IF(Products!$Z$8=$C$4,T99,IF(Products!$Z$8=$C$5,W99,IF(Products!$Z$8=$C$6,U99,IF(Products!$Z$8=$C$7,V99)))))))","v":"GravityZone Security for Virtualized Environments VDI"},"3 years","3000+","GravityZone Security for Virtualized Environments VDI3 years3000+",null,30.442499999999995,{"$f":"IF(Products!$Z$8=$C$1,ROUND(F99*$B$3,2),IF(Products!$Z$8=$C$2,ROUND(F99*$B$3*(1+$D$2),2),IF(Products!$Z$8=$C$3,ROUND(F99*$B$3*(1+$D$3),2),IF(Products!$Z$8=$C$4,ROUND(F99*$B$3*(1+$D$4),2),IF(Products!$Z$8=$C$5,ROUND(F99*$B$3*(1+$D$5),2),IF(Products!$Z$8=$C$6,ROUND(F99*$B$3*(1+$D$6),2),IF(Products!$Z$8=$C$7,ROUND(F99*$B$3*(1+$D$7),2))))))))","v":30.44},{"$f":"IF(Products!$Z$8=$C$1,I99,IF(Products!$Z$8=$C$2,J99,IF(Products!$Z$8=$C$3,K99,IF(Products!$Z$8=$C$4,L99,IF(Products!$Z$8=$C$5,O99,IF(Products!$Z$8=$C$6,M99,IF(Products!$Z$8=$C$7,N99)))))))","v":"BL1211300J-EN"},"BL1211300J-EN","BL1511300J-EN","BL1611300J-EN","BL3211300J-EN","BL3511300J-EN","BL3611300J-EN","BL5211300J-EN",null,"GravityZone Security for Virtualized Environments VDI","GravityZone Security for Virtualized Environments VDI - EDU","GravityZone Security for Virtualized Environments VDI - GOV","GravityZone Security for Virtualized Environments VDI - R","GravityZone Security for Virtualized Environments VDI - EDU R","GravityZone Security for Virtualized Environments VDI - GOV R","GravityZone Security for Virtualized Environments VDI - CUPG"]
[{"$f":"IF(Products!$Z$8=$C$1,Q100,IF(Products!$Z$8=$C$2,R100,IF(Products!$Z$8=$C$3,S100,IF(Products!$Z$8=$C$4,T100,IF(Products!$Z$8=$C$5,W100,IF(Products!$Z$8=$C$6,U100,IF(Products!$Z$8=$C$7,V100)))))))","v":"GravityZone Security for Virtualized Environments VS"},"1 year","1 - 14","GravityZone Security for Virtualized Environments VS1 year1 - 14",null,92,{"$f":"IF(Products!$Z$8=$C$1,ROUND(F100*$B$3,2),IF(Products!$Z$8=$C$2,ROUND(F100*$B$3*(1+$D$2),2),IF(Products!$Z$8=$C$3,ROUND(F100*$B$3*(1+$D$3),2),IF(Products!$Z$8=$C$4,ROUND(F100*$B$3*(1+$D$4),2),IF(Products!$Z$8=$C$5,ROUND(F100*$B$3*(1+$D$5),2),IF(Products!$Z$8=$C$6,ROUND(F100*$B$3*(1+$D$6),2),IF(Products!$Z$8=$C$7,ROUND(F100*$B$3*(1+$D$7),2))))))))","v":92},{"$f":"IF(Products!$Z$8=$C$1,I100,IF(Products!$Z$8=$C$2,J100,IF(Products!$Z$8=$C$3,K100,IF(Products!$Z$8=$C$4,L100,IF(Products!$Z$8=$C$5,O100,IF(Products!$Z$8=$C$6,M100,IF(Products!$Z$8=$C$7,N100)))))))","v":"BL1225100A-EN"},"BL1225100A-EN","BL1525100A-EN","BL1625100A-EN","BL3225100A-EN","BL3525100A-EN","BL3625100A-EN","BL5225100A-EN",null,"GravityZone Security for Virtualized Environments VS","GravityZone Security for Virtualized Environments VS - EDU","GravityZone Security for Virtualized Environments VS - GOV","GravityZone Security for Virtualized Environments VS - R","GravityZone Security for Virtualized Environments VS - EDU R","GravityZone Security for Virtualized Environments VS - GOV R","GravityZone Security for Virtualized Environments VS - CUPG"]
[{"$f":"IF(Products!$Z$8=$C$1,Q101,IF(Products!$Z$8=$C$2,R101,IF(Products!$Z$8=$C$3,S101,IF(Products!$Z$8=$C$4,T101,IF(Products!$Z$8=$C$5,W101,IF(Products!$Z$8=$C$6,U101,IF(Products!$Z$8=$C$7,V101)))))))","v":"GravityZone Security for Virtualized Environments VS"},"1 year","15 - 24","GravityZone Security for Virtualized Environments VS1 year15 - 24",null,82.8,{"$f":"IF(Products!$Z$8=$C$1,ROUND(F101*$B$3,2),IF(Products!$Z$8=$C$2,ROUND(F101*$B$3*(1+$D$2),2),IF(Products!$Z$8=$C$3,ROUND(F101*$B$3*(1+$D$3),2),IF(Products!$Z$8=$C$4,ROUND(F101*$B$3*(1+$D$4),2),IF(Products!$Z$8=$C$5,ROUND(F101*$B$3*(1+$D$5),2),IF(Products!$Z$8=$C$6,ROUND(F101*$B$3*(1+$D$6),2),IF(Products!$Z$8=$C$7,ROUND(F101*$B$3*(1+$D$7),2))))))))","v":82.8},{"$f":"IF(Products!$Z$8=$C$1,I101,IF(Products!$Z$8=$C$2,J101,IF(Products!$Z$8=$C$3,K101,IF(Products!$Z$8=$C$4,L101,IF(Products!$Z$8=$C$5,O101,IF(Products!$Z$8=$C$6,M101,IF(Products!$Z$8=$C$7,N101)))))))","v":"BL1225100B-EN"},"BL1225100B-EN","BL1525100B-EN","BL1625100B-EN","BL3225100B-EN","BL3525100B-EN","BL3625100B-EN","BL5225100B-EN",null,"GravityZone Security for Virtualized Environments VS","GravityZone Security for Virtualized Environments VS - EDU","GravityZone Security for Virtualized Environments VS - GOV","GravityZone Security for Virtualized Environments VS - R","GravityZone Security for Virtualized Environments VS - EDU R","GravityZone Security for Virtualized Environments VS - GOV R","GravityZone Security for Virtualized Environments VS - CUPG"]
[{"$f":"IF(Products!$Z$8=$C$1,Q102,IF(Products!$Z$8=$C$2,R102,IF(Products!$Z$8=$C$3,S102,IF(Products!$Z$8=$C$4,T102,IF(Products!$Z$8=$C$5,W102,IF(Products!$Z$8=$C$6,U102,IF(Products!$Z$8=$C$7,V102)))))))","v":"GravityZone Security for Virtualized Environments VS"},"1 year","25 - 49","GravityZone Security for Virtualized Environments VS1 year25 - 49",null,76.2,{"$f":"IF(Products!$Z$8=$C$1,ROUND(F102*$B$3,2),IF(Products!$Z$8=$C$2,ROUND(F102*$B$3*(1+$D$2),2),IF(Products!$Z$8=$C$3,ROUND(F102*$B$3*(1+$D$3),2),IF(Products!$Z$8=$C$4,ROUND(F102*$B$3*(1+$D$4),2),IF(Products!$Z$8=$C$5,ROUND(F102*$B$3*(1+$D$5),2),IF(Products!$Z$8=$C$6,ROUND(F102*$B$3*(1+$D$6),2),IF(Products!$Z$8=$C$7,ROUND(F102*$B$3*(1+$D$7),2))))))))","v":76.2},{"$f":"IF(Products!$Z$8=$C$1,I102,IF(Products!$Z$8=$C$2,J102,IF(Products!$Z$8=$C$3,K102,IF(Products!$Z$8=$C$4,L102,IF(Products!$Z$8=$C$5,O102,IF(Products!$Z$8=$C$6,M102,IF(Products!$Z$8=$C$7,N102)))))))","v":"BL1225100C-EN"},"BL1225100C-EN","BL1525100C-EN","BL1625100C-EN","BL3225100C-EN","BL3525100C-EN","BL3625100C-EN","BL5225100C-EN",null,"GravityZone Security for Virtualized Environments VS","GravityZone Security for Virtualized Environments VS - EDU","GravityZone Security for Virtualized Environments VS - GOV","GravityZone Security for Virtualized Environments VS - R","GravityZone Security for Virtualized Environments VS - EDU R","GravityZone Security for Virtualized Environments VS - GOV R","GravityZone Security for Virtualized Environments VS - CUPG"]
[{"$f":"IF(Products!$Z$8=$C$1,Q103,IF(Products!$Z$8=$C$2,R103,IF(Products!$Z$8=$C$3,S103,IF(Products!$Z$8=$C$4,T103,IF(Products!$Z$8=$C$5,W103,IF(Products!$Z$8=$C$6,U103,IF(Products!$Z$8=$C$7,V103)))))))","v":"GravityZone Security for Virtualized Environments VS"},"1 year","50 - 99","GravityZone Security for Virtualized Environments VS1 year50 - 99",null,68.5,{"$f":"IF(Products!$Z$8=$C$1,ROUND(F103*$B$3,2),IF(Products!$Z$8=$C$2,ROUND(F103*$B$3*(1+$D$2),2),IF(Products!$Z$8=$C$3,ROUND(F103*$B$3*(1+$D$3),2),IF(Products!$Z$8=$C$4,ROUND(F103*$B$3*(1+$D$4),2),IF(Products!$Z$8=$C$5,ROUND(F103*$B$3*(1+$D$5),2),IF(Products!$Z$8=$C$6,ROUND(F103*$B$3*(1+$D$6),2),IF(Products!$Z$8=$C$7,ROUND(F103*$B$3*(1+$D$7),2))))))))","v":68.5},{"$f":"IF(Products!$Z$8=$C$1,I103,IF(Products!$Z$8=$C$2,J103,IF(Products!$Z$8=$C$3,K103,IF(Products!$Z$8=$C$4,L103,IF(Products!$Z$8=$C$5,O103,IF(Products!$Z$8=$C$6,M103,IF(Products!$Z$8=$C$7,N103)))))))","v":"BL1225100D-EN"},"BL1225100D-EN","BL1525100D-EN","BL1625100D-EN","BL3225100D-EN","BL3525100D-EN","BL3625100D-EN","BL5225100D-EN",null,"GravityZone Security for Virtualized Environments VS","GravityZone Security for Virtualized Environments VS - EDU","GravityZone Security for Virtualized Environments VS - GOV","GravityZone Security for Virtualized Environments VS - R","GravityZone Security for Virtualized Environments VS - EDU R","GravityZone Security for Virtualized Environments VS - GOV R","GravityZone Security for Virtualized Environments VS - CUPG"]
[{"$f":"IF(Products!$Z$8=$C$1,Q104,IF(Products!$Z$8=$C$2,R104,IF(Products!$Z$8=$C$3,S104,IF(Products!$Z$8=$C$4,T104,IF(Products!$Z$8=$C$5,W104,IF(Products!$Z$8=$C$6,U104,IF(Products!$Z$8=$C$7,V104)))))))","v":"GravityZone Security for Virtualized Environments VS"},"1 year","100 - 149","GravityZone Security for Virtualized Environments VS1 year100 - 149",null,61.7,{"$f":"IF(Products!$Z$8=$C$1,ROUND(F104*$B$3,2),IF(Products!$Z$8=$C$2,ROUND(F104*$B$3*(1+$D$2),2),IF(Products!$Z$8=$C$3,ROUND(F104*$B$3*(1+$D$3),2),IF(Products!$Z$8=$C$4,ROUND(F104*$B$3*(1+$D$4),2),IF(Products!$Z$8=$C$5,ROUND(F104*$B$3*(1+$D$5),2),IF(Products!$Z$8=$C$6,ROUND(F104*$B$3*(1+$D$6),2),IF(Products!$Z$8=$C$7,ROUND(F104*$B$3*(1+$D$7),2))))))))","v":61.7},{"$f":"IF(Products!$Z$8=$C$1,I104,IF(Products!$Z$8=$C$2,J104,IF(Products!$Z$8=$C$3,K104,IF(Products!$Z$8=$C$4,L104,IF(Products!$Z$8=$C$5,O104,IF(Products!$Z$8=$C$6,M104,IF(Products!$Z$8=$C$7,N104)))))))","v":"BL1225100E-EN"},"BL1225100E-EN","BL1525100E-EN","BL1625100E-EN","BL3225100E-EN","BL3525100E-EN","BL3625100E-EN","BL5225100E-EN",null,"GravityZone Security for Virtualized Environments VS","GravityZone Security for Virtualized Environments VS - EDU","GravityZone Security for Virtualized Environments VS - GOV","GravityZone Security for Virtualized Environments VS - R","GravityZone Security for Virtualized Environments VS - EDU R","GravityZone Security for Virtualized Environments VS - GOV R","GravityZone Security for Virtualized Environments VS - CUPG"]
[{"$f":"IF(Products!$Z$8=$C$1,Q105,IF(Products!$Z$8=$C$2,R105,IF(Products!$Z$8=$C$3,S105,IF(Products!$Z$8=$C$4,T105,IF(Products!$Z$8=$C$5,W105,IF(Products!$Z$8=$C$6,U105,IF(Products!$Z$8=$C$7,V105)))))))","v":"GravityZone Security for Virtualized Environments VS"},"1 year","150 - 249","GravityZone Security for Virtualized Environments VS1 year150 - 249",null,58.6,{"$f":"IF(Products!$Z$8=$C$1,ROUND(F105*$B$3,2),IF(Products!$Z$8=$C$2,ROUND(F105*$B$3*(1+$D$2),2),IF(Products!$Z$8=$C$3,ROUND(F105*$B$3*(1+$D$3),2),IF(Products!$Z$8=$C$4,ROUND(F105*$B$3*(1+$D$4),2),IF(Products!$Z$8=$C$5,ROUND(F105*$B$3*(1+$D$5),2),IF(Products!$Z$8=$C$6,ROUND(F105*$B$3*(1+$D$6),2),IF(Products!$Z$8=$C$7,ROUND(F105*$B$3*(1+$D$7),2))))))))","v":58.6},{"$f":"IF(Products!$Z$8=$C$1,I105,IF(Products!$Z$8=$C$2,J105,IF(Products!$Z$8=$C$3,K105,IF(Products!$Z$8=$C$4,L105,IF(Products!$Z$8=$C$5,O105,IF(Products!$Z$8=$C$6,M105,IF(Products!$Z$8=$C$7,N105)))))))","v":"BL1225100F-EN"},"BL1225100F-EN","BL1525100F-EN","BL1625100F-EN","BL3225100F-EN","BL3525100F-EN","BL3625100F-EN","BL5225100F-EN",null,"GravityZone Security for Virtualized Environments VS","GravityZone Security for Virtualized Environments VS - EDU","GravityZone Security for Virtualized Environments VS - GOV","GravityZone Security for Virtualized Environments VS - R","GravityZone Security for Virtualized Environments VS - EDU R","GravityZone Security for Virtualized Environments VS - GOV R","GravityZone Security for Virtualized Environments VS - CUPG"]
[{"$f":"IF(Products!$Z$8=$C$1,Q106,IF(Products!$Z$8=$C$2,R106,IF(Products!$Z$8=$C$3,S106,IF(Products!$Z$8=$C$4,T106,IF(Products!$Z$8=$C$5,W106,IF(Products!$Z$8=$C$6,U106,IF(Products!$Z$8=$C$7,V106)))))))","v":"GravityZone Security for Virtualized Environments VS"},"1 year","250 - 499","GravityZone Security for Virtualized Environments VS1 year250 - 499",null,53.35,{"$f":"IF(Products!$Z$8=$C$1,ROUND(F106*$B$3,2),IF(Products!$Z$8=$C$2,ROUND(F106*$B$3*(1+$D$2),2),IF(Products!$Z$8=$C$3,ROUND(F106*$B$3*(1+$D$3),2),IF(Products!$Z$8=$C$4,ROUND(F106*$B$3*(1+$D$4),2),IF(Products!$Z$8=$C$5,ROUND(F106*$B$3*(1+$D$5),2),IF(Products!$Z$8=$C$6,ROUND(F106*$B$3*(1+$D$6),2),IF(Products!$Z$8=$C$7,ROUND(F106*$B$3*(1+$D$7),2))))))))","v":53.35},{"$f":"IF(Products!$Z$8=$C$1,I106,IF(Products!$Z$8=$C$2,J106,IF(Products!$Z$8=$C$3,K106,IF(Products!$Z$8=$C$4,L106,IF(Products!$Z$8=$C$5,O106,IF(Products!$Z$8=$C$6,M106,IF(Products!$Z$8=$C$7,N106)))))))","v":"BL1225100G-EN"},"BL1225100G-EN","BL1525100G-EN","BL1625100G-EN","BL3225100G-EN","BL3525100G-EN","BL3625100G-EN","BL5225100G-EN",null,"GravityZone Security for Virtualized Environments VS","GravityZone Security for Virtualized Environments VS - EDU","GravityZone Security for Virtualized Environments VS - GOV","GravityZone Security for Virtualized Environments VS - R","GravityZone Security for Virtualized Environments VS - EDU R","GravityZone Security for Virtualized Environments VS - GOV R","GravityZone Security for Virtualized Environments VS - CUPG"]
[{"$f":"IF(Products!$Z$8=$C$1,Q107,IF(Products!$Z$8=$C$2,R107,IF(Products!$Z$8=$C$3,S107,IF(Products!$Z$8=$C$4,T107,IF(Products!$Z$8=$C$5,W107,IF(Products!$Z$8=$C$6,U107,IF(Products!$Z$8=$C$7,V107)))))))","v":"GravityZone Security for Virtualized Environments VS"},"1 year","500 - 999","GravityZone Security for Virtualized Environments VS1 year500 - 999",null,48,{"$f":"IF(Products!$Z$8=$C$1,ROUND(F107*$B$3,2),IF(Products!$Z$8=$C$2,ROUND(F107*$B$3*(1+$D$2),2),IF(Products!$Z$8=$C$3,ROUND(F107*$B$3*(1+$D$3),2),IF(Products!$Z$8=$C$4,ROUND(F107*$B$3*(1+$D$4),2),IF(Products!$Z$8=$C$5,ROUND(F107*$B$3*(1+$D$5),2),IF(Products!$Z$8=$C$6,ROUND(F107*$B$3*(1+$D$6),2),IF(Products!$Z$8=$C$7,ROUND(F107*$B$3*(1+$D$7),2))))))))","v":48},{"$f":"IF(Products!$Z$8=$C$1,I107,IF(Products!$Z$8=$C$2,J107,IF(Products!$Z$8=$C$3,K107,IF(Products!$Z$8=$C$4,L107,IF(Products!$Z$8=$C$5,O107,IF(Products!$Z$8=$C$6,M107,IF(Products!$Z$8=$C$7,N107)))))))","v":"BL1225100H-EN"},"BL1225100H-EN","BL1525100H-EN","BL1625100H-EN","BL3225100H-EN","BL3525100H-EN","BL3625100H-EN","BL5225100H-EN",null,"GravityZone Security for Virtualized Environments VS","GravityZone Security for Virtualized Environments VS - EDU","GravityZone Security for Virtualized Environments VS - GOV","GravityZone Security for Virtualized Environments VS - R","GravityZone Security for Virtualized Environments VS - EDU R","GravityZone Security for Virtualized Environments VS - GOV R","GravityZone Security for Virtualized Environments VS - CUPG"]
[{"$f":"IF(Products!$Z$8=$C$1,Q108,IF(Products!$Z$8=$C$2,R108,IF(Products!$Z$8=$C$3,S108,IF(Products!$Z$8=$C$4,T108,IF(Products!$Z$8=$C$5,W108,IF(Products!$Z$8=$C$6,U108,IF(Products!$Z$8=$C$7,V108)))))))","v":"GravityZone Security for Virtualized Environments VS"},"1 year","1000 - 2999","GravityZone Security for Virtualized Environments VS1 year1000 - 2999",null,43.7,{"$f":"IF(Products!$Z$8=$C$1,ROUND(F108*$B$3,2),IF(Products!$Z$8=$C$2,ROUND(F108*$B$3*(1+$D$2),2),IF(Products!$Z$8=$C$3,ROUND(F108*$B$3*(1+$D$3),2),IF(Products!$Z$8=$C$4,ROUND(F108*$B$3*(1+$D$4),2),IF(Products!$Z$8=$C$5,ROUND(F108*$B$3*(1+$D$5),2),IF(Products!$Z$8=$C$6,ROUND(F108*$B$3*(1+$D$6),2),IF(Products!$Z$8=$C$7,ROUND(F108*$B$3*(1+$D$7),2))))))))","v":43.7},{"$f":"IF(Products!$Z$8=$C$1,I108,IF(Products!$Z$8=$C$2,J108,IF(Products!$Z$8=$C$3,K108,IF(Products!$Z$8=$C$4,L108,IF(Products!$Z$8=$C$5,O108,IF(Products!$Z$8=$C$6,M108,IF(Products!$Z$8=$C$7,N108)))))))","v":"BL1225100I-EN"},"BL1225100I-EN","BL1525100I-EN","BL1625100I-EN","BL3225100I-EN","BL3525100I-EN","BL3625100I-EN","BL5225100I-EN",null,"GravityZone Security for Virtualized Environments VS","GravityZone Security for Virtualized Environments VS - EDU","GravityZone Security for Virtualized Environments VS - GOV","GravityZone Security for Virtualized Environments VS - R","GravityZone Security for Virtualized Environments VS - EDU R","GravityZone Security for Virtualized Environments VS - GOV R","GravityZone Security for Virtualized Environments VS - CUPG"]
[{"$f":"IF(Products!$Z$8=$C$1,Q109,IF(Products!$Z$8=$C$2,R109,IF(Products!$Z$8=$C$3,S109,IF(Products!$Z$8=$C$4,T109,IF(Products!$Z$8=$C$5,W109,IF(Products!$Z$8=$C$6,U109,IF(Products!$Z$8=$C$7,V109)))))))","v":"GravityZone Security for Virtualized Environments VS"},"1 year","3000+","GravityZone Security for Virtualized Environments VS1 year3000+",null,39.75,{"$f":"IF(Products!$Z$8=$C$1,ROUND(F109*$B$3,2),IF(Products!$Z$8=$C$2,ROUND(F109*$B$3*(1+$D$2),2),IF(Products!$Z$8=$C$3,ROUND(F109*$B$3*(1+$D$3),2),IF(Products!$Z$8=$C$4,ROUND(F109*$B$3*(1+$D$4),2),IF(Products!$Z$8=$C$5,ROUND(F109*$B$3*(1+$D$5),2),IF(Products!$Z$8=$C$6,ROUND(F109*$B$3*(1+$D$6),2),IF(Products!$Z$8=$C$7,ROUND(F109*$B$3*(1+$D$7),2))))))))","v":39.75},{"$f":"IF(Products!$Z$8=$C$1,I109,IF(Products!$Z$8=$C$2,J109,IF(Products!$Z$8=$C$3,K109,IF(Products!$Z$8=$C$4,L109,IF(Products!$Z$8=$C$5,O109,IF(Products!$Z$8=$C$6,M109,IF(Products!$Z$8=$C$7,N109)))))))","v":"BL1225100J-EN"},"BL1225100J-EN","BL1525100J-EN","BL1625100J-EN","BL3225100J-EN","BL3525100J-EN","BL3625100J-EN","BL5225100J-EN",null,"GravityZone Security for Virtualized Environments VS","GravityZone Security for Virtualized Environments VS - EDU","GravityZone Security for Virtualized Environments VS - GOV","GravityZone Security for Virtualized Environments VS - R","GravityZone Security for Virtualized Environments VS - EDU R","GravityZone Security for Virtualized Environments VS - GOV R","GravityZone Security for Virtualized Environments VS - CUPG"]
[{"$f":"IF(Products!$Z$8=$C$1,Q110,IF(Products!$Z$8=$C$2,R110,IF(Products!$Z$8=$C$3,S110,IF(Products!$Z$8=$C$4,T110,IF(Products!$Z$8=$C$5,W110,IF(Products!$Z$8=$C$6,U110,IF(Products!$Z$8=$C$7,V110)))))))","v":"GravityZone Security for Virtualized Environments VS"},"2 years","1 - 14","GravityZone Security for Virtualized Environments VS2 years1 - 14",null,147.19999999999999,{"$f":"IF(Products!$Z$8=$C$1,ROUND(F110*$B$3,2),IF(Products!$Z$8=$C$2,ROUND(F110*$B$3*(1+$D$2),2),IF(Products!$Z$8=$C$3,ROUND(F110*$B$3*(1+$D$3),2),IF(Products!$Z$8=$C$4,ROUND(F110*$B$3*(1+$D$4),2),IF(Products!$Z$8=$C$5,ROUND(F110*$B$3*(1+$D$5),2),IF(Products!$Z$8=$C$6,ROUND(F110*$B$3*(1+$D$6),2),IF(Products!$Z$8=$C$7,ROUND(F110*$B$3*(1+$D$7),2))))))))","v":147.19999999999999},{"$f":"IF(Products!$Z$8=$C$1,I110,IF(Products!$Z$8=$C$2,J110,IF(Products!$Z$8=$C$3,K110,IF(Products!$Z$8=$C$4,L110,IF(Products!$Z$8=$C$5,O110,IF(Products!$Z$8=$C$6,M110,IF(Products!$Z$8=$C$7,N110)))))))","v":"BL1225200A-EN"},"BL1225200A-EN","BL1525200A-EN","BL1625200A-EN","BL3225200A-EN","BL3525200A-EN","BL3625200A-EN","BL5225200A-EN",null,"GravityZone Security for Virtualized Environments VS","GravityZone Security for Virtualized Environments VS - EDU","GravityZone Security for Virtualized Environments VS - GOV","GravityZone Security for Virtualized Environments VS - R","GravityZone Security for Virtualized Environments VS - EDU R","GravityZone Security for Virtualized Environments VS - GOV R","GravityZone Security for Virtualized Environments VS - CUPG"]
[{"$f":"IF(Products!$Z$8=$C$1,Q111,IF(Products!$Z$8=$C$2,R111,IF(Products!$Z$8=$C$3,S111,IF(Products!$Z$8=$C$4,T111,IF(Products!$Z$8=$C$5,W111,IF(Products!$Z$8=$C$6,U111,IF(Products!$Z$8=$C$7,V111)))))))","v":"GravityZone Security for Virtualized Environments VS"},"2 years","15 - 24","GravityZone Security for Virtualized Environments VS2 years15 - 24",null,132.47999999999999,{"$f":"IF(Products!$Z$8=$C$1,ROUND(F111*$B$3,2),IF(Products!$Z$8=$C$2,ROUND(F111*$B$3*(1+$D$2),2),IF(Products!$Z$8=$C$3,ROUND(F111*$B$3*(1+$D$3),2),IF(Products!$Z$8=$C$4,ROUND(F111*$B$3*(1+$D$4),2),IF(Products!$Z$8=$C$5,ROUND(F111*$B$3*(1+$D$5),2),IF(Products!$Z$8=$C$6,ROUND(F111*$B$3*(1+$D$6),2),IF(Products!$Z$8=$C$7,ROUND(F111*$B$3*(1+$D$7),2))))))))","v":132.47999999999999},{"$f":"IF(Products!$Z$8=$C$1,I111,IF(Products!$Z$8=$C$2,J111,IF(Products!$Z$8=$C$3,K111,IF(Products!$Z$8=$C$4,L111,IF(Products!$Z$8=$C$5,O111,IF(Products!$Z$8=$C$6,M111,IF(Products!$Z$8=$C$7,N111)))))))","v":"BL1225200B-EN"},"BL1225200B-EN","BL1525200B-EN","BL1625200B-EN","BL3225200B-EN","BL3525200B-EN","BL3625200B-EN","BL5225200B-EN",null,"GravityZone Security for Virtualized Environments VS","GravityZone Security for Virtualized Environments VS - EDU","GravityZone Security for Virtualized Environments VS - GOV","GravityZone Security for Virtualized Environments VS - R","GravityZone Security for Virtualized Environments VS - EDU R","GravityZone Security for Virtualized Environments VS - GOV R","GravityZone Security for Virtualized Environments VS - CUPG"]
[{"$f":"IF(Products!$Z$8=$C$1,Q112,IF(Products!$Z$8=$C$2,R112,IF(Products!$Z$8=$C$3,S112,IF(Products!$Z$8=$C$4,T112,IF(Products!$Z$8=$C$5,W112,IF(Products!$Z$8=$C$6,U112,IF(Products!$Z$8=$C$7,V112)))))))","v":"GravityZone Security for Virtualized Environments VS"},"2 years","25 - 49","GravityZone Security for Virtualized Environments VS2 years25 - 49",null,121.92,{"$f":"IF(Products!$Z$8=$C$1,ROUND(F112*$B$3,2),IF(Products!$Z$8=$C$2,ROUND(F112*$B$3*(1+$D$2),2),IF(Products!$Z$8=$C$3,ROUND(F112*$B$3*(1+$D$3),2),IF(Products!$Z$8=$C$4,ROUND(F112*$B$3*(1+$D$4),2),IF(Products!$Z$8=$C$5,ROUND(F112*$B$3*(1+$D$5),2),IF(Products!$Z$8=$C$6,ROUND(F112*$B$3*(1+$D$6),2),IF(Products!$Z$8=$C$7,ROUND(F112*$B$3*(1+$D$7),2))))))))","v":121.92},{"$f":"IF(Products!$Z$8=$C$1,I112,IF(Products!$Z$8=$C$2,J112,IF(Products!$Z$8=$C$3,K112,IF(Products!$Z$8=$C$4,L112,IF(Products!$Z$8=$C$5,O112,IF(Products!$Z$8=$C$6,M112,IF(Products!$Z$8=$C$7,N112)))))))","v":"BL1225200C-EN"},"BL1225200C-EN","BL1525200C-EN","BL1625200C-EN","BL3225200C-EN","BL3525200C-EN","BL3625200C-EN","BL5225200C-EN",null,"GravityZone Security for Virtualized Environments VS","GravityZone Security for Virtualized Environments VS - EDU","GravityZone Security for Virtualized Environments VS - GOV","GravityZone Security for Virtualized Environments VS - R","GravityZone Security for Virtualized Environments VS - EDU R","GravityZone Security for Virtualized Environments VS - GOV R","GravityZone Security for Virtualized Environments VS - CUPG"]
[{"$f":"IF(Products!$Z$8=$C$1,Q113,IF(Products!$Z$8=$C$2,R113,IF(Products!$Z$8=$C$3,S113,IF(Products!$Z$8=$C$4,T113,IF(Products!$Z$8=$C$5,W113,IF(Products!$Z$8=$C$6,U113,IF(Products!$Z$8=$C$7,V113)))))))","v":"GravityZone Security for Virtualized Environments VS"},"2 years","50 - 99","GravityZone Security for Virtualized Environments VS2 years50 - 99",null,109.6,{"$f":"IF(Products!$Z$8=$C$1,ROUND(F113*$B$3,2),IF(Products!$Z$8=$C$2,ROUND(F113*$B$3*(1+$D$2),2),IF(Products!$Z$8=$C$3,ROUND(F113*$B$3*(1+$D$3),2),IF(Products!$Z$8=$C$4,ROUND(F113*$B$3*(1+$D$4),2),IF(Products!$Z$8=$C$5,ROUND(F113*$B$3*(1+$D$5),2),IF(Products!$Z$8=$C$6,ROUND(F113*$B$3*(1+$D$6),2),IF(Products!$Z$8=$C$7,ROUND(F113*$B$3*(1+$D$7),2))))))))","v":109.6},{"$f":"IF(Products!$Z$8=$C$1,I113,IF(Products!$Z$8=$C$2,J113,IF(Products!$Z$8=$C$3,K113,IF(Products!$Z$8=$C$4,L113,IF(Products!$Z$8=$C$5,O113,IF(Products!$Z$8=$C$6,M113,IF(Products!$Z$8=$C$7,N113)))))))","v":"BL1225200D-EN"},"BL1225200D-EN","BL1525200D-EN","BL1625200D-EN","BL3225200D-EN","BL3525200D-EN","BL3625200D-EN","BL5225200D-EN",null,"GravityZone Security for Virtualized Environments VS","GravityZone Security for Virtualized Environments VS - EDU","GravityZone Security for Virtualized Environments VS - GOV","GravityZone Security for Virtualized Environments VS - R","GravityZone Security for Virtualized Environments VS - EDU R","GravityZone Security for Virtualized Environments VS - GOV R","GravityZone Security for Virtualized Environments VS - CUPG"]
[{"$f":"IF(Products!$Z$8=$C$1,Q114,IF(Products!$Z$8=$C$2,R114,IF(Products!$Z$8=$C$3,S114,IF(Products!$Z$8=$C$4,T114,IF(Products!$Z$8=$C$5,W114,IF(Products!$Z$8=$C$6,U114,IF(Products!$Z$8=$C$7,V114)))))))","v":"GravityZone Security for Virtualized Environments VS"},"2 years","100 - 149","GravityZone Security for Virtualized Environments VS2 years100 - 149",null,98.72,{"$f":"IF(Products!$Z$8=$C$1,ROUND(F114*$B$3,2),IF(Products!$Z$8=$C$2,ROUND(F114*$B$3*(1+$D$2),2),IF(Products!$Z$8=$C$3,ROUND(F114*$B$3*(1+$D$3),2),IF(Products!$Z$8=$C$4,ROUND(F114*$B$3*(1+$D$4),2),IF(Products!$Z$8=$C$5,ROUND(F114*$B$3*(1+$D$5),2),IF(Products!$Z$8=$C$6,ROUND(F114*$B$3*(1+$D$6),2),IF(Products!$Z$8=$C$7,ROUND(F114*$B$3*(1+$D$7),2))))))))","v":98.72},{"$f":"IF(Products!$Z$8=$C$1,I114,IF(Products!$Z$8=$C$2,J114,IF(Products!$Z$8=$C$3,K114,IF(Products!$Z$8=$C$4,L114,IF(Products!$Z$8=$C$5,O114,IF(Products!$Z$8=$C$6,M114,IF(Products!$Z$8=$C$7,N114)))))))","v":"BL1225200E-EN"},"BL1225200E-EN","BL1525200E-EN","BL1625200E-EN","BL3225200E-EN","BL3525200E-EN","BL3625200E-EN","BL5225200E-EN",null,"GravityZone Security for Virtualized Environments VS","GravityZone Security for Virtualized Environments VS - EDU","GravityZone Security for Virtualized Environments VS - GOV","GravityZone Security for Virtualized Environments VS - R","GravityZone Security for Virtualized Environments VS - EDU R","GravityZone Security for Virtualized Environments VS - GOV R","GravityZone Security for Virtualized Environments VS - CUPG"]
[{"$f":"IF(Products!$Z$8=$C$1,Q115,IF(Products!$Z$8=$C$2,R115,IF(Products!$Z$8=$C$3,S115,IF(Products!$Z$8=$C$4,T115,IF(Products!$Z$8=$C$5,W115,IF(Products!$Z$8=$C$6,U115,IF(Products!$Z$8=$C$7,V115)))))))","v":"GravityZone Security for Virtualized Environments VS"},"2 years","150 - 249","GravityZone Security for Virtualized Environments VS2 years150 - 249",null,93.76,{"$f":"IF(Products!$Z$8=$C$1,ROUND(F115*$B$3,2),IF(Products!$Z$8=$C$2,ROUND(F115*$B$3*(1+$D$2),2),IF(Products!$Z$8=$C$3,ROUND(F115*$B$3*(1+$D$3),2),IF(Products!$Z$8=$C$4,ROUND(F115*$B$3*(1+$D$4),2),IF(Products!$Z$8=$C$5,ROUND(F115*$B$3*(1+$D$5),2),IF(Products!$Z$8=$C$6,ROUND(F115*$B$3*(1+$D$6),2),IF(Products!$Z$8=$C$7,ROUND(F115*$B$3*(1+$D$7),2))))))))","v":93.76},{"$f":"IF(Products!$Z$8=$C$1,I115,IF(Products!$Z$8=$C$2,J115,IF(Products!$Z$8=$C$3,K115,IF(Products!$Z$8=$C$4,L115,IF(Products!$Z$8=$C$5,O115,IF(Products!$Z$8=$C$6,M115,IF(Products!$Z$8=$C$7,N115)))))))","v":"BL1225200F-EN"},"BL1225200F-EN","BL1525200F-EN","BL1625200F-EN","BL3225200F-EN","BL3525200F-EN","BL3625200F-EN","BL5225200F-EN",null,"GravityZone Security for Virtualized Environments VS","GravityZone Security for Virtualized Environments VS - EDU","GravityZone Security for Virtualized Environments VS - GOV","GravityZone Security for Virtualized Environments VS - R","GravityZone Security for Virtualized Environments VS - EDU R","GravityZone Security for Virtualized Environments VS - GOV R","GravityZone Security for Virtualized Environments VS - CUPG"]
[{"$f":"IF(Products!$Z$8=$C$1,Q116,IF(Products!$Z$8=$C$2,R116,IF(Products!$Z$8=$C$3,S116,IF(Products!$Z$8=$C$4,T116,IF(Products!$Z$8=$C$5,W116,IF(Products!$Z$8=$C$6,U116,IF(Products!$Z$8=$C$7,V116)))))))","v":"GravityZone Security for Virtualized Environments VS"},"2 years","250 - 499","GravityZone Security for Virtualized Environments VS2 years250 - 499",null,85.36,{"$f":"IF(Products!$Z$8=$C$1,ROUND(F116*$B$3,2),IF(Products!$Z$8=$C$2,ROUND(F116*$B$3*(1+$D$2),2),IF(Products!$Z$8=$C$3,ROUND(F116*$B$3*(1+$D$3),2),IF(Products!$Z$8=$C$4,ROUND(F116*$B$3*(1+$D$4),2),IF(Products!$Z$8=$C$5,ROUND(F116*$B$3*(1+$D$5),2),IF(Products!$Z$8=$C$6,ROUND(F116*$B$3*(1+$D$6),2),IF(Products!$Z$8=$C$7,ROUND(F116*$B$3*(1+$D$7),2))))))))","v":85.36},{"$f":"IF(Products!$Z$8=$C$1,I116,IF(Products!$Z$8=$C$2,J116,IF(Products!$Z$8=$C$3,K116,IF(Products!$Z$8=$C$4,L116,IF(Products!$Z$8=$C$5,O116,IF(Products!$Z$8=$C$6,M116,IF(Products!$Z$8=$C$7,N116)))))))","v":"BL1225200G-EN"},"BL1225200G-EN","BL1525200G-EN","BL1625200G-EN","BL3225200G-EN","BL3525200G-EN","BL3625200G-EN","BL5225200G-EN",null,"GravityZone Security for Virtualized Environments VS","GravityZone Security for Virtualized Environments VS - EDU","GravityZone Security for Virtualized Environments VS - GOV","GravityZone Security for Virtualized Environments VS - R","GravityZone Security for Virtualized Environments VS - EDU R","GravityZone Security for Virtualized Environments VS - GOV R","GravityZone Security for Virtualized Environments VS - CUPG"]
[{"$f":"IF(Products!$Z$8=$C$1,Q117,IF(Products!$Z$8=$C$2,R117,IF(Products!$Z$8=$C$3,S117,IF(Products!$Z$8=$C$4,T117,IF(Products!$Z$8=$C$5,W117,IF(Products!$Z$8=$C$6,U117,IF(Products!$Z$8=$C$7,V117)))))))","v":"GravityZone Security for Virtualized Environments VS"},"2 years","500 - 999","GravityZone Security for Virtualized Environments VS2 years500 - 999",null,76.8,{"$f":"IF(Products!$Z$8=$C$1,ROUND(F117*$B$3,2),IF(Products!$Z$8=$C$2,ROUND(F117*$B$3*(1+$D$2),2),IF(Products!$Z$8=$C$3,ROUND(F117*$B$3*(1+$D$3),2),IF(Products!$Z$8=$C$4,ROUND(F117*$B$3*(1+$D$4),2),IF(Products!$Z$8=$C$5,ROUND(F117*$B$3*(1+$D$5),2),IF(Products!$Z$8=$C$6,ROUND(F117*$B$3*(1+$D$6),2),IF(Products!$Z$8=$C$7,ROUND(F117*$B$3*(1+$D$7),2))))))))","v":76.8},{"$f":"IF(Products!$Z$8=$C$1,I117,IF(Products!$Z$8=$C$2,J117,IF(Products!$Z$8=$C$3,K117,IF(Products!$Z$8=$C$4,L117,IF(Products!$Z$8=$C$5,O117,IF(Products!$Z$8=$C$6,M117,IF(Products!$Z$8=$C$7,N117)))))))","v":"BL1225200H-EN"},"BL1225200H-EN","BL1525200H-EN","BL1625200H-EN","BL3225200H-EN","BL3525200H-EN","BL3625200H-EN","BL5225200H-EN",null,"GravityZone Security for Virtualized Environments VS","GravityZone Security for Virtualized Environments VS - EDU","GravityZone Security for Virtualized Environments VS - GOV","GravityZone Security for Virtualized Environments VS - R","GravityZone Security for Virtualized Environments VS - EDU R","GravityZone Security for Virtualized Environments VS - GOV R","GravityZone Security for Virtualized Environments VS - CUPG"]
[{"$f":"IF(Products!$Z$8=$C$1,Q118,IF(Products!$Z$8=$C$2,R118,IF(Products!$Z$8=$C$3,S118,IF(Products!$Z$8=$C$4,T118,IF(Products!$Z$8=$C$5,W118,IF(Products!$Z$8=$C$6,U118,IF(Products!$Z$8=$C$7,V118)))))))","v":"GravityZone Security for Virtualized Environments VS"},"2 years","1000 - 2999","GravityZone Security for Virtualized Environments VS2 years1000 - 2999",null,69.92,{"$f":"IF(Products!$Z$8=$C$1,ROUND(F118*$B$3,2),IF(Products!$Z$8=$C$2,ROUND(F118*$B$3*(1+$D$2),2),IF(Products!$Z$8=$C$3,ROUND(F118*$B$3*(1+$D$3),2),IF(Products!$Z$8=$C$4,ROUND(F118*$B$3*(1+$D$4),2),IF(Products!$Z$8=$C$5,ROUND(F118*$B$3*(1+$D$5),2),IF(Products!$Z$8=$C$6,ROUND(F118*$B$3*(1+$D$6),2),IF(Products!$Z$8=$C$7,ROUND(F118*$B$3*(1+$D$7),2))))))))","v":69.92},{"$f":"IF(Products!$Z$8=$C$1,I118,IF(Products!$Z$8=$C$2,J118,IF(Products!$Z$8=$C$3,K118,IF(Products!$Z$8=$C$4,L118,IF(Products!$Z$8=$C$5,O118,IF(Products!$Z$8=$C$6,M118,IF(Products!$Z$8=$C$7,N118)))))))","v":"BL1225200I-EN"},"BL1225200I-EN","BL1525200I-EN","BL1625200I-EN","BL3225200I-EN","BL3525200I-EN","BL3625200I-EN","BL5225200I-EN",null,"GravityZone Security for Virtualized Environments VS","GravityZone Security for Virtualized Environments VS - EDU","GravityZone Security for Virtualized Environments VS - GOV","GravityZone Security for Virtualized Environments VS - R","GravityZone Security for Virtualized Environments VS - EDU R","GravityZone Security for Virtualized Environments VS - GOV R","GravityZone Security for Virtualized Environments VS - CUPG"]
[{"$f":"IF(Products!$Z$8=$C$1,Q119,IF(Products!$Z$8=$C$2,R119,IF(Products!$Z$8=$C$3,S119,IF(Products!$Z$8=$C$4,T119,IF(Products!$Z$8=$C$5,W119,IF(Products!$Z$8=$C$6,U119,IF(Products!$Z$8=$C$7,V119)))))))","v":"GravityZone Security for Virtualized Environments VS"},"2 years","3000+","GravityZone Security for Virtualized Environments VS2 years3000+",null,63.6,{"$f":"IF(Products!$Z$8=$C$1,ROUND(F119*$B$3,2),IF(Products!$Z$8=$C$2,ROUND(F119*$B$3*(1+$D$2),2),IF(Products!$Z$8=$C$3,ROUND(F119*$B$3*(1+$D$3),2),IF(Products!$Z$8=$C$4,ROUND(F119*$B$3*(1+$D$4),2),IF(Products!$Z$8=$C$5,ROUND(F119*$B$3*(1+$D$5),2),IF(Products!$Z$8=$C$6,ROUND(F119*$B$3*(1+$D$6),2),IF(Products!$Z$8=$C$7,ROUND(F119*$B$3*(1+$D$7),2))))))))","v":63.6},{"$f":"IF(Products!$Z$8=$C$1,I119,IF(Products!$Z$8=$C$2,J119,IF(Products!$Z$8=$C$3,K119,IF(Products!$Z$8=$C$4,L119,IF(Products!$Z$8=$C$5,O119,IF(Products!$Z$8=$C$6,M119,IF(Products!$Z$8=$C$7,N119)))))))","v":"BL1225200J-EN"},"BL1225200J-EN","BL1525200J-EN","BL1625200J-EN","BL3225200J-EN","BL3525200J-EN","BL3625200J-EN","BL5225200J-EN",null,"GravityZone Security for Virtualized Environments VS","GravityZone Security for Virtualized Environments VS - EDU","GravityZone Security for Virtualized Environments VS - GOV","GravityZone Security for Virtualized Environments VS - R","GravityZone Security for Virtualized Environments VS - EDU R","GravityZone Security for Virtualized Environments VS - GOV R","GravityZone Security for Virtualized Environments VS - CUPG"]
[{"$f":"IF(Products!$Z$8=$C$1,Q120,IF(Products!$Z$8=$C$2,R120,IF(Products!$Z$8=$C$3,S120,IF(Products!$Z$8=$C$4,T120,IF(Products!$Z$8=$C$5,W120,IF(Products!$Z$8=$C$6,U120,IF(Products!$Z$8=$C$7,V120)))))))","v":"GravityZone Security for Virtualized Environments VS"},"3 years","1 - 14","GravityZone Security for Virtualized Environments VS3 years1 - 14",null,188.6,{"$f":"IF(Products!$Z$8=$C$1,ROUND(F120*$B$3,2),IF(Products!$Z$8=$C$2,ROUND(F120*$B$3*(1+$D$2),2),IF(Products!$Z$8=$C$3,ROUND(F120*$B$3*(1+$D$3),2),IF(Products!$Z$8=$C$4,ROUND(F120*$B$3*(1+$D$4),2),IF(Products!$Z$8=$C$5,ROUND(F120*$B$3*(1+$D$5),2),IF(Products!$Z$8=$C$6,ROUND(F120*$B$3*(1+$D$6),2),IF(Products!$Z$8=$C$7,ROUND(F120*$B$3*(1+$D$7),2))))))))","v":188.6},{"$f":"IF(Products!$Z$8=$C$1,I120,IF(Products!$Z$8=$C$2,J120,IF(Products!$Z$8=$C$3,K120,IF(Products!$Z$8=$C$4,L120,IF(Products!$Z$8=$C$5,O120,IF(Products!$Z$8=$C$6,M120,IF(Products!$Z$8=$C$7,N120)))))))","v":"BL1225300A-EN"},"BL1225300A-EN","BL1525300A-EN","BL1625300A-EN","BL3225300A-EN","BL3525300A-EN","BL3625300A-EN","BL5225300A-EN",null,"GravityZone Security for Virtualized Environments VS","GravityZone Security for Virtualized Environments VS - EDU","GravityZone Security for Virtualized Environments VS - GOV","GravityZone Security for Virtualized Environments VS - R","GravityZone Security for Virtualized Environments VS - EDU R","GravityZone Security for Virtualized Environments VS - GOV R","GravityZone Security for Virtualized Environments VS - CUPG"]
[{"$f":"IF(Products!$Z$8=$C$1,Q121,IF(Products!$Z$8=$C$2,R121,IF(Products!$Z$8=$C$3,S121,IF(Products!$Z$8=$C$4,T121,IF(Products!$Z$8=$C$5,W121,IF(Products!$Z$8=$C$6,U121,IF(Products!$Z$8=$C$7,V121)))))))","v":"GravityZone Security for Virtualized Environments VS"},"3 years","15 - 24","GravityZone Security for Virtualized Environments VS3 years15 - 24",null,169.73999999999998,{"$f":"IF(Products!$Z$8=$C$1,ROUND(F121*$B$3,2),IF(Products!$Z$8=$C$2,ROUND(F121*$B$3*(1+$D$2),2),IF(Products!$Z$8=$C$3,ROUND(F121*$B$3*(1+$D$3),2),IF(Products!$Z$8=$C$4,ROUND(F121*$B$3*(1+$D$4),2),IF(Products!$Z$8=$C$5,ROUND(F121*$B$3*(1+$D$5),2),IF(Products!$Z$8=$C$6,ROUND(F121*$B$3*(1+$D$6),2),IF(Products!$Z$8=$C$7,ROUND(F121*$B$3*(1+$D$7),2))))))))","v":169.74},{"$f":"IF(Products!$Z$8=$C$1,I121,IF(Products!$Z$8=$C$2,J121,IF(Products!$Z$8=$C$3,K121,IF(Products!$Z$8=$C$4,L121,IF(Products!$Z$8=$C$5,O121,IF(Products!$Z$8=$C$6,M121,IF(Products!$Z$8=$C$7,N121)))))))","v":"BL1225300B-EN"},"BL1225300B-EN","BL1525300B-EN","BL1625300B-EN","BL3225300B-EN","BL3525300B-EN","BL3625300B-EN","BL5225300B-EN",null,"GravityZone Security for Virtualized Environments VS","GravityZone Security for Virtualized Environments VS - EDU","GravityZone Security for Virtualized Environments VS - GOV","GravityZone Security for Virtualized Environments VS - R","GravityZone Security for Virtualized Environments VS - EDU R","GravityZone Security for Virtualized Environments VS - GOV R","GravityZone Security for Virtualized Environments VS - CUPG"]
[{"$f":"IF(Products!$Z$8=$C$1,Q122,IF(Products!$Z$8=$C$2,R122,IF(Products!$Z$8=$C$3,S122,IF(Products!$Z$8=$C$4,T122,IF(Products!$Z$8=$C$5,W122,IF(Products!$Z$8=$C$6,U122,IF(Products!$Z$8=$C$7,V122)))))))","v":"GravityZone Security for Virtualized Environments VS"},"3 years","25 - 49","GravityZone Security for Virtualized Environments VS3 years25 - 49",null,156.20999999999998,{"$f":"IF(Products!$Z$8=$C$1,ROUND(F122*$B$3,2),IF(Products!$Z$8=$C$2,ROUND(F122*$B$3*(1+$D$2),2),IF(Products!$Z$8=$C$3,ROUND(F122*$B$3*(1+$D$3),2),IF(Products!$Z$8=$C$4,ROUND(F122*$B$3*(1+$D$4),2),IF(Products!$Z$8=$C$5,ROUND(F122*$B$3*(1+$D$5),2),IF(Products!$Z$8=$C$6,ROUND(F122*$B$3*(1+$D$6),2),IF(Products!$Z$8=$C$7,ROUND(F122*$B$3*(1+$D$7),2))))))))","v":156.21},{"$f":"IF(Products!$Z$8=$C$1,I122,IF(Products!$Z$8=$C$2,J122,IF(Products!$Z$8=$C$3,K122,IF(Products!$Z$8=$C$4,L122,IF(Products!$Z$8=$C$5,O122,IF(Products!$Z$8=$C$6,M122,IF(Products!$Z$8=$C$7,N122)))))))","v":"BL1225300C-EN"},"BL1225300C-EN","BL1525300C-EN","BL1625300C-EN","BL3225300C-EN","BL3525300C-EN","BL3625300C-EN","BL5225300C-EN",null,"GravityZone Security for Virtualized Environments VS","GravityZone Security for Virtualized Environments VS - EDU","GravityZone Security for Virtualized Environments VS - GOV","GravityZone Security for Virtualized Environments VS - R","GravityZone Security for Virtualized Environments VS - EDU R","GravityZone Security for Virtualized Environments VS - GOV R","GravityZone Security for Virtualized Environments VS - CUPG"]
[{"$f":"IF(Products!$Z$8=$C$1,Q123,IF(Products!$Z$8=$C$2,R123,IF(Products!$Z$8=$C$3,S123,IF(Products!$Z$8=$C$4,T123,IF(Products!$Z$8=$C$5,W123,IF(Products!$Z$8=$C$6,U123,IF(Products!$Z$8=$C$7,V123)))))))","v":"GravityZone Security for Virtualized Environments VS"},"3 years","50 - 99","GravityZone Security for Virtualized Environments VS3 years50 - 99",null,140.42499999999998,{"$f":"IF(Products!$Z$8=$C$1,ROUND(F123*$B$3,2),IF(Products!$Z$8=$C$2,ROUND(F123*$B$3*(1+$D$2),2),IF(Products!$Z$8=$C$3,ROUND(F123*$B$3*(1+$D$3),2),IF(Products!$Z$8=$C$4,ROUND(F123*$B$3*(1+$D$4),2),IF(Products!$Z$8=$C$5,ROUND(F123*$B$3*(1+$D$5),2),IF(Products!$Z$8=$C$6,ROUND(F123*$B$3*(1+$D$6),2),IF(Products!$Z$8=$C$7,ROUND(F123*$B$3*(1+$D$7),2))))))))","v":140.43},{"$f":"IF(Products!$Z$8=$C$1,I123,IF(Products!$Z$8=$C$2,J123,IF(Products!$Z$8=$C$3,K123,IF(Products!$Z$8=$C$4,L123,IF(Products!$Z$8=$C$5,O123,IF(Products!$Z$8=$C$6,M123,IF(Products!$Z$8=$C$7,N123)))))))","v":"BL1225300D-EN"},"BL1225300D-EN","BL1525300D-EN","BL1625300D-EN","BL3225300D-EN","BL3525300D-EN","BL3625300D-EN","BL5225300D-EN",null,"GravityZone Security for Virtualized Environments VS","GravityZone Security for Virtualized Environments VS - EDU","GravityZone Security for Virtualized Environments VS - GOV","GravityZone Security for Virtualized Environments VS - R","GravityZone Security for Virtualized Environments VS - EDU R","GravityZone Security for Virtualized Environments VS - GOV R","GravityZone Security for Virtualized Environments VS - CUPG"]
[{"$f":"IF(Products!$Z$8=$C$1,Q124,IF(Products!$Z$8=$C$2,R124,IF(Products!$Z$8=$C$3,S124,IF(Products!$Z$8=$C$4,T124,IF(Products!$Z$8=$C$5,W124,IF(Products!$Z$8=$C$6,U124,IF(Products!$Z$8=$C$7,V124)))))))","v":"GravityZone Security for Virtualized Environments VS"},"3 years","100 - 149","GravityZone Security for Virtualized Environments VS3 years100 - 149",null,126.485,{"$f":"IF(Products!$Z$8=$C$1,ROUND(F124*$B$3,2),IF(Products!$Z$8=$C$2,ROUND(F124*$B$3*(1+$D$2),2),IF(Products!$Z$8=$C$3,ROUND(F124*$B$3*(1+$D$3),2),IF(Products!$Z$8=$C$4,ROUND(F124*$B$3*(1+$D$4),2),IF(Products!$Z$8=$C$5,ROUND(F124*$B$3*(1+$D$5),2),IF(Products!$Z$8=$C$6,ROUND(F124*$B$3*(1+$D$6),2),IF(Products!$Z$8=$C$7,ROUND(F124*$B$3*(1+$D$7),2))))))))","v":126.49},{"$f":"IF(Products!$Z$8=$C$1,I124,IF(Products!$Z$8=$C$2,J124,IF(Products!$Z$8=$C$3,K124,IF(Products!$Z$8=$C$4,L124,IF(Products!$Z$8=$C$5,O124,IF(Products!$Z$8=$C$6,M124,IF(Products!$Z$8=$C$7,N124)))))))","v":"BL1225300E-EN"},"BL1225300E-EN","BL1525300E-EN","BL1625300E-EN","BL3225300E-EN","BL3525300E-EN","BL3625300E-EN","BL5225300E-EN",null,"GravityZone Security for Virtualized Environments VS","GravityZone Security for Virtualized Environments VS - EDU","GravityZone Security for Virtualized Environments VS - GOV","GravityZone Security for Virtualized Environments VS - R","GravityZone Security for Virtualized Environments VS - EDU R","GravityZone Security for Virtualized Environments VS - GOV R","GravityZone Security for Virtualized Environments VS - CUPG"]
[{"$f":"IF(Products!$Z$8=$C$1,Q125,IF(Products!$Z$8=$C$2,R125,IF(Products!$Z$8=$C$3,S125,IF(Products!$Z$8=$C$4,T125,IF(Products!$Z$8=$C$5,W125,IF(Products!$Z$8=$C$6,U125,IF(Products!$Z$8=$C$7,V125)))))))","v":"GravityZone Security for Virtualized Environments VS"},"3 years","150 - 249","GravityZone Security for Virtualized Environments VS3 years150 - 249",null,120.13,{"$f":"IF(Products!$Z$8=$C$1,ROUND(F125*$B$3,2),IF(Products!$Z$8=$C$2,ROUND(F125*$B$3*(1+$D$2),2),IF(Products!$Z$8=$C$3,ROUND(F125*$B$3*(1+$D$3),2),IF(Products!$Z$8=$C$4,ROUND(F125*$B$3*(1+$D$4),2),IF(Products!$Z$8=$C$5,ROUND(F125*$B$3*(1+$D$5),2),IF(Products!$Z$8=$C$6,ROUND(F125*$B$3*(1+$D$6),2),IF(Products!$Z$8=$C$7,ROUND(F125*$B$3*(1+$D$7),2))))))))","v":120.13},{"$f":"IF(Products!$Z$8=$C$1,I125,IF(Products!$Z$8=$C$2,J125,IF(Products!$Z$8=$C$3,K125,IF(Products!$Z$8=$C$4,L125,IF(Products!$Z$8=$C$5,O125,IF(Products!$Z$8=$C$6,M125,IF(Products!$Z$8=$C$7,N125)))))))","v":"BL1225300F-EN"},"BL1225300F-EN","BL1525300F-EN","BL1625300F-EN","BL3225300F-EN","BL3525300F-EN","BL3625300F-EN","BL5225300F-EN",null,"GravityZone Security for Virtualized Environments VS","GravityZone Security for Virtualized Environments VS - EDU","GravityZone Security for Virtualized Environments VS - GOV","GravityZone Security for Virtualized Environments VS - R","GravityZone Security for Virtualized Environments VS - EDU R","GravityZone Security for Virtualized Environments VS - GOV R","GravityZone Security for Virtualized Environments VS - CUPG"]
[{"$f":"IF(Products!$Z$8=$C$1,Q126,IF(Products!$Z$8=$C$2,R126,IF(Products!$Z$8=$C$3,S126,IF(Products!$Z$8=$C$4,T126,IF(Products!$Z$8=$C$5,W126,IF(Products!$Z$8=$C$6,U126,IF(Products!$Z$8=$C$7,V126)))))))","v":"GravityZone Security for Virtualized Environments VS"},"3 years","250 - 499","GravityZone Security for Virtualized Environments VS3 years250 - 499",null,109.36749999999999,{"$f":"IF(Products!$Z$8=$C$1,ROUND(F126*$B$3,2),IF(Products!$Z$8=$C$2,ROUND(F126*$B$3*(1+$D$2),2),IF(Products!$Z$8=$C$3,ROUND(F126*$B$3*(1+$D$3),2),IF(Products!$Z$8=$C$4,ROUND(F126*$B$3*(1+$D$4),2),IF(Products!$Z$8=$C$5,ROUND(F126*$B$3*(1+$D$5),2),IF(Products!$Z$8=$C$6,ROUND(F126*$B$3*(1+$D$6),2),IF(Products!$Z$8=$C$7,ROUND(F126*$B$3*(1+$D$7),2))))))))","v":109.37},{"$f":"IF(Products!$Z$8=$C$1,I126,IF(Products!$Z$8=$C$2,J126,IF(Products!$Z$8=$C$3,K126,IF(Products!$Z$8=$C$4,L126,IF(Products!$Z$8=$C$5,O126,IF(Products!$Z$8=$C$6,M126,IF(Products!$Z$8=$C$7,N126)))))))","v":"BL1225300G-EN"},"BL1225300G-EN","BL1525300G-EN","BL1625300G-EN","BL3225300G-EN","BL3525300G-EN","BL3625300G-EN","BL5225300G-EN",null,"GravityZone Security for Virtualized Environments VS","GravityZone Security for Virtualized Environments VS - EDU","GravityZone Security for Virtualized Environments VS - GOV","GravityZone Security for Virtualized Environments VS - R","GravityZone Security for Virtualized Environments VS - EDU R","GravityZone Security for Virtualized Environments VS - GOV R","GravityZone Security for Virtualized Environments VS - CUPG"]
[{"$f":"IF(Products!$Z$8=$C$1,Q127,IF(Products!$Z$8=$C$2,R127,IF(Products!$Z$8=$C$3,S127,IF(Products!$Z$8=$C$4,T127,IF(Products!$Z$8=$C$5,W127,IF(Products!$Z$8=$C$6,U127,IF(Products!$Z$8=$C$7,V127)))))))","v":"GravityZone Security for Virtualized Environments VS"},"3 years","500 - 999","GravityZone Security for Virtualized Environments VS3 years500 - 999",null,98.399999999999991,{"$f":"IF(Products!$Z$8=$C$1,ROUND(F127*$B$3,2),IF(Products!$Z$8=$C$2,ROUND(F127*$B$3*(1+$D$2),2),IF(Products!$Z$8=$C$3,ROUND(F127*$B$3*(1+$D$3),2),IF(Products!$Z$8=$C$4,ROUND(F127*$B$3*(1+$D$4),2),IF(Products!$Z$8=$C$5,ROUND(F127*$B$3*(1+$D$5),2),IF(Products!$Z$8=$C$6,ROUND(F127*$B$3*(1+$D$6),2),IF(Products!$Z$8=$C$7,ROUND(F127*$B$3*(1+$D$7),2))))))))","v":98.4},{"$f":"IF(Products!$Z$8=$C$1,I127,IF(Products!$Z$8=$C$2,J127,IF(Products!$Z$8=$C$3,K127,IF(Products!$Z$8=$C$4,L127,IF(Products!$Z$8=$C$5,O127,IF(Products!$Z$8=$C$6,M127,IF(Products!$Z$8=$C$7,N127)))))))","v":"BL1225300H-EN"},"BL1225300H-EN","BL1525300H-EN","BL1625300H-EN","BL3225300H-EN","BL3525300H-EN","BL3625300H-EN","BL5225300H-EN",null,"GravityZone Security for Virtualized Environments VS","GravityZone Security for Virtualized Environments VS - EDU","GravityZone Security for Virtualized Environments VS - GOV","GravityZone Security for Virtualized Environments VS - R","GravityZone Security for Virtualized Environments VS - EDU R","GravityZone Security for Virtualized Environments VS - GOV R","GravityZone Security for Virtualized Environments VS - CUPG"]
[{"$f":"IF(Products!$Z$8=$C$1,Q128,IF(Products!$Z$8=$C$2,R128,IF(Products!$Z$8=$C$3,S128,IF(Products!$Z$8=$C$4,T128,IF(Products!$Z$8=$C$5,W128,IF(Products!$Z$8=$C$6,U128,IF(Products!$Z$8=$C$7,V128)))))))","v":"GravityZone Security for Virtualized Environments VS"},"3 years","1000 - 2999","GravityZone Security for Virtualized Environments VS3 years1000 - 2999",null,89.584999999999994,{"$f":"IF(Products!$Z$8=$C$1,ROUND(F128*$B$3,2),IF(Products!$Z$8=$C$2,ROUND(F128*$B$3*(1+$D$2),2),IF(Products!$Z$8=$C$3,ROUND(F128*$B$3*(1+$D$3),2),IF(Products!$Z$8=$C$4,ROUND(F128*$B$3*(1+$D$4),2),IF(Products!$Z$8=$C$5,ROUND(F128*$B$3*(1+$D$5),2),IF(Products!$Z$8=$C$6,ROUND(F128*$B$3*(1+$D$6),2),IF(Products!$Z$8=$C$7,ROUND(F128*$B$3*(1+$D$7),2))))))))","v":89.59},{"$f":"IF(Products!$Z$8=$C$1,I128,IF(Products!$Z$8=$C$2,J128,IF(Products!$Z$8=$C$3,K128,IF(Products!$Z$8=$C$4,L128,IF(Products!$Z$8=$C$5,O128,IF(Products!$Z$8=$C$6,M128,IF(Products!$Z$8=$C$7,N128)))))))","v":"BL1225300I-EN"},"BL1225300I-EN","BL1525300I-EN","BL1625300I-EN","BL3225300I-EN","BL3525300I-EN","BL3625300I-EN","BL5225300I-EN",null,"GravityZone Security for Virtualized Environments VS","GravityZone Security for Virtualized Environments VS - EDU","GravityZone Security for Virtualized Environments VS - GOV","GravityZone Security for Virtualized Environments VS - R","GravityZone Security for Virtualized Environments VS - EDU R","GravityZone Security for Virtualized Environments VS - GOV R","GravityZone Security for Virtualized Environments VS - CUPG"]
[{"$f":"IF(Products!$Z$8=$C$1,Q129,IF(Products!$Z$8=$C$2,R129,IF(Products!$Z$8=$C$3,S129,IF(Products!$Z$8=$C$4,T129,IF(Products!$Z$8=$C$5,W129,IF(Products!$Z$8=$C$6,U129,IF(Products!$Z$8=$C$7,V129)))))))","v":"GravityZone Security for Virtualized Environments VS"},"3 years","3000+","GravityZone Security for Virtualized Environments VS3 years3000+",null,81.487499999999997,{"$f":"IF(Products!$Z$8=$C$1,ROUND(F129*$B$3,2),IF(Products!$Z$8=$C$2,ROUND(F129*$B$3*(1+$D$2),2),IF(Products!$Z$8=$C$3,ROUND(F129*$B$3*(1+$D$3),2),IF(Products!$Z$8=$C$4,ROUND(F129*$B$3*(1+$D$4),2),IF(Products!$Z$8=$C$5,ROUND(F129*$B$3*(1+$D$5),2),IF(Products!$Z$8=$C$6,ROUND(F129*$B$3*(1+$D$6),2),IF(Products!$Z$8=$C$7,ROUND(F129*$B$3*(1+$D$7),2))))))))","v":81.489999999999995},{"$f":"IF(Products!$Z$8=$C$1,I129,IF(Products!$Z$8=$C$2,J129,IF(Products!$Z$8=$C$3,K129,IF(Products!$Z$8=$C$4,L129,IF(Products!$Z$8=$C$5,O129,IF(Products!$Z$8=$C$6,M129,IF(Products!$Z$8=$C$7,N129)))))))","v":"BL1225300J-EN"},"BL1225300J-EN","BL1525300J-EN","BL1625300J-EN","BL3225300J-EN","BL3525300J-EN","BL3625300J-EN","BL5225300J-EN",null,"GravityZone Security for Virtualized Environments VS","GravityZone Security for Virtualized Environments VS - EDU","GravityZone Security for Virtualized Environments VS - GOV","GravityZone Security for Virtualized Environments VS - R","GravityZone Security for Virtualized Environments VS - EDU R","GravityZone Security for Virtualized Environments VS - GOV R","GravityZone Security for Virtualized Environments VS - CUPG"]
[{"$f":"IF(Products!$Z$8=$C$1,Q130,IF(Products!$Z$8=$C$2,R130,IF(Products!$Z$8=$C$3,S130,IF(Products!$Z$8=$C$4,T130,IF(Products!$Z$8=$C$5,W130,IF(Products!$Z$8=$C$6,U130,IF(Products!$Z$8=$C$7,V130)))))))","v":"GravityZone Security for Virtualized Environments CPU"},"1 year","1 - 14","GravityZone Security for Virtualized Environments CPU1 year1 - 14",null,800,{"$f":"IF(Products!$Z$8=$C$1,ROUND(F130*$B$3,2),IF(Products!$Z$8=$C$2,ROUND(F130*$B$3*(1+$D$2),2),IF(Products!$Z$8=$C$3,ROUND(F130*$B$3*(1+$D$3),2),IF(Products!$Z$8=$C$4,ROUND(F130*$B$3*(1+$D$4),2),IF(Products!$Z$8=$C$5,ROUND(F130*$B$3*(1+$D$5),2),IF(Products!$Z$8=$C$6,ROUND(F130*$B$3*(1+$D$6),2),IF(Products!$Z$8=$C$7,ROUND(F130*$B$3*(1+$D$7),2))))))))","v":800},{"$f":"IF(Products!$Z$8=$C$1,I130,IF(Products!$Z$8=$C$2,J130,IF(Products!$Z$8=$C$3,K130,IF(Products!$Z$8=$C$4,L130,IF(Products!$Z$8=$C$5,O130,IF(Products!$Z$8=$C$6,M130,IF(Products!$Z$8=$C$7,N130)))))))","v":"BL1226100A-EN"},"BL1226100A-EN","BL1526100A-EN","BL1626100A-EN","BL3226100A-EN","BL3526100A-EN","BL3626100A-EN","BL5226100A-EN",null,"GravityZone Security for Virtualized Environments CPU","GravityZone Security for Virtualized Environments CPU - EDU","GravityZone Security for Virtualized Environments CPU - GOV","GravityZone Security for Virtualized Environments CPU - R","GravityZone Security for Virtualized Environments CPU - EDU R","GravityZone Security for Virtualized Environments CPU - GOV R","GravityZone Security for Virtualized Environments CPU - CUPG"]
[{"$f":"IF(Products!$Z$8=$C$1,Q131,IF(Products!$Z$8=$C$2,R131,IF(Products!$Z$8=$C$3,S131,IF(Products!$Z$8=$C$4,T131,IF(Products!$Z$8=$C$5,W131,IF(Products!$Z$8=$C$6,U131,IF(Products!$Z$8=$C$7,V131)))))))","v":"GravityZone Security for Virtualized Environments CPU"},"1 year","15 - 24","GravityZone Security for Virtualized Environments CPU1 year15 - 24",null,760,{"$f":"IF(Products!$Z$8=$C$1,ROUND(F131*$B$3,2),IF(Products!$Z$8=$C$2,ROUND(F131*$B$3*(1+$D$2),2),IF(Products!$Z$8=$C$3,ROUND(F131*$B$3*(1+$D$3),2),IF(Products!$Z$8=$C$4,ROUND(F131*$B$3*(1+$D$4),2),IF(Products!$Z$8=$C$5,ROUND(F131*$B$3*(1+$D$5),2),IF(Products!$Z$8=$C$6,ROUND(F131*$B$3*(1+$D$6),2),IF(Products!$Z$8=$C$7,ROUND(F131*$B$3*(1+$D$7),2))))))))","v":760},{"$f":"IF(Products!$Z$8=$C$1,I131,IF(Products!$Z$8=$C$2,J131,IF(Products!$Z$8=$C$3,K131,IF(Products!$Z$8=$C$4,L131,IF(Products!$Z$8=$C$5,O131,IF(Products!$Z$8=$C$6,M131,IF(Products!$Z$8=$C$7,N131)))))))","v":"BL1226100B-EN"},"BL1226100B-EN","BL1526100B-EN","BL1626100B-EN","BL3226100B-EN","BL3526100B-EN","BL3626100B-EN","BL5226100B-EN",null,"GravityZone Security for Virtualized Environments CPU","GravityZone Security for Virtualized Environments CPU - EDU","GravityZone Security for Virtualized Environments CPU - GOV","GravityZone Security for Virtualized Environments CPU - R","GravityZone Security for Virtualized Environments CPU - EDU R","GravityZone Security for Virtualized Environments CPU - GOV R","GravityZone Security for Virtualized Environments CPU - CUPG"]
[{"$f":"IF(Products!$Z$8=$C$1,Q132,IF(Products!$Z$8=$C$2,R132,IF(Products!$Z$8=$C$3,S132,IF(Products!$Z$8=$C$4,T132,IF(Products!$Z$8=$C$5,W132,IF(Products!$Z$8=$C$6,U132,IF(Products!$Z$8=$C$7,V132)))))))","v":"GravityZone Security for Virtualized Environments CPU"},"1 year","25 - 49","GravityZone Security for Virtualized Environments CPU1 year25 - 49",null,725,{"$f":"IF(Products!$Z$8=$C$1,ROUND(F132*$B$3,2),IF(Products!$Z$8=$C$2,ROUND(F132*$B$3*(1+$D$2),2),IF(Products!$Z$8=$C$3,ROUND(F132*$B$3*(1+$D$3),2),IF(Products!$Z$8=$C$4,ROUND(F132*$B$3*(1+$D$4),2),IF(Products!$Z$8=$C$5,ROUND(F132*$B$3*(1+$D$5),2),IF(Products!$Z$8=$C$6,ROUND(F132*$B$3*(1+$D$6),2),IF(Products!$Z$8=$C$7,ROUND(F132*$B$3*(1+$D$7),2))))))))","v":725},{"$f":"IF(Products!$Z$8=$C$1,I132,IF(Products!$Z$8=$C$2,J132,IF(Products!$Z$8=$C$3,K132,IF(Products!$Z$8=$C$4,L132,IF(Products!$Z$8=$C$5,O132,IF(Products!$Z$8=$C$6,M132,IF(Products!$Z$8=$C$7,N132)))))))","v":"BL1226100C-EN"},"BL1226100C-EN","BL1526100C-EN","BL1626100C-EN","BL3226100C-EN","BL3526100C-EN","BL3626100C-EN","BL5226100C-EN",null,"GravityZone Security for Virtualized Environments CPU","GravityZone Security for Virtualized Environments CPU - EDU","GravityZone Security for Virtualized Environments CPU - GOV","GravityZone Security for Virtualized Environments CPU - R","GravityZone Security for Virtualized Environments CPU - EDU R","GravityZone Security for Virtualized Environments CPU - GOV R","GravityZone Security for Virtualized Environments CPU - CUPG"]
[{"$f":"IF(Products!$Z$8=$C$1,Q133,IF(Products!$Z$8=$C$2,R133,IF(Products!$Z$8=$C$3,S133,IF(Products!$Z$8=$C$4,T133,IF(Products!$Z$8=$C$5,W133,IF(Products!$Z$8=$C$6,U133,IF(Products!$Z$8=$C$7,V133)))))))","v":"GravityZone Security for Virtualized Environments CPU"},"1 year","50 - 99",{"$f":"CONCATENATE(A133,B133,C133)","v":"GravityZone Security for Virtualized Environments CPU1 year50 - 99"},null,690,{"$f":"IF(Products!$Z$8=$C$1,ROUND(F133*$B$3,2),IF(Products!$Z$8=$C$2,ROUND(F133*$B$3*(1+$D$2),2),IF(Products!$Z$8=$C$3,ROUND(F133*$B$3*(1+$D$3),2),IF(Products!$Z$8=$C$4,ROUND(F133*$B$3*(1+$D$4),2),IF(Products!$Z$8=$C$5,ROUND(F133*$B$3*(1+$D$5),2),IF(Products!$Z$8=$C$6,ROUND(F133*$B$3*(1+$D$6),2),IF(Products!$Z$8=$C$7,ROUND(F133*$B$3*(1+$D$7),2))))))))","v":690},{"$f":"IF(Products!$Z$8=$C$1,I133,IF(Products!$Z$8=$C$2,J133,IF(Products!$Z$8=$C$3,K133,IF(Products!$Z$8=$C$4,L133,IF(Products!$Z$8=$C$5,O133,IF(Products!$Z$8=$C$6,M133,IF(Products!$Z$8=$C$7,N133)))))))","v":"BL1226100D-EN"},"BL1226100D-EN","BL1526100D-EN","BL1626100D-EN","BL3226100D-EN","BL3526100D-EN","BL3626100D-EN","BL5226100D-EN",null,"GravityZone Security for Virtualized Environments CPU","GravityZone Security for Virtualized Environments CPU - EDU","GravityZone Security for Virtualized Environments CPU - GOV","GravityZone Security for Virtualized Environments CPU - R","GravityZone Security for Virtualized Environments CPU - EDU R","GravityZone Security for Virtualized Environments CPU - GOV R","GravityZone Security for Virtualized Environments CPU - CUPG"]
[{"$f":"IF(Products!$Z$8=$C$1,Q134,IF(Products!$Z$8=$C$2,R134,IF(Products!$Z$8=$C$3,S134,IF(Products!$Z$8=$C$4,T134,IF(Products!$Z$8=$C$5,W134,IF(Products!$Z$8=$C$6,U134,IF(Products!$Z$8=$C$7,V134)))))))","v":"GravityZone Security for Virtualized Environments CPU"},"1 year","100 - 149","GravityZone Security for Virtualized Environments CPU1 year100 - 149",null,630,{"$f":"IF(Products!$Z$8=$C$1,ROUND(F134*$B$3,2),IF(Products!$Z$8=$C$2,ROUND(F134*$B$3*(1+$D$2),2),IF(Products!$Z$8=$C$3,ROUND(F134*$B$3*(1+$D$3),2),IF(Products!$Z$8=$C$4,ROUND(F134*$B$3*(1+$D$4),2),IF(Products!$Z$8=$C$5,ROUND(F134*$B$3*(1+$D$5),2),IF(Products!$Z$8=$C$6,ROUND(F134*$B$3*(1+$D$6),2),IF(Products!$Z$8=$C$7,ROUND(F134*$B$3*(1+$D$7),2))))))))","v":630},{"$f":"IF(Products!$Z$8=$C$1,I134,IF(Products!$Z$8=$C$2,J134,IF(Products!$Z$8=$C$3,K134,IF(Products!$Z$8=$C$4,L134,IF(Products!$Z$8=$C$5,O134,IF(Products!$Z$8=$C$6,M134,IF(Products!$Z$8=$C$7,N134)))))))","v":"BL1226100E-EN"},"BL1226100E-EN","BL1526100E-EN","BL1626100E-EN","BL3226100E-EN","BL3526100E-EN","BL3626100E-EN","BL5226100E-EN",null,"GravityZone Security for Virtualized Environments CPU",{"$f":"CONCATENATE(Q134,\" - EDU\")","v":"GravityZone Security for Virtualized Environments CPU - EDU"},{"$f":"CONCATENATE(Q134,\" - GOV\")","v":"GravityZone Security for Virtualized Environments CPU - GOV"},{"$f":"CONCATENATE(Q134,\" - R\")","v":"GravityZone Security for Virtualized Environments CPU - R"},{"$f":"CONCATENATE(Q134,\" - EDU R\")","v":"GravityZone Security for Virtualized Environments CPU - EDU R"},{"$f":"CONCATENATE(Q134,\" - GOV R\")","v":"GravityZone Security for Virtualized Environments CPU - GOV R"},{"$f":"CONCATENATE(Q134,\" - CUPG\")","v":"GravityZone Security for Virtualized Environments CPU - CUPG"}]
[{"$f":"IF(Products!$Z$8=$C$1,Q135,IF(Products!$Z$8=$C$2,R135,IF(Products!$Z$8=$C$3,S135,IF(Products!$Z$8=$C$4,T135,IF(Products!$Z$8=$C$5,W135,IF(Products!$Z$8=$C$6,U135,IF(Products!$Z$8=$C$7,V135)))))))","v":"GravityZone Security for Virtualized Environments CPU"},"1 year","150 - 249","GravityZone Security for Virtualized Environments CPU1 year150 - 249",null,600,{"$f":"IF(Products!$Z$8=$C$1,ROUND(F135*$B$3,2),IF(Products!$Z$8=$C$2,ROUND(F135*$B$3*(1+$D$2),2),IF(Products!$Z$8=$C$3,ROUND(F135*$B$3*(1+$D$3),2),IF(Products!$Z$8=$C$4,ROUND(F135*$B$3*(1+$D$4),2),IF(Products!$Z$8=$C$5,ROUND(F135*$B$3*(1+$D$5),2),IF(Products!$Z$8=$C$6,ROUND(F135*$B$3*(1+$D$6),2),IF(Products!$Z$8=$C$7,ROUND(F135*$B$3*(1+$D$7),2))))))))","v":600},{"$f":"IF(Products!$Z$8=$C$1,I135,IF(Products!$Z$8=$C$2,J135,IF(Products!$Z$8=$C$3,K135,IF(Products!$Z$8=$C$4,L135,IF(Products!$Z$8=$C$5,O135,IF(Products!$Z$8=$C$6,M135,IF(Products!$Z$8=$C$7,N135)))))))","v":"BL1226100F-EN"},"BL1226100F-EN","BL1526100F-EN","BL1626100F-EN","BL3226100F-EN","BL3526100F-EN","BL3626100F-EN","BL5226100F-EN",null,"GravityZone Security for Virtualized Environments CPU","GravityZone Security for Virtualized Environments CPU - EDU","GravityZone Security for Virtualized Environments CPU - GOV","GravityZone Security for Virtualized Environments CPU - R","GravityZone Security for Virtualized Environments CPU - EDU R","GravityZone Security for Virtualized Environments CPU - GOV R","GravityZone Security for Virtualized Environments CPU - CUPG"]
[{"$f":"IF(Products!$Z$8=$C$1,Q136,IF(Products!$Z$8=$C$2,R136,IF(Products!$Z$8=$C$3,S136,IF(Products!$Z$8=$C$4,T136,IF(Products!$Z$8=$C$5,W136,IF(Products!$Z$8=$C$6,U136,IF(Products!$Z$8=$C$7,V136)))))))","v":"GravityZone Security for Virtualized Environments CPU"},"1 year","250 - 499","GravityZone Security for Virtualized Environments CPU1 year250 - 499",null,570,{"$f":"IF(Products!$Z$8=$C$1,ROUND(F136*$B$3,2),IF(Products!$Z$8=$C$2,ROUND(F136*$B$3*(1+$D$2),2),IF(Products!$Z$8=$C$3,ROUND(F136*$B$3*(1+$D$3),2),IF(Products!$Z$8=$C$4,ROUND(F136*$B$3*(1+$D$4),2),IF(Products!$Z$8=$C$5,ROUND(F136*$B$3*(1+$D$5),2),IF(Products!$Z$8=$C$6,ROUND(F136*$B$3*(1+$D$6),2),IF(Products!$Z$8=$C$7,ROUND(F136*$B$3*(1+$D$7),2))))))))","v":570},{"$f":"IF(Products!$Z$8=$C$1,I136,IF(Products!$Z$8=$C$2,J136,IF(Products!$Z$8=$C$3,K136,IF(Products!$Z$8=$C$4,L136,IF(Products!$Z$8=$C$5,O136,IF(Products!$Z$8=$C$6,M136,IF(Products!$Z$8=$C$7,N136)))))))","v":"BL1226100G-EN"},"BL1226100G-EN","BL1526100G-EN","BL1626100G-EN","BL3226100G-EN","BL3526100G-EN","BL3626100G-EN","BL5226100G-EN",null,"GravityZone Security for Virtualized Environments CPU","GravityZone Security for Virtualized Environments CPU - EDU","GravityZone Security for Virtualized Environments CPU - GOV","GravityZone Security for Virtualized Environments CPU - R","GravityZone Security for Virtualized Environments CPU - EDU R","GravityZone Security for Virtualized Environments CPU - GOV R","GravityZone Security for Virtualized Environments CPU - CUPG"]
[{"$f":"IF(Products!$Z$8=$C$1,Q137,IF(Products!$Z$8=$C$2,R137,IF(Products!$Z$8=$C$3,S137,IF(Products!$Z$8=$C$4,T137,IF(Products!$Z$8=$C$5,W137,IF(Products!$Z$8=$C$6,U137,IF(Products!$Z$8=$C$7,V137)))))))","v":"GravityZone Security for Virtualized Environments CPU"},"1 year","500+","GravityZone Security for Virtualized Environments CPU1 year500+",null,545,{"$f":"IF(Products!$Z$8=$C$1,ROUND(F137*$B$3,2),IF(Products!$Z$8=$C$2,ROUND(F137*$B$3*(1+$D$2),2),IF(Products!$Z$8=$C$3,ROUND(F137*$B$3*(1+$D$3),2),IF(Products!$Z$8=$C$4,ROUND(F137*$B$3*(1+$D$4),2),IF(Products!$Z$8=$C$5,ROUND(F137*$B$3*(1+$D$5),2),IF(Products!$Z$8=$C$6,ROUND(F137*$B$3*(1+$D$6),2),IF(Products!$Z$8=$C$7,ROUND(F137*$B$3*(1+$D$7),2))))))))","v":545},{"$f":"IF(Products!$Z$8=$C$1,I137,IF(Products!$Z$8=$C$2,J137,IF(Products!$Z$8=$C$3,K137,IF(Products!$Z$8=$C$4,L137,IF(Products!$Z$8=$C$5,O137,IF(Products!$Z$8=$C$6,M137,IF(Products!$Z$8=$C$7,N137)))))))","v":"BL1226100H-EN"},"BL1226100H-EN","BL1526100H-EN","BL1626100H-EN","BL3226100H-EN","BL3526100H-EN","BL3626100H-EN","BL5226100H-EN",null,"GravityZone Security for Virtualized Environments CPU","GravityZone Security for Virtualized Environments CPU - EDU","GravityZone Security for Virtualized Environments CPU - GOV","GravityZone Security for Virtualized Environments CPU - R","GravityZone Security for Virtualized Environments CPU - EDU R","GravityZone Security for Virtualized Environments CPU - GOV R","GravityZone Security for Virtualized Environments CPU - CUPG"]
[{"$f":"IF(Products!$Z$8=$C$1,Q138,IF(Products!$Z$8=$C$2,R138,IF(Products!$Z$8=$C$3,S138,IF(Products!$Z$8=$C$4,T138,IF(Products!$Z$8=$C$5,W138,IF(Products!$Z$8=$C$6,U138,IF(Products!$Z$8=$C$7,V138)))))))","v":"GravityZone Security for Virtualized Environments CPU"},"2 years","1 - 14","GravityZone Security for Virtualized Environments CPU2 years1 - 14",null,1280,{"$f":"IF(Products!$Z$8=$C$1,ROUND(F138*$B$3,2),IF(Products!$Z$8=$C$2,ROUND(F138*$B$3*(1+$D$2),2),IF(Products!$Z$8=$C$3,ROUND(F138*$B$3*(1+$D$3),2),IF(Products!$Z$8=$C$4,ROUND(F138*$B$3*(1+$D$4),2),IF(Products!$Z$8=$C$5,ROUND(F138*$B$3*(1+$D$5),2),IF(Products!$Z$8=$C$6,ROUND(F138*$B$3*(1+$D$6),2),IF(Products!$Z$8=$C$7,ROUND(F138*$B$3*(1+$D$7),2))))))))","v":1280},{"$f":"IF(Products!$Z$8=$C$1,I138,IF(Products!$Z$8=$C$2,J138,IF(Products!$Z$8=$C$3,K138,IF(Products!$Z$8=$C$4,L138,IF(Products!$Z$8=$C$5,O138,IF(Products!$Z$8=$C$6,M138,IF(Products!$Z$8=$C$7,N138)))))))","v":"BL1226200A-EN"},"BL1226200A-EN","BL1526200A-EN","BL1626200A-EN","BL3226200A-EN","BL3526200A-EN","BL3626200A-EN","BL5226200A-EN",null,"GravityZone Security for Virtualized Environments CPU","GravityZone Security for Virtualized Environments CPU - EDU","GravityZone Security for Virtualized Environments CPU - GOV","GravityZone Security for Virtualized Environments CPU - R","GravityZone Security for Virtualized Environments CPU - EDU R","GravityZone Security for Virtualized Environments CPU - GOV R","GravityZone Security for Virtualized Environments CPU - CUPG"]
[{"$f":"IF(Products!$Z$8=$C$1,Q139,IF(Products!$Z$8=$C$2,R139,IF(Products!$Z$8=$C$3,S139,IF(Products!$Z$8=$C$4,T139,IF(Products!$Z$8=$C$5,W139,IF(Products!$Z$8=$C$6,U139,IF(Products!$Z$8=$C$7,V139)))))))","v":"GravityZone Security for Virtualized Environments CPU"},"2 years","15 - 24","GravityZone Security for Virtualized Environments CPU2 years15 - 24",null,1216,{"$f":"IF(Products!$Z$8=$C$1,ROUND(F139*$B$3,2),IF(Products!$Z$8=$C$2,ROUND(F139*$B$3*(1+$D$2),2),IF(Products!$Z$8=$C$3,ROUND(F139*$B$3*(1+$D$3),2),IF(Products!$Z$8=$C$4,ROUND(F139*$B$3*(1+$D$4),2),IF(Products!$Z$8=$C$5,ROUND(F139*$B$3*(1+$D$5),2),IF(Products!$Z$8=$C$6,ROUND(F139*$B$3*(1+$D$6),2),IF(Products!$Z$8=$C$7,ROUND(F139*$B$3*(1+$D$7),2))))))))","v":1216},{"$f":"IF(Products!$Z$8=$C$1,I139,IF(Products!$Z$8=$C$2,J139,IF(Products!$Z$8=$C$3,K139,IF(Products!$Z$8=$C$4,L139,IF(Products!$Z$8=$C$5,O139,IF(Products!$Z$8=$C$6,M139,IF(Products!$Z$8=$C$7,N139)))))))","v":"BL1226200B-EN"},"BL1226200B-EN","BL1526200B-EN","BL1626200B-EN","BL3226200B-EN","BL3526200B-EN","BL3626200B-EN","BL5226200B-EN",null,"GravityZone Security for Virtualized Environments CPU","GravityZone Security for Virtualized Environments CPU - EDU","GravityZone Security for Virtualized Environments CPU - GOV","GravityZone Security for Virtualized Environments CPU - R","GravityZone Security for Virtualized Environments CPU - EDU R","GravityZone Security for Virtualized Environments CPU - GOV R","GravityZone Security for Virtualized Environments CPU - CUPG"]
[{"$f":"IF(Products!$Z$8=$C$1,Q140,IF(Products!$Z$8=$C$2,R140,IF(Products!$Z$8=$C$3,S140,IF(Products!$Z$8=$C$4,T140,IF(Products!$Z$8=$C$5,W140,IF(Products!$Z$8=$C$6,U140,IF(Products!$Z$8=$C$7,V140)))))))","v":"GravityZone Security for Virtualized Environments CPU"},"2 years","25 - 49","GravityZone Security for Virtualized Environments CPU2 years25 - 49",null,1160,{"$f":"IF(Products!$Z$8=$C$1,ROUND(F140*$B$3,2),IF(Products!$Z$8=$C$2,ROUND(F140*$B$3*(1+$D$2),2),IF(Products!$Z$8=$C$3,ROUND(F140*$B$3*(1+$D$3),2),IF(Products!$Z$8=$C$4,ROUND(F140*$B$3*(1+$D$4),2),IF(Products!$Z$8=$C$5,ROUND(F140*$B$3*(1+$D$5),2),IF(Products!$Z$8=$C$6,ROUND(F140*$B$3*(1+$D$6),2),IF(Products!$Z$8=$C$7,ROUND(F140*$B$3*(1+$D$7),2))))))))","v":1160},{"$f":"IF(Products!$Z$8=$C$1,I140,IF(Products!$Z$8=$C$2,J140,IF(Products!$Z$8=$C$3,K140,IF(Products!$Z$8=$C$4,L140,IF(Products!$Z$8=$C$5,O140,IF(Products!$Z$8=$C$6,M140,IF(Products!$Z$8=$C$7,N140)))))))","v":"BL1226200C-EN"},"BL1226200C-EN","BL1526200C-EN","BL1626200C-EN","BL3226200C-EN","BL3526200C-EN","BL3626200C-EN","BL5226200C-EN",null,"GravityZone Security for Virtualized Environments CPU","GravityZone Security for Virtualized Environments CPU - EDU","GravityZone Security for Virtualized Environments CPU - GOV","GravityZone Security for Virtualized Environments CPU - R","GravityZone Security for Virtualized Environments CPU - EDU R","GravityZone Security for Virtualized Environments CPU - GOV R","GravityZone Security for Virtualized Environments CPU - CUPG"]
[{"$f":"IF(Products!$Z$8=$C$1,Q141,IF(Products!$Z$8=$C$2,R141,IF(Products!$Z$8=$C$3,S141,IF(Products!$Z$8=$C$4,T141,IF(Products!$Z$8=$C$5,W141,IF(Products!$Z$8=$C$6,U141,IF(Products!$Z$8=$C$7,V141)))))))","v":"GravityZone Security for Virtualized Environments CPU"},"2 years","50 - 99","GravityZone Security for Virtualized Environments CPU2 years50 - 99",null,1104,{"$f":"IF(Products!$Z$8=$C$1,ROUND(F141*$B$3,2),IF(Products!$Z$8=$C$2,ROUND(F141*$B$3*(1+$D$2),2),IF(Products!$Z$8=$C$3,ROUND(F141*$B$3*(1+$D$3),2),IF(Products!$Z$8=$C$4,ROUND(F141*$B$3*(1+$D$4),2),IF(Products!$Z$8=$C$5,ROUND(F141*$B$3*(1+$D$5),2),IF(Products!$Z$8=$C$6,ROUND(F141*$B$3*(1+$D$6),2),IF(Products!$Z$8=$C$7,ROUND(F141*$B$3*(1+$D$7),2))))))))","v":1104},{"$f":"IF(Products!$Z$8=$C$1,I141,IF(Products!$Z$8=$C$2,J141,IF(Products!$Z$8=$C$3,K141,IF(Products!$Z$8=$C$4,L141,IF(Products!$Z$8=$C$5,O141,IF(Products!$Z$8=$C$6,M141,IF(Products!$Z$8=$C$7,N141)))))))","v":"BL1226200D-EN"},"BL1226200D-EN","BL1526200D-EN","BL1626200D-EN","BL3226200D-EN","BL3526200D-EN","BL3626200D-EN","BL5226200D-EN",null,"GravityZone Security for Virtualized Environments CPU","GravityZone Security for Virtualized Environments CPU - EDU","GravityZone Security for Virtualized Environments CPU - GOV","GravityZone Security for Virtualized Environments CPU - R","GravityZone Security for Virtualized Environments CPU - EDU R","GravityZone Security for Virtualized Environments CPU - GOV R","GravityZone Security for Virtualized Environments CPU - CUPG"]
[{"$f":"IF(Products!$Z$8=$C$1,Q142,IF(Products!$Z$8=$C$2,R142,IF(Products!$Z$8=$C$3,S142,IF(Products!$Z$8=$C$4,T142,IF(Products!$Z$8=$C$5,W142,IF(Products!$Z$8=$C$6,U142,IF(Products!$Z$8=$C$7,V142)))))))","v":"GravityZone Security for Virtualized Environments CPU"},"2 years","100 - 149","GravityZone Security for Virtualized Environments CPU2 years100 - 149",null,1008,{"$f":"IF(Products!$Z$8=$C$1,ROUND(F142*$B$3,2),IF(Products!$Z$8=$C$2,ROUND(F142*$B$3*(1+$D$2),2),IF(Products!$Z$8=$C$3,ROUND(F142*$B$3*(1+$D$3),2),IF(Products!$Z$8=$C$4,ROUND(F142*$B$3*(1+$D$4),2),IF(Products!$Z$8=$C$5,ROUND(F142*$B$3*(1+$D$5),2),IF(Products!$Z$8=$C$6,ROUND(F142*$B$3*(1+$D$6),2),IF(Products!$Z$8=$C$7,ROUND(F142*$B$3*(1+$D$7),2))))))))","v":1008},{"$f":"IF(Products!$Z$8=$C$1,I142,IF(Products!$Z$8=$C$2,J142,IF(Products!$Z$8=$C$3,K142,IF(Products!$Z$8=$C$4,L142,IF(Products!$Z$8=$C$5,O142,IF(Products!$Z$8=$C$6,M142,IF(Products!$Z$8=$C$7,N142)))))))","v":"BL1226200E-EN"},"BL1226200E-EN","BL1526200E-EN","BL1626200E-EN","BL3226200E-EN","BL3526200E-EN","BL3626200E-EN","BL5226200E-EN",null,"GravityZone Security for Virtualized Environments CPU","GravityZone Security for Virtualized Environments CPU - EDU","GravityZone Security for Virtualized Environments CPU - GOV","GravityZone Security for Virtualized Environments CPU - R","GravityZone Security for Virtualized Environments CPU - EDU R","GravityZone Security for Virtualized Environments CPU - GOV R","GravityZone Security for Virtualized Environments CPU - CUPG"]
[{"$f":"IF(Products!$Z$8=$C$1,Q143,IF(Products!$Z$8=$C$2,R143,IF(Products!$Z$8=$C$3,S143,IF(Products!$Z$8=$C$4,T143,IF(Products!$Z$8=$C$5,W143,IF(Products!$Z$8=$C$6,U143,IF(Products!$Z$8=$C$7,V143)))))))","v":"GravityZone Security for Virtualized Environments CPU"},"2 years","150 - 249","GravityZone Security for Virtualized Environments CPU2 years150 - 249",null,960,{"$f":"IF(Products!$Z$8=$C$1,ROUND(F143*$B$3,2),IF(Products!$Z$8=$C$2,ROUND(F143*$B$3*(1+$D$2),2),IF(Products!$Z$8=$C$3,ROUND(F143*$B$3*(1+$D$3),2),IF(Products!$Z$8=$C$4,ROUND(F143*$B$3*(1+$D$4),2),IF(Products!$Z$8=$C$5,ROUND(F143*$B$3*(1+$D$5),2),IF(Products!$Z$8=$C$6,ROUND(F143*$B$3*(1+$D$6),2),IF(Products!$Z$8=$C$7,ROUND(F143*$B$3*(1+$D$7),2))))))))","v":960},{"$f":"IF(Products!$Z$8=$C$1,I143,IF(Products!$Z$8=$C$2,J143,IF(Products!$Z$8=$C$3,K143,IF(Products!$Z$8=$C$4,L143,IF(Products!$Z$8=$C$5,O143,IF(Products!$Z$8=$C$6,M143,IF(Products!$Z$8=$C$7,N143)))))))","v":"BL1226200F-EN"},"BL1226200F-EN","BL1526200F-EN","BL1626200F-EN","BL3226200F-EN","BL3526200F-EN","BL3626200F-EN","BL5226200F-EN",null,"GravityZone Security for Virtualized Environments CPU","GravityZone Security for Virtualized Environments CPU - EDU","GravityZone Security for Virtualized Environments CPU - GOV","GravityZone Security for Virtualized Environments CPU - R","GravityZone Security for Virtualized Environments CPU - EDU R","GravityZone Security for Virtualized Environments CPU - GOV R","GravityZone Security for Virtualized Environments CPU - CUPG"]
[{"$f":"IF(Products!$Z$8=$C$1,Q144,IF(Products!$Z$8=$C$2,R144,IF(Products!$Z$8=$C$3,S144,IF(Products!$Z$8=$C$4,T144,IF(Products!$Z$8=$C$5,W144,IF(Products!$Z$8=$C$6,U144,IF(Products!$Z$8=$C$7,V144)))))))","v":"GravityZone Security for Virtualized Environments CPU"},"2 years","250 - 499","GravityZone Security for Virtualized Environments CPU2 years250 - 499",null,912,{"$f":"IF(Products!$Z$8=$C$1,ROUND(F144*$B$3,2),IF(Products!$Z$8=$C$2,ROUND(F144*$B$3*(1+$D$2),2),IF(Products!$Z$8=$C$3,ROUND(F144*$B$3*(1+$D$3),2),IF(Products!$Z$8=$C$4,ROUND(F144*$B$3*(1+$D$4),2),IF(Products!$Z$8=$C$5,ROUND(F144*$B$3*(1+$D$5),2),IF(Products!$Z$8=$C$6,ROUND(F144*$B$3*(1+$D$6),2),IF(Products!$Z$8=$C$7,ROUND(F144*$B$3*(1+$D$7),2))))))))","v":912},{"$f":"IF(Products!$Z$8=$C$1,I144,IF(Products!$Z$8=$C$2,J144,IF(Products!$Z$8=$C$3,K144,IF(Products!$Z$8=$C$4,L144,IF(Products!$Z$8=$C$5,O144,IF(Products!$Z$8=$C$6,M144,IF(Products!$Z$8=$C$7,N144)))))))","v":"BL1226200G-EN"},"BL1226200G-EN","BL1526200G-EN","BL1626200G-EN","BL3226200G-EN","BL3526200G-EN","BL3626200G-EN","BL5226200G-EN",null,"GravityZone Security for Virtualized Environments CPU","GravityZone Security for Virtualized Environments CPU - EDU","GravityZone Security for Virtualized Environments CPU - GOV","GravityZone Security for Virtualized Environments CPU - R","GravityZone Security for Virtualized Environments CPU - EDU R","GravityZone Security for Virtualized Environments CPU - GOV R","GravityZone Security for Virtualized Environments CPU - CUPG"]
[{"$f":"IF(Products!$Z$8=$C$1,Q145,IF(Products!$Z$8=$C$2,R145,IF(Products!$Z$8=$C$3,S145,IF(Products!$Z$8=$C$4,T145,IF(Products!$Z$8=$C$5,W145,IF(Products!$Z$8=$C$6,U145,IF(Products!$Z$8=$C$7,V145)))))))","v":"GravityZone Security for Virtualized Environments CPU"},"2 years","500+","GravityZone Security for Virtualized Environments CPU2 years500+",null,872,{"$f":"IF(Products!$Z$8=$C$1,ROUND(F145*$B$3,2),IF(Products!$Z$8=$C$2,ROUND(F145*$B$3*(1+$D$2),2),IF(Products!$Z$8=$C$3,ROUND(F145*$B$3*(1+$D$3),2),IF(Products!$Z$8=$C$4,ROUND(F145*$B$3*(1+$D$4),2),IF(Products!$Z$8=$C$5,ROUND(F145*$B$3*(1+$D$5),2),IF(Products!$Z$8=$C$6,ROUND(F145*$B$3*(1+$D$6),2),IF(Products!$Z$8=$C$7,ROUND(F145*$B$3*(1+$D$7),2))))))))","v":872},{"$f":"IF(Products!$Z$8=$C$1,I145,IF(Products!$Z$8=$C$2,J145,IF(Products!$Z$8=$C$3,K145,IF(Products!$Z$8=$C$4,L145,IF(Products!$Z$8=$C$5,O145,IF(Products!$Z$8=$C$6,M145,IF(Products!$Z$8=$C$7,N145)))))))","v":"BL1226200H-EN"},"BL1226200H-EN","BL1526200H-EN","BL1626200H-EN","BL3226200H-EN","BL3526200H-EN","BL3626200H-EN","BL5226200H-EN",null,"GravityZone Security for Virtualized Environments CPU","GravityZone Security for Virtualized Environments CPU - EDU","GravityZone Security for Virtualized Environments CPU - GOV","GravityZone Security for Virtualized Environments CPU - R","GravityZone Security for Virtualized Environments CPU - EDU R","GravityZone Security for Virtualized Environments CPU - GOV R","GravityZone Security for Virtualized Environments CPU - CUPG"]
[{"$f":"IF(Products!$Z$8=$C$1,Q146,IF(Products!$Z$8=$C$2,R146,IF(Products!$Z$8=$C$3,S146,IF(Products!$Z$8=$C$4,T146,IF(Products!$Z$8=$C$5,W146,IF(Products!$Z$8=$C$6,U146,IF(Products!$Z$8=$C$7,V146)))))))","v":"GravityZone Security for Virtualized Environments CPU"},"3 years","1 - 14","GravityZone Security for Virtualized Environments CPU3 years1 - 14",null,1639.9999999999998,{"$f":"IF(Products!$Z$8=$C$1,ROUND(F146*$B$3,2),IF(Products!$Z$8=$C$2,ROUND(F146*$B$3*(1+$D$2),2),IF(Products!$Z$8=$C$3,ROUND(F146*$B$3*(1+$D$3),2),IF(Products!$Z$8=$C$4,ROUND(F146*$B$3*(1+$D$4),2),IF(Products!$Z$8=$C$5,ROUND(F146*$B$3*(1+$D$5),2),IF(Products!$Z$8=$C$6,ROUND(F146*$B$3*(1+$D$6),2),IF(Products!$Z$8=$C$7,ROUND(F146*$B$3*(1+$D$7),2))))))))","v":1640},{"$f":"IF(Products!$Z$8=$C$1,I146,IF(Products!$Z$8=$C$2,J146,IF(Products!$Z$8=$C$3,K146,IF(Products!$Z$8=$C$4,L146,IF(Products!$Z$8=$C$5,O146,IF(Products!$Z$8=$C$6,M146,IF(Products!$Z$8=$C$7,N146)))))))","v":"BL1226300A-EN"},"BL1226300A-EN","BL1526300A-EN","BL1626300A-EN","BL3226300A-EN","BL3526300A-EN","BL3626300A-EN","BL5226300A-EN",null,"GravityZone Security for Virtualized Environments CPU","GravityZone Security for Virtualized Environments CPU - EDU","GravityZone Security for Virtualized Environments CPU - GOV","GravityZone Security for Virtualized Environments CPU - R","GravityZone Security for Virtualized Environments CPU - EDU R","GravityZone Security for Virtualized Environments CPU - GOV R","GravityZone Security for Virtualized Environments CPU - CUPG"]
[{"$f":"IF(Products!$Z$8=$C$1,Q147,IF(Products!$Z$8=$C$2,R147,IF(Products!$Z$8=$C$3,S147,IF(Products!$Z$8=$C$4,T147,IF(Products!$Z$8=$C$5,W147,IF(Products!$Z$8=$C$6,U147,IF(Products!$Z$8=$C$7,V147)))))))","v":"GravityZone Security for Virtualized Environments CPU"},"3 years","15 - 24","GravityZone Security for Virtualized Environments CPU3 years15 - 24",null,1557.9999999999998,{"$f":"IF(Products!$Z$8=$C$1,ROUND(F147*$B$3,2),IF(Products!$Z$8=$C$2,ROUND(F147*$B$3*(1+$D$2),2),IF(Products!$Z$8=$C$3,ROUND(F147*$B$3*(1+$D$3),2),IF(Products!$Z$8=$C$4,ROUND(F147*$B$3*(1+$D$4),2),IF(Products!$Z$8=$C$5,ROUND(F147*$B$3*(1+$D$5),2),IF(Products!$Z$8=$C$6,ROUND(F147*$B$3*(1+$D$6),2),IF(Products!$Z$8=$C$7,ROUND(F147*$B$3*(1+$D$7),2))))))))","v":1558},{"$f":"IF(Products!$Z$8=$C$1,I147,IF(Products!$Z$8=$C$2,J147,IF(Products!$Z$8=$C$3,K147,IF(Products!$Z$8=$C$4,L147,IF(Products!$Z$8=$C$5,O147,IF(Products!$Z$8=$C$6,M147,IF(Products!$Z$8=$C$7,N147)))))))","v":"BL1226300B-EN"},"BL1226300B-EN","BL1526300B-EN","BL1626300B-EN","BL3226300B-EN","BL3526300B-EN","BL3626300B-EN","BL5226300B-EN",null,"GravityZone Security for Virtualized Environments CPU","GravityZone Security for Virtualized Environments CPU - EDU","GravityZone Security for Virtualized Environments CPU - GOV","GravityZone Security for Virtualized Environments CPU - R","GravityZone Security for Virtualized Environments CPU - EDU R","GravityZone Security for Virtualized Environments CPU - GOV R","GravityZone Security for Virtualized Environments CPU - CUPG"]
[{"$f":"IF(Products!$Z$8=$C$1,Q148,IF(Products!$Z$8=$C$2,R148,IF(Products!$Z$8=$C$3,S148,IF(Products!$Z$8=$C$4,T148,IF(Products!$Z$8=$C$5,W148,IF(Products!$Z$8=$C$6,U148,IF(Products!$Z$8=$C$7,V148)))))))","v":"GravityZone Security for Virtualized Environments CPU"},"3 years","25 - 49","GravityZone Security for Virtualized Environments CPU3 years25 - 49",null,1486.2499999999998,{"$f":"IF(Products!$Z$8=$C$1,ROUND(F148*$B$3,2),IF(Products!$Z$8=$C$2,ROUND(F148*$B$3*(1+$D$2),2),IF(Products!$Z$8=$C$3,ROUND(F148*$B$3*(1+$D$3),2),IF(Products!$Z$8=$C$4,ROUND(F148*$B$3*(1+$D$4),2),IF(Products!$Z$8=$C$5,ROUND(F148*$B$3*(1+$D$5),2),IF(Products!$Z$8=$C$6,ROUND(F148*$B$3*(1+$D$6),2),IF(Products!$Z$8=$C$7,ROUND(F148*$B$3*(1+$D$7),2))))))))","v":1486.25},{"$f":"IF(Products!$Z$8=$C$1,I148,IF(Products!$Z$8=$C$2,J148,IF(Products!$Z$8=$C$3,K148,IF(Products!$Z$8=$C$4,L148,IF(Products!$Z$8=$C$5,O148,IF(Products!$Z$8=$C$6,M148,IF(Products!$Z$8=$C$7,N148)))))))","v":"BL1226300C-EN"},"BL1226300C-EN","BL1526300C-EN","BL1626300C-EN","BL3226300C-EN","BL3526300C-EN","BL3626300C-EN","BL5226300C-EN",null,"GravityZone Security for Virtualized Environments CPU","GravityZone Security for Virtualized Environments CPU - EDU","GravityZone Security for Virtualized Environments CPU - GOV","GravityZone Security for Virtualized Environments CPU - R","GravityZone Security for Virtualized Environments CPU - EDU R","GravityZone Security for Virtualized Environments CPU - GOV R","GravityZone Security for Virtualized Environments CPU - CUPG"]
[{"$f":"IF(Products!$Z$8=$C$1,Q149,IF(Products!$Z$8=$C$2,R149,IF(Products!$Z$8=$C$3,S149,IF(Products!$Z$8=$C$4,T149,IF(Products!$Z$8=$C$5,W149,IF(Products!$Z$8=$C$6,U149,IF(Products!$Z$8=$C$7,V149)))))))","v":"GravityZone Security for Virtualized Environments CPU"},"3 years","50 - 99","GravityZone Security for Virtualized Environments CPU3 years50 - 99",null,1414.4999999999998,{"$f":"IF(Products!$Z$8=$C$1,ROUND(F149*$B$3,2),IF(Products!$Z$8=$C$2,ROUND(F149*$B$3*(1+$D$2),2),IF(Products!$Z$8=$C$3,ROUND(F149*$B$3*(1+$D$3),2),IF(Products!$Z$8=$C$4,ROUND(F149*$B$3*(1+$D$4),2),IF(Products!$Z$8=$C$5,ROUND(F149*$B$3*(1+$D$5),2),IF(Products!$Z$8=$C$6,ROUND(F149*$B$3*(1+$D$6),2),IF(Products!$Z$8=$C$7,ROUND(F149*$B$3*(1+$D$7),2))))))))","v":1414.5},{"$f":"IF(Products!$Z$8=$C$1,I149,IF(Products!$Z$8=$C$2,J149,IF(Products!$Z$8=$C$3,K149,IF(Products!$Z$8=$C$4,L149,IF(Products!$Z$8=$C$5,O149,IF(Products!$Z$8=$C$6,M149,IF(Products!$Z$8=$C$7,N149)))))))","v":"BL1226300D-EN"},"BL1226300D-EN","BL1526300D-EN","BL1626300D-EN","BL3226300D-EN","BL3526300D-EN","BL3626300D-EN","BL5226300D-EN",null,"GravityZone Security for Virtualized Environments CPU","GravityZone Security for Virtualized Environments CPU - EDU","GravityZone Security for Virtualized Environments CPU - GOV","GravityZone Security for Virtualized Environments CPU - R","GravityZone Security for Virtualized Environments CPU - EDU R","GravityZone Security for Virtualized Environments CPU - GOV R","GravityZone Security for Virtualized Environments CPU - CUPG"]
[{"$f":"IF(Products!$Z$8=$C$1,Q150,IF(Products!$Z$8=$C$2,R150,IF(Products!$Z$8=$C$3,S150,IF(Products!$Z$8=$C$4,T150,IF(Products!$Z$8=$C$5,W150,IF(Products!$Z$8=$C$6,U150,IF(Products!$Z$8=$C$7,V150)))))))","v":"GravityZone Security for Virtualized Environments CPU"},"3 years","100 - 149","GravityZone Security for Virtualized Environments CPU3 years100 - 149",null,1291.5,{"$f":"IF(Products!$Z$8=$C$1,ROUND(F150*$B$3,2),IF(Products!$Z$8=$C$2,ROUND(F150*$B$3*(1+$D$2),2),IF(Products!$Z$8=$C$3,ROUND(F150*$B$3*(1+$D$3),2),IF(Products!$Z$8=$C$4,ROUND(F150*$B$3*(1+$D$4),2),IF(Products!$Z$8=$C$5,ROUND(F150*$B$3*(1+$D$5),2),IF(Products!$Z$8=$C$6,ROUND(F150*$B$3*(1+$D$6),2),IF(Products!$Z$8=$C$7,ROUND(F150*$B$3*(1+$D$7),2))))))))","v":1291.5},{"$f":"IF(Products!$Z$8=$C$1,I150,IF(Products!$Z$8=$C$2,J150,IF(Products!$Z$8=$C$3,K150,IF(Products!$Z$8=$C$4,L150,IF(Products!$Z$8=$C$5,O150,IF(Products!$Z$8=$C$6,M150,IF(Products!$Z$8=$C$7,N150)))))))","v":"BL1226300E-EN"},"BL1226300E-EN","BL1526300E-EN","BL1626300E-EN","BL3226300E-EN","BL3526300E-EN","BL3626300E-EN","BL5226300E-EN",null,"GravityZone Security for Virtualized Environments CPU","GravityZone Security for Virtualized Environments CPU - EDU","GravityZone Security for Virtualized Environments CPU - GOV","GravityZone Security for Virtualized Environments CPU - R","GravityZone Security for Virtualized Environments CPU - EDU R","GravityZone Security for Virtualized Environments CPU - GOV R","GravityZone Security for Virtualized Environments CPU - CUPG"]
[{"$f":"IF(Products!$Z$8=$C$1,Q151,IF(Products!$Z$8=$C$2,R151,IF(Products!$Z$8=$C$3,S151,IF(Products!$Z$8=$C$4,T151,IF(Products!$Z$8=$C$5,W151,IF(Products!$Z$8=$C$6,U151,IF(Products!$Z$8=$C$7,V151)))))))","v":"GravityZone Security for Virtualized Environments CPU"},"3 years","150 - 249","GravityZone Security for Virtualized Environments CPU3 years150 - 249",null,1230,{"$f":"IF(Products!$Z$8=$C$1,ROUND(F151*$B$3,2),IF(Products!$Z$8=$C$2,ROUND(F151*$B$3*(1+$D$2),2),IF(Products!$Z$8=$C$3,ROUND(F151*$B$3*(1+$D$3),2),IF(Products!$Z$8=$C$4,ROUND(F151*$B$3*(1+$D$4),2),IF(Products!$Z$8=$C$5,ROUND(F151*$B$3*(1+$D$5),2),IF(Products!$Z$8=$C$6,ROUND(F151*$B$3*(1+$D$6),2),IF(Products!$Z$8=$C$7,ROUND(F151*$B$3*(1+$D$7),2))))))))","v":1230},{"$f":"IF(Products!$Z$8=$C$1,I151,IF(Products!$Z$8=$C$2,J151,IF(Products!$Z$8=$C$3,K151,IF(Products!$Z$8=$C$4,L151,IF(Products!$Z$8=$C$5,O151,IF(Products!$Z$8=$C$6,M151,IF(Products!$Z$8=$C$7,N151)))))))","v":"BL1226300F-EN"},"BL1226300F-EN","BL1526300F-EN","BL1626300F-EN","BL3226300F-EN","BL3526300F-EN","BL3626300F-EN","BL5226300F-EN",null,"GravityZone Security for Virtualized Environments CPU","GravityZone Security for Virtualized Environments CPU - EDU","GravityZone Security for Virtualized Environments CPU - GOV","GravityZone Security for Virtualized Environments CPU - R","GravityZone Security for Virtualized Environments CPU - EDU R","GravityZone Security for Virtualized Environments CPU - GOV R","GravityZone Security for Virtualized Environments CPU - CUPG"]
[{"$f":"IF(Products!$Z$8=$C$1,Q152,IF(Products!$Z$8=$C$2,R152,IF(Products!$Z$8=$C$3,S152,IF(Products!$Z$8=$C$4,T152,IF(Products!$Z$8=$C$5,W152,IF(Products!$Z$8=$C$6,U152,IF(Products!$Z$8=$C$7,V152)))))))","v":"GravityZone Security for Virtualized Environments CPU"},"3 years","250 - 499","GravityZone Security for Virtualized Environments CPU3 years250 - 499",null,1168.5,{"$f":"IF(Products!$Z$8=$C$1,ROUND(F152*$B$3,2),IF(Products!$Z$8=$C$2,ROUND(F152*$B$3*(1+$D$2),2),IF(Products!$Z$8=$C$3,ROUND(F152*$B$3*(1+$D$3),2),IF(Products!$Z$8=$C$4,ROUND(F152*$B$3*(1+$D$4),2),IF(Products!$Z$8=$C$5,ROUND(F152*$B$3*(1+$D$5),2),IF(Products!$Z$8=$C$6,ROUND(F152*$B$3*(1+$D$6),2),IF(Products!$Z$8=$C$7,ROUND(F152*$B$3*(1+$D$7),2))))))))","v":1168.5},{"$f":"IF(Products!$Z$8=$C$1,I152,IF(Products!$Z$8=$C$2,J152,IF(Products!$Z$8=$C$3,K152,IF(Products!$Z$8=$C$4,L152,IF(Products!$Z$8=$C$5,O152,IF(Products!$Z$8=$C$6,M152,IF(Products!$Z$8=$C$7,N152)))))))","v":"BL1226300G-EN"},"BL1226300G-EN","BL1526300G-EN","BL1626300G-EN","BL3226300G-EN","BL3526300G-EN","BL3626300G-EN","BL5226300G-EN",null,"GravityZone Security for Virtualized Environments CPU","GravityZone Security for Virtualized Environments CPU - EDU","GravityZone Security for Virtualized Environments CPU - GOV","GravityZone Security for Virtualized Environments CPU - R","GravityZone Security for Virtualized Environments CPU - EDU R","GravityZone Security for Virtualized Environments CPU - GOV R","GravityZone Security for Virtualized Environments CPU - CUPG"]
[{"$f":"IF(Products!$Z$8=$C$1,Q153,IF(Products!$Z$8=$C$2,R153,IF(Products!$Z$8=$C$3,S153,IF(Products!$Z$8=$C$4,T153,IF(Products!$Z$8=$C$5,W153,IF(Products!$Z$8=$C$6,U153,IF(Products!$Z$8=$C$7,V153)))))))","v":"GravityZone Security for Virtualized Environments CPU"},"3 years","500+","GravityZone Security for Virtualized Environments CPU3 years500+",null,1117.25,{"$f":"IF(Products!$Z$8=$C$1,ROUND(F153*$B$3,2),IF(Products!$Z$8=$C$2,ROUND(F153*$B$3*(1+$D$2),2),IF(Products!$Z$8=$C$3,ROUND(F153*$B$3*(1+$D$3),2),IF(Products!$Z$8=$C$4,ROUND(F153*$B$3*(1+$D$4),2),IF(Products!$Z$8=$C$5,ROUND(F153*$B$3*(1+$D$5),2),IF(Products!$Z$8=$C$6,ROUND(F153*$B$3*(1+$D$6),2),IF(Products!$Z$8=$C$7,ROUND(F153*$B$3*(1+$D$7),2))))))))","v":1117.25},{"$f":"IF(Products!$Z$8=$C$1,I153,IF(Products!$Z$8=$C$2,J153,IF(Products!$Z$8=$C$3,K153,IF(Products!$Z$8=$C$4,L153,IF(Products!$Z$8=$C$5,O153,IF(Products!$Z$8=$C$6,M153,IF(Products!$Z$8=$C$7,N153)))))))","v":"BL1226300H-EN"},"BL1226300H-EN","BL1526300H-EN","BL1626300H-EN","BL3226300H-EN","BL3526300H-EN","BL3626300H-EN","BL5226300H-EN",null,"GravityZone Security for Virtualized Environments CPU","GravityZone Security for Virtualized Environments CPU - EDU","GravityZone Security for Virtualized Environments CPU - GOV","GravityZone Security for Virtualized Environments CPU - R","GravityZone Security for Virtualized Environments CPU - EDU R","GravityZone Security for Virtualized Environments CPU - GOV R","GravityZone Security for Virtualized Environments CPU - CUPG"]
[{"$f":"IF(Products!$Z$8=$C$1,Q154,IF(Products!$Z$8=$C$2,R154,IF(Products!$Z$8=$C$3,S154,IF(Products!$Z$8=$C$4,T154,IF(Products!$Z$8=$C$5,W154,IF(Products!$Z$8=$C$6,U154,IF(Products!$Z$8=$C$7,V154)))))))","v":"GravityZone Security for Endpoints Physical Workstations"},"1 year","5 - 14","GravityZone Security for Endpoints Physical Workstations1 year5 - 14",null,31,{"$f":"IF(Products!$Z$8=$C$1,ROUND(F154*$B$3,2),IF(Products!$Z$8=$C$2,ROUND(F154*$B$3*(1+$D$2),2),IF(Products!$Z$8=$C$3,ROUND(F154*$B$3*(1+$D$3),2),IF(Products!$Z$8=$C$4,ROUND(F154*$B$3*(1+$D$4),2),IF(Products!$Z$8=$C$5,ROUND(F154*$B$3*(1+$D$5),2),IF(Products!$Z$8=$C$6,ROUND(F154*$B$3*(1+$D$6),2),IF(Products!$Z$8=$C$7,ROUND(F154*$B$3*(1+$D$7),2))))))))","v":31},{"$f":"IF(Products!$Z$8=$C$1,I154,IF(Products!$Z$8=$C$2,J154,IF(Products!$Z$8=$C$3,K154,IF(Products!$Z$8=$C$4,L154,IF(Products!$Z$8=$C$5,O154,IF(Products!$Z$8=$C$6,M154,IF(Products!$Z$8=$C$7,N154)))))))","v":"AL1216100A-EN"},"AL1216100A-EN","AL1516100A-EN","AL1616100A-EN","AL3216100A-EN","AL3516100A-EN","AL3616100A-EN","AL5216100A-EN",null,"GravityZone Security for Endpoints Physical Workstations","GravityZone Security for Endpoints Physical Workstations - EDU","GravityZone Security for Endpoints Physical Workstations - GOV","GravityZone Security for Endpoints Physical Workstations - R","GravityZone Security for Endpoints Physical Workstations - EDU R","GravityZone Security for Endpoints Physical Workstations - GOV R","GravityZone Security for Endpoints Physical Workstations - CUPG"]
[{"$f":"IF(Products!$Z$8=$C$1,Q155,IF(Products!$Z$8=$C$2,R155,IF(Products!$Z$8=$C$3,S155,IF(Products!$Z$8=$C$4,T155,IF(Products!$Z$8=$C$5,W155,IF(Products!$Z$8=$C$6,U155,IF(Products!$Z$8=$C$7,V155)))))))","v":"GravityZone Security for Endpoints Physical Workstations"},"1 year","15 - 24","GravityZone Security for Endpoints Physical Workstations1 year15 - 24",null,27.2,{"$f":"IF(Products!$Z$8=$C$1,ROUND(F155*$B$3,2),IF(Products!$Z$8=$C$2,ROUND(F155*$B$3*(1+$D$2),2),IF(Products!$Z$8=$C$3,ROUND(F155*$B$3*(1+$D$3),2),IF(Products!$Z$8=$C$4,ROUND(F155*$B$3*(1+$D$4),2),IF(Products!$Z$8=$C$5,ROUND(F155*$B$3*(1+$D$5),2),IF(Products!$Z$8=$C$6,ROUND(F155*$B$3*(1+$D$6),2),IF(Products!$Z$8=$C$7,ROUND(F155*$B$3*(1+$D$7),2))))))))","v":27.2},{"$f":"IF(Products!$Z$8=$C$1,I155,IF(Products!$Z$8=$C$2,J155,IF(Products!$Z$8=$C$3,K155,IF(Products!$Z$8=$C$4,L155,IF(Products!$Z$8=$C$5,O155,IF(Products!$Z$8=$C$6,M155,IF(Products!$Z$8=$C$7,N155)))))))","v":"AL1216100B-EN"},"AL1216100B-EN","AL1516100B-EN","AL1616100B-EN","AL3216100B-EN","AL3516100B-EN","AL3616100B-EN","AL5216100B-EN",null,"GravityZone Security for Endpoints Physical Workstations","GravityZone Security for Endpoints Physical Workstations - EDU","GravityZone Security for Endpoints Physical Workstations - GOV","GravityZone Security for Endpoints Physical Workstations - R","GravityZone Security for Endpoints Physical Workstations - EDU R","GravityZone Security for Endpoints Physical Workstations - GOV R","GravityZone Security for Endpoints Physical Workstations - CUPG"]
[{"$f":"IF(Products!$Z$8=$C$1,Q156,IF(Products!$Z$8=$C$2,R156,IF(Products!$Z$8=$C$3,S156,IF(Products!$Z$8=$C$4,T156,IF(Products!$Z$8=$C$5,W156,IF(Products!$Z$8=$C$6,U156,IF(Products!$Z$8=$C$7,V156)))))))","v":"GravityZone Security for Endpoints Physical Workstations"},"1 year","25 - 49","GravityZone Security for Endpoints Physical Workstations1 year25 - 49",null,25,{"$f":"IF(Products!$Z$8=$C$1,ROUND(F156*$B$3,2),IF(Products!$Z$8=$C$2,ROUND(F156*$B$3*(1+$D$2),2),IF(Products!$Z$8=$C$3,ROUND(F156*$B$3*(1+$D$3),2),IF(Products!$Z$8=$C$4,ROUND(F156*$B$3*(1+$D$4),2),IF(Products!$Z$8=$C$5,ROUND(F156*$B$3*(1+$D$5),2),IF(Products!$Z$8=$C$6,ROUND(F156*$B$3*(1+$D$6),2),IF(Products!$Z$8=$C$7,ROUND(F156*$B$3*(1+$D$7),2))))))))","v":25},{"$f":"IF(Products!$Z$8=$C$1,I156,IF(Products!$Z$8=$C$2,J156,IF(Products!$Z$8=$C$3,K156,IF(Products!$Z$8=$C$4,L156,IF(Products!$Z$8=$C$5,O156,IF(Products!$Z$8=$C$6,M156,IF(Products!$Z$8=$C$7,N156)))))))","v":"AL1216100C-EN"},"AL1216100C-EN","AL1516100C-EN","AL1616100C-EN","AL3216100C-EN","AL3516100C-EN","AL3616100C-EN","AL5216100C-EN",null,"GravityZone Security for Endpoints Physical Workstations","GravityZone Security for Endpoints Physical Workstations - EDU","GravityZone Security for Endpoints Physical Workstations - GOV","GravityZone Security for Endpoints Physical Workstations - R","GravityZone Security for Endpoints Physical Workstations - EDU R","GravityZone Security for Endpoints Physical Workstations - GOV R","GravityZone Security for Endpoints Physical Workstations - CUPG"]
[{"$f":"IF(Products!$Z$8=$C$1,Q157,IF(Products!$Z$8=$C$2,R157,IF(Products!$Z$8=$C$3,S157,IF(Products!$Z$8=$C$4,T157,IF(Products!$Z$8=$C$5,W157,IF(Products!$Z$8=$C$6,U157,IF(Products!$Z$8=$C$7,V157)))))))","v":"GravityZone Security for Endpoints Physical Workstations"},"1 year","50 - 99","GravityZone Security for Endpoints Physical Workstations1 year50 - 99",null,22.5,{"$f":"IF(Products!$Z$8=$C$1,ROUND(F157*$B$3,2),IF(Products!$Z$8=$C$2,ROUND(F157*$B$3*(1+$D$2),2),IF(Products!$Z$8=$C$3,ROUND(F157*$B$3*(1+$D$3),2),IF(Products!$Z$8=$C$4,ROUND(F157*$B$3*(1+$D$4),2),IF(Products!$Z$8=$C$5,ROUND(F157*$B$3*(1+$D$5),2),IF(Products!$Z$8=$C$6,ROUND(F157*$B$3*(1+$D$6),2),IF(Products!$Z$8=$C$7,ROUND(F157*$B$3*(1+$D$7),2))))))))","v":22.5},{"$f":"IF(Products!$Z$8=$C$1,I157,IF(Products!$Z$8=$C$2,J157,IF(Products!$Z$8=$C$3,K157,IF(Products!$Z$8=$C$4,L157,IF(Products!$Z$8=$C$5,O157,IF(Products!$Z$8=$C$6,M157,IF(Products!$Z$8=$C$7,N157)))))))","v":"AL1216100D-EN"},"AL1216100D-EN","AL1516100D-EN","AL1616100D-EN","AL3216100D-EN","AL3516100D-EN","AL3616100D-EN","AL5216100D-EN",null,"GravityZone Security for Endpoints Physical Workstations","GravityZone Security for Endpoints Physical Workstations - EDU","GravityZone Security for Endpoints Physical Workstations - GOV","GravityZone Security for Endpoints Physical Workstations - R","GravityZone Security for Endpoints Physical Workstations - EDU R","GravityZone Security for Endpoints Physical Workstations - GOV R","GravityZone Security for Endpoints Physical Workstations - CUPG"]
[{"$f":"IF(Products!$Z$8=$C$1,Q158,IF(Products!$Z$8=$C$2,R158,IF(Products!$Z$8=$C$3,S158,IF(Products!$Z$8=$C$4,T158,IF(Products!$Z$8=$C$5,W158,IF(Products!$Z$8=$C$6,U158,IF(Products!$Z$8=$C$7,V158)))))))","v":"GravityZone Security for Endpoints Physical Workstations"},"1 year","100 - 149","GravityZone Security for Endpoints Physical Workstations1 year100 - 149",null,20.25,{"$f":"IF(Products!$Z$8=$C$1,ROUND(F158*$B$3,2),IF(Products!$Z$8=$C$2,ROUND(F158*$B$3*(1+$D$2),2),IF(Products!$Z$8=$C$3,ROUND(F158*$B$3*(1+$D$3),2),IF(Products!$Z$8=$C$4,ROUND(F158*$B$3*(1+$D$4),2),IF(Products!$Z$8=$C$5,ROUND(F158*$B$3*(1+$D$5),2),IF(Products!$Z$8=$C$6,ROUND(F158*$B$3*(1+$D$6),2),IF(Products!$Z$8=$C$7,ROUND(F158*$B$3*(1+$D$7),2))))))))","v":20.25},{"$f":"IF(Products!$Z$8=$C$1,I158,IF(Products!$Z$8=$C$2,J158,IF(Products!$Z$8=$C$3,K158,IF(Products!$Z$8=$C$4,L158,IF(Products!$Z$8=$C$5,O158,IF(Products!$Z$8=$C$6,M158,IF(Products!$Z$8=$C$7,N158)))))))","v":"AL1216100E-EN"},"AL1216100E-EN","AL1516100E-EN","AL1616100E-EN","AL3216100E-EN","AL3516100E-EN","AL3616100E-EN","AL5216100E-EN",null,"GravityZone Security for Endpoints Physical Workstations","GravityZone Security for Endpoints Physical Workstations - EDU","GravityZone Security for Endpoints Physical Workstations - GOV","GravityZone Security for Endpoints Physical Workstations - R","GravityZone Security for Endpoints Physical Workstations - EDU R","GravityZone Security for Endpoints Physical Workstations - GOV R","GravityZone Security for Endpoints Physical Workstations - CUPG"]
[{"$f":"IF(Products!$Z$8=$C$1,Q159,IF(Products!$Z$8=$C$2,R159,IF(Products!$Z$8=$C$3,S159,IF(Products!$Z$8=$C$4,T159,IF(Products!$Z$8=$C$5,W159,IF(Products!$Z$8=$C$6,U159,IF(Products!$Z$8=$C$7,V159)))))))","v":"GravityZone Security for Endpoints Physical Workstations"},"1 year","150 - 249","GravityZone Security for Endpoints Physical Workstations1 year150 - 249",null,18.25,{"$f":"IF(Products!$Z$8=$C$1,ROUND(F159*$B$3,2),IF(Products!$Z$8=$C$2,ROUND(F159*$B$3*(1+$D$2),2),IF(Products!$Z$8=$C$3,ROUND(F159*$B$3*(1+$D$3),2),IF(Products!$Z$8=$C$4,ROUND(F159*$B$3*(1+$D$4),2),IF(Products!$Z$8=$C$5,ROUND(F159*$B$3*(1+$D$5),2),IF(Products!$Z$8=$C$6,ROUND(F159*$B$3*(1+$D$6),2),IF(Products!$Z$8=$C$7,ROUND(F159*$B$3*(1+$D$7),2))))))))","v":18.25},{"$f":"IF(Products!$Z$8=$C$1,I159,IF(Products!$Z$8=$C$2,J159,IF(Products!$Z$8=$C$3,K159,IF(Products!$Z$8=$C$4,L159,IF(Products!$Z$8=$C$5,O159,IF(Products!$Z$8=$C$6,M159,IF(Products!$Z$8=$C$7,N159)))))))","v":"AL1216100F-EN"},"AL1216100F-EN","AL1516100F-EN","AL1616100F-EN","AL3216100F-EN","AL3516100F-EN","AL3616100F-EN","AL5216100F-EN",null,"GravityZone Security for Endpoints Physical Workstations","GravityZone Security for Endpoints Physical Workstations - EDU","GravityZone Security for Endpoints Physical Workstations - GOV","GravityZone Security for Endpoints Physical Workstations - R","GravityZone Security for Endpoints Physical Workstations - EDU R","GravityZone Security for Endpoints Physical Workstations - GOV R","GravityZone Security for Endpoints Physical Workstations - CUPG"]
[{"$f":"IF(Products!$Z$8=$C$1,Q160,IF(Products!$Z$8=$C$2,R160,IF(Products!$Z$8=$C$3,S160,IF(Products!$Z$8=$C$4,T160,IF(Products!$Z$8=$C$5,W160,IF(Products!$Z$8=$C$6,U160,IF(Products!$Z$8=$C$7,V160)))))))","v":"GravityZone Security for Endpoints Physical Workstations"},"1 year","250 - 499","GravityZone Security for Endpoints Physical Workstations1 year250 - 499",null,16.5,{"$f":"IF(Products!$Z$8=$C$1,ROUND(F160*$B$3,2),IF(Products!$Z$8=$C$2,ROUND(F160*$B$3*(1+$D$2),2),IF(Products!$Z$8=$C$3,ROUND(F160*$B$3*(1+$D$3),2),IF(Products!$Z$8=$C$4,ROUND(F160*$B$3*(1+$D$4),2),IF(Products!$Z$8=$C$5,ROUND(F160*$B$3*(1+$D$5),2),IF(Products!$Z$8=$C$6,ROUND(F160*$B$3*(1+$D$6),2),IF(Products!$Z$8=$C$7,ROUND(F160*$B$3*(1+$D$7),2))))))))","v":16.5},{"$f":"IF(Products!$Z$8=$C$1,I160,IF(Products!$Z$8=$C$2,J160,IF(Products!$Z$8=$C$3,K160,IF(Products!$Z$8=$C$4,L160,IF(Products!$Z$8=$C$5,O160,IF(Products!$Z$8=$C$6,M160,IF(Products!$Z$8=$C$7,N160)))))))","v":"AL1216100G-EN"},"AL1216100G-EN","AL1516100G-EN","AL1616100G-EN","AL3216100G-EN","AL3516100G-EN","AL3616100G-EN","AL5216100G-EN",null,"GravityZone Security for Endpoints Physical Workstations","GravityZone Security for Endpoints Physical Workstations - EDU","GravityZone Security for Endpoints Physical Workstations - GOV","GravityZone Security for Endpoints Physical Workstations - R","GravityZone Security for Endpoints Physical Workstations - EDU R","GravityZone Security for Endpoints Physical Workstations - GOV R","GravityZone Security for Endpoints Physical Workstations - CUPG"]
[{"$f":"IF(Products!$Z$8=$C$1,Q161,IF(Products!$Z$8=$C$2,R161,IF(Products!$Z$8=$C$3,S161,IF(Products!$Z$8=$C$4,T161,IF(Products!$Z$8=$C$5,W161,IF(Products!$Z$8=$C$6,U161,IF(Products!$Z$8=$C$7,V161)))))))","v":"GravityZone Security for Endpoints Physical Workstations"},"1 year","500 - 999","GravityZone Security for Endpoints Physical Workstations1 year500 - 999",null,14.85,{"$f":"IF(Products!$Z$8=$C$1,ROUND(F161*$B$3,2),IF(Products!$Z$8=$C$2,ROUND(F161*$B$3*(1+$D$2),2),IF(Products!$Z$8=$C$3,ROUND(F161*$B$3*(1+$D$3),2),IF(Products!$Z$8=$C$4,ROUND(F161*$B$3*(1+$D$4),2),IF(Products!$Z$8=$C$5,ROUND(F161*$B$3*(1+$D$5),2),IF(Products!$Z$8=$C$6,ROUND(F161*$B$3*(1+$D$6),2),IF(Products!$Z$8=$C$7,ROUND(F161*$B$3*(1+$D$7),2))))))))","v":14.85},{"$f":"IF(Products!$Z$8=$C$1,I161,IF(Products!$Z$8=$C$2,J161,IF(Products!$Z$8=$C$3,K161,IF(Products!$Z$8=$C$4,L161,IF(Products!$Z$8=$C$5,O161,IF(Products!$Z$8=$C$6,M161,IF(Products!$Z$8=$C$7,N161)))))))","v":"AL1216100H-EN"},"AL1216100H-EN","AL1516100H-EN","AL1616100H-EN","AL3216100H-EN","AL3516100H-EN","AL3616100H-EN","AL5216100H-EN",null,"GravityZone Security for Endpoints Physical Workstations","GravityZone Security for Endpoints Physical Workstations - EDU","GravityZone Security for Endpoints Physical Workstations - GOV","GravityZone Security for Endpoints Physical Workstations - R","GravityZone Security for Endpoints Physical Workstations - EDU R","GravityZone Security for Endpoints Physical Workstations - GOV R","GravityZone Security for Endpoints Physical Workstations - CUPG"]
[{"$f":"IF(Products!$Z$8=$C$1,Q162,IF(Products!$Z$8=$C$2,R162,IF(Products!$Z$8=$C$3,S162,IF(Products!$Z$8=$C$4,T162,IF(Products!$Z$8=$C$5,W162,IF(Products!$Z$8=$C$6,U162,IF(Products!$Z$8=$C$7,V162)))))))","v":"GravityZone Security for Endpoints Physical Workstations"},"1 year","1000 - 2999","GravityZone Security for Endpoints Physical Workstations1 year1000 - 2999",null,13.35,{"$f":"IF(Products!$Z$8=$C$1,ROUND(F162*$B$3,2),IF(Products!$Z$8=$C$2,ROUND(F162*$B$3*(1+$D$2),2),IF(Products!$Z$8=$C$3,ROUND(F162*$B$3*(1+$D$3),2),IF(Products!$Z$8=$C$4,ROUND(F162*$B$3*(1+$D$4),2),IF(Products!$Z$8=$C$5,ROUND(F162*$B$3*(1+$D$5),2),IF(Products!$Z$8=$C$6,ROUND(F162*$B$3*(1+$D$6),2),IF(Products!$Z$8=$C$7,ROUND(F162*$B$3*(1+$D$7),2))))))))","v":13.35},{"$f":"IF(Products!$Z$8=$C$1,I162,IF(Products!$Z$8=$C$2,J162,IF(Products!$Z$8=$C$3,K162,IF(Products!$Z$8=$C$4,L162,IF(Products!$Z$8=$C$5,O162,IF(Products!$Z$8=$C$6,M162,IF(Products!$Z$8=$C$7,N162)))))))","v":"AL1216100I-EN"},"AL1216100I-EN","AL1516100I-EN","AL1616100I-EN","AL3216100I-EN","AL3516100I-EN","AL3616100I-EN","AL5216100I-EN",null,"GravityZone Security for Endpoints Physical Workstations","GravityZone Security for Endpoints Physical Workstations - EDU","GravityZone Security for Endpoints Physical Workstations - GOV","GravityZone Security for Endpoints Physical Workstations - R","GravityZone Security for Endpoints Physical Workstations - EDU R","GravityZone Security for Endpoints Physical Workstations - GOV R","GravityZone Security for Endpoints Physical Workstations - CUPG"]
[{"$f":"IF(Products!$Z$8=$C$1,Q163,IF(Products!$Z$8=$C$2,R163,IF(Products!$Z$8=$C$3,S163,IF(Products!$Z$8=$C$4,T163,IF(Products!$Z$8=$C$5,W163,IF(Products!$Z$8=$C$6,U163,IF(Products!$Z$8=$C$7,V163)))))))","v":"GravityZone Security for Endpoints Physical Workstations"},"1 year","3000+","GravityZone Security for Endpoints Physical Workstations1 year3000+",null,12,{"$f":"IF(Products!$Z$8=$C$1,ROUND(F163*$B$3,2),IF(Products!$Z$8=$C$2,ROUND(F163*$B$3*(1+$D$2),2),IF(Products!$Z$8=$C$3,ROUND(F163*$B$3*(1+$D$3),2),IF(Products!$Z$8=$C$4,ROUND(F163*$B$3*(1+$D$4),2),IF(Products!$Z$8=$C$5,ROUND(F163*$B$3*(1+$D$5),2),IF(Products!$Z$8=$C$6,ROUND(F163*$B$3*(1+$D$6),2),IF(Products!$Z$8=$C$7,ROUND(F163*$B$3*(1+$D$7),2))))))))","v":12},{"$f":"IF(Products!$Z$8=$C$1,I163,IF(Products!$Z$8=$C$2,J163,IF(Products!$Z$8=$C$3,K163,IF(Products!$Z$8=$C$4,L163,IF(Products!$Z$8=$C$5,O163,IF(Products!$Z$8=$C$6,M163,IF(Products!$Z$8=$C$7,N163)))))))","v":"AL1216100J-EN"},"AL1216100J-EN","AL1516100J-EN","AL1616100J-EN","AL3216100J-EN","AL3516100J-EN","AL3616100J-EN","AL5216100J-EN",null,"GravityZone Security for Endpoints Physical Workstations","GravityZone Security for Endpoints Physical Workstations - EDU","GravityZone Security for Endpoints Physical Workstations - GOV","GravityZone Security for Endpoints Physical Workstations - R","GravityZone Security for Endpoints Physical Workstations - EDU R","GravityZone Security for Endpoints Physical Workstations - GOV R","GravityZone Security for Endpoints Physical Workstations - CUPG"]
[{"$f":"IF(Products!$Z$8=$C$1,Q164,IF(Products!$Z$8=$C$2,R164,IF(Products!$Z$8=$C$3,S164,IF(Products!$Z$8=$C$4,T164,IF(Products!$Z$8=$C$5,W164,IF(Products!$Z$8=$C$6,U164,IF(Products!$Z$8=$C$7,V164)))))))","v":"GravityZone Security for Endpoints Physical Workstations"},"2 years","5 - 14","GravityZone Security for Endpoints Physical Workstations2 years5 - 14",null,49.6,{"$f":"IF(Products!$Z$8=$C$1,ROUND(F164*$B$3,2),IF(Products!$Z$8=$C$2,ROUND(F164*$B$3*(1+$D$2),2),IF(Products!$Z$8=$C$3,ROUND(F164*$B$3*(1+$D$3),2),IF(Products!$Z$8=$C$4,ROUND(F164*$B$3*(1+$D$4),2),IF(Products!$Z$8=$C$5,ROUND(F164*$B$3*(1+$D$5),2),IF(Products!$Z$8=$C$6,ROUND(F164*$B$3*(1+$D$6),2),IF(Products!$Z$8=$C$7,ROUND(F164*$B$3*(1+$D$7),2))))))))","v":49.6},{"$f":"IF(Products!$Z$8=$C$1,I164,IF(Products!$Z$8=$C$2,J164,IF(Products!$Z$8=$C$3,K164,IF(Products!$Z$8=$C$4,L164,IF(Products!$Z$8=$C$5,O164,IF(Products!$Z$8=$C$6,M164,IF(Products!$Z$8=$C$7,N164)))))))","v":"AL1216200A-EN"},"AL1216200A-EN","AL1516200A-EN","AL1616200A-EN","AL3216200A-EN","AL3516200A-EN","AL3616200A-EN","AL5216200A-EN",null,"GravityZone Security for Endpoints Physical Workstations","GravityZone Security for Endpoints Physical Workstations - EDU","GravityZone Security for Endpoints Physical Workstations - GOV","GravityZone Security for Endpoints Physical Workstations - R","GravityZone Security for Endpoints Physical Workstations - EDU R","GravityZone Security for Endpoints Physical Workstations - GOV R","GravityZone Security for Endpoints Physical Workstations - CUPG"]
[{"$f":"IF(Products!$Z$8=$C$1,Q165,IF(Products!$Z$8=$C$2,R165,IF(Products!$Z$8=$C$3,S165,IF(Products!$Z$8=$C$4,T165,IF(Products!$Z$8=$C$5,W165,IF(Products!$Z$8=$C$6,U165,IF(Products!$Z$8=$C$7,V165)))))))","v":"GravityZone Security for Endpoints Physical Workstations"},"2 years","15 - 24","GravityZone Security for Endpoints Physical Workstations2 years15 - 24",null,43.52,{"$f":"IF(Products!$Z$8=$C$1,ROUND(F165*$B$3,2),IF(Products!$Z$8=$C$2,ROUND(F165*$B$3*(1+$D$2),2),IF(Products!$Z$8=$C$3,ROUND(F165*$B$3*(1+$D$3),2),IF(Products!$Z$8=$C$4,ROUND(F165*$B$3*(1+$D$4),2),IF(Products!$Z$8=$C$5,ROUND(F165*$B$3*(1+$D$5),2),IF(Products!$Z$8=$C$6,ROUND(F165*$B$3*(1+$D$6),2),IF(Products!$Z$8=$C$7,ROUND(F165*$B$3*(1+$D$7),2))))))))","v":43.52},{"$f":"IF(Products!$Z$8=$C$1,I165,IF(Products!$Z$8=$C$2,J165,IF(Products!$Z$8=$C$3,K165,IF(Products!$Z$8=$C$4,L165,IF(Products!$Z$8=$C$5,O165,IF(Products!$Z$8=$C$6,M165,IF(Products!$Z$8=$C$7,N165)))))))","v":"AL1216200B-EN"},"AL1216200B-EN","AL1516200B-EN","AL1616200B-EN","AL3216200B-EN","AL3516200B-EN","AL3616200B-EN","AL5216200B-EN",null,"GravityZone Security for Endpoints Physical Workstations","GravityZone Security for Endpoints Physical Workstations - EDU","GravityZone Security for Endpoints Physical Workstations - GOV","GravityZone Security for Endpoints Physical Workstations - R","GravityZone Security for Endpoints Physical Workstations - EDU R","GravityZone Security for Endpoints Physical Workstations - GOV R","GravityZone Security for Endpoints Physical Workstations - CUPG"]
[{"$f":"IF(Products!$Z$8=$C$1,Q166,IF(Products!$Z$8=$C$2,R166,IF(Products!$Z$8=$C$3,S166,IF(Products!$Z$8=$C$4,T166,IF(Products!$Z$8=$C$5,W166,IF(Products!$Z$8=$C$6,U166,IF(Products!$Z$8=$C$7,V166)))))))","v":"GravityZone Security for Endpoints Physical Workstations"},"2 years","25 - 49","GravityZone Security for Endpoints Physical Workstations2 years25 - 49",null,40,{"$f":"IF(Products!$Z$8=$C$1,ROUND(F166*$B$3,2),IF(Products!$Z$8=$C$2,ROUND(F166*$B$3*(1+$D$2),2),IF(Products!$Z$8=$C$3,ROUND(F166*$B$3*(1+$D$3),2),IF(Products!$Z$8=$C$4,ROUND(F166*$B$3*(1+$D$4),2),IF(Products!$Z$8=$C$5,ROUND(F166*$B$3*(1+$D$5),2),IF(Products!$Z$8=$C$6,ROUND(F166*$B$3*(1+$D$6),2),IF(Products!$Z$8=$C$7,ROUND(F166*$B$3*(1+$D$7),2))))))))","v":40},{"$f":"IF(Products!$Z$8=$C$1,I166,IF(Products!$Z$8=$C$2,J166,IF(Products!$Z$8=$C$3,K166,IF(Products!$Z$8=$C$4,L166,IF(Products!$Z$8=$C$5,O166,IF(Products!$Z$8=$C$6,M166,IF(Products!$Z$8=$C$7,N166)))))))","v":"AL1216200C-EN"},"AL1216200C-EN","AL1516200C-EN","AL1616200C-EN","AL3216200C-EN","AL3516200C-EN","AL3616200C-EN","AL5216200C-EN",null,"GravityZone Security for Endpoints Physical Workstations","GravityZone Security for Endpoints Physical Workstations - EDU","GravityZone Security for Endpoints Physical Workstations - GOV","GravityZone Security for Endpoints Physical Workstations - R","GravityZone Security for Endpoints Physical Workstations - EDU R","GravityZone Security for Endpoints Physical Workstations - GOV R","GravityZone Security for Endpoints Physical Workstations - CUPG"]
[{"$f":"IF(Products!$Z$8=$C$1,Q167,IF(Products!$Z$8=$C$2,R167,IF(Products!$Z$8=$C$3,S167,IF(Products!$Z$8=$C$4,T167,IF(Products!$Z$8=$C$5,W167,IF(Products!$Z$8=$C$6,U167,IF(Products!$Z$8=$C$7,V167)))))))","v":"GravityZone Security for Endpoints Physical Workstations"},"2 years","50 - 99","GravityZone Security for Endpoints Physical Workstations2 years50 - 99",null,36,{"$f":"IF(Products!$Z$8=$C$1,ROUND(F167*$B$3,2),IF(Products!$Z$8=$C$2,ROUND(F167*$B$3*(1+$D$2),2),IF(Products!$Z$8=$C$3,ROUND(F167*$B$3*(1+$D$3),2),IF(Products!$Z$8=$C$4,ROUND(F167*$B$3*(1+$D$4),2),IF(Products!$Z$8=$C$5,ROUND(F167*$B$3*(1+$D$5),2),IF(Products!$Z$8=$C$6,ROUND(F167*$B$3*(1+$D$6),2),IF(Products!$Z$8=$C$7,ROUND(F167*$B$3*(1+$D$7),2))))))))","v":36},{"$f":"IF(Products!$Z$8=$C$1,I167,IF(Products!$Z$8=$C$2,J167,IF(Products!$Z$8=$C$3,K167,IF(Products!$Z$8=$C$4,L167,IF(Products!$Z$8=$C$5,O167,IF(Products!$Z$8=$C$6,M167,IF(Products!$Z$8=$C$7,N167)))))))","v":"AL1216200D-EN"},"AL1216200D-EN","AL1516200D-EN","AL1616200D-EN","AL3216200D-EN","AL3516200D-EN","AL3616200D-EN","AL5216200D-EN",null,"GravityZone Security for Endpoints Physical Workstations","GravityZone Security for Endpoints Physical Workstations - EDU","GravityZone Security for Endpoints Physical Workstations - GOV","GravityZone Security for Endpoints Physical Workstations - R","GravityZone Security for Endpoints Physical Workstations - EDU R","GravityZone Security for Endpoints Physical Workstations - GOV R","GravityZone Security for Endpoints Physical Workstations - CUPG"]
[{"$f":"IF(Products!$Z$8=$C$1,Q168,IF(Products!$Z$8=$C$2,R168,IF(Products!$Z$8=$C$3,S168,IF(Products!$Z$8=$C$4,T168,IF(Products!$Z$8=$C$5,W168,IF(Products!$Z$8=$C$6,U168,IF(Products!$Z$8=$C$7,V168)))))))","v":"GravityZone Security for Endpoints Physical Workstations"},"2 years","100 - 149","GravityZone Security for Endpoints Physical Workstations2 years100 - 149",null,32.4,{"$f":"IF(Products!$Z$8=$C$1,ROUND(F168*$B$3,2),IF(Products!$Z$8=$C$2,ROUND(F168*$B$3*(1+$D$2),2),IF(Products!$Z$8=$C$3,ROUND(F168*$B$3*(1+$D$3),2),IF(Products!$Z$8=$C$4,ROUND(F168*$B$3*(1+$D$4),2),IF(Products!$Z$8=$C$5,ROUND(F168*$B$3*(1+$D$5),2),IF(Products!$Z$8=$C$6,ROUND(F168*$B$3*(1+$D$6),2),IF(Products!$Z$8=$C$7,ROUND(F168*$B$3*(1+$D$7),2))))))))","v":32.4},{"$f":"IF(Products!$Z$8=$C$1,I168,IF(Products!$Z$8=$C$2,J168,IF(Products!$Z$8=$C$3,K168,IF(Products!$Z$8=$C$4,L168,IF(Products!$Z$8=$C$5,O168,IF(Products!$Z$8=$C$6,M168,IF(Products!$Z$8=$C$7,N168)))))))","v":"AL1216200E-EN"},"AL1216200E-EN","AL1516200E-EN","AL1616200E-EN","AL3216200E-EN","AL3516200E-EN","AL3616200E-EN","AL5216200E-EN",null,"GravityZone Security for Endpoints Physical Workstations","GravityZone Security for Endpoints Physical Workstations - EDU","GravityZone Security for Endpoints Physical Workstations - GOV","GravityZone Security for Endpoints Physical Workstations - R","GravityZone Security for Endpoints Physical Workstations - EDU R","GravityZone Security for Endpoints Physical Workstations - GOV R","GravityZone Security for Endpoints Physical Workstations - CUPG"]
[{"$f":"IF(Products!$Z$8=$C$1,Q169,IF(Products!$Z$8=$C$2,R169,IF(Products!$Z$8=$C$3,S169,IF(Products!$Z$8=$C$4,T169,IF(Products!$Z$8=$C$5,W169,IF(Products!$Z$8=$C$6,U169,IF(Products!$Z$8=$C$7,V169)))))))","v":"GravityZone Security for Endpoints Physical Workstations"},"2 years","150 - 249","GravityZone Security for Endpoints Physical Workstations2 years150 - 249",null,29.2,{"$f":"IF(Products!$Z$8=$C$1,ROUND(F169*$B$3,2),IF(Products!$Z$8=$C$2,ROUND(F169*$B$3*(1+$D$2),2),IF(Products!$Z$8=$C$3,ROUND(F169*$B$3*(1+$D$3),2),IF(Products!$Z$8=$C$4,ROUND(F169*$B$3*(1+$D$4),2),IF(Products!$Z$8=$C$5,ROUND(F169*$B$3*(1+$D$5),2),IF(Products!$Z$8=$C$6,ROUND(F169*$B$3*(1+$D$6),2),IF(Products!$Z$8=$C$7,ROUND(F169*$B$3*(1+$D$7),2))))))))","v":29.2},{"$f":"IF(Products!$Z$8=$C$1,I169,IF(Products!$Z$8=$C$2,J169,IF(Products!$Z$8=$C$3,K169,IF(Products!$Z$8=$C$4,L169,IF(Products!$Z$8=$C$5,O169,IF(Products!$Z$8=$C$6,M169,IF(Products!$Z$8=$C$7,N169)))))))","v":"AL1216200F-EN"},"AL1216200F-EN","AL1516200F-EN","AL1616200F-EN","AL3216200F-EN","AL3516200F-EN","AL3616200F-EN","AL5216200F-EN",null,"GravityZone Security for Endpoints Physical Workstations","GravityZone Security for Endpoints Physical Workstations - EDU","GravityZone Security for Endpoints Physical Workstations - GOV","GravityZone Security for Endpoints Physical Workstations - R","GravityZone Security for Endpoints Physical Workstations - EDU R","GravityZone Security for Endpoints Physical Workstations - GOV R","GravityZone Security for Endpoints Physical Workstations - CUPG"]
[{"$f":"IF(Products!$Z$8=$C$1,Q170,IF(Products!$Z$8=$C$2,R170,IF(Products!$Z$8=$C$3,S170,IF(Products!$Z$8=$C$4,T170,IF(Products!$Z$8=$C$5,W170,IF(Products!$Z$8=$C$6,U170,IF(Products!$Z$8=$C$7,V170)))))))","v":"GravityZone Security for Endpoints Physical Workstations"},"2 years","250 - 499","GravityZone Security for Endpoints Physical Workstations2 years250 - 499",null,26.4,{"$f":"IF(Products!$Z$8=$C$1,ROUND(F170*$B$3,2),IF(Products!$Z$8=$C$2,ROUND(F170*$B$3*(1+$D$2),2),IF(Products!$Z$8=$C$3,ROUND(F170*$B$3*(1+$D$3),2),IF(Products!$Z$8=$C$4,ROUND(F170*$B$3*(1+$D$4),2),IF(Products!$Z$8=$C$5,ROUND(F170*$B$3*(1+$D$5),2),IF(Products!$Z$8=$C$6,ROUND(F170*$B$3*(1+$D$6),2),IF(Products!$Z$8=$C$7,ROUND(F170*$B$3*(1+$D$7),2))))))))","v":26.4},{"$f":"IF(Products!$Z$8=$C$1,I170,IF(Products!$Z$8=$C$2,J170,IF(Products!$Z$8=$C$3,K170,IF(Products!$Z$8=$C$4,L170,IF(Products!$Z$8=$C$5,O170,IF(Products!$Z$8=$C$6,M170,IF(Products!$Z$8=$C$7,N170)))))))","v":"AL1216200G-EN"},"AL1216200G-EN","AL1516200G-EN","AL1616200G-EN","AL3216200G-EN","AL3516200G-EN","AL3616200G-EN","AL5216200G-EN",null,"GravityZone Security for Endpoints Physical Workstations","GravityZone Security for Endpoints Physical Workstations - EDU","GravityZone Security for Endpoints Physical Workstations - GOV","GravityZone Security for Endpoints Physical Workstations - R","GravityZone Security for Endpoints Physical Workstations - EDU R","GravityZone Security for Endpoints Physical Workstations - GOV R","GravityZone Security for Endpoints Physical Workstations - CUPG"]
[{"$f":"IF(Products!$Z$8=$C$1,Q171,IF(Products!$Z$8=$C$2,R171,IF(Products!$Z$8=$C$3,S171,IF(Products!$Z$8=$C$4,T171,IF(Products!$Z$8=$C$5,W171,IF(Products!$Z$8=$C$6,U171,IF(Products!$Z$8=$C$7,V171)))))))","v":"GravityZone Security for Endpoints Physical Workstations"},"2 years","500 - 999","GravityZone Security for Endpoints Physical Workstations2 years500 - 999",null,23.76,{"$f":"IF(Products!$Z$8=$C$1,ROUND(F171*$B$3,2),IF(Products!$Z$8=$C$2,ROUND(F171*$B$3*(1+$D$2),2),IF(Products!$Z$8=$C$3,ROUND(F171*$B$3*(1+$D$3),2),IF(Products!$Z$8=$C$4,ROUND(F171*$B$3*(1+$D$4),2),IF(Products!$Z$8=$C$5,ROUND(F171*$B$3*(1+$D$5),2),IF(Products!$Z$8=$C$6,ROUND(F171*$B$3*(1+$D$6),2),IF(Products!$Z$8=$C$7,ROUND(F171*$B$3*(1+$D$7),2))))))))","v":23.76},{"$f":"IF(Products!$Z$8=$C$1,I171,IF(Products!$Z$8=$C$2,J171,IF(Products!$Z$8=$C$3,K171,IF(Products!$Z$8=$C$4,L171,IF(Products!$Z$8=$C$5,O171,IF(Products!$Z$8=$C$6,M171,IF(Products!$Z$8=$C$7,N171)))))))","v":"AL1216200H-EN"},"AL1216200H-EN","AL1516200H-EN","AL1616200H-EN","AL3216200H-EN","AL3516200H-EN","AL3616200H-EN","AL5216200H-EN",null,"GravityZone Security for Endpoints Physical Workstations","GravityZone Security for Endpoints Physical Workstations - EDU","GravityZone Security for Endpoints Physical Workstations - GOV","GravityZone Security for Endpoints Physical Workstations - R","GravityZone Security for Endpoints Physical Workstations - EDU R","GravityZone Security for Endpoints Physical Workstations - GOV R","GravityZone Security for Endpoints Physical Workstations - CUPG"]
[{"$f":"IF(Products!$Z$8=$C$1,Q172,IF(Products!$Z$8=$C$2,R172,IF(Products!$Z$8=$C$3,S172,IF(Products!$Z$8=$C$4,T172,IF(Products!$Z$8=$C$5,W172,IF(Products!$Z$8=$C$6,U172,IF(Products!$Z$8=$C$7,V172)))))))","v":"GravityZone Security for Endpoints Physical Workstations"},"2 years","1000 - 2999","GravityZone Security for Endpoints Physical Workstations2 years1000 - 2999",null,21.36,{"$f":"IF(Products!$Z$8=$C$1,ROUND(F172*$B$3,2),IF(Products!$Z$8=$C$2,ROUND(F172*$B$3*(1+$D$2),2),IF(Products!$Z$8=$C$3,ROUND(F172*$B$3*(1+$D$3),2),IF(Products!$Z$8=$C$4,ROUND(F172*$B$3*(1+$D$4),2),IF(Products!$Z$8=$C$5,ROUND(F172*$B$3*(1+$D$5),2),IF(Products!$Z$8=$C$6,ROUND(F172*$B$3*(1+$D$6),2),IF(Products!$Z$8=$C$7,ROUND(F172*$B$3*(1+$D$7),2))))))))","v":21.36},{"$f":"IF(Products!$Z$8=$C$1,I172,IF(Products!$Z$8=$C$2,J172,IF(Products!$Z$8=$C$3,K172,IF(Products!$Z$8=$C$4,L172,IF(Products!$Z$8=$C$5,O172,IF(Products!$Z$8=$C$6,M172,IF(Products!$Z$8=$C$7,N172)))))))","v":"AL1216200I-EN"},"AL1216200I-EN","AL1516200I-EN","AL1616200I-EN","AL3216200I-EN","AL3516200I-EN","AL3616200I-EN","AL5216200I-EN",null,"GravityZone Security for Endpoints Physical Workstations","GravityZone Security for Endpoints Physical Workstations - EDU","GravityZone Security for Endpoints Physical Workstations - GOV","GravityZone Security for Endpoints Physical Workstations - R","GravityZone Security for Endpoints Physical Workstations - EDU R","GravityZone Security for Endpoints Physical Workstations - GOV R","GravityZone Security for Endpoints Physical Workstations - CUPG"]
[{"$f":"IF(Products!$Z$8=$C$1,Q173,IF(Products!$Z$8=$C$2,R173,IF(Products!$Z$8=$C$3,S173,IF(Products!$Z$8=$C$4,T173,IF(Products!$Z$8=$C$5,W173,IF(Products!$Z$8=$C$6,U173,IF(Products!$Z$8=$C$7,V173)))))))","v":"GravityZone Security for Endpoints Physical Workstations"},"2 years","3000+","GravityZone Security for Endpoints Physical Workstations2 years3000+",null,19.2,{"$f":"IF(Products!$Z$8=$C$1,ROUND(F173*$B$3,2),IF(Products!$Z$8=$C$2,ROUND(F173*$B$3*(1+$D$2),2),IF(Products!$Z$8=$C$3,ROUND(F173*$B$3*(1+$D$3),2),IF(Products!$Z$8=$C$4,ROUND(F173*$B$3*(1+$D$4),2),IF(Products!$Z$8=$C$5,ROUND(F173*$B$3*(1+$D$5),2),IF(Products!$Z$8=$C$6,ROUND(F173*$B$3*(1+$D$6),2),IF(Products!$Z$8=$C$7,ROUND(F173*$B$3*(1+$D$7),2))))))))","v":19.2},{"$f":"IF(Products!$Z$8=$C$1,I173,IF(Products!$Z$8=$C$2,J173,IF(Products!$Z$8=$C$3,K173,IF(Products!$Z$8=$C$4,L173,IF(Products!$Z$8=$C$5,O173,IF(Products!$Z$8=$C$6,M173,IF(Products!$Z$8=$C$7,N173)))))))","v":"AL1216200J-EN"},"AL1216200J-EN","AL1516200J-EN","AL1616200J-EN","AL3216200J-EN","AL3516200J-EN","AL3616200J-EN","AL5216200J-EN",null,"GravityZone Security for Endpoints Physical Workstations","GravityZone Security for Endpoints Physical Workstations - EDU","GravityZone Security for Endpoints Physical Workstations - GOV","GravityZone Security for Endpoints Physical Workstations - R","GravityZone Security for Endpoints Physical Workstations - EDU R","GravityZone Security for Endpoints Physical Workstations - GOV R","GravityZone Security for Endpoints Physical Workstations - CUPG"]
[{"$f":"IF(Products!$Z$8=$C$1,Q174,IF(Products!$Z$8=$C$2,R174,IF(Products!$Z$8=$C$3,S174,IF(Products!$Z$8=$C$4,T174,IF(Products!$Z$8=$C$5,W174,IF(Products!$Z$8=$C$6,U174,IF(Products!$Z$8=$C$7,V174)))))))","v":"GravityZone Security for Endpoints Physical Workstations"},"3 years","5 - 14","GravityZone Security for Endpoints Physical Workstations3 years5 - 14",null,63.55,{"$f":"IF(Products!$Z$8=$C$1,ROUND(F174*$B$3,2),IF(Products!$Z$8=$C$2,ROUND(F174*$B$3*(1+$D$2),2),IF(Products!$Z$8=$C$3,ROUND(F174*$B$3*(1+$D$3),2),IF(Products!$Z$8=$C$4,ROUND(F174*$B$3*(1+$D$4),2),IF(Products!$Z$8=$C$5,ROUND(F174*$B$3*(1+$D$5),2),IF(Products!$Z$8=$C$6,ROUND(F174*$B$3*(1+$D$6),2),IF(Products!$Z$8=$C$7,ROUND(F174*$B$3*(1+$D$7),2))))))))","v":63.55},{"$f":"IF(Products!$Z$8=$C$1,I174,IF(Products!$Z$8=$C$2,J174,IF(Products!$Z$8=$C$3,K174,IF(Products!$Z$8=$C$4,L174,IF(Products!$Z$8=$C$5,O174,IF(Products!$Z$8=$C$6,M174,IF(Products!$Z$8=$C$7,N174)))))))","v":"AL1216300A-EN"},"AL1216300A-EN","AL1516300A-EN","AL1616300A-EN","AL3216300A-EN","AL3516300A-EN","AL3616300A-EN","AL5216300A-EN",null,"GravityZone Security for Endpoints Physical Workstations","GravityZone Security for Endpoints Physical Workstations - EDU","GravityZone Security for Endpoints Physical Workstations - GOV","GravityZone Security for Endpoints Physical Workstations - R","GravityZone Security for Endpoints Physical Workstations - EDU R","GravityZone Security for Endpoints Physical Workstations - GOV R","GravityZone Security for Endpoints Physical Workstations - CUPG"]
[{"$f":"IF(Products!$Z$8=$C$1,Q175,IF(Products!$Z$8=$C$2,R175,IF(Products!$Z$8=$C$3,S175,IF(Products!$Z$8=$C$4,T175,IF(Products!$Z$8=$C$5,W175,IF(Products!$Z$8=$C$6,U175,IF(Products!$Z$8=$C$7,V175)))))))","v":"GravityZone Security for Endpoints Physical Workstations"},"3 years","15 - 24","GravityZone Security for Endpoints Physical Workstations3 years15 - 24",null,55.759999999999991,{"$f":"IF(Products!$Z$8=$C$1,ROUND(F175*$B$3,2),IF(Products!$Z$8=$C$2,ROUND(F175*$B$3*(1+$D$2),2),IF(Products!$Z$8=$C$3,ROUND(F175*$B$3*(1+$D$3),2),IF(Products!$Z$8=$C$4,ROUND(F175*$B$3*(1+$D$4),2),IF(Products!$Z$8=$C$5,ROUND(F175*$B$3*(1+$D$5),2),IF(Products!$Z$8=$C$6,ROUND(F175*$B$3*(1+$D$6),2),IF(Products!$Z$8=$C$7,ROUND(F175*$B$3*(1+$D$7),2))))))))","v":55.76},{"$f":"IF(Products!$Z$8=$C$1,I175,IF(Products!$Z$8=$C$2,J175,IF(Products!$Z$8=$C$3,K175,IF(Products!$Z$8=$C$4,L175,IF(Products!$Z$8=$C$5,O175,IF(Products!$Z$8=$C$6,M175,IF(Products!$Z$8=$C$7,N175)))))))","v":"AL1216300B-EN"},"AL1216300B-EN","AL1516300B-EN","AL1616300B-EN","AL3216300B-EN","AL3516300B-EN","AL3616300B-EN","AL5216300B-EN",null,"GravityZone Security for Endpoints Physical Workstations","GravityZone Security for Endpoints Physical Workstations - EDU","GravityZone Security for Endpoints Physical Workstations - GOV","GravityZone Security for Endpoints Physical Workstations - R","GravityZone Security for Endpoints Physical Workstations - EDU R","GravityZone Security for Endpoints Physical Workstations - GOV R","GravityZone Security for Endpoints Physical Workstations - CUPG"]
[{"$f":"IF(Products!$Z$8=$C$1,Q176,IF(Products!$Z$8=$C$2,R176,IF(Products!$Z$8=$C$3,S176,IF(Products!$Z$8=$C$4,T176,IF(Products!$Z$8=$C$5,W176,IF(Products!$Z$8=$C$6,U176,IF(Products!$Z$8=$C$7,V176)))))))","v":"GravityZone Security for Endpoints Physical Workstations"},"3 years","25 - 49","GravityZone Security for Endpoints Physical Workstations3 years25 - 49",null,51.249999999999993,{"$f":"IF(Products!$Z$8=$C$1,ROUND(F176*$B$3,2),IF(Products!$Z$8=$C$2,ROUND(F176*$B$3*(1+$D$2),2),IF(Products!$Z$8=$C$3,ROUND(F176*$B$3*(1+$D$3),2),IF(Products!$Z$8=$C$4,ROUND(F176*$B$3*(1+$D$4),2),IF(Products!$Z$8=$C$5,ROUND(F176*$B$3*(1+$D$5),2),IF(Products!$Z$8=$C$6,ROUND(F176*$B$3*(1+$D$6),2),IF(Products!$Z$8=$C$7,ROUND(F176*$B$3*(1+$D$7),2))))))))","v":51.25},{"$f":"IF(Products!$Z$8=$C$1,I176,IF(Products!$Z$8=$C$2,J176,IF(Products!$Z$8=$C$3,K176,IF(Products!$Z$8=$C$4,L176,IF(Products!$Z$8=$C$5,O176,IF(Products!$Z$8=$C$6,M176,IF(Products!$Z$8=$C$7,N176)))))))","v":"AL1216300C-EN"},"AL1216300C-EN","AL1516300C-EN","AL1616300C-EN","AL3216300C-EN","AL3516300C-EN","AL3616300C-EN","AL5216300C-EN",null,"GravityZone Security for Endpoints Physical Workstations","GravityZone Security for Endpoints Physical Workstations - EDU","GravityZone Security for Endpoints Physical Workstations - GOV","GravityZone Security for Endpoints Physical Workstations - R","GravityZone Security for Endpoints Physical Workstations - EDU R","GravityZone Security for Endpoints Physical Workstations - GOV R","GravityZone Security for Endpoints Physical Workstations - CUPG"]
[{"$f":"IF(Products!$Z$8=$C$1,Q177,IF(Products!$Z$8=$C$2,R177,IF(Products!$Z$8=$C$3,S177,IF(Products!$Z$8=$C$4,T177,IF(Products!$Z$8=$C$5,W177,IF(Products!$Z$8=$C$6,U177,IF(Products!$Z$8=$C$7,V177)))))))","v":"GravityZone Security for Endpoints Physical Workstations"},"3 years","50 - 99","GravityZone Security for Endpoints Physical Workstations3 years50 - 99",null,46.124999999999993,{"$f":"IF(Products!$Z$8=$C$1,ROUND(F177*$B$3,2),IF(Products!$Z$8=$C$2,ROUND(F177*$B$3*(1+$D$2),2),IF(Products!$Z$8=$C$3,ROUND(F177*$B$3*(1+$D$3),2),IF(Products!$Z$8=$C$4,ROUND(F177*$B$3*(1+$D$4),2),IF(Products!$Z$8=$C$5,ROUND(F177*$B$3*(1+$D$5),2),IF(Products!$Z$8=$C$6,ROUND(F177*$B$3*(1+$D$6),2),IF(Products!$Z$8=$C$7,ROUND(F177*$B$3*(1+$D$7),2))))))))","v":46.13},{"$f":"IF(Products!$Z$8=$C$1,I177,IF(Products!$Z$8=$C$2,J177,IF(Products!$Z$8=$C$3,K177,IF(Products!$Z$8=$C$4,L177,IF(Products!$Z$8=$C$5,O177,IF(Products!$Z$8=$C$6,M177,IF(Products!$Z$8=$C$7,N177)))))))","v":"AL1216300D-EN"},"AL1216300D-EN","AL1516300D-EN","AL1616300D-EN","AL3216300D-EN","AL3516300D-EN","AL3616300D-EN","AL5216300D-EN",null,"GravityZone Security for Endpoints Physical Workstations","GravityZone Security for Endpoints Physical Workstations - EDU","GravityZone Security for Endpoints Physical Workstations - GOV","GravityZone Security for Endpoints Physical Workstations - R","GravityZone Security for Endpoints Physical Workstations - EDU R","GravityZone Security for Endpoints Physical Workstations - GOV R","GravityZone Security for Endpoints Physical Workstations - CUPG"]
[{"$f":"IF(Products!$Z$8=$C$1,Q178,IF(Products!$Z$8=$C$2,R178,IF(Products!$Z$8=$C$3,S178,IF(Products!$Z$8=$C$4,T178,IF(Products!$Z$8=$C$5,W178,IF(Products!$Z$8=$C$6,U178,IF(Products!$Z$8=$C$7,V178)))))))","v":"GravityZone Security for Endpoints Physical Workstations"},"3 years","100 - 149","GravityZone Security for Endpoints Physical Workstations3 years100 - 149",null,41.512499999999996,{"$f":"IF(Products!$Z$8=$C$1,ROUND(F178*$B$3,2),IF(Products!$Z$8=$C$2,ROUND(F178*$B$3*(1+$D$2),2),IF(Products!$Z$8=$C$3,ROUND(F178*$B$3*(1+$D$3),2),IF(Products!$Z$8=$C$4,ROUND(F178*$B$3*(1+$D$4),2),IF(Products!$Z$8=$C$5,ROUND(F178*$B$3*(1+$D$5),2),IF(Products!$Z$8=$C$6,ROUND(F178*$B$3*(1+$D$6),2),IF(Products!$Z$8=$C$7,ROUND(F178*$B$3*(1+$D$7),2))))))))","v":41.51},{"$f":"IF(Products!$Z$8=$C$1,I178,IF(Products!$Z$8=$C$2,J178,IF(Products!$Z$8=$C$3,K178,IF(Products!$Z$8=$C$4,L178,IF(Products!$Z$8=$C$5,O178,IF(Products!$Z$8=$C$6,M178,IF(Products!$Z$8=$C$7,N178)))))))","v":"AL1216300E-EN"},"AL1216300E-EN","AL1516300E-EN","AL1616300E-EN","AL3216300E-EN","AL3516300E-EN","AL3616300E-EN","AL5216300E-EN",null,"GravityZone Security for Endpoints Physical Workstations","GravityZone Security for Endpoints Physical Workstations - EDU","GravityZone Security for Endpoints Physical Workstations - GOV","GravityZone Security for Endpoints Physical Workstations - R","GravityZone Security for Endpoints Physical Workstations - EDU R","GravityZone Security for Endpoints Physical Workstations - GOV R","GravityZone Security for Endpoints Physical Workstations - CUPG"]
[{"$f":"IF(Products!$Z$8=$C$1,Q179,IF(Products!$Z$8=$C$2,R179,IF(Products!$Z$8=$C$3,S179,IF(Products!$Z$8=$C$4,T179,IF(Products!$Z$8=$C$5,W179,IF(Products!$Z$8=$C$6,U179,IF(Products!$Z$8=$C$7,V179)))))))","v":"GravityZone Security for Endpoints Physical Workstations"},"3 years","150 - 249","GravityZone Security for Endpoints Physical Workstations3 years150 - 249",null,37.412499999999994,{"$f":"IF(Products!$Z$8=$C$1,ROUND(F179*$B$3,2),IF(Products!$Z$8=$C$2,ROUND(F179*$B$3*(1+$D$2),2),IF(Products!$Z$8=$C$3,ROUND(F179*$B$3*(1+$D$3),2),IF(Products!$Z$8=$C$4,ROUND(F179*$B$3*(1+$D$4),2),IF(Products!$Z$8=$C$5,ROUND(F179*$B$3*(1+$D$5),2),IF(Products!$Z$8=$C$6,ROUND(F179*$B$3*(1+$D$6),2),IF(Products!$Z$8=$C$7,ROUND(F179*$B$3*(1+$D$7),2))))))))","v":37.409999999999997},{"$f":"IF(Products!$Z$8=$C$1,I179,IF(Products!$Z$8=$C$2,J179,IF(Products!$Z$8=$C$3,K179,IF(Products!$Z$8=$C$4,L179,IF(Products!$Z$8=$C$5,O179,IF(Products!$Z$8=$C$6,M179,IF(Products!$Z$8=$C$7,N179)))))))","v":"AL1216300F-EN"},"AL1216300F-EN","AL1516300F-EN","AL1616300F-EN","AL3216300F-EN","AL3516300F-EN","AL3616300F-EN","AL5216300F-EN",null,"GravityZone Security for Endpoints Physical Workstations","GravityZone Security for Endpoints Physical Workstations - EDU","GravityZone Security for Endpoints Physical Workstations - GOV","GravityZone Security for Endpoints Physical Workstations - R","GravityZone Security for Endpoints Physical Workstations - EDU R","GravityZone Security for Endpoints Physical Workstations - GOV R","GravityZone Security for Endpoints Physical Workstations - CUPG"]
[{"$f":"IF(Products!$Z$8=$C$1,Q180,IF(Products!$Z$8=$C$2,R180,IF(Products!$Z$8=$C$3,S180,IF(Products!$Z$8=$C$4,T180,IF(Products!$Z$8=$C$5,W180,IF(Products!$Z$8=$C$6,U180,IF(Products!$Z$8=$C$7,V180)))))))","v":"GravityZone Security for Endpoints Physical Workstations"},"3 years","250 - 499","GravityZone Security for Endpoints Physical Workstations3 years250 - 499",null,33.824999999999996,{"$f":"IF(Products!$Z$8=$C$1,ROUND(F180*$B$3,2),IF(Products!$Z$8=$C$2,ROUND(F180*$B$3*(1+$D$2),2),IF(Products!$Z$8=$C$3,ROUND(F180*$B$3*(1+$D$3),2),IF(Products!$Z$8=$C$4,ROUND(F180*$B$3*(1+$D$4),2),IF(Products!$Z$8=$C$5,ROUND(F180*$B$3*(1+$D$5),2),IF(Products!$Z$8=$C$6,ROUND(F180*$B$3*(1+$D$6),2),IF(Products!$Z$8=$C$7,ROUND(F180*$B$3*(1+$D$7),2))))))))","v":33.83},{"$f":"IF(Products!$Z$8=$C$1,I180,IF(Products!$Z$8=$C$2,J180,IF(Products!$Z$8=$C$3,K180,IF(Products!$Z$8=$C$4,L180,IF(Products!$Z$8=$C$5,O180,IF(Products!$Z$8=$C$6,M180,IF(Products!$Z$8=$C$7,N180)))))))","v":"AL1216300G-EN"},"AL1216300G-EN","AL1516300G-EN","AL1616300G-EN","AL3216300G-EN","AL3516300G-EN","AL3616300G-EN","AL5216300G-EN",null,"GravityZone Security for Endpoints Physical Workstations","GravityZone Security for Endpoints Physical Workstations - EDU","GravityZone Security for Endpoints Physical Workstations - GOV","GravityZone Security for Endpoints Physical Workstations - R","GravityZone Security for Endpoints Physical Workstations - EDU R","GravityZone Security for Endpoints Physical Workstations - GOV R","GravityZone Security for Endpoints Physical Workstations - CUPG"]
[{"$f":"IF(Products!$Z$8=$C$1,Q181,IF(Products!$Z$8=$C$2,R181,IF(Products!$Z$8=$C$3,S181,IF(Products!$Z$8=$C$4,T181,IF(Products!$Z$8=$C$5,W181,IF(Products!$Z$8=$C$6,U181,IF(Products!$Z$8=$C$7,V181)))))))","v":"GravityZone Security for Endpoints Physical Workstations"},"3 years","500 - 999","GravityZone Security for Endpoints Physical Workstations3 years500 - 999",null,30.442499999999995,{"$f":"IF(Products!$Z$8=$C$1,ROUND(F181*$B$3,2),IF(Products!$Z$8=$C$2,ROUND(F181*$B$3*(1+$D$2),2),IF(Products!$Z$8=$C$3,ROUND(F181*$B$3*(1+$D$3),2),IF(Products!$Z$8=$C$4,ROUND(F181*$B$3*(1+$D$4),2),IF(Products!$Z$8=$C$5,ROUND(F181*$B$3*(1+$D$5),2),IF(Products!$Z$8=$C$6,ROUND(F181*$B$3*(1+$D$6),2),IF(Products!$Z$8=$C$7,ROUND(F181*$B$3*(1+$D$7),2))))))))","v":30.44},{"$f":"IF(Products!$Z$8=$C$1,I181,IF(Products!$Z$8=$C$2,J181,IF(Products!$Z$8=$C$3,K181,IF(Products!$Z$8=$C$4,L181,IF(Products!$Z$8=$C$5,O181,IF(Products!$Z$8=$C$6,M181,IF(Products!$Z$8=$C$7,N181)))))))","v":"AL1216300H-EN"},"AL1216300H-EN","AL1516300H-EN","AL1616300H-EN","AL3216300H-EN","AL3516300H-EN","AL3616300H-EN","AL5216300H-EN",null,"GravityZone Security for Endpoints Physical Workstations","GravityZone Security for Endpoints Physical Workstations - EDU","GravityZone Security for Endpoints Physical Workstations - GOV","GravityZone Security for Endpoints Physical Workstations - R","GravityZone Security for Endpoints Physical Workstations - EDU R","GravityZone Security for Endpoints Physical Workstations - GOV R","GravityZone Security for Endpoints Physical Workstations - CUPG"]
[{"$f":"IF(Products!$Z$8=$C$1,Q182,IF(Products!$Z$8=$C$2,R182,IF(Products!$Z$8=$C$3,S182,IF(Products!$Z$8=$C$4,T182,IF(Products!$Z$8=$C$5,W182,IF(Products!$Z$8=$C$6,U182,IF(Products!$Z$8=$C$7,V182)))))))","v":"GravityZone Security for Endpoints Physical Workstations"},"3 years","1000 - 2999","GravityZone Security for Endpoints Physical Workstations3 years1000 - 2999",null,27.367499999999996,{"$f":"IF(Products!$Z$8=$C$1,ROUND(F182*$B$3,2),IF(Products!$Z$8=$C$2,ROUND(F182*$B$3*(1+$D$2),2),IF(Products!$Z$8=$C$3,ROUND(F182*$B$3*(1+$D$3),2),IF(Products!$Z$8=$C$4,ROUND(F182*$B$3*(1+$D$4),2),IF(Products!$Z$8=$C$5,ROUND(F182*$B$3*(1+$D$5),2),IF(Products!$Z$8=$C$6,ROUND(F182*$B$3*(1+$D$6),2),IF(Products!$Z$8=$C$7,ROUND(F182*$B$3*(1+$D$7),2))))))))","v":27.37},{"$f":"IF(Products!$Z$8=$C$1,I182,IF(Products!$Z$8=$C$2,J182,IF(Products!$Z$8=$C$3,K182,IF(Products!$Z$8=$C$4,L182,IF(Products!$Z$8=$C$5,O182,IF(Products!$Z$8=$C$6,M182,IF(Products!$Z$8=$C$7,N182)))))))","v":"AL1216300I-EN"},"AL1216300I-EN","AL1516300I-EN","AL1616300I-EN","AL3216300I-EN","AL3516300I-EN","AL3616300I-EN","AL5216300I-EN",null,"GravityZone Security for Endpoints Physical Workstations","GravityZone Security for Endpoints Physical Workstations - EDU","GravityZone Security for Endpoints Physical Workstations - GOV","GravityZone Security for Endpoints Physical Workstations - R","GravityZone Security for Endpoints Physical Workstations - EDU R","GravityZone Security for Endpoints Physical Workstations - GOV R","GravityZone Security for Endpoints Physical Workstations - CUPG"]
[{"$f":"IF(Products!$Z$8=$C$1,Q183,IF(Products!$Z$8=$C$2,R183,IF(Products!$Z$8=$C$3,S183,IF(Products!$Z$8=$C$4,T183,IF(Products!$Z$8=$C$5,W183,IF(Products!$Z$8=$C$6,U183,IF(Products!$Z$8=$C$7,V183)))))))","v":"GravityZone Security for Endpoints Physical Workstations"},"3 years","3000+","GravityZone Security for Endpoints Physical Workstations3 years3000+",null,24.599999999999998,{"$f":"IF(Products!$Z$8=$C$1,ROUND(F183*$B$3,2),IF(Products!$Z$8=$C$2,ROUND(F183*$B$3*(1+$D$2),2),IF(Products!$Z$8=$C$3,ROUND(F183*$B$3*(1+$D$3),2),IF(Products!$Z$8=$C$4,ROUND(F183*$B$3*(1+$D$4),2),IF(Products!$Z$8=$C$5,ROUND(F183*$B$3*(1+$D$5),2),IF(Products!$Z$8=$C$6,ROUND(F183*$B$3*(1+$D$6),2),IF(Products!$Z$8=$C$7,ROUND(F183*$B$3*(1+$D$7),2))))))))","v":24.6},{"$f":"IF(Products!$Z$8=$C$1,I183,IF(Products!$Z$8=$C$2,J183,IF(Products!$Z$8=$C$3,K183,IF(Products!$Z$8=$C$4,L183,IF(Products!$Z$8=$C$5,O183,IF(Products!$Z$8=$C$6,M183,IF(Products!$Z$8=$C$7,N183)))))))","v":"AL1216300J-EN"},"AL1216300J-EN","AL1516300J-EN","AL1616300J-EN","AL3216300J-EN","AL3516300J-EN","AL3616300J-EN","AL5216300J-EN",null,"GravityZone Security for Endpoints Physical Workstations","GravityZone Security for Endpoints Physical Workstations - EDU","GravityZone Security for Endpoints Physical Workstations - GOV","GravityZone Security for Endpoints Physical Workstations - R","GravityZone Security for Endpoints Physical Workstations - EDU R","GravityZone Security for Endpoints Physical Workstations - GOV R","GravityZone Security for Endpoints Physical Workstations - CUPG"]
[{"$f":"IF(Products!$Z$8=$C$1,Q184,IF(Products!$Z$8=$C$2,R184,IF(Products!$Z$8=$C$3,S184,IF(Products!$Z$8=$C$4,T184,IF(Products!$Z$8=$C$5,W184,IF(Products!$Z$8=$C$6,U184,IF(Products!$Z$8=$C$7,V184)))))))","v":"GravityZone Security for Endpoints Physical Servers"},"1 year","1 - 14","GravityZone Security for Endpoints Physical Servers1 year1 - 14",null,70,{"$f":"IF(Products!$Z$8=$C$1,ROUND(F184*$B$3,2),IF(Products!$Z$8=$C$2,ROUND(F184*$B$3*(1+$D$2),2),IF(Products!$Z$8=$C$3,ROUND(F184*$B$3*(1+$D$3),2),IF(Products!$Z$8=$C$4,ROUND(F184*$B$3*(1+$D$4),2),IF(Products!$Z$8=$C$5,ROUND(F184*$B$3*(1+$D$5),2),IF(Products!$Z$8=$C$6,ROUND(F184*$B$3*(1+$D$6),2),IF(Products!$Z$8=$C$7,ROUND(F184*$B$3*(1+$D$7),2))))))))","v":70},{"$f":"IF(Products!$Z$8=$C$1,I184,IF(Products!$Z$8=$C$2,J184,IF(Products!$Z$8=$C$3,K184,IF(Products!$Z$8=$C$4,L184,IF(Products!$Z$8=$C$5,O184,IF(Products!$Z$8=$C$6,M184,IF(Products!$Z$8=$C$7,N184)))))))","v":"AL1227100A-EN"},"AL1227100A-EN","AL1527100A-EN","AL1627100A-EN","AL3227100A-EN","AL3527100A-EN","AL3627100A-EN","AL5227100A-EN",null,"GravityZone Security for Endpoints Physical Servers","GravityZone Security for Endpoints Physical Servers - EDU","GravityZone Security for Endpoints Physical Servers - GOV","GravityZone Security for Endpoints Physical Servers - R","GravityZone Security for Endpoints Physical Servers - EDU R","GravityZone Security for Endpoints Physical Servers - GOV R","GravityZone Security for Endpoints Physical Servers - CUPG"]
[{"$f":"IF(Products!$Z$8=$C$1,Q185,IF(Products!$Z$8=$C$2,R185,IF(Products!$Z$8=$C$3,S185,IF(Products!$Z$8=$C$4,T185,IF(Products!$Z$8=$C$5,W185,IF(Products!$Z$8=$C$6,U185,IF(Products!$Z$8=$C$7,V185)))))))","v":"GravityZone Security for Endpoints Physical Servers"},"1 year","15 - 24","GravityZone Security for Endpoints Physical Servers1 year15 - 24",null,63,{"$f":"IF(Products!$Z$8=$C$1,ROUND(F185*$B$3,2),IF(Products!$Z$8=$C$2,ROUND(F185*$B$3*(1+$D$2),2),IF(Products!$Z$8=$C$3,ROUND(F185*$B$3*(1+$D$3),2),IF(Products!$Z$8=$C$4,ROUND(F185*$B$3*(1+$D$4),2),IF(Products!$Z$8=$C$5,ROUND(F185*$B$3*(1+$D$5),2),IF(Products!$Z$8=$C$6,ROUND(F185*$B$3*(1+$D$6),2),IF(Products!$Z$8=$C$7,ROUND(F185*$B$3*(1+$D$7),2))))))))","v":63},{"$f":"IF(Products!$Z$8=$C$1,I185,IF(Products!$Z$8=$C$2,J185,IF(Products!$Z$8=$C$3,K185,IF(Products!$Z$8=$C$4,L185,IF(Products!$Z$8=$C$5,O185,IF(Products!$Z$8=$C$6,M185,IF(Products!$Z$8=$C$7,N185)))))))","v":"AL1227100B-EN"},"AL1227100B-EN","AL1527100B-EN","AL1627100B-EN","AL3227100B-EN","AL3527100B-EN","AL3627100B-EN","AL5227100B-EN",null,"GravityZone Security for Endpoints Physical Servers","GravityZone Security for Endpoints Physical Servers - EDU","GravityZone Security for Endpoints Physical Servers - GOV","GravityZone Security for Endpoints Physical Servers - R","GravityZone Security for Endpoints Physical Servers - EDU R","GravityZone Security for Endpoints Physical Servers - GOV R","GravityZone Security for Endpoints Physical Servers - CUPG"]
[{"$f":"IF(Products!$Z$8=$C$1,Q186,IF(Products!$Z$8=$C$2,R186,IF(Products!$Z$8=$C$3,S186,IF(Products!$Z$8=$C$4,T186,IF(Products!$Z$8=$C$5,W186,IF(Products!$Z$8=$C$6,U186,IF(Products!$Z$8=$C$7,V186)))))))","v":"GravityZone Security for Endpoints Physical Servers"},"1 year","25 - 49","GravityZone Security for Endpoints Physical Servers1 year25 - 49",null,56.7,{"$f":"IF(Products!$Z$8=$C$1,ROUND(F186*$B$3,2),IF(Products!$Z$8=$C$2,ROUND(F186*$B$3*(1+$D$2),2),IF(Products!$Z$8=$C$3,ROUND(F186*$B$3*(1+$D$3),2),IF(Products!$Z$8=$C$4,ROUND(F186*$B$3*(1+$D$4),2),IF(Products!$Z$8=$C$5,ROUND(F186*$B$3*(1+$D$5),2),IF(Products!$Z$8=$C$6,ROUND(F186*$B$3*(1+$D$6),2),IF(Products!$Z$8=$C$7,ROUND(F186*$B$3*(1+$D$7),2))))))))","v":56.7},{"$f":"IF(Products!$Z$8=$C$1,I186,IF(Products!$Z$8=$C$2,J186,IF(Products!$Z$8=$C$3,K186,IF(Products!$Z$8=$C$4,L186,IF(Products!$Z$8=$C$5,O186,IF(Products!$Z$8=$C$6,M186,IF(Products!$Z$8=$C$7,N186)))))))","v":"AL1227100C-EN"},"AL1227100C-EN","AL1527100C-EN","AL1627100C-EN","AL3227100C-EN","AL3527100C-EN","AL3627100C-EN","AL5227100C-EN",null,"GravityZone Security for Endpoints Physical Servers","GravityZone Security for Endpoints Physical Servers - EDU","GravityZone Security for Endpoints Physical Servers - GOV","GravityZone Security for Endpoints Physical Servers - R","GravityZone Security for Endpoints Physical Servers - EDU R","GravityZone Security for Endpoints Physical Servers - GOV R","GravityZone Security for Endpoints Physical Servers - CUPG"]
[{"$f":"IF(Products!$Z$8=$C$1,Q187,IF(Products!$Z$8=$C$2,R187,IF(Products!$Z$8=$C$3,S187,IF(Products!$Z$8=$C$4,T187,IF(Products!$Z$8=$C$5,W187,IF(Products!$Z$8=$C$6,U187,IF(Products!$Z$8=$C$7,V187)))))))","v":"GravityZone Security for Endpoints Physical Servers"},"1 year","50 - 99","GravityZone Security for Endpoints Physical Servers1 year50 - 99",null,51.034666666666666,{"$f":"IF(Products!$Z$8=$C$1,ROUND(F187*$B$3,2),IF(Products!$Z$8=$C$2,ROUND(F187*$B$3*(1+$D$2),2),IF(Products!$Z$8=$C$3,ROUND(F187*$B$3*(1+$D$3),2),IF(Products!$Z$8=$C$4,ROUND(F187*$B$3*(1+$D$4),2),IF(Products!$Z$8=$C$5,ROUND(F187*$B$3*(1+$D$5),2),IF(Products!$Z$8=$C$6,ROUND(F187*$B$3*(1+$D$6),2),IF(Products!$Z$8=$C$7,ROUND(F187*$B$3*(1+$D$7),2))))))))","v":51.03},{"$f":"IF(Products!$Z$8=$C$1,I187,IF(Products!$Z$8=$C$2,J187,IF(Products!$Z$8=$C$3,K187,IF(Products!$Z$8=$C$4,L187,IF(Products!$Z$8=$C$5,O187,IF(Products!$Z$8=$C$6,M187,IF(Products!$Z$8=$C$7,N187)))))))","v":"AL1227100D-EN"},"AL1227100D-EN","AL1527100D-EN","AL1627100D-EN","AL3227100D-EN","AL3527100D-EN","AL3627100D-EN","AL5227100D-EN",null,"GravityZone Security for Endpoints Physical Servers","GravityZone Security for Endpoints Physical Servers - EDU","GravityZone Security for Endpoints Physical Servers - GOV","GravityZone Security for Endpoints Physical Servers - R","GravityZone Security for Endpoints Physical Servers - EDU R","GravityZone Security for Endpoints Physical Servers - GOV R","GravityZone Security for Endpoints Physical Servers - CUPG"]
[{"$f":"IF(Products!$Z$8=$C$1,Q188,IF(Products!$Z$8=$C$2,R188,IF(Products!$Z$8=$C$3,S188,IF(Products!$Z$8=$C$4,T188,IF(Products!$Z$8=$C$5,W188,IF(Products!$Z$8=$C$6,U188,IF(Products!$Z$8=$C$7,V188)))))))","v":"GravityZone Security for Endpoints Physical Servers"},"1 year","100 - 149","GravityZone Security for Endpoints Physical Servers1 year100 - 149",null,48.486666666666672,{"$f":"IF(Products!$Z$8=$C$1,ROUND(F188*$B$3,2),IF(Products!$Z$8=$C$2,ROUND(F188*$B$3*(1+$D$2),2),IF(Products!$Z$8=$C$3,ROUND(F188*$B$3*(1+$D$3),2),IF(Products!$Z$8=$C$4,ROUND(F188*$B$3*(1+$D$4),2),IF(Products!$Z$8=$C$5,ROUND(F188*$B$3*(1+$D$5),2),IF(Products!$Z$8=$C$6,ROUND(F188*$B$3*(1+$D$6),2),IF(Products!$Z$8=$C$7,ROUND(F188*$B$3*(1+$D$7),2))))))))","v":48.49},{"$f":"IF(Products!$Z$8=$C$1,I188,IF(Products!$Z$8=$C$2,J188,IF(Products!$Z$8=$C$3,K188,IF(Products!$Z$8=$C$4,L188,IF(Products!$Z$8=$C$5,O188,IF(Products!$Z$8=$C$6,M188,IF(Products!$Z$8=$C$7,N188)))))))","v":"AL1227100E-EN"},"AL1227100E-EN","AL1527100E-EN","AL1627100E-EN","AL3227100E-EN","AL3527100E-EN","AL3627100E-EN","AL5227100E-EN",null,"GravityZone Security for Endpoints Physical Servers","GravityZone Security for Endpoints Physical Servers - EDU","GravityZone Security for Endpoints Physical Servers - GOV","GravityZone Security for Endpoints Physical Servers - R","GravityZone Security for Endpoints Physical Servers - EDU R","GravityZone Security for Endpoints Physical Servers - GOV R","GravityZone Security for Endpoints Physical Servers - CUPG"]
[{"$f":"IF(Products!$Z$8=$C$1,Q189,IF(Products!$Z$8=$C$2,R189,IF(Products!$Z$8=$C$3,S189,IF(Products!$Z$8=$C$4,T189,IF(Products!$Z$8=$C$5,W189,IF(Products!$Z$8=$C$6,U189,IF(Products!$Z$8=$C$7,V189)))))))","v":"GravityZone Security for Endpoints Physical Servers"},"1 year","150 - 249","GravityZone Security for Endpoints Physical Servers1 year150 - 249",null,46.06,{"$f":"IF(Products!$Z$8=$C$1,ROUND(F189*$B$3,2),IF(Products!$Z$8=$C$2,ROUND(F189*$B$3*(1+$D$2),2),IF(Products!$Z$8=$C$3,ROUND(F189*$B$3*(1+$D$3),2),IF(Products!$Z$8=$C$4,ROUND(F189*$B$3*(1+$D$4),2),IF(Products!$Z$8=$C$5,ROUND(F189*$B$3*(1+$D$5),2),IF(Products!$Z$8=$C$6,ROUND(F189*$B$3*(1+$D$6),2),IF(Products!$Z$8=$C$7,ROUND(F189*$B$3*(1+$D$7),2))))))))","v":46.06},{"$f":"IF(Products!$Z$8=$C$1,I189,IF(Products!$Z$8=$C$2,J189,IF(Products!$Z$8=$C$3,K189,IF(Products!$Z$8=$C$4,L189,IF(Products!$Z$8=$C$5,O189,IF(Products!$Z$8=$C$6,M189,IF(Products!$Z$8=$C$7,N189)))))))","v":"AL1227100F-EN"},"AL1227100F-EN","AL1527100F-EN","AL1627100F-EN","AL3227100F-EN","AL3527100F-EN","AL3627100F-EN","AL5227100F-EN",null,"GravityZone Security for Endpoints Physical Servers","GravityZone Security for Endpoints Physical Servers - EDU","GravityZone Security for Endpoints Physical Servers - GOV","GravityZone Security for Endpoints Physical Servers - R","GravityZone Security for Endpoints Physical Servers - EDU R","GravityZone Security for Endpoints Physical Servers - GOV R","GravityZone Security for Endpoints Physical Servers - CUPG"]
[{"$f":"IF(Products!$Z$8=$C$1,Q190,IF(Products!$Z$8=$C$2,R190,IF(Products!$Z$8=$C$3,S190,IF(Products!$Z$8=$C$4,T190,IF(Products!$Z$8=$C$5,W190,IF(Products!$Z$8=$C$6,U190,IF(Products!$Z$8=$C$7,V190)))))))","v":"GravityZone Security for Endpoints Physical Servers"},"1 year","250 - 499","GravityZone Security for Endpoints Physical Servers1 year250 - 499",null,43.754666666666672,{"$f":"IF(Products!$Z$8=$C$1,ROUND(F190*$B$3,2),IF(Products!$Z$8=$C$2,ROUND(F190*$B$3*(1+$D$2),2),IF(Products!$Z$8=$C$3,ROUND(F190*$B$3*(1+$D$3),2),IF(Products!$Z$8=$C$4,ROUND(F190*$B$3*(1+$D$4),2),IF(Products!$Z$8=$C$5,ROUND(F190*$B$3*(1+$D$5),2),IF(Products!$Z$8=$C$6,ROUND(F190*$B$3*(1+$D$6),2),IF(Products!$Z$8=$C$7,ROUND(F190*$B$3*(1+$D$7),2))))))))","v":43.75},{"$f":"IF(Products!$Z$8=$C$1,I190,IF(Products!$Z$8=$C$2,J190,IF(Products!$Z$8=$C$3,K190,IF(Products!$Z$8=$C$4,L190,IF(Products!$Z$8=$C$5,O190,IF(Products!$Z$8=$C$6,M190,IF(Products!$Z$8=$C$7,N190)))))))","v":"AL1227100G-EN"},"AL1227100G-EN","AL1527100G-EN","AL1627100G-EN","AL3227100G-EN","AL3527100G-EN","AL3627100G-EN","AL5227100G-EN",null,"GravityZone Security for Endpoints Physical Servers","GravityZone Security for Endpoints Physical Servers - EDU","GravityZone Security for Endpoints Physical Servers - GOV","GravityZone Security for Endpoints Physical Servers - R","GravityZone Security for Endpoints Physical Servers - EDU R","GravityZone Security for Endpoints Physical Servers - GOV R","GravityZone Security for Endpoints Physical Servers - CUPG"]
[{"$f":"IF(Products!$Z$8=$C$1,Q191,IF(Products!$Z$8=$C$2,R191,IF(Products!$Z$8=$C$3,S191,IF(Products!$Z$8=$C$4,T191,IF(Products!$Z$8=$C$5,W191,IF(Products!$Z$8=$C$6,U191,IF(Products!$Z$8=$C$7,V191)))))))","v":"GravityZone Security for Endpoints Physical Servers"},"1 year","500 - 999","GravityZone Security for Endpoints Physical Servers1 year500 - 999",null,41.570666666666668,{"$f":"IF(Products!$Z$8=$C$1,ROUND(F191*$B$3,2),IF(Products!$Z$8=$C$2,ROUND(F191*$B$3*(1+$D$2),2),IF(Products!$Z$8=$C$3,ROUND(F191*$B$3*(1+$D$3),2),IF(Products!$Z$8=$C$4,ROUND(F191*$B$3*(1+$D$4),2),IF(Products!$Z$8=$C$5,ROUND(F191*$B$3*(1+$D$5),2),IF(Products!$Z$8=$C$6,ROUND(F191*$B$3*(1+$D$6),2),IF(Products!$Z$8=$C$7,ROUND(F191*$B$3*(1+$D$7),2))))))))","v":41.57},{"$f":"IF(Products!$Z$8=$C$1,I191,IF(Products!$Z$8=$C$2,J191,IF(Products!$Z$8=$C$3,K191,IF(Products!$Z$8=$C$4,L191,IF(Products!$Z$8=$C$5,O191,IF(Products!$Z$8=$C$6,M191,IF(Products!$Z$8=$C$7,N191)))))))","v":"AL1227100H-EN"},"AL1227100H-EN","AL1527100H-EN","AL1627100H-EN","AL3227100H-EN","AL3527100H-EN","AL3627100H-EN","AL5227100H-EN",null,"GravityZone Security for Endpoints Physical Servers","GravityZone Security for Endpoints Physical Servers - EDU","GravityZone Security for Endpoints Physical Servers - GOV","GravityZone Security for Endpoints Physical Servers - R","GravityZone Security for Endpoints Physical Servers - EDU R","GravityZone Security for Endpoints Physical Servers - GOV R","GravityZone Security for Endpoints Physical Servers - CUPG"]
[{"$f":"IF(Products!$Z$8=$C$1,Q192,IF(Products!$Z$8=$C$2,R192,IF(Products!$Z$8=$C$3,S192,IF(Products!$Z$8=$C$4,T192,IF(Products!$Z$8=$C$5,W192,IF(Products!$Z$8=$C$6,U192,IF(Products!$Z$8=$C$7,V192)))))))","v":"GravityZone Security for Endpoints Physical Servers"},"1 year","1000 - 2999","GravityZone Security for Endpoints Physical Servers1 year1000 - 2999",null,39.489333333333335,{"$f":"IF(Products!$Z$8=$C$1,ROUND(F192*$B$3,2),IF(Products!$Z$8=$C$2,ROUND(F192*$B$3*(1+$D$2),2),IF(Products!$Z$8=$C$3,ROUND(F192*$B$3*(1+$D$3),2),IF(Products!$Z$8=$C$4,ROUND(F192*$B$3*(1+$D$4),2),IF(Products!$Z$8=$C$5,ROUND(F192*$B$3*(1+$D$5),2),IF(Products!$Z$8=$C$6,ROUND(F192*$B$3*(1+$D$6),2),IF(Products!$Z$8=$C$7,ROUND(F192*$B$3*(1+$D$7),2))))))))","v":39.49},{"$f":"IF(Products!$Z$8=$C$1,I192,IF(Products!$Z$8=$C$2,J192,IF(Products!$Z$8=$C$3,K192,IF(Products!$Z$8=$C$4,L192,IF(Products!$Z$8=$C$5,O192,IF(Products!$Z$8=$C$6,M192,IF(Products!$Z$8=$C$7,N192)))))))","v":"AL1227100I-EN"},"AL1227100I-EN","AL1527100I-EN","AL1627100I-EN","AL3227100I-EN","AL3527100I-EN","AL3627100I-EN","AL5227100I-EN",null,"GravityZone Security for Endpoints Physical Servers",{"$f":"CONCATENATE(Q192,\" - EDU\")","v":"GravityZone Security for Endpoints Physical Servers - EDU"},{"$f":"CONCATENATE(Q192,\" - GOV\")","v":"GravityZone Security for Endpoints Physical Servers - GOV"},{"$f":"CONCATENATE(Q192,\" - R\")","v":"GravityZone Security for Endpoints Physical Servers - R"},{"$f":"CONCATENATE(Q192,\" - EDU R\")","v":"GravityZone Security for Endpoints Physical Servers - EDU R"},{"$f":"CONCATENATE(Q192,\" - GOV R\")","v":"GravityZone Security for Endpoints Physical Servers - GOV R"},{"$f":"CONCATENATE(Q192,\" - CUPG\")","v":"GravityZone Security for Endpoints Physical Servers - CUPG"}]
[{"$f":"IF(Products!$Z$8=$C$1,Q193,IF(Products!$Z$8=$C$2,R193,IF(Products!$Z$8=$C$3,S193,IF(Products!$Z$8=$C$4,T193,IF(Products!$Z$8=$C$5,W193,IF(Products!$Z$8=$C$6,U193,IF(Products!$Z$8=$C$7,V193)))))))","v":"GravityZone Security for Endpoints Physical Servers"},"1 year","3000+","GravityZone Security for Endpoints Physical Servers1 year3000+",null,37.510666666666665,{"$f":"IF(Products!$Z$8=$C$1,ROUND(F193*$B$3,2),IF(Products!$Z$8=$C$2,ROUND(F193*$B$3*(1+$D$2),2),IF(Products!$Z$8=$C$3,ROUND(F193*$B$3*(1+$D$3),2),IF(Products!$Z$8=$C$4,ROUND(F193*$B$3*(1+$D$4),2),IF(Products!$Z$8=$C$5,ROUND(F193*$B$3*(1+$D$5),2),IF(Products!$Z$8=$C$6,ROUND(F193*$B$3*(1+$D$6),2),IF(Products!$Z$8=$C$7,ROUND(F193*$B$3*(1+$D$7),2))))))))","v":37.51},{"$f":"IF(Products!$Z$8=$C$1,I193,IF(Products!$Z$8=$C$2,J193,IF(Products!$Z$8=$C$3,K193,IF(Products!$Z$8=$C$4,L193,IF(Products!$Z$8=$C$5,O193,IF(Products!$Z$8=$C$6,M193,IF(Products!$Z$8=$C$7,N193)))))))","v":"AL1227100J-EN"},"AL1227100J-EN","AL1527100J-EN","AL1627100J-EN","AL3227100J-EN","AL3527100J-EN","AL3627100J-EN","AL5227100J-EN",null,"GravityZone Security for Endpoints Physical Servers","GravityZone Security for Endpoints Physical Servers - EDU","GravityZone Security for Endpoints Physical Servers - GOV","GravityZone Security for Endpoints Physical Servers - R","GravityZone Security for Endpoints Physical Servers - EDU R","GravityZone Security for Endpoints Physical Servers - GOV R","GravityZone Security for Endpoints Physical Servers - CUPG"]
[{"$f":"IF(Products!$Z$8=$C$1,Q194,IF(Products!$Z$8=$C$2,R194,IF(Products!$Z$8=$C$3,S194,IF(Products!$Z$8=$C$4,T194,IF(Products!$Z$8=$C$5,W194,IF(Products!$Z$8=$C$6,U194,IF(Products!$Z$8=$C$7,V194)))))))","v":"GravityZone Security for Endpoints Physical Servers"},"2 years","1 - 14","GravityZone Security for Endpoints Physical Servers2 years1 - 14",null,112,{"$f":"IF(Products!$Z$8=$C$1,ROUND(F194*$B$3,2),IF(Products!$Z$8=$C$2,ROUND(F194*$B$3*(1+$D$2),2),IF(Products!$Z$8=$C$3,ROUND(F194*$B$3*(1+$D$3),2),IF(Products!$Z$8=$C$4,ROUND(F194*$B$3*(1+$D$4),2),IF(Products!$Z$8=$C$5,ROUND(F194*$B$3*(1+$D$5),2),IF(Products!$Z$8=$C$6,ROUND(F194*$B$3*(1+$D$6),2),IF(Products!$Z$8=$C$7,ROUND(F194*$B$3*(1+$D$7),2))))))))","v":112},{"$f":"IF(Products!$Z$8=$C$1,I194,IF(Products!$Z$8=$C$2,J194,IF(Products!$Z$8=$C$3,K194,IF(Products!$Z$8=$C$4,L194,IF(Products!$Z$8=$C$5,O194,IF(Products!$Z$8=$C$6,M194,IF(Products!$Z$8=$C$7,N194)))))))","v":"AL1227200A-EN"},"AL1227200A-EN","AL1527200A-EN","AL1627200A-EN","AL3227200A-EN","AL3527200A-EN","AL3627200A-EN","AL5227200A-EN",null,"GravityZone Security for Endpoints Physical Servers","GravityZone Security for Endpoints Physical Servers - EDU","GravityZone Security for Endpoints Physical Servers - GOV","GravityZone Security for Endpoints Physical Servers - R","GravityZone Security for Endpoints Physical Servers - EDU R","GravityZone Security for Endpoints Physical Servers - GOV R","GravityZone Security for Endpoints Physical Servers - CUPG"]
[{"$f":"IF(Products!$Z$8=$C$1,Q195,IF(Products!$Z$8=$C$2,R195,IF(Products!$Z$8=$C$3,S195,IF(Products!$Z$8=$C$4,T195,IF(Products!$Z$8=$C$5,W195,IF(Products!$Z$8=$C$6,U195,IF(Products!$Z$8=$C$7,V195)))))))","v":"GravityZone Security for Endpoints Physical Servers"},"2 years","15 - 24","GravityZone Security for Endpoints Physical Servers2 years15 - 24",null,100.8,{"$f":"IF(Products!$Z$8=$C$1,ROUND(F195*$B$3,2),IF(Products!$Z$8=$C$2,ROUND(F195*$B$3*(1+$D$2),2),IF(Products!$Z$8=$C$3,ROUND(F195*$B$3*(1+$D$3),2),IF(Products!$Z$8=$C$4,ROUND(F195*$B$3*(1+$D$4),2),IF(Products!$Z$8=$C$5,ROUND(F195*$B$3*(1+$D$5),2),IF(Products!$Z$8=$C$6,ROUND(F195*$B$3*(1+$D$6),2),IF(Products!$Z$8=$C$7,ROUND(F195*$B$3*(1+$D$7),2))))))))","v":100.8},{"$f":"IF(Products!$Z$8=$C$1,I195,IF(Products!$Z$8=$C$2,J195,IF(Products!$Z$8=$C$3,K195,IF(Products!$Z$8=$C$4,L195,IF(Products!$Z$8=$C$5,O195,IF(Products!$Z$8=$C$6,M195,IF(Products!$Z$8=$C$7,N195)))))))","v":"AL1227200B-EN"},"AL1227200B-EN","AL1527200B-EN","AL1627200B-EN","AL3227200B-EN","AL3527200B-EN","AL3627200B-EN","AL5227200B-EN",null,"GravityZone Security for Endpoints Physical Servers","GravityZone Security for Endpoints Physical Servers - EDU","GravityZone Security for Endpoints Physical Servers - GOV","GravityZone Security for Endpoints Physical Servers - R","GravityZone Security for Endpoints Physical Servers - EDU R","GravityZone Security for Endpoints Physical Servers - GOV R","GravityZone Security for Endpoints Physical Servers - CUPG"]
[{"$f":"IF(Products!$Z$8=$C$1,Q196,IF(Products!$Z$8=$C$2,R196,IF(Products!$Z$8=$C$3,S196,IF(Products!$Z$8=$C$4,T196,IF(Products!$Z$8=$C$5,W196,IF(Products!$Z$8=$C$6,U196,IF(Products!$Z$8=$C$7,V196)))))))","v":"GravityZone Security for Endpoints Physical Servers"},"2 years","25 - 49","GravityZone Security for Endpoints Physical Servers2 years25 - 49",null,90.72,{"$f":"IF(Products!$Z$8=$C$1,ROUND(F196*$B$3,2),IF(Products!$Z$8=$C$2,ROUND(F196*$B$3*(1+$D$2),2),IF(Products!$Z$8=$C$3,ROUND(F196*$B$3*(1+$D$3),2),IF(Products!$Z$8=$C$4,ROUND(F196*$B$3*(1+$D$4),2),IF(Products!$Z$8=$C$5,ROUND(F196*$B$3*(1+$D$5),2),IF(Products!$Z$8=$C$6,ROUND(F196*$B$3*(1+$D$6),2),IF(Products!$Z$8=$C$7,ROUND(F196*$B$3*(1+$D$7),2))))))))","v":90.72},{"$f":"IF(Products!$Z$8=$C$1,I196,IF(Products!$Z$8=$C$2,J196,IF(Products!$Z$8=$C$3,K196,IF(Products!$Z$8=$C$4,L196,IF(Products!$Z$8=$C$5,O196,IF(Products!$Z$8=$C$6,M196,IF(Products!$Z$8=$C$7,N196)))))))","v":"AL1227200C-EN"},"AL1227200C-EN","AL1527200C-EN","AL1627200C-EN","AL3227200C-EN","AL3527200C-EN","AL3627200C-EN","AL5227200C-EN",null,"GravityZone Security for Endpoints Physical Servers","GravityZone Security for Endpoints Physical Servers - EDU","GravityZone Security for Endpoints Physical Servers - GOV","GravityZone Security for Endpoints Physical Servers - R","GravityZone Security for Endpoints Physical Servers - EDU R","GravityZone Security for Endpoints Physical Servers - GOV R","GravityZone Security for Endpoints Physical Servers - CUPG"]
[{"$f":"IF(Products!$Z$8=$C$1,Q197,IF(Products!$Z$8=$C$2,R197,IF(Products!$Z$8=$C$3,S197,IF(Products!$Z$8=$C$4,T197,IF(Products!$Z$8=$C$5,W197,IF(Products!$Z$8=$C$6,U197,IF(Products!$Z$8=$C$7,V197)))))))","v":"GravityZone Security for Endpoints Physical Servers"},"2 years","50 - 99","GravityZone Security for Endpoints Physical Servers2 years50 - 99",null,81.66,{"$f":"IF(Products!$Z$8=$C$1,ROUND(F197*$B$3,2),IF(Products!$Z$8=$C$2,ROUND(F197*$B$3*(1+$D$2),2),IF(Products!$Z$8=$C$3,ROUND(F197*$B$3*(1+$D$3),2),IF(Products!$Z$8=$C$4,ROUND(F197*$B$3*(1+$D$4),2),IF(Products!$Z$8=$C$5,ROUND(F197*$B$3*(1+$D$5),2),IF(Products!$Z$8=$C$6,ROUND(F197*$B$3*(1+$D$6),2),IF(Products!$Z$8=$C$7,ROUND(F197*$B$3*(1+$D$7),2))))))))","v":81.66},{"$f":"IF(Products!$Z$8=$C$1,I197,IF(Products!$Z$8=$C$2,J197,IF(Products!$Z$8=$C$3,K197,IF(Products!$Z$8=$C$4,L197,IF(Products!$Z$8=$C$5,O197,IF(Products!$Z$8=$C$6,M197,IF(Products!$Z$8=$C$7,N197)))))))","v":"AL1227200D-EN"},"AL1227200D-EN","AL1527200D-EN","AL1627200D-EN","AL3227200D-EN","AL3527200D-EN","AL3627200D-EN","AL5227200D-EN",null,"GravityZone Security for Endpoints Physical Servers","GravityZone Security for Endpoints Physical Servers - EDU","GravityZone Security for Endpoints Physical Servers - GOV","GravityZone Security for Endpoints Physical Servers - R","GravityZone Security for Endpoints Physical Servers - EDU R","GravityZone Security for Endpoints Physical Servers - GOV R","GravityZone Security for Endpoints Physical Servers - CUPG"]
[{"$f":"IF(Products!$Z$8=$C$1,Q198,IF(Products!$Z$8=$C$2,R198,IF(Products!$Z$8=$C$3,S198,IF(Products!$Z$8=$C$4,T198,IF(Products!$Z$8=$C$5,W198,IF(Products!$Z$8=$C$6,U198,IF(Products!$Z$8=$C$7,V198)))))))","v":"GravityZone Security for Endpoints Physical Servers"},"2 years","100 - 149","GravityZone Security for Endpoints Physical Servers2 years100 - 149",null,77.58,{"$f":"IF(Products!$Z$8=$C$1,ROUND(F198*$B$3,2),IF(Products!$Z$8=$C$2,ROUND(F198*$B$3*(1+$D$2),2),IF(Products!$Z$8=$C$3,ROUND(F198*$B$3*(1+$D$3),2),IF(Products!$Z$8=$C$4,ROUND(F198*$B$3*(1+$D$4),2),IF(Products!$Z$8=$C$5,ROUND(F198*$B$3*(1+$D$5),2),IF(Products!$Z$8=$C$6,ROUND(F198*$B$3*(1+$D$6),2),IF(Products!$Z$8=$C$7,ROUND(F198*$B$3*(1+$D$7),2))))))))","v":77.58},{"$f":"IF(Products!$Z$8=$C$1,I198,IF(Products!$Z$8=$C$2,J198,IF(Products!$Z$8=$C$3,K198,IF(Products!$Z$8=$C$4,L198,IF(Products!$Z$8=$C$5,O198,IF(Products!$Z$8=$C$6,M198,IF(Products!$Z$8=$C$7,N198)))))))","v":"AL1227200E-EN"},"AL1227200E-EN","AL1527200E-EN","AL1627200E-EN","AL3227200E-EN","AL3527200E-EN","AL3627200E-EN","AL5227200E-EN",null,"GravityZone Security for Endpoints Physical Servers","GravityZone Security for Endpoints Physical Servers - EDU","GravityZone Security for Endpoints Physical Servers - GOV","GravityZone Security for Endpoints Physical Servers - R","GravityZone Security for Endpoints Physical Servers - EDU R","GravityZone Security for Endpoints Physical Servers - GOV R","GravityZone Security for Endpoints Physical Servers - CUPG"]
[{"$f":"IF(Products!$Z$8=$C$1,Q199,IF(Products!$Z$8=$C$2,R199,IF(Products!$Z$8=$C$3,S199,IF(Products!$Z$8=$C$4,T199,IF(Products!$Z$8=$C$5,W199,IF(Products!$Z$8=$C$6,U199,IF(Products!$Z$8=$C$7,V199)))))))","v":"GravityZone Security for Endpoints Physical Servers"},"2 years","150 - 249","GravityZone Security for Endpoints Physical Servers2 years150 - 249",null,73.7,{"$f":"IF(Products!$Z$8=$C$1,ROUND(F199*$B$3,2),IF(Products!$Z$8=$C$2,ROUND(F199*$B$3*(1+$D$2),2),IF(Products!$Z$8=$C$3,ROUND(F199*$B$3*(1+$D$3),2),IF(Products!$Z$8=$C$4,ROUND(F199*$B$3*(1+$D$4),2),IF(Products!$Z$8=$C$5,ROUND(F199*$B$3*(1+$D$5),2),IF(Products!$Z$8=$C$6,ROUND(F199*$B$3*(1+$D$6),2),IF(Products!$Z$8=$C$7,ROUND(F199*$B$3*(1+$D$7),2))))))))","v":73.7},{"$f":"IF(Products!$Z$8=$C$1,I199,IF(Products!$Z$8=$C$2,J199,IF(Products!$Z$8=$C$3,K199,IF(Products!$Z$8=$C$4,L199,IF(Products!$Z$8=$C$5,O199,IF(Products!$Z$8=$C$6,M199,IF(Products!$Z$8=$C$7,N199)))))))","v":"AL1227200F-EN"},"AL1227200F-EN","AL1527200F-EN","AL1627200F-EN","AL3227200F-EN","AL3527200F-EN","AL3627200F-EN","AL5227200F-EN",null,"GravityZone Security for Endpoints Physical Servers","GravityZone Security for Endpoints Physical Servers - EDU","GravityZone Security for Endpoints Physical Servers - GOV","GravityZone Security for Endpoints Physical Servers - R","GravityZone Security for Endpoints Physical Servers - EDU R","GravityZone Security for Endpoints Physical Servers - GOV R","GravityZone Security for Endpoints Physical Servers - CUPG"]
[{"$f":"IF(Products!$Z$8=$C$1,Q200,IF(Products!$Z$8=$C$2,R200,IF(Products!$Z$8=$C$3,S200,IF(Products!$Z$8=$C$4,T200,IF(Products!$Z$8=$C$5,W200,IF(Products!$Z$8=$C$6,U200,IF(Products!$Z$8=$C$7,V200)))))))","v":"GravityZone Security for Endpoints Physical Servers"},"2 years","250 - 499","GravityZone Security for Endpoints Physical Servers2 years250 - 499",null,70.010000000000005,{"$f":"IF(Products!$Z$8=$C$1,ROUND(F200*$B$3,2),IF(Products!$Z$8=$C$2,ROUND(F200*$B$3*(1+$D$2),2),IF(Products!$Z$8=$C$3,ROUND(F200*$B$3*(1+$D$3),2),IF(Products!$Z$8=$C$4,ROUND(F200*$B$3*(1+$D$4),2),IF(Products!$Z$8=$C$5,ROUND(F200*$B$3*(1+$D$5),2),IF(Products!$Z$8=$C$6,ROUND(F200*$B$3*(1+$D$6),2),IF(Products!$Z$8=$C$7,ROUND(F200*$B$3*(1+$D$7),2))))))))","v":70.010000000000005},{"$f":"IF(Products!$Z$8=$C$1,I200,IF(Products!$Z$8=$C$2,J200,IF(Products!$Z$8=$C$3,K200,IF(Products!$Z$8=$C$4,L200,IF(Products!$Z$8=$C$5,O200,IF(Products!$Z$8=$C$6,M200,IF(Products!$Z$8=$C$7,N200)))))))","v":"AL1227200G-EN"},"AL1227200G-EN","AL1527200G-EN","AL1627200G-EN","AL3227200G-EN","AL3527200G-EN","AL3627200G-EN","AL5227200G-EN",null,"GravityZone Security for Endpoints Physical Servers","GravityZone Security for Endpoints Physical Servers - EDU","GravityZone Security for Endpoints Physical Servers - GOV","GravityZone Security for Endpoints Physical Servers - R","GravityZone Security for Endpoints Physical Servers - EDU R","GravityZone Security for Endpoints Physical Servers - GOV R","GravityZone Security for Endpoints Physical Servers - CUPG"]
[{"$f":"IF(Products!$Z$8=$C$1,Q201,IF(Products!$Z$8=$C$2,R201,IF(Products!$Z$8=$C$3,S201,IF(Products!$Z$8=$C$4,T201,IF(Products!$Z$8=$C$5,W201,IF(Products!$Z$8=$C$6,U201,IF(Products!$Z$8=$C$7,V201)))))))","v":"GravityZone Security for Endpoints Physical Servers"},"2 years","500 - 999","GravityZone Security for Endpoints Physical Servers2 years500 - 999",null,66.510000000000005,{"$f":"IF(Products!$Z$8=$C$1,ROUND(F201*$B$3,2),IF(Products!$Z$8=$C$2,ROUND(F201*$B$3*(1+$D$2),2),IF(Products!$Z$8=$C$3,ROUND(F201*$B$3*(1+$D$3),2),IF(Products!$Z$8=$C$4,ROUND(F201*$B$3*(1+$D$4),2),IF(Products!$Z$8=$C$5,ROUND(F201*$B$3*(1+$D$5),2),IF(Products!$Z$8=$C$6,ROUND(F201*$B$3*(1+$D$6),2),IF(Products!$Z$8=$C$7,ROUND(F201*$B$3*(1+$D$7),2))))))))","v":66.510000000000005},{"$f":"IF(Products!$Z$8=$C$1,I201,IF(Products!$Z$8=$C$2,J201,IF(Products!$Z$8=$C$3,K201,IF(Products!$Z$8=$C$4,L201,IF(Products!$Z$8=$C$5,O201,IF(Products!$Z$8=$C$6,M201,IF(Products!$Z$8=$C$7,N201)))))))","v":"AL1227200H-EN"},"AL1227200H-EN","AL1527200H-EN","AL1627200H-EN","AL3227200H-EN","AL3527200H-EN","AL3627200H-EN","AL5227200H-EN",null,"GravityZone Security for Endpoints Physical Servers","GravityZone Security for Endpoints Physical Servers - EDU","GravityZone Security for Endpoints Physical Servers - GOV","GravityZone Security for Endpoints Physical Servers - R","GravityZone Security for Endpoints Physical Servers - EDU R","GravityZone Security for Endpoints Physical Servers - GOV R","GravityZone Security for Endpoints Physical Servers - CUPG"]
[{"$f":"IF(Products!$Z$8=$C$1,Q202,IF(Products!$Z$8=$C$2,R202,IF(Products!$Z$8=$C$3,S202,IF(Products!$Z$8=$C$4,T202,IF(Products!$Z$8=$C$5,W202,IF(Products!$Z$8=$C$6,U202,IF(Products!$Z$8=$C$7,V202)))))))","v":"GravityZone Security for Endpoints Physical Servers"},"2 years","1000 - 2999","GravityZone Security for Endpoints Physical Servers2 years1000 - 2999",null,63.18,{"$f":"IF(Products!$Z$8=$C$1,ROUND(F202*$B$3,2),IF(Products!$Z$8=$C$2,ROUND(F202*$B$3*(1+$D$2),2),IF(Products!$Z$8=$C$3,ROUND(F202*$B$3*(1+$D$3),2),IF(Products!$Z$8=$C$4,ROUND(F202*$B$3*(1+$D$4),2),IF(Products!$Z$8=$C$5,ROUND(F202*$B$3*(1+$D$5),2),IF(Products!$Z$8=$C$6,ROUND(F202*$B$3*(1+$D$6),2),IF(Products!$Z$8=$C$7,ROUND(F202*$B$3*(1+$D$7),2))))))))","v":63.18},{"$f":"IF(Products!$Z$8=$C$1,I202,IF(Products!$Z$8=$C$2,J202,IF(Products!$Z$8=$C$3,K202,IF(Products!$Z$8=$C$4,L202,IF(Products!$Z$8=$C$5,O202,IF(Products!$Z$8=$C$6,M202,IF(Products!$Z$8=$C$7,N202)))))))","v":"AL1227200I-EN"},"AL1227200I-EN","AL1527200I-EN","AL1627200I-EN","AL3227200I-EN","AL3527200I-EN","AL3627200I-EN","AL5227200I-EN",null,"GravityZone Security for Endpoints Physical Servers","GravityZone Security for Endpoints Physical Servers - EDU","GravityZone Security for Endpoints Physical Servers - GOV","GravityZone Security for Endpoints Physical Servers - R","GravityZone Security for Endpoints Physical Servers - EDU R","GravityZone Security for Endpoints Physical Servers - GOV R","GravityZone Security for Endpoints Physical Servers - CUPG"]
[{"$f":"IF(Products!$Z$8=$C$1,Q203,IF(Products!$Z$8=$C$2,R203,IF(Products!$Z$8=$C$3,S203,IF(Products!$Z$8=$C$4,T203,IF(Products!$Z$8=$C$5,W203,IF(Products!$Z$8=$C$6,U203,IF(Products!$Z$8=$C$7,V203)))))))","v":"GravityZone Security for Endpoints Physical Servers"},"2 years","3000+","GravityZone Security for Endpoints Physical Servers2 years3000+",null,60.02,{"$f":"IF(Products!$Z$8=$C$1,ROUND(F203*$B$3,2),IF(Products!$Z$8=$C$2,ROUND(F203*$B$3*(1+$D$2),2),IF(Products!$Z$8=$C$3,ROUND(F203*$B$3*(1+$D$3),2),IF(Products!$Z$8=$C$4,ROUND(F203*$B$3*(1+$D$4),2),IF(Products!$Z$8=$C$5,ROUND(F203*$B$3*(1+$D$5),2),IF(Products!$Z$8=$C$6,ROUND(F203*$B$3*(1+$D$6),2),IF(Products!$Z$8=$C$7,ROUND(F203*$B$3*(1+$D$7),2))))))))","v":60.02},{"$f":"IF(Products!$Z$8=$C$1,I203,IF(Products!$Z$8=$C$2,J203,IF(Products!$Z$8=$C$3,K203,IF(Products!$Z$8=$C$4,L203,IF(Products!$Z$8=$C$5,O203,IF(Products!$Z$8=$C$6,M203,IF(Products!$Z$8=$C$7,N203)))))))","v":"AL1227200J-EN"},"AL1227200J-EN","AL1527200J-EN","AL1627200J-EN","AL3227200J-EN","AL3527200J-EN","AL3627200J-EN","AL5227200J-EN",null,"GravityZone Security for Endpoints Physical Servers","GravityZone Security for Endpoints Physical Servers - EDU","GravityZone Security for Endpoints Physical Servers - GOV","GravityZone Security for Endpoints Physical Servers - R","GravityZone Security for Endpoints Physical Servers - EDU R","GravityZone Security for Endpoints Physical Servers - GOV R","GravityZone Security for Endpoints Physical Servers - CUPG"]
[{"$f":"IF(Products!$Z$8=$C$1,Q204,IF(Products!$Z$8=$C$2,R204,IF(Products!$Z$8=$C$3,S204,IF(Products!$Z$8=$C$4,T204,IF(Products!$Z$8=$C$5,W204,IF(Products!$Z$8=$C$6,U204,IF(Products!$Z$8=$C$7,V204)))))))","v":"GravityZone Security for Endpoints Physical Servers"},"3 years","1 - 14","GravityZone Security for Endpoints Physical Servers3 years1 - 14",null,143.5,{"$f":"IF(Products!$Z$8=$C$1,ROUND(F204*$B$3,2),IF(Products!$Z$8=$C$2,ROUND(F204*$B$3*(1+$D$2),2),IF(Products!$Z$8=$C$3,ROUND(F204*$B$3*(1+$D$3),2),IF(Products!$Z$8=$C$4,ROUND(F204*$B$3*(1+$D$4),2),IF(Products!$Z$8=$C$5,ROUND(F204*$B$3*(1+$D$5),2),IF(Products!$Z$8=$C$6,ROUND(F204*$B$3*(1+$D$6),2),IF(Products!$Z$8=$C$7,ROUND(F204*$B$3*(1+$D$7),2))))))))","v":143.5},{"$f":"IF(Products!$Z$8=$C$1,I204,IF(Products!$Z$8=$C$2,J204,IF(Products!$Z$8=$C$3,K204,IF(Products!$Z$8=$C$4,L204,IF(Products!$Z$8=$C$5,O204,IF(Products!$Z$8=$C$6,M204,IF(Products!$Z$8=$C$7,N204)))))))","v":"AL1227300A-EN"},"AL1227300A-EN","AL1527300A-EN","AL1627300A-EN","AL3227300A-EN","AL3527300A-EN","AL3627300A-EN","AL5227300A-EN",null,"GravityZone Security for Endpoints Physical Servers","GravityZone Security for Endpoints Physical Servers - EDU","GravityZone Security for Endpoints Physical Servers - GOV","GravityZone Security for Endpoints Physical Servers - R","GravityZone Security for Endpoints Physical Servers - EDU R","GravityZone Security for Endpoints Physical Servers - GOV R","GravityZone Security for Endpoints Physical Servers - CUPG"]
[{"$f":"IF(Products!$Z$8=$C$1,Q205,IF(Products!$Z$8=$C$2,R205,IF(Products!$Z$8=$C$3,S205,IF(Products!$Z$8=$C$4,T205,IF(Products!$Z$8=$C$5,W205,IF(Products!$Z$8=$C$6,U205,IF(Products!$Z$8=$C$7,V205)))))))","v":"GravityZone Security for Endpoints Physical Servers"},"3 years","15 - 24","GravityZone Security for Endpoints Physical Servers3 years15 - 24",null,129.14999999999998,{"$f":"IF(Products!$Z$8=$C$1,ROUND(F205*$B$3,2),IF(Products!$Z$8=$C$2,ROUND(F205*$B$3*(1+$D$2),2),IF(Products!$Z$8=$C$3,ROUND(F205*$B$3*(1+$D$3),2),IF(Products!$Z$8=$C$4,ROUND(F205*$B$3*(1+$D$4),2),IF(Products!$Z$8=$C$5,ROUND(F205*$B$3*(1+$D$5),2),IF(Products!$Z$8=$C$6,ROUND(F205*$B$3*(1+$D$6),2),IF(Products!$Z$8=$C$7,ROUND(F205*$B$3*(1+$D$7),2))))))))","v":129.15},{"$f":"IF(Products!$Z$8=$C$1,I205,IF(Products!$Z$8=$C$2,J205,IF(Products!$Z$8=$C$3,K205,IF(Products!$Z$8=$C$4,L205,IF(Products!$Z$8=$C$5,O205,IF(Products!$Z$8=$C$6,M205,IF(Products!$Z$8=$C$7,N205)))))))","v":"AL1227300B-EN"},"AL1227300B-EN","AL1527300B-EN","AL1627300B-EN","AL3227300B-EN","AL3527300B-EN","AL3627300B-EN","AL5227300B-EN",null,"GravityZone Security for Endpoints Physical Servers","GravityZone Security for Endpoints Physical Servers - EDU","GravityZone Security for Endpoints Physical Servers - GOV","GravityZone Security for Endpoints Physical Servers - R","GravityZone Security for Endpoints Physical Servers - EDU R","GravityZone Security for Endpoints Physical Servers - GOV R","GravityZone Security for Endpoints Physical Servers - CUPG"]
[{"$f":"IF(Products!$Z$8=$C$1,Q206,IF(Products!$Z$8=$C$2,R206,IF(Products!$Z$8=$C$3,S206,IF(Products!$Z$8=$C$4,T206,IF(Products!$Z$8=$C$5,W206,IF(Products!$Z$8=$C$6,U206,IF(Products!$Z$8=$C$7,V206)))))))","v":"GravityZone Security for Endpoints Physical Servers"},"3 years","25 - 49","GravityZone Security for Endpoints Physical Servers3 years25 - 49",null,116.235,{"$f":"IF(Products!$Z$8=$C$1,ROUND(F206*$B$3,2),IF(Products!$Z$8=$C$2,ROUND(F206*$B$3*(1+$D$2),2),IF(Products!$Z$8=$C$3,ROUND(F206*$B$3*(1+$D$3),2),IF(Products!$Z$8=$C$4,ROUND(F206*$B$3*(1+$D$4),2),IF(Products!$Z$8=$C$5,ROUND(F206*$B$3*(1+$D$5),2),IF(Products!$Z$8=$C$6,ROUND(F206*$B$3*(1+$D$6),2),IF(Products!$Z$8=$C$7,ROUND(F206*$B$3*(1+$D$7),2))))))))","v":116.24},{"$f":"IF(Products!$Z$8=$C$1,I206,IF(Products!$Z$8=$C$2,J206,IF(Products!$Z$8=$C$3,K206,IF(Products!$Z$8=$C$4,L206,IF(Products!$Z$8=$C$5,O206,IF(Products!$Z$8=$C$6,M206,IF(Products!$Z$8=$C$7,N206)))))))","v":"AL1227300C-EN"},"AL1227300C-EN","AL1527300C-EN","AL1627300C-EN","AL3227300C-EN","AL3527300C-EN","AL3627300C-EN","AL5227300C-EN",null,"GravityZone Security for Endpoints Physical Servers","GravityZone Security for Endpoints Physical Servers - EDU","GravityZone Security for Endpoints Physical Servers - GOV","GravityZone Security for Endpoints Physical Servers - R","GravityZone Security for Endpoints Physical Servers - EDU R","GravityZone Security for Endpoints Physical Servers - GOV R","GravityZone Security for Endpoints Physical Servers - CUPG"]
[{"$f":"IF(Products!$Z$8=$C$1,Q207,IF(Products!$Z$8=$C$2,R207,IF(Products!$Z$8=$C$3,S207,IF(Products!$Z$8=$C$4,T207,IF(Products!$Z$8=$C$5,W207,IF(Products!$Z$8=$C$6,U207,IF(Products!$Z$8=$C$7,V207)))))))","v":"GravityZone Security for Endpoints Physical Servers"},"3 years","50 - 99","GravityZone Security for Endpoints Physical Servers3 years50 - 99",null,104.62174999999998,{"$f":"IF(Products!$Z$8=$C$1,ROUND(F207*$B$3,2),IF(Products!$Z$8=$C$2,ROUND(F207*$B$3*(1+$D$2),2),IF(Products!$Z$8=$C$3,ROUND(F207*$B$3*(1+$D$3),2),IF(Products!$Z$8=$C$4,ROUND(F207*$B$3*(1+$D$4),2),IF(Products!$Z$8=$C$5,ROUND(F207*$B$3*(1+$D$5),2),IF(Products!$Z$8=$C$6,ROUND(F207*$B$3*(1+$D$6),2),IF(Products!$Z$8=$C$7,ROUND(F207*$B$3*(1+$D$7),2))))))))","v":104.62},{"$f":"IF(Products!$Z$8=$C$1,I207,IF(Products!$Z$8=$C$2,J207,IF(Products!$Z$8=$C$3,K207,IF(Products!$Z$8=$C$4,L207,IF(Products!$Z$8=$C$5,O207,IF(Products!$Z$8=$C$6,M207,IF(Products!$Z$8=$C$7,N207)))))))","v":"AL1227300D-EN"},"AL1227300D-EN","AL1527300D-EN","AL1627300D-EN","AL3227300D-EN","AL3527300D-EN","AL3627300D-EN","AL5227300D-EN",null,"GravityZone Security for Endpoints Physical Servers","GravityZone Security for Endpoints Physical Servers - EDU","GravityZone Security for Endpoints Physical Servers - GOV","GravityZone Security for Endpoints Physical Servers - R","GravityZone Security for Endpoints Physical Servers - EDU R","GravityZone Security for Endpoints Physical Servers - GOV R","GravityZone Security for Endpoints Physical Servers - CUPG"]
[{"$f":"IF(Products!$Z$8=$C$1,Q208,IF(Products!$Z$8=$C$2,R208,IF(Products!$Z$8=$C$3,S208,IF(Products!$Z$8=$C$4,T208,IF(Products!$Z$8=$C$5,W208,IF(Products!$Z$8=$C$6,U208,IF(Products!$Z$8=$C$7,V208)))))))","v":"GravityZone Security for Endpoints Physical Servers"},"3 years","100 - 149","GravityZone Security for Endpoints Physical Servers3 years100 - 149",null,99.394249999999985,{"$f":"IF(Products!$Z$8=$C$1,ROUND(F208*$B$3,2),IF(Products!$Z$8=$C$2,ROUND(F208*$B$3*(1+$D$2),2),IF(Products!$Z$8=$C$3,ROUND(F208*$B$3*(1+$D$3),2),IF(Products!$Z$8=$C$4,ROUND(F208*$B$3*(1+$D$4),2),IF(Products!$Z$8=$C$5,ROUND(F208*$B$3*(1+$D$5),2),IF(Products!$Z$8=$C$6,ROUND(F208*$B$3*(1+$D$6),2),IF(Products!$Z$8=$C$7,ROUND(F208*$B$3*(1+$D$7),2))))))))","v":99.39},{"$f":"IF(Products!$Z$8=$C$1,I208,IF(Products!$Z$8=$C$2,J208,IF(Products!$Z$8=$C$3,K208,IF(Products!$Z$8=$C$4,L208,IF(Products!$Z$8=$C$5,O208,IF(Products!$Z$8=$C$6,M208,IF(Products!$Z$8=$C$7,N208)))))))","v":"AL1227300E-EN"},"AL1227300E-EN","AL1527300E-EN","AL1627300E-EN","AL3227300E-EN","AL3527300E-EN","AL3627300E-EN","AL5227300E-EN",null,"GravityZone Security for Endpoints Physical Servers","GravityZone Security for Endpoints Physical Servers - EDU","GravityZone Security for Endpoints Physical Servers - GOV","GravityZone Security for Endpoints Physical Servers - R","GravityZone Security for Endpoints Physical Servers - EDU R","GravityZone Security for Endpoints Physical Servers - GOV R","GravityZone Security for Endpoints Physical Servers - CUPG"]
[{"$f":"IF(Products!$Z$8=$C$1,Q209,IF(Products!$Z$8=$C$2,R209,IF(Products!$Z$8=$C$3,S209,IF(Products!$Z$8=$C$4,T209,IF(Products!$Z$8=$C$5,W209,IF(Products!$Z$8=$C$6,U209,IF(Products!$Z$8=$C$7,V209)))))))","v":"GravityZone Security for Endpoints Physical Servers"},"3 years","150 - 249","GravityZone Security for Endpoints Physical Servers3 years150 - 249",null,94.423000000000002,{"$f":"IF(Products!$Z$8=$C$1,ROUND(F209*$B$3,2),IF(Products!$Z$8=$C$2,ROUND(F209*$B$3*(1+$D$2),2),IF(Products!$Z$8=$C$3,ROUND(F209*$B$3*(1+$D$3),2),IF(Products!$Z$8=$C$4,ROUND(F209*$B$3*(1+$D$4),2),IF(Products!$Z$8=$C$5,ROUND(F209*$B$3*(1+$D$5),2),IF(Products!$Z$8=$C$6,ROUND(F209*$B$3*(1+$D$6),2),IF(Products!$Z$8=$C$7,ROUND(F209*$B$3*(1+$D$7),2))))))))","v":94.42},{"$f":"IF(Products!$Z$8=$C$1,I209,IF(Products!$Z$8=$C$2,J209,IF(Products!$Z$8=$C$3,K209,IF(Products!$Z$8=$C$4,L209,IF(Products!$Z$8=$C$5,O209,IF(Products!$Z$8=$C$6,M209,IF(Products!$Z$8=$C$7,N209)))))))","v":"AL1227300F-EN"},"AL1227300F-EN","AL1527300F-EN","AL1627300F-EN","AL3227300F-EN","AL3527300F-EN","AL3627300F-EN","AL5227300F-EN",null,"GravityZone Security for Endpoints Physical Servers","GravityZone Security for Endpoints Physical Servers - EDU","GravityZone Security for Endpoints Physical Servers - GOV","GravityZone Security for Endpoints Physical Servers - R","GravityZone Security for Endpoints Physical Servers - EDU R","GravityZone Security for Endpoints Physical Servers - GOV R","GravityZone Security for Endpoints Physical Servers - CUPG"]
[{"$f":"IF(Products!$Z$8=$C$1,Q210,IF(Products!$Z$8=$C$2,R210,IF(Products!$Z$8=$C$3,S210,IF(Products!$Z$8=$C$4,T210,IF(Products!$Z$8=$C$5,W210,IF(Products!$Z$8=$C$6,U210,IF(Products!$Z$8=$C$7,V210)))))))","v":"GravityZone Security for Endpoints Physical Servers"},"3 years","250 - 499","GravityZone Security for Endpoints Physical Servers3 years250 - 499",null,89.697749999999999,{"$f":"IF(Products!$Z$8=$C$1,ROUND(F210*$B$3,2),IF(Products!$Z$8=$C$2,ROUND(F210*$B$3*(1+$D$2),2),IF(Products!$Z$8=$C$3,ROUND(F210*$B$3*(1+$D$3),2),IF(Products!$Z$8=$C$4,ROUND(F210*$B$3*(1+$D$4),2),IF(Products!$Z$8=$C$5,ROUND(F210*$B$3*(1+$D$5),2),IF(Products!$Z$8=$C$6,ROUND(F210*$B$3*(1+$D$6),2),IF(Products!$Z$8=$C$7,ROUND(F210*$B$3*(1+$D$7),2))))))))","v":89.7},{"$f":"IF(Products!$Z$8=$C$1,I210,IF(Products!$Z$8=$C$2,J210,IF(Products!$Z$8=$C$3,K210,IF(Products!$Z$8=$C$4,L210,IF(Products!$Z$8=$C$5,O210,IF(Products!$Z$8=$C$6,M210,IF(Products!$Z$8=$C$7,N210)))))))","v":"AL1227300G-EN"},"AL1227300G-EN","AL1527300G-EN","AL1627300G-EN","AL3227300G-EN","AL3527300G-EN","AL3627300G-EN","AL5227300G-EN",null,"GravityZone Security for Endpoints Physical Servers","GravityZone Security for Endpoints Physical Servers - EDU","GravityZone Security for Endpoints Physical Servers - GOV","GravityZone Security for Endpoints Physical Servers - R","GravityZone Security for Endpoints Physical Servers - EDU R","GravityZone Security for Endpoints Physical Servers - GOV R","GravityZone Security for Endpoints Physical Servers - CUPG"]
[{"$f":"IF(Products!$Z$8=$C$1,Q211,IF(Products!$Z$8=$C$2,R211,IF(Products!$Z$8=$C$3,S211,IF(Products!$Z$8=$C$4,T211,IF(Products!$Z$8=$C$5,W211,IF(Products!$Z$8=$C$6,U211,IF(Products!$Z$8=$C$7,V211)))))))","v":"GravityZone Security for Endpoints Physical Servers"},"3 years","500 - 999","GravityZone Security for Endpoints Physical Servers3 years500 - 999",null,85.218499999999992,{"$f":"IF(Products!$Z$8=$C$1,ROUND(F211*$B$3,2),IF(Products!$Z$8=$C$2,ROUND(F211*$B$3*(1+$D$2),2),IF(Products!$Z$8=$C$3,ROUND(F211*$B$3*(1+$D$3),2),IF(Products!$Z$8=$C$4,ROUND(F211*$B$3*(1+$D$4),2),IF(Products!$Z$8=$C$5,ROUND(F211*$B$3*(1+$D$5),2),IF(Products!$Z$8=$C$6,ROUND(F211*$B$3*(1+$D$6),2),IF(Products!$Z$8=$C$7,ROUND(F211*$B$3*(1+$D$7),2))))))))","v":85.22},{"$f":"IF(Products!$Z$8=$C$1,I211,IF(Products!$Z$8=$C$2,J211,IF(Products!$Z$8=$C$3,K211,IF(Products!$Z$8=$C$4,L211,IF(Products!$Z$8=$C$5,O211,IF(Products!$Z$8=$C$6,M211,IF(Products!$Z$8=$C$7,N211)))))))","v":"AL1227300H-EN"},"AL1227300H-EN","AL1527300H-EN","AL1627300H-EN","AL3227300H-EN","AL3527300H-EN","AL3627300H-EN","AL5227300H-EN",null,"GravityZone Security for Endpoints Physical Servers","GravityZone Security for Endpoints Physical Servers - EDU","GravityZone Security for Endpoints Physical Servers - GOV","GravityZone Security for Endpoints Physical Servers - R","GravityZone Security for Endpoints Physical Servers - EDU R","GravityZone Security for Endpoints Physical Servers - GOV R","GravityZone Security for Endpoints Physical Servers - CUPG"]
[{"$f":"IF(Products!$Z$8=$C$1,Q212,IF(Products!$Z$8=$C$2,R212,IF(Products!$Z$8=$C$3,S212,IF(Products!$Z$8=$C$4,T212,IF(Products!$Z$8=$C$5,W212,IF(Products!$Z$8=$C$6,U212,IF(Products!$Z$8=$C$7,V212)))))))","v":"GravityZone Security for Endpoints Physical Servers"},"3 years","1000 - 2999","GravityZone Security for Endpoints Physical Servers3 years1000 - 2999",null,80.954499999999996,{"$f":"IF(Products!$Z$8=$C$1,ROUND(F212*$B$3,2),IF(Products!$Z$8=$C$2,ROUND(F212*$B$3*(1+$D$2),2),IF(Products!$Z$8=$C$3,ROUND(F212*$B$3*(1+$D$3),2),IF(Products!$Z$8=$C$4,ROUND(F212*$B$3*(1+$D$4),2),IF(Products!$Z$8=$C$5,ROUND(F212*$B$3*(1+$D$5),2),IF(Products!$Z$8=$C$6,ROUND(F212*$B$3*(1+$D$6),2),IF(Products!$Z$8=$C$7,ROUND(F212*$B$3*(1+$D$7),2))))))))","v":80.95},{"$f":"IF(Products!$Z$8=$C$1,I212,IF(Products!$Z$8=$C$2,J212,IF(Products!$Z$8=$C$3,K212,IF(Products!$Z$8=$C$4,L212,IF(Products!$Z$8=$C$5,O212,IF(Products!$Z$8=$C$6,M212,IF(Products!$Z$8=$C$7,N212)))))))","v":"AL1227300I-EN"},"AL1227300I-EN","AL1527300I-EN","AL1627300I-EN","AL3227300I-EN","AL3527300I-EN","AL3627300I-EN","AL5227300I-EN",null,"GravityZone Security for Endpoints Physical Servers","GravityZone Security for Endpoints Physical Servers - EDU","GravityZone Security for Endpoints Physical Servers - GOV","GravityZone Security for Endpoints Physical Servers - R","GravityZone Security for Endpoints Physical Servers - EDU R","GravityZone Security for Endpoints Physical Servers - GOV R","GravityZone Security for Endpoints Physical Servers - CUPG"]
[{"$f":"IF(Products!$Z$8=$C$1,Q213,IF(Products!$Z$8=$C$2,R213,IF(Products!$Z$8=$C$3,S213,IF(Products!$Z$8=$C$4,T213,IF(Products!$Z$8=$C$5,W213,IF(Products!$Z$8=$C$6,U213,IF(Products!$Z$8=$C$7,V213)))))))","v":"GravityZone Security for Endpoints Physical Servers"},"3 years","3000+","GravityZone Security for Endpoints Physical Servers3 years3000+",null,76.895499999999984,{"$f":"IF(Products!$Z$8=$C$1,ROUND(F213*$B$3,2),IF(Products!$Z$8=$C$2,ROUND(F213*$B$3*(1+$D$2),2),IF(Products!$Z$8=$C$3,ROUND(F213*$B$3*(1+$D$3),2),IF(Products!$Z$8=$C$4,ROUND(F213*$B$3*(1+$D$4),2),IF(Products!$Z$8=$C$5,ROUND(F213*$B$3*(1+$D$5),2),IF(Products!$Z$8=$C$6,ROUND(F213*$B$3*(1+$D$6),2),IF(Products!$Z$8=$C$7,ROUND(F213*$B$3*(1+$D$7),2))))))))","v":76.900000000000006},{"$f":"IF(Products!$Z$8=$C$1,I213,IF(Products!$Z$8=$C$2,J213,IF(Products!$Z$8=$C$3,K213,IF(Products!$Z$8=$C$4,L213,IF(Products!$Z$8=$C$5,O213,IF(Products!$Z$8=$C$6,M213,IF(Products!$Z$8=$C$7,N213)))))))","v":"AL1227300J-EN"},"AL1227300J-EN","AL1527300J-EN","AL1627300J-EN","AL3227300J-EN","AL3527300J-EN","AL3627300J-EN","AL5227300J-EN",null,"GravityZone Security for Endpoints Physical Servers","GravityZone Security for Endpoints Physical Servers - EDU","GravityZone Security for Endpoints Physical Servers - GOV","GravityZone Security for Endpoints Physical Servers - R","GravityZone Security for Endpoints Physical Servers - EDU R","GravityZone Security for Endpoints Physical Servers - GOV R","GravityZone Security for Endpoints Physical Servers - CUPG"]
[{"$f":"IF(Products!$Z$8=$C$1,Q214,IF(Products!$Z$8=$C$2,R214,IF(Products!$Z$8=$C$3,S214,IF(Products!$Z$8=$C$4,T214,IF(Products!$Z$8=$C$5,W214,IF(Products!$Z$8=$C$6,U214,IF(Products!$Z$8=$C$7,V214)))))))","v":"GravityZone Security for Exchange"},"1 year","5 - 14","GravityZone Security for Exchange1 year5 - 14",null,23.5365,{"$f":"IF(Products!$Z$8=$C$1,ROUND(F214*$B$3,2),IF(Products!$Z$8=$C$2,ROUND(F214*$B$3*(1+$D$2),2),IF(Products!$Z$8=$C$3,ROUND(F214*$B$3*(1+$D$3),2),IF(Products!$Z$8=$C$4,ROUND(F214*$B$3*(1+$D$4),2),IF(Products!$Z$8=$C$5,ROUND(F214*$B$3*(1+$D$5),2),IF(Products!$Z$8=$C$6,ROUND(F214*$B$3*(1+$D$6),2),IF(Products!$Z$8=$C$7,ROUND(F214*$B$3*(1+$D$7),2))))))))","v":23.54},{"$f":"IF(Products!$Z$8=$C$1,I214,IF(Products!$Z$8=$C$2,J214,IF(Products!$Z$8=$C$3,K214,IF(Products!$Z$8=$C$4,L214,IF(Products!$Z$8=$C$5,O214,IF(Products!$Z$8=$C$6,M214,IF(Products!$Z$8=$C$7,N214)))))))","v":"AL1241100A-EN"},"AL1241100A-EN","AL1541100A-EN","AL1641100A-EN","AL3241100A-EN","AL3541100A-EN","AL3641100A-EN","AL5241100A-EN",null,"GravityZone Security for Exchange","GravityZone Security for Exchange - EDU","GravityZone Security for Exchange - GOV","GravityZone Security for Exchange - R","GravityZone Security for Exchange - EDU R","GravityZone Security for Exchange - GOV R","GravityZone Security for Exchange - CUPG"]
[{"$f":"IF(Products!$Z$8=$C$1,Q215,IF(Products!$Z$8=$C$2,R215,IF(Products!$Z$8=$C$3,S215,IF(Products!$Z$8=$C$4,T215,IF(Products!$Z$8=$C$5,W215,IF(Products!$Z$8=$C$6,U215,IF(Products!$Z$8=$C$7,V215)))))))","v":"GravityZone Security for Exchange"},"1 year","15 - 24","GravityZone Security for Exchange1 year15 - 24",null,21.394500000000001,{"$f":"IF(Products!$Z$8=$C$1,ROUND(F215*$B$3,2),IF(Products!$Z$8=$C$2,ROUND(F215*$B$3*(1+$D$2),2),IF(Products!$Z$8=$C$3,ROUND(F215*$B$3*(1+$D$3),2),IF(Products!$Z$8=$C$4,ROUND(F215*$B$3*(1+$D$4),2),IF(Products!$Z$8=$C$5,ROUND(F215*$B$3*(1+$D$5),2),IF(Products!$Z$8=$C$6,ROUND(F215*$B$3*(1+$D$6),2),IF(Products!$Z$8=$C$7,ROUND(F215*$B$3*(1+$D$7),2))))))))","v":21.39},{"$f":"IF(Products!$Z$8=$C$1,I215,IF(Products!$Z$8=$C$2,J215,IF(Products!$Z$8=$C$3,K215,IF(Products!$Z$8=$C$4,L215,IF(Products!$Z$8=$C$5,O215,IF(Products!$Z$8=$C$6,M215,IF(Products!$Z$8=$C$7,N215)))))))","v":"AL1241100B-EN"},"AL1241100B-EN","AL1541100B-EN","AL1641100B-EN","AL3241100B-EN","AL3541100B-EN","AL3641100B-EN","AL5241100B-EN",null,"GravityZone Security for Exchange","GravityZone Security for Exchange - EDU","GravityZone Security for Exchange - GOV","GravityZone Security for Exchange - R","GravityZone Security for Exchange - EDU R","GravityZone Security for Exchange - GOV R","GravityZone Security for Exchange - CUPG"]
[{"$f":"IF(Products!$Z$8=$C$1,Q216,IF(Products!$Z$8=$C$2,R216,IF(Products!$Z$8=$C$3,S216,IF(Products!$Z$8=$C$4,T216,IF(Products!$Z$8=$C$5,W216,IF(Products!$Z$8=$C$6,U216,IF(Products!$Z$8=$C$7,V216)))))))","v":"GravityZone Security for Exchange"},"1 year","25 - 49","GravityZone Security for Exchange1 year25 - 49",null,19.252499999999998,{"$f":"IF(Products!$Z$8=$C$1,ROUND(F216*$B$3,2),IF(Products!$Z$8=$C$2,ROUND(F216*$B$3*(1+$D$2),2),IF(Products!$Z$8=$C$3,ROUND(F216*$B$3*(1+$D$3),2),IF(Products!$Z$8=$C$4,ROUND(F216*$B$3*(1+$D$4),2),IF(Products!$Z$8=$C$5,ROUND(F216*$B$3*(1+$D$5),2),IF(Products!$Z$8=$C$6,ROUND(F216*$B$3*(1+$D$6),2),IF(Products!$Z$8=$C$7,ROUND(F216*$B$3*(1+$D$7),2))))))))","v":19.25},{"$f":"IF(Products!$Z$8=$C$1,I216,IF(Products!$Z$8=$C$2,J216,IF(Products!$Z$8=$C$3,K216,IF(Products!$Z$8=$C$4,L216,IF(Products!$Z$8=$C$5,O216,IF(Products!$Z$8=$C$6,M216,IF(Products!$Z$8=$C$7,N216)))))))","v":"AL1241100C-EN"},"AL1241100C-EN","AL1541100C-EN","AL1641100C-EN","AL3241100C-EN","AL3541100C-EN","AL3641100C-EN","AL5241100C-EN",null,"GravityZone Security for Exchange","GravityZone Security for Exchange - EDU","GravityZone Security for Exchange - GOV","GravityZone Security for Exchange - R","GravityZone Security for Exchange - EDU R","GravityZone Security for Exchange - GOV R","GravityZone Security for Exchange - CUPG"]
[{"$f":"IF(Products!$Z$8=$C$1,Q217,IF(Products!$Z$8=$C$2,R217,IF(Products!$Z$8=$C$3,S217,IF(Products!$Z$8=$C$4,T217,IF(Products!$Z$8=$C$5,W217,IF(Products!$Z$8=$C$6,U217,IF(Products!$Z$8=$C$7,V217)))))))","v":"GravityZone Security for Exchange"},"1 year","50 - 99","GravityZone Security for Exchange1 year50 - 99",null,17.467500000000001,{"$f":"IF(Products!$Z$8=$C$1,ROUND(F217*$B$3,2),IF(Products!$Z$8=$C$2,ROUND(F217*$B$3*(1+$D$2),2),IF(Products!$Z$8=$C$3,ROUND(F217*$B$3*(1+$D$3),2),IF(Products!$Z$8=$C$4,ROUND(F217*$B$3*(1+$D$4),2),IF(Products!$Z$8=$C$5,ROUND(F217*$B$3*(1+$D$5),2),IF(Products!$Z$8=$C$6,ROUND(F217*$B$3*(1+$D$6),2),IF(Products!$Z$8=$C$7,ROUND(F217*$B$3*(1+$D$7),2))))))))","v":17.47},{"$f":"IF(Products!$Z$8=$C$1,I217,IF(Products!$Z$8=$C$2,J217,IF(Products!$Z$8=$C$3,K217,IF(Products!$Z$8=$C$4,L217,IF(Products!$Z$8=$C$5,O217,IF(Products!$Z$8=$C$6,M217,IF(Products!$Z$8=$C$7,N217)))))))","v":"AL1241100D-EN"},"AL1241100D-EN","AL1541100D-EN","AL1641100D-EN","AL3241100D-EN","AL3541100D-EN","AL3641100D-EN","AL5241100D-EN",null,"GravityZone Security for Exchange","GravityZone Security for Exchange - EDU","GravityZone Security for Exchange - GOV","GravityZone Security for Exchange - R","GravityZone Security for Exchange - EDU R","GravityZone Security for Exchange - GOV R","GravityZone Security for Exchange - CUPG"]
[{"$f":"IF(Products!$Z$8=$C$1,Q218,IF(Products!$Z$8=$C$2,R218,IF(Products!$Z$8=$C$3,S218,IF(Products!$Z$8=$C$4,T218,IF(Products!$Z$8=$C$5,W218,IF(Products!$Z$8=$C$6,U218,IF(Products!$Z$8=$C$7,V218)))))))","v":"GravityZone Security for Exchange"},"1 year","100 - 149","GravityZone Security for Exchange1 year100 - 149",null,15.682499999999999,{"$f":"IF(Products!$Z$8=$C$1,ROUND(F218*$B$3,2),IF(Products!$Z$8=$C$2,ROUND(F218*$B$3*(1+$D$2),2),IF(Products!$Z$8=$C$3,ROUND(F218*$B$3*(1+$D$3),2),IF(Products!$Z$8=$C$4,ROUND(F218*$B$3*(1+$D$4),2),IF(Products!$Z$8=$C$5,ROUND(F218*$B$3*(1+$D$5),2),IF(Products!$Z$8=$C$6,ROUND(F218*$B$3*(1+$D$6),2),IF(Products!$Z$8=$C$7,ROUND(F218*$B$3*(1+$D$7),2))))))))","v":15.68},{"$f":"IF(Products!$Z$8=$C$1,I218,IF(Products!$Z$8=$C$2,J218,IF(Products!$Z$8=$C$3,K218,IF(Products!$Z$8=$C$4,L218,IF(Products!$Z$8=$C$5,O218,IF(Products!$Z$8=$C$6,M218,IF(Products!$Z$8=$C$7,N218)))))))","v":"AL1241100E-EN"},"AL1241100E-EN","AL1541100E-EN","AL1641100E-EN","AL3241100E-EN","AL3541100E-EN","AL3641100E-EN","AL5241100E-EN",null,"GravityZone Security for Exchange","GravityZone Security for Exchange - EDU","GravityZone Security for Exchange - GOV","GravityZone Security for Exchange - R","GravityZone Security for Exchange - EDU R","GravityZone Security for Exchange - GOV R","GravityZone Security for Exchange - CUPG"]
[{"$f":"IF(Products!$Z$8=$C$1,Q219,IF(Products!$Z$8=$C$2,R219,IF(Products!$Z$8=$C$3,S219,IF(Products!$Z$8=$C$4,T219,IF(Products!$Z$8=$C$5,W219,IF(Products!$Z$8=$C$6,U219,IF(Products!$Z$8=$C$7,V219)))))))","v":"GravityZone Security for Exchange"},"1 year","150 - 249","GravityZone Security for Exchange1 year150 - 249",null,14.390499999999999,{"$f":"IF(Products!$Z$8=$C$1,ROUND(F219*$B$3,2),IF(Products!$Z$8=$C$2,ROUND(F219*$B$3*(1+$D$2),2),IF(Products!$Z$8=$C$3,ROUND(F219*$B$3*(1+$D$3),2),IF(Products!$Z$8=$C$4,ROUND(F219*$B$3*(1+$D$4),2),IF(Products!$Z$8=$C$5,ROUND(F219*$B$3*(1+$D$5),2),IF(Products!$Z$8=$C$6,ROUND(F219*$B$3*(1+$D$6),2),IF(Products!$Z$8=$C$7,ROUND(F219*$B$3*(1+$D$7),2))))))))","v":14.39},{"$f":"IF(Products!$Z$8=$C$1,I219,IF(Products!$Z$8=$C$2,J219,IF(Products!$Z$8=$C$3,K219,IF(Products!$Z$8=$C$4,L219,IF(Products!$Z$8=$C$5,O219,IF(Products!$Z$8=$C$6,M219,IF(Products!$Z$8=$C$7,N219)))))))","v":"AL1241100F-EN"},"AL1241100F-EN","AL1541100F-EN","AL1641100F-EN","AL3241100F-EN","AL3541100F-EN","AL3641100F-EN","AL5241100F-EN",null,"GravityZone Security for Exchange","GravityZone Security for Exchange - EDU","GravityZone Security for Exchange - GOV","GravityZone Security for Exchange - R","GravityZone Security for Exchange - EDU R","GravityZone Security for Exchange - GOV R","GravityZone Security for Exchange - CUPG"]
[{"$f":"IF(Products!$Z$8=$C$1,Q220,IF(Products!$Z$8=$C$2,R220,IF(Products!$Z$8=$C$3,S220,IF(Products!$Z$8=$C$4,T220,IF(Products!$Z$8=$C$5,W220,IF(Products!$Z$8=$C$6,U220,IF(Products!$Z$8=$C$7,V220)))))))","v":"GravityZone Security for Exchange"},"1 year","250 - 499","GravityZone Security for Exchange1 year250 - 499",null,13.174999999999999,{"$f":"IF(Products!$Z$8=$C$1,ROUND(F220*$B$3,2),IF(Products!$Z$8=$C$2,ROUND(F220*$B$3*(1+$D$2),2),IF(Products!$Z$8=$C$3,ROUND(F220*$B$3*(1+$D$3),2),IF(Products!$Z$8=$C$4,ROUND(F220*$B$3*(1+$D$4),2),IF(Products!$Z$8=$C$5,ROUND(F220*$B$3*(1+$D$5),2),IF(Products!$Z$8=$C$6,ROUND(F220*$B$3*(1+$D$6),2),IF(Products!$Z$8=$C$7,ROUND(F220*$B$3*(1+$D$7),2))))))))","v":13.18},{"$f":"IF(Products!$Z$8=$C$1,I220,IF(Products!$Z$8=$C$2,J220,IF(Products!$Z$8=$C$3,K220,IF(Products!$Z$8=$C$4,L220,IF(Products!$Z$8=$C$5,O220,IF(Products!$Z$8=$C$6,M220,IF(Products!$Z$8=$C$7,N220)))))))","v":"AL1241100G-EN"},"AL1241100G-EN","AL1541100G-EN","AL1641100G-EN","AL3241100G-EN","AL3541100G-EN","AL3641100G-EN","AL5241100G-EN",null,"GravityZone Security for Exchange","GravityZone Security for Exchange - EDU","GravityZone Security for Exchange - GOV","GravityZone Security for Exchange - R","GravityZone Security for Exchange - EDU R","GravityZone Security for Exchange - GOV R","GravityZone Security for Exchange - CUPG"]
[{"$f":"IF(Products!$Z$8=$C$1,Q221,IF(Products!$Z$8=$C$2,R221,IF(Products!$Z$8=$C$3,S221,IF(Products!$Z$8=$C$4,T221,IF(Products!$Z$8=$C$5,W221,IF(Products!$Z$8=$C$6,U221,IF(Products!$Z$8=$C$7,V221)))))))","v":"GravityZone Security for Exchange"},"1 year","500 - 999","GravityZone Security for Exchange1 year500 - 999",null,12.103999999999999,{"$f":"IF(Products!$Z$8=$C$1,ROUND(F221*$B$3,2),IF(Products!$Z$8=$C$2,ROUND(F221*$B$3*(1+$D$2),2),IF(Products!$Z$8=$C$3,ROUND(F221*$B$3*(1+$D$3),2),IF(Products!$Z$8=$C$4,ROUND(F221*$B$3*(1+$D$4),2),IF(Products!$Z$8=$C$5,ROUND(F221*$B$3*(1+$D$5),2),IF(Products!$Z$8=$C$6,ROUND(F221*$B$3*(1+$D$6),2),IF(Products!$Z$8=$C$7,ROUND(F221*$B$3*(1+$D$7),2))))))))","v":12.1},{"$f":"IF(Products!$Z$8=$C$1,I221,IF(Products!$Z$8=$C$2,J221,IF(Products!$Z$8=$C$3,K221,IF(Products!$Z$8=$C$4,L221,IF(Products!$Z$8=$C$5,O221,IF(Products!$Z$8=$C$6,M221,IF(Products!$Z$8=$C$7,N221)))))))","v":"AL1241100H-EN"},"AL1241100H-EN","AL1541100H-EN","AL1641100H-EN","AL3241100H-EN","AL3541100H-EN","AL3641100H-EN","AL5241100H-EN",null,"GravityZone Security for Exchange","GravityZone Security for Exchange - EDU","GravityZone Security for Exchange - GOV","GravityZone Security for Exchange - R","GravityZone Security for Exchange - EDU R","GravityZone Security for Exchange - GOV R","GravityZone Security for Exchange - CUPG"]
[{"$f":"IF(Products!$Z$8=$C$1,Q222,IF(Products!$Z$8=$C$2,R222,IF(Products!$Z$8=$C$3,S222,IF(Products!$Z$8=$C$4,T222,IF(Products!$Z$8=$C$5,W222,IF(Products!$Z$8=$C$6,U222,IF(Products!$Z$8=$C$7,V222)))))))","v":"GravityZone Security for Exchange"},"1 year","1000 - 2999","GravityZone Security for Exchange1 year1000 - 2999",null,11.032999999999999,{"$f":"IF(Products!$Z$8=$C$1,ROUND(F222*$B$3,2),IF(Products!$Z$8=$C$2,ROUND(F222*$B$3*(1+$D$2),2),IF(Products!$Z$8=$C$3,ROUND(F222*$B$3*(1+$D$3),2),IF(Products!$Z$8=$C$4,ROUND(F222*$B$3*(1+$D$4),2),IF(Products!$Z$8=$C$5,ROUND(F222*$B$3*(1+$D$5),2),IF(Products!$Z$8=$C$6,ROUND(F222*$B$3*(1+$D$6),2),IF(Products!$Z$8=$C$7,ROUND(F222*$B$3*(1+$D$7),2))))))))","v":11.03},{"$f":"IF(Products!$Z$8=$C$1,I222,IF(Products!$Z$8=$C$2,J222,IF(Products!$Z$8=$C$3,K222,IF(Products!$Z$8=$C$4,L222,IF(Products!$Z$8=$C$5,O222,IF(Products!$Z$8=$C$6,M222,IF(Products!$Z$8=$C$7,N222)))))))","v":"AL1241100I-EN"},"AL1241100I-EN","AL1541100I-EN","AL1641100I-EN","AL3241100I-EN","AL3541100I-EN","AL3641100I-EN","AL5241100I-EN",null,"GravityZone Security for Exchange","GravityZone Security for Exchange - EDU","GravityZone Security for Exchange - GOV","GravityZone Security for Exchange - R","GravityZone Security for Exchange - EDU R","GravityZone Security for Exchange - GOV R","GravityZone Security for Exchange - CUPG"]
[{"$f":"IF(Products!$Z$8=$C$1,Q223,IF(Products!$Z$8=$C$2,R223,IF(Products!$Z$8=$C$3,S223,IF(Products!$Z$8=$C$4,T223,IF(Products!$Z$8=$C$5,W223,IF(Products!$Z$8=$C$6,U223,IF(Products!$Z$8=$C$7,V223)))))))","v":"GravityZone Security for Exchange"},"1 year","3000+","GravityZone Security for Exchange1 year3000+",null,9.9619999999999997,{"$f":"IF(Products!$Z$8=$C$1,ROUND(F223*$B$3,2),IF(Products!$Z$8=$C$2,ROUND(F223*$B$3*(1+$D$2),2),IF(Products!$Z$8=$C$3,ROUND(F223*$B$3*(1+$D$3),2),IF(Products!$Z$8=$C$4,ROUND(F223*$B$3*(1+$D$4),2),IF(Products!$Z$8=$C$5,ROUND(F223*$B$3*(1+$D$5),2),IF(Products!$Z$8=$C$6,ROUND(F223*$B$3*(1+$D$6),2),IF(Products!$Z$8=$C$7,ROUND(F223*$B$3*(1+$D$7),2))))))))","v":9.9600000000000009},{"$f":"IF(Products!$Z$8=$C$1,I223,IF(Products!$Z$8=$C$2,J223,IF(Products!$Z$8=$C$3,K223,IF(Products!$Z$8=$C$4,L223,IF(Products!$Z$8=$C$5,O223,IF(Products!$Z$8=$C$6,M223,IF(Products!$Z$8=$C$7,N223)))))))","v":"AL1241100J-EN"},"AL1241100J-EN","AL1541100J-EN","AL1641100J-EN","AL3241100J-EN","AL3541100J-EN","AL3641100J-EN","AL5241100J-EN",null,"GravityZone Security for Exchange","GravityZone Security for Exchange - EDU","GravityZone Security for Exchange - GOV","GravityZone Security for Exchange - R","GravityZone Security for Exchange - EDU R","GravityZone Security for Exchange - GOV R","GravityZone Security for Exchange - CUPG"]
[{"$f":"IF(Products!$Z$8=$C$1,Q224,IF(Products!$Z$8=$C$2,R224,IF(Products!$Z$8=$C$3,S224,IF(Products!$Z$8=$C$4,T224,IF(Products!$Z$8=$C$5,W224,IF(Products!$Z$8=$C$6,U224,IF(Products!$Z$8=$C$7,V224)))))))","v":"GravityZone Security for Exchange"},"2 years","5 - 14","GravityZone Security for Exchange2 years5 - 14",null,37.659999999999997,{"$f":"IF(Products!$Z$8=$C$1,ROUND(F224*$B$3,2),IF(Products!$Z$8=$C$2,ROUND(F224*$B$3*(1+$D$2),2),IF(Products!$Z$8=$C$3,ROUND(F224*$B$3*(1+$D$3),2),IF(Products!$Z$8=$C$4,ROUND(F224*$B$3*(1+$D$4),2),IF(Products!$Z$8=$C$5,ROUND(F224*$B$3*(1+$D$5),2),IF(Products!$Z$8=$C$6,ROUND(F224*$B$3*(1+$D$6),2),IF(Products!$Z$8=$C$7,ROUND(F224*$B$3*(1+$D$7),2))))))))","v":37.659999999999997},{"$f":"IF(Products!$Z$8=$C$1,I224,IF(Products!$Z$8=$C$2,J224,IF(Products!$Z$8=$C$3,K224,IF(Products!$Z$8=$C$4,L224,IF(Products!$Z$8=$C$5,O224,IF(Products!$Z$8=$C$6,M224,IF(Products!$Z$8=$C$7,N224)))))))","v":"AL1241200A-EN"},"AL1241200A-EN","AL1541200A-EN","AL1641200A-EN","AL3241200A-EN","AL3541200A-EN","AL3641200A-EN","AL5241200A-EN",null,"GravityZone Security for Exchange","GravityZone Security for Exchange - EDU","GravityZone Security for Exchange - GOV","GravityZone Security for Exchange - R","GravityZone Security for Exchange - EDU R","GravityZone Security for Exchange - GOV R","GravityZone Security for Exchange - CUPG"]
[{"$f":"IF(Products!$Z$8=$C$1,Q225,IF(Products!$Z$8=$C$2,R225,IF(Products!$Z$8=$C$3,S225,IF(Products!$Z$8=$C$4,T225,IF(Products!$Z$8=$C$5,W225,IF(Products!$Z$8=$C$6,U225,IF(Products!$Z$8=$C$7,V225)))))))","v":"GravityZone Security for Exchange"},"2 years","15 - 24","GravityZone Security for Exchange2 years15 - 24",null,34.229999999999997,{"$f":"IF(Products!$Z$8=$C$1,ROUND(F225*$B$3,2),IF(Products!$Z$8=$C$2,ROUND(F225*$B$3*(1+$D$2),2),IF(Products!$Z$8=$C$3,ROUND(F225*$B$3*(1+$D$3),2),IF(Products!$Z$8=$C$4,ROUND(F225*$B$3*(1+$D$4),2),IF(Products!$Z$8=$C$5,ROUND(F225*$B$3*(1+$D$5),2),IF(Products!$Z$8=$C$6,ROUND(F225*$B$3*(1+$D$6),2),IF(Products!$Z$8=$C$7,ROUND(F225*$B$3*(1+$D$7),2))))))))","v":34.229999999999997},{"$f":"IF(Products!$Z$8=$C$1,I225,IF(Products!$Z$8=$C$2,J225,IF(Products!$Z$8=$C$3,K225,IF(Products!$Z$8=$C$4,L225,IF(Products!$Z$8=$C$5,O225,IF(Products!$Z$8=$C$6,M225,IF(Products!$Z$8=$C$7,N225)))))))","v":"AL1241200B-EN"},"AL1241200B-EN","AL1541200B-EN","AL1641200B-EN","AL3241200B-EN","AL3541200B-EN","AL3641200B-EN","AL5241200B-EN",null,"GravityZone Security for Exchange","GravityZone Security for Exchange - EDU","GravityZone Security for Exchange - GOV","GravityZone Security for Exchange - R","GravityZone Security for Exchange - EDU R","GravityZone Security for Exchange - GOV R","GravityZone Security for Exchange - CUPG"]
[{"$f":"IF(Products!$Z$8=$C$1,Q226,IF(Products!$Z$8=$C$2,R226,IF(Products!$Z$8=$C$3,S226,IF(Products!$Z$8=$C$4,T226,IF(Products!$Z$8=$C$5,W226,IF(Products!$Z$8=$C$6,U226,IF(Products!$Z$8=$C$7,V226)))))))","v":"GravityZone Security for Exchange"},"2 years","25 - 49","GravityZone Security for Exchange2 years25 - 49",null,30.8,{"$f":"IF(Products!$Z$8=$C$1,ROUND(F226*$B$3,2),IF(Products!$Z$8=$C$2,ROUND(F226*$B$3*(1+$D$2),2),IF(Products!$Z$8=$C$3,ROUND(F226*$B$3*(1+$D$3),2),IF(Products!$Z$8=$C$4,ROUND(F226*$B$3*(1+$D$4),2),IF(Products!$Z$8=$C$5,ROUND(F226*$B$3*(1+$D$5),2),IF(Products!$Z$8=$C$6,ROUND(F226*$B$3*(1+$D$6),2),IF(Products!$Z$8=$C$7,ROUND(F226*$B$3*(1+$D$7),2))))))))","v":30.8},{"$f":"IF(Products!$Z$8=$C$1,I226,IF(Products!$Z$8=$C$2,J226,IF(Products!$Z$8=$C$3,K226,IF(Products!$Z$8=$C$4,L226,IF(Products!$Z$8=$C$5,O226,IF(Products!$Z$8=$C$6,M226,IF(Products!$Z$8=$C$7,N226)))))))","v":"AL1241200C-EN"},"AL1241200C-EN","AL1541200C-EN","AL1641200C-EN","AL3241200C-EN","AL3541200C-EN","AL3641200C-EN","AL5241200C-EN",null,"GravityZone Security for Exchange","GravityZone Security for Exchange - EDU","GravityZone Security for Exchange - GOV","GravityZone Security for Exchange - R","GravityZone Security for Exchange - EDU R","GravityZone Security for Exchange - GOV R","GravityZone Security for Exchange - CUPG"]
[{"$f":"IF(Products!$Z$8=$C$1,Q227,IF(Products!$Z$8=$C$2,R227,IF(Products!$Z$8=$C$3,S227,IF(Products!$Z$8=$C$4,T227,IF(Products!$Z$8=$C$5,W227,IF(Products!$Z$8=$C$6,U227,IF(Products!$Z$8=$C$7,V227)))))))","v":"GravityZone Security for Exchange"},"2 years","50 - 99","GravityZone Security for Exchange2 years50 - 99",null,27.95,{"$f":"IF(Products!$Z$8=$C$1,ROUND(F227*$B$3,2),IF(Products!$Z$8=$C$2,ROUND(F227*$B$3*(1+$D$2),2),IF(Products!$Z$8=$C$3,ROUND(F227*$B$3*(1+$D$3),2),IF(Products!$Z$8=$C$4,ROUND(F227*$B$3*(1+$D$4),2),IF(Products!$Z$8=$C$5,ROUND(F227*$B$3*(1+$D$5),2),IF(Products!$Z$8=$C$6,ROUND(F227*$B$3*(1+$D$6),2),IF(Products!$Z$8=$C$7,ROUND(F227*$B$3*(1+$D$7),2))))))))","v":27.95},{"$f":"IF(Products!$Z$8=$C$1,I227,IF(Products!$Z$8=$C$2,J227,IF(Products!$Z$8=$C$3,K227,IF(Products!$Z$8=$C$4,L227,IF(Products!$Z$8=$C$5,O227,IF(Products!$Z$8=$C$6,M227,IF(Products!$Z$8=$C$7,N227)))))))","v":"AL1241200D-EN"},"AL1241200D-EN","AL1541200D-EN","AL1641200D-EN","AL3241200D-EN","AL3541200D-EN","AL3641200D-EN","AL5241200D-EN",null,"GravityZone Security for Exchange","GravityZone Security for Exchange - EDU","GravityZone Security for Exchange - GOV","GravityZone Security for Exchange - R","GravityZone Security for Exchange - EDU R","GravityZone Security for Exchange - GOV R","GravityZone Security for Exchange - CUPG"]
[{"$f":"IF(Products!$Z$8=$C$1,Q228,IF(Products!$Z$8=$C$2,R228,IF(Products!$Z$8=$C$3,S228,IF(Products!$Z$8=$C$4,T228,IF(Products!$Z$8=$C$5,W228,IF(Products!$Z$8=$C$6,U228,IF(Products!$Z$8=$C$7,V228)))))))","v":"GravityZone Security for Exchange"},"2 years","100 - 149","GravityZone Security for Exchange2 years100 - 149",null,25.09,{"$f":"IF(Products!$Z$8=$C$1,ROUND(F228*$B$3,2),IF(Products!$Z$8=$C$2,ROUND(F228*$B$3*(1+$D$2),2),IF(Products!$Z$8=$C$3,ROUND(F228*$B$3*(1+$D$3),2),IF(Products!$Z$8=$C$4,ROUND(F228*$B$3*(1+$D$4),2),IF(Products!$Z$8=$C$5,ROUND(F228*$B$3*(1+$D$5),2),IF(Products!$Z$8=$C$6,ROUND(F228*$B$3*(1+$D$6),2),IF(Products!$Z$8=$C$7,ROUND(F228*$B$3*(1+$D$7),2))))))))","v":25.09},{"$f":"IF(Products!$Z$8=$C$1,I228,IF(Products!$Z$8=$C$2,J228,IF(Products!$Z$8=$C$3,K228,IF(Products!$Z$8=$C$4,L228,IF(Products!$Z$8=$C$5,O228,IF(Products!$Z$8=$C$6,M228,IF(Products!$Z$8=$C$7,N228)))))))","v":"AL1241200E-EN"},"AL1241200E-EN","AL1541200E-EN","AL1641200E-EN","AL3241200E-EN","AL3541200E-EN","AL3641200E-EN","AL5241200E-EN",null,"GravityZone Security for Exchange","GravityZone Security for Exchange - EDU","GravityZone Security for Exchange - GOV","GravityZone Security for Exchange - R","GravityZone Security for Exchange - EDU R","GravityZone Security for Exchange - GOV R","GravityZone Security for Exchange - CUPG"]
[{"$f":"IF(Products!$Z$8=$C$1,Q229,IF(Products!$Z$8=$C$2,R229,IF(Products!$Z$8=$C$3,S229,IF(Products!$Z$8=$C$4,T229,IF(Products!$Z$8=$C$5,W229,IF(Products!$Z$8=$C$6,U229,IF(Products!$Z$8=$C$7,V229)))))))","v":"GravityZone Security for Exchange"},"2 years","150 - 249","GravityZone Security for Exchange2 years150 - 249",null,23.02,{"$f":"IF(Products!$Z$8=$C$1,ROUND(F229*$B$3,2),IF(Products!$Z$8=$C$2,ROUND(F229*$B$3*(1+$D$2),2),IF(Products!$Z$8=$C$3,ROUND(F229*$B$3*(1+$D$3),2),IF(Products!$Z$8=$C$4,ROUND(F229*$B$3*(1+$D$4),2),IF(Products!$Z$8=$C$5,ROUND(F229*$B$3*(1+$D$5),2),IF(Products!$Z$8=$C$6,ROUND(F229*$B$3*(1+$D$6),2),IF(Products!$Z$8=$C$7,ROUND(F229*$B$3*(1+$D$7),2))))))))","v":23.02},{"$f":"IF(Products!$Z$8=$C$1,I229,IF(Products!$Z$8=$C$2,J229,IF(Products!$Z$8=$C$3,K229,IF(Products!$Z$8=$C$4,L229,IF(Products!$Z$8=$C$5,O229,IF(Products!$Z$8=$C$6,M229,IF(Products!$Z$8=$C$7,N229)))))))","v":"AL1241200F-EN"},"AL1241200F-EN","AL1541200F-EN","AL1641200F-EN","AL3241200F-EN","AL3541200F-EN","AL3641200F-EN","AL5241200F-EN",null,"GravityZone Security for Exchange","GravityZone Security for Exchange - EDU","GravityZone Security for Exchange - GOV","GravityZone Security for Exchange - R","GravityZone Security for Exchange - EDU R","GravityZone Security for Exchange - GOV R","GravityZone Security for Exchange - CUPG"]
[{"$f":"IF(Products!$Z$8=$C$1,Q230,IF(Products!$Z$8=$C$2,R230,IF(Products!$Z$8=$C$3,S230,IF(Products!$Z$8=$C$4,T230,IF(Products!$Z$8=$C$5,W230,IF(Products!$Z$8=$C$6,U230,IF(Products!$Z$8=$C$7,V230)))))))","v":"GravityZone Security for Exchange"},"2 years","250 - 499","GravityZone Security for Exchange2 years250 - 499",null,21.08,{"$f":"IF(Products!$Z$8=$C$1,ROUND(F230*$B$3,2),IF(Products!$Z$8=$C$2,ROUND(F230*$B$3*(1+$D$2),2),IF(Products!$Z$8=$C$3,ROUND(F230*$B$3*(1+$D$3),2),IF(Products!$Z$8=$C$4,ROUND(F230*$B$3*(1+$D$4),2),IF(Products!$Z$8=$C$5,ROUND(F230*$B$3*(1+$D$5),2),IF(Products!$Z$8=$C$6,ROUND(F230*$B$3*(1+$D$6),2),IF(Products!$Z$8=$C$7,ROUND(F230*$B$3*(1+$D$7),2))))))))","v":21.08},{"$f":"IF(Products!$Z$8=$C$1,I230,IF(Products!$Z$8=$C$2,J230,IF(Products!$Z$8=$C$3,K230,IF(Products!$Z$8=$C$4,L230,IF(Products!$Z$8=$C$5,O230,IF(Products!$Z$8=$C$6,M230,IF(Products!$Z$8=$C$7,N230)))))))","v":"AL1241200G-EN"},"AL1241200G-EN","AL1541200G-EN","AL1641200G-EN","AL3241200G-EN","AL3541200G-EN","AL3641200G-EN","AL5241200G-EN",null,"GravityZone Security for Exchange","GravityZone Security for Exchange - EDU","GravityZone Security for Exchange - GOV","GravityZone Security for Exchange - R","GravityZone Security for Exchange - EDU R","GravityZone Security for Exchange - GOV R","GravityZone Security for Exchange - CUPG"]
[{"$f":"IF(Products!$Z$8=$C$1,Q231,IF(Products!$Z$8=$C$2,R231,IF(Products!$Z$8=$C$3,S231,IF(Products!$Z$8=$C$4,T231,IF(Products!$Z$8=$C$5,W231,IF(Products!$Z$8=$C$6,U231,IF(Products!$Z$8=$C$7,V231)))))))","v":"GravityZone Security for Exchange"},"2 years","500 - 999","GravityZone Security for Exchange2 years500 - 999",null,19.37,{"$f":"IF(Products!$Z$8=$C$1,ROUND(F231*$B$3,2),IF(Products!$Z$8=$C$2,ROUND(F231*$B$3*(1+$D$2),2),IF(Products!$Z$8=$C$3,ROUND(F231*$B$3*(1+$D$3),2),IF(Products!$Z$8=$C$4,ROUND(F231*$B$3*(1+$D$4),2),IF(Products!$Z$8=$C$5,ROUND(F231*$B$3*(1+$D$5),2),IF(Products!$Z$8=$C$6,ROUND(F231*$B$3*(1+$D$6),2),IF(Products!$Z$8=$C$7,ROUND(F231*$B$3*(1+$D$7),2))))))))","v":19.37},{"$f":"IF(Products!$Z$8=$C$1,I231,IF(Products!$Z$8=$C$2,J231,IF(Products!$Z$8=$C$3,K231,IF(Products!$Z$8=$C$4,L231,IF(Products!$Z$8=$C$5,O231,IF(Products!$Z$8=$C$6,M231,IF(Products!$Z$8=$C$7,N231)))))))","v":"AL1241200H-EN"},"AL1241200H-EN","AL1541200H-EN","AL1641200H-EN","AL3241200H-EN","AL3541200H-EN","AL3641200H-EN","AL5241200H-EN",null,"GravityZone Security for Exchange","GravityZone Security for Exchange - EDU","GravityZone Security for Exchange - GOV","GravityZone Security for Exchange - R","GravityZone Security for Exchange - EDU R","GravityZone Security for Exchange - GOV R","GravityZone Security for Exchange - CUPG"]
[{"$f":"IF(Products!$Z$8=$C$1,Q232,IF(Products!$Z$8=$C$2,R232,IF(Products!$Z$8=$C$3,S232,IF(Products!$Z$8=$C$4,T232,IF(Products!$Z$8=$C$5,W232,IF(Products!$Z$8=$C$6,U232,IF(Products!$Z$8=$C$7,V232)))))))","v":"GravityZone Security for Exchange"},"2 years","1000 - 2999","GravityZone Security for Exchange2 years1000 - 2999",null,17.649999999999999,{"$f":"IF(Products!$Z$8=$C$1,ROUND(F232*$B$3,2),IF(Products!$Z$8=$C$2,ROUND(F232*$B$3*(1+$D$2),2),IF(Products!$Z$8=$C$3,ROUND(F232*$B$3*(1+$D$3),2),IF(Products!$Z$8=$C$4,ROUND(F232*$B$3*(1+$D$4),2),IF(Products!$Z$8=$C$5,ROUND(F232*$B$3*(1+$D$5),2),IF(Products!$Z$8=$C$6,ROUND(F232*$B$3*(1+$D$6),2),IF(Products!$Z$8=$C$7,ROUND(F232*$B$3*(1+$D$7),2))))))))","v":17.649999999999999},{"$f":"IF(Products!$Z$8=$C$1,I232,IF(Products!$Z$8=$C$2,J232,IF(Products!$Z$8=$C$3,K232,IF(Products!$Z$8=$C$4,L232,IF(Products!$Z$8=$C$5,O232,IF(Products!$Z$8=$C$6,M232,IF(Products!$Z$8=$C$7,N232)))))))","v":"AL1241200I-EN"},"AL1241200I-EN","AL1541200I-EN","AL1641200I-EN","AL3241200I-EN","AL3541200I-EN","AL3641200I-EN","AL5241200I-EN",null,"GravityZone Security for Exchange","GravityZone Security for Exchange - EDU","GravityZone Security for Exchange - GOV","GravityZone Security for Exchange - R","GravityZone Security for Exchange - EDU R","GravityZone Security for Exchange - GOV R","GravityZone Security for Exchange - CUPG"]
[{"$f":"IF(Products!$Z$8=$C$1,Q233,IF(Products!$Z$8=$C$2,R233,IF(Products!$Z$8=$C$3,S233,IF(Products!$Z$8=$C$4,T233,IF(Products!$Z$8=$C$5,W233,IF(Products!$Z$8=$C$6,U233,IF(Products!$Z$8=$C$7,V233)))))))","v":"GravityZone Security for Exchange"},"2 years","3000+","GravityZone Security for Exchange2 years3000+",null,15.94,{"$f":"IF(Products!$Z$8=$C$1,ROUND(F233*$B$3,2),IF(Products!$Z$8=$C$2,ROUND(F233*$B$3*(1+$D$2),2),IF(Products!$Z$8=$C$3,ROUND(F233*$B$3*(1+$D$3),2),IF(Products!$Z$8=$C$4,ROUND(F233*$B$3*(1+$D$4),2),IF(Products!$Z$8=$C$5,ROUND(F233*$B$3*(1+$D$5),2),IF(Products!$Z$8=$C$6,ROUND(F233*$B$3*(1+$D$6),2),IF(Products!$Z$8=$C$7,ROUND(F233*$B$3*(1+$D$7),2))))))))","v":15.94},{"$f":"IF(Products!$Z$8=$C$1,I233,IF(Products!$Z$8=$C$2,J233,IF(Products!$Z$8=$C$3,K233,IF(Products!$Z$8=$C$4,L233,IF(Products!$Z$8=$C$5,O233,IF(Products!$Z$8=$C$6,M233,IF(Products!$Z$8=$C$7,N233)))))))","v":"AL1241200J-EN"},"AL1241200J-EN","AL1541200J-EN","AL1641200J-EN","AL3241200J-EN","AL3541200J-EN","AL3641200J-EN","AL5241200J-EN",null,"GravityZone Security for Exchange","GravityZone Security for Exchange - EDU","GravityZone Security for Exchange - GOV","GravityZone Security for Exchange - R","GravityZone Security for Exchange - EDU R","GravityZone Security for Exchange - GOV R","GravityZone Security for Exchange - CUPG"]
[{"$f":"IF(Products!$Z$8=$C$1,Q234,IF(Products!$Z$8=$C$2,R234,IF(Products!$Z$8=$C$3,S234,IF(Products!$Z$8=$C$4,T234,IF(Products!$Z$8=$C$5,W234,IF(Products!$Z$8=$C$6,U234,IF(Products!$Z$8=$C$7,V234)))))))","v":"GravityZone Security for Exchange"},"3 years","5 - 14","GravityZone Security for Exchange3 years5 - 14",null,48.246749999999999,{"$f":"IF(Products!$Z$8=$C$1,ROUND(F234*$B$3,2),IF(Products!$Z$8=$C$2,ROUND(F234*$B$3*(1+$D$2),2),IF(Products!$Z$8=$C$3,ROUND(F234*$B$3*(1+$D$3),2),IF(Products!$Z$8=$C$4,ROUND(F234*$B$3*(1+$D$4),2),IF(Products!$Z$8=$C$5,ROUND(F234*$B$3*(1+$D$5),2),IF(Products!$Z$8=$C$6,ROUND(F234*$B$3*(1+$D$6),2),IF(Products!$Z$8=$C$7,ROUND(F234*$B$3*(1+$D$7),2))))))))","v":48.25},{"$f":"IF(Products!$Z$8=$C$1,I234,IF(Products!$Z$8=$C$2,J234,IF(Products!$Z$8=$C$3,K234,IF(Products!$Z$8=$C$4,L234,IF(Products!$Z$8=$C$5,O234,IF(Products!$Z$8=$C$6,M234,IF(Products!$Z$8=$C$7,N234)))))))","v":"AL1241300A-EN"},"AL1241300A-EN","AL1541300A-EN","AL1641300A-EN","AL3241300A-EN","AL3541300A-EN","AL3641300A-EN","AL5241300A-EN",null,"GravityZone Security for Exchange","GravityZone Security for Exchange - EDU","GravityZone Security for Exchange - GOV","GravityZone Security for Exchange - R","GravityZone Security for Exchange - EDU R","GravityZone Security for Exchange - GOV R","GravityZone Security for Exchange - CUPG"]
[{"$f":"IF(Products!$Z$8=$C$1,Q235,IF(Products!$Z$8=$C$2,R235,IF(Products!$Z$8=$C$3,S235,IF(Products!$Z$8=$C$4,T235,IF(Products!$Z$8=$C$5,W235,IF(Products!$Z$8=$C$6,U235,IF(Products!$Z$8=$C$7,V235)))))))","v":"GravityZone Security for Exchange"},"3 years","15 - 24","GravityZone Security for Exchange3 years15 - 24",null,43.859749999999998,{"$f":"IF(Products!$Z$8=$C$1,ROUND(F235*$B$3,2),IF(Products!$Z$8=$C$2,ROUND(F235*$B$3*(1+$D$2),2),IF(Products!$Z$8=$C$3,ROUND(F235*$B$3*(1+$D$3),2),IF(Products!$Z$8=$C$4,ROUND(F235*$B$3*(1+$D$4),2),IF(Products!$Z$8=$C$5,ROUND(F235*$B$3*(1+$D$5),2),IF(Products!$Z$8=$C$6,ROUND(F235*$B$3*(1+$D$6),2),IF(Products!$Z$8=$C$7,ROUND(F235*$B$3*(1+$D$7),2))))))))","v":43.86},{"$f":"IF(Products!$Z$8=$C$1,I235,IF(Products!$Z$8=$C$2,J235,IF(Products!$Z$8=$C$3,K235,IF(Products!$Z$8=$C$4,L235,IF(Products!$Z$8=$C$5,O235,IF(Products!$Z$8=$C$6,M235,IF(Products!$Z$8=$C$7,N235)))))))","v":"AL1241300B-EN"},"AL1241300B-EN","AL1541300B-EN","AL1641300B-EN","AL3241300B-EN","AL3541300B-EN","AL3641300B-EN","AL5241300B-EN",null,"GravityZone Security for Exchange","GravityZone Security for Exchange - EDU","GravityZone Security for Exchange - GOV","GravityZone Security for Exchange - R","GravityZone Security for Exchange - EDU R","GravityZone Security for Exchange - GOV R","GravityZone Security for Exchange - CUPG"]
[{"$f":"IF(Products!$Z$8=$C$1,Q236,IF(Products!$Z$8=$C$2,R236,IF(Products!$Z$8=$C$3,S236,IF(Products!$Z$8=$C$4,T236,IF(Products!$Z$8=$C$5,W236,IF(Products!$Z$8=$C$6,U236,IF(Products!$Z$8=$C$7,V236)))))))","v":"GravityZone Security for Exchange"},"3 years","25 - 49","GravityZone Security for Exchange3 years25 - 49",null,39.472749999999998,{"$f":"IF(Products!$Z$8=$C$1,ROUND(F236*$B$3,2),IF(Products!$Z$8=$C$2,ROUND(F236*$B$3*(1+$D$2),2),IF(Products!$Z$8=$C$3,ROUND(F236*$B$3*(1+$D$3),2),IF(Products!$Z$8=$C$4,ROUND(F236*$B$3*(1+$D$4),2),IF(Products!$Z$8=$C$5,ROUND(F236*$B$3*(1+$D$5),2),IF(Products!$Z$8=$C$6,ROUND(F236*$B$3*(1+$D$6),2),IF(Products!$Z$8=$C$7,ROUND(F236*$B$3*(1+$D$7),2))))))))","v":39.47},{"$f":"IF(Products!$Z$8=$C$1,I236,IF(Products!$Z$8=$C$2,J236,IF(Products!$Z$8=$C$3,K236,IF(Products!$Z$8=$C$4,L236,IF(Products!$Z$8=$C$5,O236,IF(Products!$Z$8=$C$6,M236,IF(Products!$Z$8=$C$7,N236)))))))","v":"AL1241300C-EN"},"AL1241300C-EN","AL1541300C-EN","AL1641300C-EN","AL3241300C-EN","AL3541300C-EN","AL3641300C-EN","AL5241300C-EN",null,"GravityZone Security for Exchange","GravityZone Security for Exchange - EDU","GravityZone Security for Exchange - GOV","GravityZone Security for Exchange - R","GravityZone Security for Exchange - EDU R","GravityZone Security for Exchange - GOV R","GravityZone Security for Exchange - CUPG"]
[{"$f":"IF(Products!$Z$8=$C$1,Q237,IF(Products!$Z$8=$C$2,R237,IF(Products!$Z$8=$C$3,S237,IF(Products!$Z$8=$C$4,T237,IF(Products!$Z$8=$C$5,W237,IF(Products!$Z$8=$C$6,U237,IF(Products!$Z$8=$C$7,V237)))))))","v":"GravityZone Security for Exchange"},"3 years","50 - 99","GravityZone Security for Exchange3 years50 - 99",null,35.813499999999998,{"$f":"IF(Products!$Z$8=$C$1,ROUND(F237*$B$3,2),IF(Products!$Z$8=$C$2,ROUND(F237*$B$3*(1+$D$2),2),IF(Products!$Z$8=$C$3,ROUND(F237*$B$3*(1+$D$3),2),IF(Products!$Z$8=$C$4,ROUND(F237*$B$3*(1+$D$4),2),IF(Products!$Z$8=$C$5,ROUND(F237*$B$3*(1+$D$5),2),IF(Products!$Z$8=$C$6,ROUND(F237*$B$3*(1+$D$6),2),IF(Products!$Z$8=$C$7,ROUND(F237*$B$3*(1+$D$7),2))))))))","v":35.81},{"$f":"IF(Products!$Z$8=$C$1,I237,IF(Products!$Z$8=$C$2,J237,IF(Products!$Z$8=$C$3,K237,IF(Products!$Z$8=$C$4,L237,IF(Products!$Z$8=$C$5,O237,IF(Products!$Z$8=$C$6,M237,IF(Products!$Z$8=$C$7,N237)))))))","v":"AL1241300D-EN"},"AL1241300D-EN","AL1541300D-EN","AL1641300D-EN","AL3241300D-EN","AL3541300D-EN","AL3641300D-EN","AL5241300D-EN",null,"GravityZone Security for Exchange","GravityZone Security for Exchange - EDU","GravityZone Security for Exchange - GOV","GravityZone Security for Exchange - R","GravityZone Security for Exchange - EDU R","GravityZone Security for Exchange - GOV R","GravityZone Security for Exchange - CUPG"]
[{"$f":"IF(Products!$Z$8=$C$1,Q238,IF(Products!$Z$8=$C$2,R238,IF(Products!$Z$8=$C$3,S238,IF(Products!$Z$8=$C$4,T238,IF(Products!$Z$8=$C$5,W238,IF(Products!$Z$8=$C$6,U238,IF(Products!$Z$8=$C$7,V238)))))))","v":"GravityZone Security for Exchange"},"3 years","100 - 149","GravityZone Security for Exchange3 years100 - 149",null,32.154249999999998,{"$f":"IF(Products!$Z$8=$C$1,ROUND(F238*$B$3,2),IF(Products!$Z$8=$C$2,ROUND(F238*$B$3*(1+$D$2),2),IF(Products!$Z$8=$C$3,ROUND(F238*$B$3*(1+$D$3),2),IF(Products!$Z$8=$C$4,ROUND(F238*$B$3*(1+$D$4),2),IF(Products!$Z$8=$C$5,ROUND(F238*$B$3*(1+$D$5),2),IF(Products!$Z$8=$C$6,ROUND(F238*$B$3*(1+$D$6),2),IF(Products!$Z$8=$C$7,ROUND(F238*$B$3*(1+$D$7),2))))))))","v":32.15},{"$f":"IF(Products!$Z$8=$C$1,I238,IF(Products!$Z$8=$C$2,J238,IF(Products!$Z$8=$C$3,K238,IF(Products!$Z$8=$C$4,L238,IF(Products!$Z$8=$C$5,O238,IF(Products!$Z$8=$C$6,M238,IF(Products!$Z$8=$C$7,N238)))))))","v":"AL1241300E-EN"},"AL1241300E-EN","AL1541300E-EN","AL1641300E-EN","AL3241300E-EN","AL3541300E-EN","AL3641300E-EN","AL5241300E-EN",null,"GravityZone Security for Exchange","GravityZone Security for Exchange - EDU","GravityZone Security for Exchange - GOV","GravityZone Security for Exchange - R","GravityZone Security for Exchange - EDU R","GravityZone Security for Exchange - GOV R","GravityZone Security for Exchange - CUPG"]
[{"$f":"IF(Products!$Z$8=$C$1,Q239,IF(Products!$Z$8=$C$2,R239,IF(Products!$Z$8=$C$3,S239,IF(Products!$Z$8=$C$4,T239,IF(Products!$Z$8=$C$5,W239,IF(Products!$Z$8=$C$6,U239,IF(Products!$Z$8=$C$7,V239)))))))","v":"GravityZone Security for Exchange"},"3 years","150 - 249","GravityZone Security for Exchange3 years150 - 249",null,29.499499999999998,{"$f":"IF(Products!$Z$8=$C$1,ROUND(F239*$B$3,2),IF(Products!$Z$8=$C$2,ROUND(F239*$B$3*(1+$D$2),2),IF(Products!$Z$8=$C$3,ROUND(F239*$B$3*(1+$D$3),2),IF(Products!$Z$8=$C$4,ROUND(F239*$B$3*(1+$D$4),2),IF(Products!$Z$8=$C$5,ROUND(F239*$B$3*(1+$D$5),2),IF(Products!$Z$8=$C$6,ROUND(F239*$B$3*(1+$D$6),2),IF(Products!$Z$8=$C$7,ROUND(F239*$B$3*(1+$D$7),2))))))))","v":29.5},{"$f":"IF(Products!$Z$8=$C$1,I239,IF(Products!$Z$8=$C$2,J239,IF(Products!$Z$8=$C$3,K239,IF(Products!$Z$8=$C$4,L239,IF(Products!$Z$8=$C$5,O239,IF(Products!$Z$8=$C$6,M239,IF(Products!$Z$8=$C$7,N239)))))))","v":"AL1241300F-EN"},"AL1241300F-EN","AL1541300F-EN","AL1641300F-EN","AL3241300F-EN","AL3541300F-EN","AL3641300F-EN","AL5241300F-EN",null,"GravityZone Security for Exchange","GravityZone Security for Exchange - EDU","GravityZone Security for Exchange - GOV","GravityZone Security for Exchange - R","GravityZone Security for Exchange - EDU R","GravityZone Security for Exchange - GOV R","GravityZone Security for Exchange - CUPG"]
[{"$f":"IF(Products!$Z$8=$C$1,Q240,IF(Products!$Z$8=$C$2,R240,IF(Products!$Z$8=$C$3,S240,IF(Products!$Z$8=$C$4,T240,IF(Products!$Z$8=$C$5,W240,IF(Products!$Z$8=$C$6,U240,IF(Products!$Z$8=$C$7,V240)))))))","v":"GravityZone Security for Exchange"},"3 years","250 - 499","GravityZone Security for Exchange3 years250 - 499",null,27.008749999999999,{"$f":"IF(Products!$Z$8=$C$1,ROUND(F240*$B$3,2),IF(Products!$Z$8=$C$2,ROUND(F240*$B$3*(1+$D$2),2),IF(Products!$Z$8=$C$3,ROUND(F240*$B$3*(1+$D$3),2),IF(Products!$Z$8=$C$4,ROUND(F240*$B$3*(1+$D$4),2),IF(Products!$Z$8=$C$5,ROUND(F240*$B$3*(1+$D$5),2),IF(Products!$Z$8=$C$6,ROUND(F240*$B$3*(1+$D$6),2),IF(Products!$Z$8=$C$7,ROUND(F240*$B$3*(1+$D$7),2))))))))","v":27.01},{"$f":"IF(Products!$Z$8=$C$1,I240,IF(Products!$Z$8=$C$2,J240,IF(Products!$Z$8=$C$3,K240,IF(Products!$Z$8=$C$4,L240,IF(Products!$Z$8=$C$5,O240,IF(Products!$Z$8=$C$6,M240,IF(Products!$Z$8=$C$7,N240)))))))","v":"AL1241300G-EN"},"AL1241300G-EN","AL1541300G-EN","AL1641300G-EN","AL3241300G-EN","AL3541300G-EN","AL3641300G-EN","AL5241300G-EN",null,"GravityZone Security for Exchange","GravityZone Security for Exchange - EDU","GravityZone Security for Exchange - GOV","GravityZone Security for Exchange - R","GravityZone Security for Exchange - EDU R","GravityZone Security for Exchange - GOV R","GravityZone Security for Exchange - CUPG"]
[{"$f":"IF(Products!$Z$8=$C$1,Q241,IF(Products!$Z$8=$C$2,R241,IF(Products!$Z$8=$C$3,S241,IF(Products!$Z$8=$C$4,T241,IF(Products!$Z$8=$C$5,W241,IF(Products!$Z$8=$C$6,U241,IF(Products!$Z$8=$C$7,V241)))))))","v":"GravityZone Security for Exchange"},"3 years","500 - 999","GravityZone Security for Exchange3 years500 - 999",null,24.815249999999999,{"$f":"IF(Products!$Z$8=$C$1,ROUND(F241*$B$3,2),IF(Products!$Z$8=$C$2,ROUND(F241*$B$3*(1+$D$2),2),IF(Products!$Z$8=$C$3,ROUND(F241*$B$3*(1+$D$3),2),IF(Products!$Z$8=$C$4,ROUND(F241*$B$3*(1+$D$4),2),IF(Products!$Z$8=$C$5,ROUND(F241*$B$3*(1+$D$5),2),IF(Products!$Z$8=$C$6,ROUND(F241*$B$3*(1+$D$6),2),IF(Products!$Z$8=$C$7,ROUND(F241*$B$3*(1+$D$7),2))))))))","v":24.82},{"$f":"IF(Products!$Z$8=$C$1,I241,IF(Products!$Z$8=$C$2,J241,IF(Products!$Z$8=$C$3,K241,IF(Products!$Z$8=$C$4,L241,IF(Products!$Z$8=$C$5,O241,IF(Products!$Z$8=$C$6,M241,IF(Products!$Z$8=$C$7,N241)))))))","v":"AL1241300H-EN"},"AL1241300H-EN","AL1541300H-EN","AL1641300H-EN","AL3241300H-EN","AL3541300H-EN","AL3641300H-EN","AL5241300H-EN",null,"GravityZone Security for Exchange","GravityZone Security for Exchange - EDU","GravityZone Security for Exchange - GOV","GravityZone Security for Exchange - R","GravityZone Security for Exchange - EDU R","GravityZone Security for Exchange - GOV R","GravityZone Security for Exchange - CUPG"]
[{"$f":"IF(Products!$Z$8=$C$1,Q242,IF(Products!$Z$8=$C$2,R242,IF(Products!$Z$8=$C$3,S242,IF(Products!$Z$8=$C$4,T242,IF(Products!$Z$8=$C$5,W242,IF(Products!$Z$8=$C$6,U242,IF(Products!$Z$8=$C$7,V242)))))))","v":"GravityZone Security for Exchange"},"3 years","1000 - 2999","GravityZone Security for Exchange3 years1000 - 2999",null,22.621749999999999,{"$f":"IF(Products!$Z$8=$C$1,ROUND(F242*$B$3,2),IF(Products!$Z$8=$C$2,ROUND(F242*$B$3*(1+$D$2),2),IF(Products!$Z$8=$C$3,ROUND(F242*$B$3*(1+$D$3),2),IF(Products!$Z$8=$C$4,ROUND(F242*$B$3*(1+$D$4),2),IF(Products!$Z$8=$C$5,ROUND(F242*$B$3*(1+$D$5),2),IF(Products!$Z$8=$C$6,ROUND(F242*$B$3*(1+$D$6),2),IF(Products!$Z$8=$C$7,ROUND(F242*$B$3*(1+$D$7),2))))))))","v":22.62},{"$f":"IF(Products!$Z$8=$C$1,I242,IF(Products!$Z$8=$C$2,J242,IF(Products!$Z$8=$C$3,K242,IF(Products!$Z$8=$C$4,L242,IF(Products!$Z$8=$C$5,O242,IF(Products!$Z$8=$C$6,M242,IF(Products!$Z$8=$C$7,N242)))))))","v":"AL1241300I-EN"},"AL1241300I-EN","AL1541300I-EN","AL1641300I-EN","AL3241300I-EN","AL3541300I-EN","AL3641300I-EN","AL5241300I-EN",null,"GravityZone Security for Exchange","GravityZone Security for Exchange - EDU","GravityZone Security for Exchange - GOV","GravityZone Security for Exchange - R","GravityZone Security for Exchange - EDU R","GravityZone Security for Exchange - GOV R","GravityZone Security for Exchange - CUPG"]
[{"$f":"IF(Products!$Z$8=$C$1,Q243,IF(Products!$Z$8=$C$2,R243,IF(Products!$Z$8=$C$3,S243,IF(Products!$Z$8=$C$4,T243,IF(Products!$Z$8=$C$5,W243,IF(Products!$Z$8=$C$6,U243,IF(Products!$Z$8=$C$7,V243)))))))","v":"GravityZone Security for Exchange"},"3 years","3000+","GravityZone Security for Exchange3 years3000+",null,20.417999999999999,{"$f":"IF(Products!$Z$8=$C$1,ROUND(F243*$B$3,2),IF(Products!$Z$8=$C$2,ROUND(F243*$B$3*(1+$D$2),2),IF(Products!$Z$8=$C$3,ROUND(F243*$B$3*(1+$D$3),2),IF(Products!$Z$8=$C$4,ROUND(F243*$B$3*(1+$D$4),2),IF(Products!$Z$8=$C$5,ROUND(F243*$B$3*(1+$D$5),2),IF(Products!$Z$8=$C$6,ROUND(F243*$B$3*(1+$D$6),2),IF(Products!$Z$8=$C$7,ROUND(F243*$B$3*(1+$D$7),2))))))))","v":20.420000000000002},{"$f":"IF(Products!$Z$8=$C$1,I243,IF(Products!$Z$8=$C$2,J243,IF(Products!$Z$8=$C$3,K243,IF(Products!$Z$8=$C$4,L243,IF(Products!$Z$8=$C$5,O243,IF(Products!$Z$8=$C$6,M243,IF(Products!$Z$8=$C$7,N243)))))))","v":"AL1241300J-EN"},"AL1241300J-EN","AL1541300J-EN","AL1641300J-EN","AL3241300J-EN","AL3541300J-EN","AL3641300J-EN","AL5241300J-EN",null,"GravityZone Security for Exchange","GravityZone Security for Exchange - EDU","GravityZone Security for Exchange - GOV","GravityZone Security for Exchange - R","GravityZone Security for Exchange - EDU R","GravityZone Security for Exchange - GOV R","GravityZone Security for Exchange - CUPG"]
[{"$f":"IF(Products!$Z$8=$C$1,Q244,IF(Products!$Z$8=$C$2,R244,IF(Products!$Z$8=$C$3,S244,IF(Products!$Z$8=$C$4,T244,IF(Products!$Z$8=$C$5,W244,IF(Products!$Z$8=$C$6,U244,IF(Products!$Z$8=$C$7,V244)))))))","v":"GravityZone Security for Mobile"},"1 year","5 - 14",{"$f":"CONCATENATE(A244,B244,C244)","v":"GravityZone Security for Mobile1 year5 - 14"},null,16.649999999999999,{"$f":"IF(Products!$Z$8=$C$1,ROUND(F244*$B$3,2),IF(Products!$Z$8=$C$2,ROUND(F244*$B$3*(1+$D$2),2),IF(Products!$Z$8=$C$3,ROUND(F244*$B$3*(1+$D$3),2),IF(Products!$Z$8=$C$4,ROUND(F244*$B$3*(1+$D$4),2),IF(Products!$Z$8=$C$5,ROUND(F244*$B$3*(1+$D$5),2),IF(Products!$Z$8=$C$6,ROUND(F244*$B$3*(1+$D$6),2),IF(Products!$Z$8=$C$7,ROUND(F244*$B$3*(1+$D$7),2))))))))","v":16.649999999999999},{"$f":"IF(Products!$Z$8=$C$1,I244,IF(Products!$Z$8=$C$2,J244,IF(Products!$Z$8=$C$3,K244,IF(Products!$Z$8=$C$4,L244,IF(Products!$Z$8=$C$5,O244,IF(Products!$Z$8=$C$6,M244,IF(Products!$Z$8=$C$7,N244)))))))","v":"BL1213100A-EN"},"BL1213100A-EN","BL1513100A-EN","BL1613100A-EN","BL3213100A-EN","BL3513100A-EN","BL3613100A-EN","BL5213100A-EN",null,"GravityZone Security for Mobile","GravityZone Security for Mobile - EDU","GravityZone Security for Mobile - GOV","GravityZone Security for Mobile - R","GravityZone Security for Mobile - EDU R","GravityZone Security for Mobile - GOV R","GravityZone Security for Mobile - CUPG"]
[{"$f":"IF(Products!$Z$8=$C$1,Q245,IF(Products!$Z$8=$C$2,R245,IF(Products!$Z$8=$C$3,S245,IF(Products!$Z$8=$C$4,T245,IF(Products!$Z$8=$C$5,W245,IF(Products!$Z$8=$C$6,U245,IF(Products!$Z$8=$C$7,V245)))))))","v":"GravityZone Security for Mobile"},"1 year","15 - 24","GravityZone Security for Mobile1 year15 - 24",null,15.33,{"$f":"IF(Products!$Z$8=$C$1,ROUND(F245*$B$3,2),IF(Products!$Z$8=$C$2,ROUND(F245*$B$3*(1+$D$2),2),IF(Products!$Z$8=$C$3,ROUND(F245*$B$3*(1+$D$3),2),IF(Products!$Z$8=$C$4,ROUND(F245*$B$3*(1+$D$4),2),IF(Products!$Z$8=$C$5,ROUND(F245*$B$3*(1+$D$5),2),IF(Products!$Z$8=$C$6,ROUND(F245*$B$3*(1+$D$6),2),IF(Products!$Z$8=$C$7,ROUND(F245*$B$3*(1+$D$7),2))))))))","v":15.33},{"$f":"IF(Products!$Z$8=$C$1,I245,IF(Products!$Z$8=$C$2,J245,IF(Products!$Z$8=$C$3,K245,IF(Products!$Z$8=$C$4,L245,IF(Products!$Z$8=$C$5,O245,IF(Products!$Z$8=$C$6,M245,IF(Products!$Z$8=$C$7,N245)))))))","v":"BL1213100B-EN"},"BL1213100B-EN","BL1513100B-EN","BL1613100B-EN","BL3213100B-EN","BL3513100B-EN","BL3613100B-EN","BL5213100B-EN",null,"GravityZone Security for Mobile","GravityZone Security for Mobile - EDU","GravityZone Security for Mobile - GOV","GravityZone Security for Mobile - R","GravityZone Security for Mobile - EDU R","GravityZone Security for Mobile - GOV R","GravityZone Security for Mobile - CUPG"]
[{"$f":"IF(Products!$Z$8=$C$1,Q246,IF(Products!$Z$8=$C$2,R246,IF(Products!$Z$8=$C$3,S246,IF(Products!$Z$8=$C$4,T246,IF(Products!$Z$8=$C$5,W246,IF(Products!$Z$8=$C$6,U246,IF(Products!$Z$8=$C$7,V246)))))))","v":"GravityZone Security for Mobile"},"1 year","25 - 49","GravityZone Security for Mobile1 year25 - 49",null,14.2,{"$f":"IF(Products!$Z$8=$C$1,ROUND(F246*$B$3,2),IF(Products!$Z$8=$C$2,ROUND(F246*$B$3*(1+$D$2),2),IF(Products!$Z$8=$C$3,ROUND(F246*$B$3*(1+$D$3),2),IF(Products!$Z$8=$C$4,ROUND(F246*$B$3*(1+$D$4),2),IF(Products!$Z$8=$C$5,ROUND(F246*$B$3*(1+$D$5),2),IF(Products!$Z$8=$C$6,ROUND(F246*$B$3*(1+$D$6),2),IF(Products!$Z$8=$C$7,ROUND(F246*$B$3*(1+$D$7),2))))))))","v":14.2},{"$f":"IF(Products!$Z$8=$C$1,I246,IF(Products!$Z$8=$C$2,J246,IF(Products!$Z$8=$C$3,K246,IF(Products!$Z$8=$C$4,L246,IF(Products!$Z$8=$C$5,O246,IF(Products!$Z$8=$C$6,M246,IF(Products!$Z$8=$C$7,N246)))))))","v":"BL1213100C-EN"},"BL1213100C-EN","BL1513100C-EN","BL1613100C-EN","BL3213100C-EN","BL3513100C-EN","BL3613100C-EN","BL5213100C-EN",null,"GravityZone Security for Mobile","GravityZone Security for Mobile - EDU","GravityZone Security for Mobile - GOV","GravityZone Security for Mobile - R","GravityZone Security for Mobile - EDU R","GravityZone Security for Mobile - GOV R","GravityZone Security for Mobile - CUPG"]
[{"$f":"IF(Products!$Z$8=$C$1,Q247,IF(Products!$Z$8=$C$2,R247,IF(Products!$Z$8=$C$3,S247,IF(Products!$Z$8=$C$4,T247,IF(Products!$Z$8=$C$5,W247,IF(Products!$Z$8=$C$6,U247,IF(Products!$Z$8=$C$7,V247)))))))","v":"GravityZone Security for Mobile"},"1 year","50 - 99","GravityZone Security for Mobile1 year50 - 99",null,13.3,{"$f":"IF(Products!$Z$8=$C$1,ROUND(F247*$B$3,2),IF(Products!$Z$8=$C$2,ROUND(F247*$B$3*(1+$D$2),2),IF(Products!$Z$8=$C$3,ROUND(F247*$B$3*(1+$D$3),2),IF(Products!$Z$8=$C$4,ROUND(F247*$B$3*(1+$D$4),2),IF(Products!$Z$8=$C$5,ROUND(F247*$B$3*(1+$D$5),2),IF(Products!$Z$8=$C$6,ROUND(F247*$B$3*(1+$D$6),2),IF(Products!$Z$8=$C$7,ROUND(F247*$B$3*(1+$D$7),2))))))))","v":13.3},{"$f":"IF(Products!$Z$8=$C$1,I247,IF(Products!$Z$8=$C$2,J247,IF(Products!$Z$8=$C$3,K247,IF(Products!$Z$8=$C$4,L247,IF(Products!$Z$8=$C$5,O247,IF(Products!$Z$8=$C$6,M247,IF(Products!$Z$8=$C$7,N247)))))))","v":"BL1213100D-EN"},"BL1213100D-EN","BL1513100D-EN","BL1613100D-EN","BL3213100D-EN","BL3513100D-EN","BL3613100D-EN","BL5213100D-EN",null,"GravityZone Security for Mobile","GravityZone Security for Mobile - EDU","GravityZone Security for Mobile - GOV","GravityZone Security for Mobile - R","GravityZone Security for Mobile - EDU R","GravityZone Security for Mobile - GOV R","GravityZone Security for Mobile - CUPG"]
[{"$f":"IF(Products!$Z$8=$C$1,Q248,IF(Products!$Z$8=$C$2,R248,IF(Products!$Z$8=$C$3,S248,IF(Products!$Z$8=$C$4,T248,IF(Products!$Z$8=$C$5,W248,IF(Products!$Z$8=$C$6,U248,IF(Products!$Z$8=$C$7,V248)))))))","v":"GravityZone Security for Mobile"},"1 year","100 - 149","GravityZone Security for Mobile1 year100 - 149",null,11.85,{"$f":"IF(Products!$Z$8=$C$1,ROUND(F248*$B$3,2),IF(Products!$Z$8=$C$2,ROUND(F248*$B$3*(1+$D$2),2),IF(Products!$Z$8=$C$3,ROUND(F248*$B$3*(1+$D$3),2),IF(Products!$Z$8=$C$4,ROUND(F248*$B$3*(1+$D$4),2),IF(Products!$Z$8=$C$5,ROUND(F248*$B$3*(1+$D$5),2),IF(Products!$Z$8=$C$6,ROUND(F248*$B$3*(1+$D$6),2),IF(Products!$Z$8=$C$7,ROUND(F248*$B$3*(1+$D$7),2))))))))","v":11.85},{"$f":"IF(Products!$Z$8=$C$1,I248,IF(Products!$Z$8=$C$2,J248,IF(Products!$Z$8=$C$3,K248,IF(Products!$Z$8=$C$4,L248,IF(Products!$Z$8=$C$5,O248,IF(Products!$Z$8=$C$6,M248,IF(Products!$Z$8=$C$7,N248)))))))","v":"BL1213100E-EN"},"BL1213100E-EN","BL1513100E-EN","BL1613100E-EN","BL3213100E-EN","BL3513100E-EN","BL3613100E-EN","BL5213100E-EN",null,"GravityZone Security for Mobile","GravityZone Security for Mobile - EDU","GravityZone Security for Mobile - GOV","GravityZone Security for Mobile - R","GravityZone Security for Mobile - EDU R","GravityZone Security for Mobile - GOV R","GravityZone Security for Mobile - CUPG"]
[{"$f":"IF(Products!$Z$8=$C$1,Q249,IF(Products!$Z$8=$C$2,R249,IF(Products!$Z$8=$C$3,S249,IF(Products!$Z$8=$C$4,T249,IF(Products!$Z$8=$C$5,W249,IF(Products!$Z$8=$C$6,U249,IF(Products!$Z$8=$C$7,V249)))))))","v":"GravityZone Security for Mobile"},"1 year","150 - 249","GravityZone Security for Mobile1 year150 - 249",null,10.63,{"$f":"IF(Products!$Z$8=$C$1,ROUND(F249*$B$3,2),IF(Products!$Z$8=$C$2,ROUND(F249*$B$3*(1+$D$2),2),IF(Products!$Z$8=$C$3,ROUND(F249*$B$3*(1+$D$3),2),IF(Products!$Z$8=$C$4,ROUND(F249*$B$3*(1+$D$4),2),IF(Products!$Z$8=$C$5,ROUND(F249*$B$3*(1+$D$5),2),IF(Products!$Z$8=$C$6,ROUND(F249*$B$3*(1+$D$6),2),IF(Products!$Z$8=$C$7,ROUND(F249*$B$3*(1+$D$7),2))))))))","v":10.63},{"$f":"IF(Products!$Z$8=$C$1,I249,IF(Products!$Z$8=$C$2,J249,IF(Products!$Z$8=$C$3,K249,IF(Products!$Z$8=$C$4,L249,IF(Products!$Z$8=$C$5,O249,IF(Products!$Z$8=$C$6,M249,IF(Products!$Z$8=$C$7,N249)))))))","v":"BL1213100F-EN"},"BL1213100F-EN","BL1513100F-EN","BL1613100F-EN","BL3213100F-EN","BL3513100F-EN","BL3613100F-EN","BL5213100F-EN",null,"GravityZone Security for Mobile","GravityZone Security for Mobile - EDU","GravityZone Security for Mobile - GOV","GravityZone Security for Mobile - R","GravityZone Security for Mobile - EDU R","GravityZone Security for Mobile - GOV R","GravityZone Security for Mobile - CUPG"]
[{"$f":"IF(Products!$Z$8=$C$1,Q250,IF(Products!$Z$8=$C$2,R250,IF(Products!$Z$8=$C$3,S250,IF(Products!$Z$8=$C$4,T250,IF(Products!$Z$8=$C$5,W250,IF(Products!$Z$8=$C$6,U250,IF(Products!$Z$8=$C$7,V250)))))))","v":"GravityZone Security for Mobile"},"1 year","250 - 499","GravityZone Security for Mobile1 year250 - 499",null,9.8800000000000008,{"$f":"IF(Products!$Z$8=$C$1,ROUND(F250*$B$3,2),IF(Products!$Z$8=$C$2,ROUND(F250*$B$3*(1+$D$2),2),IF(Products!$Z$8=$C$3,ROUND(F250*$B$3*(1+$D$3),2),IF(Products!$Z$8=$C$4,ROUND(F250*$B$3*(1+$D$4),2),IF(Products!$Z$8=$C$5,ROUND(F250*$B$3*(1+$D$5),2),IF(Products!$Z$8=$C$6,ROUND(F250*$B$3*(1+$D$6),2),IF(Products!$Z$8=$C$7,ROUND(F250*$B$3*(1+$D$7),2))))))))","v":9.8800000000000008},{"$f":"IF(Products!$Z$8=$C$1,I250,IF(Products!$Z$8=$C$2,J250,IF(Products!$Z$8=$C$3,K250,IF(Products!$Z$8=$C$4,L250,IF(Products!$Z$8=$C$5,O250,IF(Products!$Z$8=$C$6,M250,IF(Products!$Z$8=$C$7,N250)))))))","v":"BL1213100G-EN"},"BL1213100G-EN","BL1513100G-EN","BL1613100G-EN","BL3213100G-EN","BL3513100G-EN","BL3613100G-EN","BL5213100G-EN",null,"GravityZone Security for Mobile","GravityZone Security for Mobile - EDU","GravityZone Security for Mobile - GOV","GravityZone Security for Mobile - R","GravityZone Security for Mobile - EDU R","GravityZone Security for Mobile - GOV R","GravityZone Security for Mobile - CUPG"]
[{"$f":"IF(Products!$Z$8=$C$1,Q251,IF(Products!$Z$8=$C$2,R251,IF(Products!$Z$8=$C$3,S251,IF(Products!$Z$8=$C$4,T251,IF(Products!$Z$8=$C$5,W251,IF(Products!$Z$8=$C$6,U251,IF(Products!$Z$8=$C$7,V251)))))))","v":"GravityZone Security for Mobile"},"1 year","500 - 999","GravityZone Security for Mobile1 year500 - 999",null,8.4,{"$f":"IF(Products!$Z$8=$C$1,ROUND(F251*$B$3,2),IF(Products!$Z$8=$C$2,ROUND(F251*$B$3*(1+$D$2),2),IF(Products!$Z$8=$C$3,ROUND(F251*$B$3*(1+$D$3),2),IF(Products!$Z$8=$C$4,ROUND(F251*$B$3*(1+$D$4),2),IF(Products!$Z$8=$C$5,ROUND(F251*$B$3*(1+$D$5),2),IF(Products!$Z$8=$C$6,ROUND(F251*$B$3*(1+$D$6),2),IF(Products!$Z$8=$C$7,ROUND(F251*$B$3*(1+$D$7),2))))))))","v":8.4},{"$f":"IF(Products!$Z$8=$C$1,I251,IF(Products!$Z$8=$C$2,J251,IF(Products!$Z$8=$C$3,K251,IF(Products!$Z$8=$C$4,L251,IF(Products!$Z$8=$C$5,O251,IF(Products!$Z$8=$C$6,M251,IF(Products!$Z$8=$C$7,N251)))))))","v":"BL1213100H-EN"},"BL1213100H-EN","BL1513100H-EN","BL1613100H-EN","BL3213100H-EN","BL3513100H-EN","BL3613100H-EN","BL5213100H-EN",null,"GravityZone Security for Mobile","GravityZone Security for Mobile - EDU","GravityZone Security for Mobile - GOV","GravityZone Security for Mobile - R","GravityZone Security for Mobile - EDU R","GravityZone Security for Mobile - GOV R","GravityZone Security for Mobile - CUPG"]
[{"$f":"IF(Products!$Z$8=$C$1,Q252,IF(Products!$Z$8=$C$2,R252,IF(Products!$Z$8=$C$3,S252,IF(Products!$Z$8=$C$4,T252,IF(Products!$Z$8=$C$5,W252,IF(Products!$Z$8=$C$6,U252,IF(Products!$Z$8=$C$7,V252)))))))","v":"GravityZone Security for Mobile"},"1 year","1000 - 2999","GravityZone Security for Mobile1 year1000 - 2999",null,7.55,{"$f":"IF(Products!$Z$8=$C$1,ROUND(F252*$B$3,2),IF(Products!$Z$8=$C$2,ROUND(F252*$B$3*(1+$D$2),2),IF(Products!$Z$8=$C$3,ROUND(F252*$B$3*(1+$D$3),2),IF(Products!$Z$8=$C$4,ROUND(F252*$B$3*(1+$D$4),2),IF(Products!$Z$8=$C$5,ROUND(F252*$B$3*(1+$D$5),2),IF(Products!$Z$8=$C$6,ROUND(F252*$B$3*(1+$D$6),2),IF(Products!$Z$8=$C$7,ROUND(F252*$B$3*(1+$D$7),2))))))))","v":7.55},{"$f":"IF(Products!$Z$8=$C$1,I252,IF(Products!$Z$8=$C$2,J252,IF(Products!$Z$8=$C$3,K252,IF(Products!$Z$8=$C$4,L252,IF(Products!$Z$8=$C$5,O252,IF(Products!$Z$8=$C$6,M252,IF(Products!$Z$8=$C$7,N252)))))))","v":"BL1213100I-EN"},"BL1213100I-EN","BL1513100I-EN","BL1613100I-EN","BL3213100I-EN","BL3513100I-EN","BL3613100I-EN","BL5213100I-EN",null,"GravityZone Security for Mobile","GravityZone Security for Mobile - EDU","GravityZone Security for Mobile - GOV","GravityZone Security for Mobile - R","GravityZone Security for Mobile - EDU R","GravityZone Security for Mobile - GOV R","GravityZone Security for Mobile - CUPG"]
[{"$f":"IF(Products!$Z$8=$C$1,Q253,IF(Products!$Z$8=$C$2,R253,IF(Products!$Z$8=$C$3,S253,IF(Products!$Z$8=$C$4,T253,IF(Products!$Z$8=$C$5,W253,IF(Products!$Z$8=$C$6,U253,IF(Products!$Z$8=$C$7,V253)))))))","v":"GravityZone Security for Mobile"},"1 year","3000+","GravityZone Security for Mobile1 year3000+",null,6.7,{"$f":"IF(Products!$Z$8=$C$1,ROUND(F253*$B$3,2),IF(Products!$Z$8=$C$2,ROUND(F253*$B$3*(1+$D$2),2),IF(Products!$Z$8=$C$3,ROUND(F253*$B$3*(1+$D$3),2),IF(Products!$Z$8=$C$4,ROUND(F253*$B$3*(1+$D$4),2),IF(Products!$Z$8=$C$5,ROUND(F253*$B$3*(1+$D$5),2),IF(Products!$Z$8=$C$6,ROUND(F253*$B$3*(1+$D$6),2),IF(Products!$Z$8=$C$7,ROUND(F253*$B$3*(1+$D$7),2))))))))","v":6.7},{"$f":"IF(Products!$Z$8=$C$1,I253,IF(Products!$Z$8=$C$2,J253,IF(Products!$Z$8=$C$3,K253,IF(Products!$Z$8=$C$4,L253,IF(Products!$Z$8=$C$5,O253,IF(Products!$Z$8=$C$6,M253,IF(Products!$Z$8=$C$7,N253)))))))","v":"BL1213100J-EN"},"BL1213100J-EN","BL1513100J-EN","BL1613100J-EN","BL3213100J-EN","BL3513100J-EN","BL3613100J-EN","BL5213100J-EN",null,"GravityZone Security for Mobile","GravityZone Security for Mobile - EDU","GravityZone Security for Mobile - GOV","GravityZone Security for Mobile - R","GravityZone Security for Mobile - EDU R","GravityZone Security for Mobile - GOV R","GravityZone Security for Mobile - CUPG"]
[{"$f":"IF(Products!$Z$8=$C$1,Q254,IF(Products!$Z$8=$C$2,R254,IF(Products!$Z$8=$C$3,S254,IF(Products!$Z$8=$C$4,T254,IF(Products!$Z$8=$C$5,W254,IF(Products!$Z$8=$C$6,U254,IF(Products!$Z$8=$C$7,V254)))))))","v":"GravityZone Security for Mobile"},"2 years","5 - 14","GravityZone Security for Mobile2 years5 - 14",null,26.64,{"$f":"IF(Products!$Z$8=$C$1,ROUND(F254*$B$3,2),IF(Products!$Z$8=$C$2,ROUND(F254*$B$3*(1+$D$2),2),IF(Products!$Z$8=$C$3,ROUND(F254*$B$3*(1+$D$3),2),IF(Products!$Z$8=$C$4,ROUND(F254*$B$3*(1+$D$4),2),IF(Products!$Z$8=$C$5,ROUND(F254*$B$3*(1+$D$5),2),IF(Products!$Z$8=$C$6,ROUND(F254*$B$3*(1+$D$6),2),IF(Products!$Z$8=$C$7,ROUND(F254*$B$3*(1+$D$7),2))))))))","v":26.64},{"$f":"IF(Products!$Z$8=$C$1,I254,IF(Products!$Z$8=$C$2,J254,IF(Products!$Z$8=$C$3,K254,IF(Products!$Z$8=$C$4,L254,IF(Products!$Z$8=$C$5,O254,IF(Products!$Z$8=$C$6,M254,IF(Products!$Z$8=$C$7,N254)))))))","v":"BL1213200A-EN"},"BL1213200A-EN","BL1513200A-EN","BL1613200A-EN","BL3213200A-EN","BL3513200A-EN","BL3613200A-EN","BL5213200A-EN",null,"GravityZone Security for Mobile","GravityZone Security for Mobile - EDU","GravityZone Security for Mobile - GOV","GravityZone Security for Mobile - R","GravityZone Security for Mobile - EDU R","GravityZone Security for Mobile - GOV R","GravityZone Security for Mobile - CUPG"]
[{"$f":"IF(Products!$Z$8=$C$1,Q255,IF(Products!$Z$8=$C$2,R255,IF(Products!$Z$8=$C$3,S255,IF(Products!$Z$8=$C$4,T255,IF(Products!$Z$8=$C$5,W255,IF(Products!$Z$8=$C$6,U255,IF(Products!$Z$8=$C$7,V255)))))))","v":"GravityZone Security for Mobile"},"2 years","15 - 24","GravityZone Security for Mobile2 years15 - 24",null,24.53,{"$f":"IF(Products!$Z$8=$C$1,ROUND(F255*$B$3,2),IF(Products!$Z$8=$C$2,ROUND(F255*$B$3*(1+$D$2),2),IF(Products!$Z$8=$C$3,ROUND(F255*$B$3*(1+$D$3),2),IF(Products!$Z$8=$C$4,ROUND(F255*$B$3*(1+$D$4),2),IF(Products!$Z$8=$C$5,ROUND(F255*$B$3*(1+$D$5),2),IF(Products!$Z$8=$C$6,ROUND(F255*$B$3*(1+$D$6),2),IF(Products!$Z$8=$C$7,ROUND(F255*$B$3*(1+$D$7),2))))))))","v":24.53},{"$f":"IF(Products!$Z$8=$C$1,I255,IF(Products!$Z$8=$C$2,J255,IF(Products!$Z$8=$C$3,K255,IF(Products!$Z$8=$C$4,L255,IF(Products!$Z$8=$C$5,O255,IF(Products!$Z$8=$C$6,M255,IF(Products!$Z$8=$C$7,N255)))))))","v":"BL1213200B-EN"},"BL1213200B-EN","BL1513200B-EN","BL1613200B-EN","BL3213200B-EN","BL3513200B-EN","BL3613200B-EN","BL5213200B-EN",null,"GravityZone Security for Mobile","GravityZone Security for Mobile - EDU","GravityZone Security for Mobile - GOV","GravityZone Security for Mobile - R","GravityZone Security for Mobile - EDU R","GravityZone Security for Mobile - GOV R","GravityZone Security for Mobile - CUPG"]
[{"$f":"IF(Products!$Z$8=$C$1,Q256,IF(Products!$Z$8=$C$2,R256,IF(Products!$Z$8=$C$3,S256,IF(Products!$Z$8=$C$4,T256,IF(Products!$Z$8=$C$5,W256,IF(Products!$Z$8=$C$6,U256,IF(Products!$Z$8=$C$7,V256)))))))","v":"GravityZone Security for Mobile"},"2 years","25 - 49","GravityZone Security for Mobile2 years25 - 49",null,22.72,{"$f":"IF(Products!$Z$8=$C$1,ROUND(F256*$B$3,2),IF(Products!$Z$8=$C$2,ROUND(F256*$B$3*(1+$D$2),2),IF(Products!$Z$8=$C$3,ROUND(F256*$B$3*(1+$D$3),2),IF(Products!$Z$8=$C$4,ROUND(F256*$B$3*(1+$D$4),2),IF(Products!$Z$8=$C$5,ROUND(F256*$B$3*(1+$D$5),2),IF(Products!$Z$8=$C$6,ROUND(F256*$B$3*(1+$D$6),2),IF(Products!$Z$8=$C$7,ROUND(F256*$B$3*(1+$D$7),2))))))))","v":22.72},{"$f":"IF(Products!$Z$8=$C$1,I256,IF(Products!$Z$8=$C$2,J256,IF(Products!$Z$8=$C$3,K256,IF(Products!$Z$8=$C$4,L256,IF(Products!$Z$8=$C$5,O256,IF(Products!$Z$8=$C$6,M256,IF(Products!$Z$8=$C$7,N256)))))))","v":"BL1213200C-EN"},"BL1213200C-EN","BL1513200C-EN","BL1613200C-EN","BL3213200C-EN","BL3513200C-EN","BL3613200C-EN","BL5213200C-EN",null,"GravityZone Security for Mobile",{"$f":"CONCATENATE(Q256,\" - EDU\")","v":"GravityZone Security for Mobile - EDU"},{"$f":"CONCATENATE(Q256,\" - GOV\")","v":"GravityZone Security for Mobile - GOV"},{"$f":"CONCATENATE(Q256,\" - R\")","v":"GravityZone Security for Mobile - R"},{"$f":"CONCATENATE(Q256,\" - EDU R\")","v":"GravityZone Security for Mobile - EDU R"},{"$f":"CONCATENATE(Q256,\" - GOV R\")","v":"GravityZone Security for Mobile - GOV R"},{"$f":"CONCATENATE(Q256,\" - CUPG\")","v":"GravityZone Security for Mobile - CUPG"}]
[{"$f":"IF(Products!$Z$8=$C$1,Q257,IF(Products!$Z$8=$C$2,R257,IF(Products!$Z$8=$C$3,S257,IF(Products!$Z$8=$C$4,T257,IF(Products!$Z$8=$C$5,W257,IF(Products!$Z$8=$C$6,U257,IF(Products!$Z$8=$C$7,V257)))))))","v":"GravityZone Security for Mobile"},"2 years","50 - 99","GravityZone Security for Mobile2 years50 - 99",null,21.28,{"$f":"IF(Products!$Z$8=$C$1,ROUND(F257*$B$3,2),IF(Products!$Z$8=$C$2,ROUND(F257*$B$3*(1+$D$2),2),IF(Products!$Z$8=$C$3,ROUND(F257*$B$3*(1+$D$3),2),IF(Products!$Z$8=$C$4,ROUND(F257*$B$3*(1+$D$4),2),IF(Products!$Z$8=$C$5,ROUND(F257*$B$3*(1+$D$5),2),IF(Products!$Z$8=$C$6,ROUND(F257*$B$3*(1+$D$6),2),IF(Products!$Z$8=$C$7,ROUND(F257*$B$3*(1+$D$7),2))))))))","v":21.28},{"$f":"IF(Products!$Z$8=$C$1,I257,IF(Products!$Z$8=$C$2,J257,IF(Products!$Z$8=$C$3,K257,IF(Products!$Z$8=$C$4,L257,IF(Products!$Z$8=$C$5,O257,IF(Products!$Z$8=$C$6,M257,IF(Products!$Z$8=$C$7,N257)))))))","v":"BL1213200D-EN"},"BL1213200D-EN","BL1513200D-EN","BL1613200D-EN","BL3213200D-EN","BL3513200D-EN","BL3613200D-EN","BL5213200D-EN",null,"GravityZone Security for Mobile","GravityZone Security for Mobile - EDU","GravityZone Security for Mobile - GOV","GravityZone Security for Mobile - R","GravityZone Security for Mobile - EDU R","GravityZone Security for Mobile - GOV R","GravityZone Security for Mobile - CUPG"]
[{"$f":"IF(Products!$Z$8=$C$1,Q258,IF(Products!$Z$8=$C$2,R258,IF(Products!$Z$8=$C$3,S258,IF(Products!$Z$8=$C$4,T258,IF(Products!$Z$8=$C$5,W258,IF(Products!$Z$8=$C$6,U258,IF(Products!$Z$8=$C$7,V258)))))))","v":"GravityZone Security for Mobile"},"2 years","100 - 149","GravityZone Security for Mobile2 years100 - 149",null,18.96,{"$f":"IF(Products!$Z$8=$C$1,ROUND(F258*$B$3,2),IF(Products!$Z$8=$C$2,ROUND(F258*$B$3*(1+$D$2),2),IF(Products!$Z$8=$C$3,ROUND(F258*$B$3*(1+$D$3),2),IF(Products!$Z$8=$C$4,ROUND(F258*$B$3*(1+$D$4),2),IF(Products!$Z$8=$C$5,ROUND(F258*$B$3*(1+$D$5),2),IF(Products!$Z$8=$C$6,ROUND(F258*$B$3*(1+$D$6),2),IF(Products!$Z$8=$C$7,ROUND(F258*$B$3*(1+$D$7),2))))))))","v":18.96},{"$f":"IF(Products!$Z$8=$C$1,I258,IF(Products!$Z$8=$C$2,J258,IF(Products!$Z$8=$C$3,K258,IF(Products!$Z$8=$C$4,L258,IF(Products!$Z$8=$C$5,O258,IF(Products!$Z$8=$C$6,M258,IF(Products!$Z$8=$C$7,N258)))))))","v":"BL1213200E-EN"},"BL1213200E-EN","BL1513200E-EN","BL1613200E-EN","BL3213200E-EN","BL3513200E-EN","BL3613200E-EN","BL5213200E-EN",null,"GravityZone Security for Mobile","GravityZone Security for Mobile - EDU","GravityZone Security for Mobile - GOV","GravityZone Security for Mobile - R","GravityZone Security for Mobile - EDU R","GravityZone Security for Mobile - GOV R","GravityZone Security for Mobile - CUPG"]
[{"$f":"IF(Products!$Z$8=$C$1,Q259,IF(Products!$Z$8=$C$2,R259,IF(Products!$Z$8=$C$3,S259,IF(Products!$Z$8=$C$4,T259,IF(Products!$Z$8=$C$5,W259,IF(Products!$Z$8=$C$6,U259,IF(Products!$Z$8=$C$7,V259)))))))","v":"GravityZone Security for Mobile"},"2 years","150 - 249","GravityZone Security for Mobile2 years150 - 249",null,17.010000000000002,{"$f":"IF(Products!$Z$8=$C$1,ROUND(F259*$B$3,2),IF(Products!$Z$8=$C$2,ROUND(F259*$B$3*(1+$D$2),2),IF(Products!$Z$8=$C$3,ROUND(F259*$B$3*(1+$D$3),2),IF(Products!$Z$8=$C$4,ROUND(F259*$B$3*(1+$D$4),2),IF(Products!$Z$8=$C$5,ROUND(F259*$B$3*(1+$D$5),2),IF(Products!$Z$8=$C$6,ROUND(F259*$B$3*(1+$D$6),2),IF(Products!$Z$8=$C$7,ROUND(F259*$B$3*(1+$D$7),2))))))))","v":17.010000000000002},{"$f":"IF(Products!$Z$8=$C$1,I259,IF(Products!$Z$8=$C$2,J259,IF(Products!$Z$8=$C$3,K259,IF(Products!$Z$8=$C$4,L259,IF(Products!$Z$8=$C$5,O259,IF(Products!$Z$8=$C$6,M259,IF(Products!$Z$8=$C$7,N259)))))))","v":"BL1213200F-EN"},"BL1213200F-EN","BL1513200F-EN","BL1613200F-EN","BL3213200F-EN","BL3513200F-EN","BL3613200F-EN","BL5213200F-EN",null,"GravityZone Security for Mobile","GravityZone Security for Mobile - EDU","GravityZone Security for Mobile - GOV","GravityZone Security for Mobile - R","GravityZone Security for Mobile - EDU R","GravityZone Security for Mobile - GOV R","GravityZone Security for Mobile - CUPG"]
[{"$f":"IF(Products!$Z$8=$C$1,Q260,IF(Products!$Z$8=$C$2,R260,IF(Products!$Z$8=$C$3,S260,IF(Products!$Z$8=$C$4,T260,IF(Products!$Z$8=$C$5,W260,IF(Products!$Z$8=$C$6,U260,IF(Products!$Z$8=$C$7,V260)))))))","v":"GravityZone Security for Mobile"},"2 years","250 - 499","GravityZone Security for Mobile2 years250 - 499",null,15.81,{"$f":"IF(Products!$Z$8=$C$1,ROUND(F260*$B$3,2),IF(Products!$Z$8=$C$2,ROUND(F260*$B$3*(1+$D$2),2),IF(Products!$Z$8=$C$3,ROUND(F260*$B$3*(1+$D$3),2),IF(Products!$Z$8=$C$4,ROUND(F260*$B$3*(1+$D$4),2),IF(Products!$Z$8=$C$5,ROUND(F260*$B$3*(1+$D$5),2),IF(Products!$Z$8=$C$6,ROUND(F260*$B$3*(1+$D$6),2),IF(Products!$Z$8=$C$7,ROUND(F260*$B$3*(1+$D$7),2))))))))","v":15.81},{"$f":"IF(Products!$Z$8=$C$1,I260,IF(Products!$Z$8=$C$2,J260,IF(Products!$Z$8=$C$3,K260,IF(Products!$Z$8=$C$4,L260,IF(Products!$Z$8=$C$5,O260,IF(Products!$Z$8=$C$6,M260,IF(Products!$Z$8=$C$7,N260)))))))","v":"BL1213200G-EN"},"BL1213200G-EN","BL1513200G-EN","BL1613200G-EN","BL3213200G-EN","BL3513200G-EN","BL3613200G-EN","BL5213200G-EN",null,"GravityZone Security for Mobile","GravityZone Security for Mobile - EDU","GravityZone Security for Mobile - GOV","GravityZone Security for Mobile - R","GravityZone Security for Mobile - EDU R","GravityZone Security for Mobile - GOV R","GravityZone Security for Mobile - CUPG"]
[{"$f":"IF(Products!$Z$8=$C$1,Q261,IF(Products!$Z$8=$C$2,R261,IF(Products!$Z$8=$C$3,S261,IF(Products!$Z$8=$C$4,T261,IF(Products!$Z$8=$C$5,W261,IF(Products!$Z$8=$C$6,U261,IF(Products!$Z$8=$C$7,V261)))))))","v":"GravityZone Security for Mobile"},"2 years","500 - 999","GravityZone Security for Mobile2 years500 - 999",null,13.44,{"$f":"IF(Products!$Z$8=$C$1,ROUND(F261*$B$3,2),IF(Products!$Z$8=$C$2,ROUND(F261*$B$3*(1+$D$2),2),IF(Products!$Z$8=$C$3,ROUND(F261*$B$3*(1+$D$3),2),IF(Products!$Z$8=$C$4,ROUND(F261*$B$3*(1+$D$4),2),IF(Products!$Z$8=$C$5,ROUND(F261*$B$3*(1+$D$5),2),IF(Products!$Z$8=$C$6,ROUND(F261*$B$3*(1+$D$6),2),IF(Products!$Z$8=$C$7,ROUND(F261*$B$3*(1+$D$7),2))))))))","v":13.44},{"$f":"IF(Products!$Z$8=$C$1,I261,IF(Products!$Z$8=$C$2,J261,IF(Products!$Z$8=$C$3,K261,IF(Products!$Z$8=$C$4,L261,IF(Products!$Z$8=$C$5,O261,IF(Products!$Z$8=$C$6,M261,IF(Products!$Z$8=$C$7,N261)))))))","v":"BL1213200H-EN"},"BL1213200H-EN","BL1513200H-EN","BL1613200H-EN","BL3213200H-EN","BL3513200H-EN","BL3613200H-EN","BL5213200H-EN",null,"GravityZone Security for Mobile","GravityZone Security for Mobile - EDU","GravityZone Security for Mobile - GOV","GravityZone Security for Mobile - R","GravityZone Security for Mobile - EDU R","GravityZone Security for Mobile - GOV R","GravityZone Security for Mobile - CUPG"]
[{"$f":"IF(Products!$Z$8=$C$1,Q262,IF(Products!$Z$8=$C$2,R262,IF(Products!$Z$8=$C$3,S262,IF(Products!$Z$8=$C$4,T262,IF(Products!$Z$8=$C$5,W262,IF(Products!$Z$8=$C$6,U262,IF(Products!$Z$8=$C$7,V262)))))))","v":"GravityZone Security for Mobile"},"2 years","1000 - 2999","GravityZone Security for Mobile2 years1000 - 2999",null,12.08,{"$f":"IF(Products!$Z$8=$C$1,ROUND(F262*$B$3,2),IF(Products!$Z$8=$C$2,ROUND(F262*$B$3*(1+$D$2),2),IF(Products!$Z$8=$C$3,ROUND(F262*$B$3*(1+$D$3),2),IF(Products!$Z$8=$C$4,ROUND(F262*$B$3*(1+$D$4),2),IF(Products!$Z$8=$C$5,ROUND(F262*$B$3*(1+$D$5),2),IF(Products!$Z$8=$C$6,ROUND(F262*$B$3*(1+$D$6),2),IF(Products!$Z$8=$C$7,ROUND(F262*$B$3*(1+$D$7),2))))))))","v":12.08},{"$f":"IF(Products!$Z$8=$C$1,I262,IF(Products!$Z$8=$C$2,J262,IF(Products!$Z$8=$C$3,K262,IF(Products!$Z$8=$C$4,L262,IF(Products!$Z$8=$C$5,O262,IF(Products!$Z$8=$C$6,M262,IF(Products!$Z$8=$C$7,N262)))))))","v":"BL1213200I-EN"},"BL1213200I-EN","BL1513200I-EN","BL1613200I-EN","BL3213200I-EN","BL3513200I-EN","BL3613200I-EN","BL5213200I-EN",null,"GravityZone Security for Mobile","GravityZone Security for Mobile - EDU","GravityZone Security for Mobile - GOV","GravityZone Security for Mobile - R","GravityZone Security for Mobile - EDU R","GravityZone Security for Mobile - GOV R","GravityZone Security for Mobile - CUPG"]
[{"$f":"IF(Products!$Z$8=$C$1,Q263,IF(Products!$Z$8=$C$2,R263,IF(Products!$Z$8=$C$3,S263,IF(Products!$Z$8=$C$4,T263,IF(Products!$Z$8=$C$5,W263,IF(Products!$Z$8=$C$6,U263,IF(Products!$Z$8=$C$7,V263)))))))","v":"GravityZone Security for Mobile"},"2 years","3000+","GravityZone Security for Mobile2 years3000+",null,10.72,{"$f":"IF(Products!$Z$8=$C$1,ROUND(F263*$B$3,2),IF(Products!$Z$8=$C$2,ROUND(F263*$B$3*(1+$D$2),2),IF(Products!$Z$8=$C$3,ROUND(F263*$B$3*(1+$D$3),2),IF(Products!$Z$8=$C$4,ROUND(F263*$B$3*(1+$D$4),2),IF(Products!$Z$8=$C$5,ROUND(F263*$B$3*(1+$D$5),2),IF(Products!$Z$8=$C$6,ROUND(F263*$B$3*(1+$D$6),2),IF(Products!$Z$8=$C$7,ROUND(F263*$B$3*(1+$D$7),2))))))))","v":10.72},{"$f":"IF(Products!$Z$8=$C$1,I263,IF(Products!$Z$8=$C$2,J263,IF(Products!$Z$8=$C$3,K263,IF(Products!$Z$8=$C$4,L263,IF(Products!$Z$8=$C$5,O263,IF(Products!$Z$8=$C$6,M263,IF(Products!$Z$8=$C$7,N263)))))))","v":"BL1213200J-EN"},"BL1213200J-EN","BL1513200J-EN","BL1613200J-EN","BL3213200J-EN","BL3513200J-EN","BL3613200J-EN","BL5213200J-EN",null,"GravityZone Security for Mobile","GravityZone Security for Mobile - EDU","GravityZone Security for Mobile - GOV","GravityZone Security for Mobile - R","GravityZone Security for Mobile - EDU R","GravityZone Security for Mobile - GOV R","GravityZone Security for Mobile - CUPG"]
[{"$f":"IF(Products!$Z$8=$C$1,Q264,IF(Products!$Z$8=$C$2,R264,IF(Products!$Z$8=$C$3,S264,IF(Products!$Z$8=$C$4,T264,IF(Products!$Z$8=$C$5,W264,IF(Products!$Z$8=$C$6,U264,IF(Products!$Z$8=$C$7,V264)))))))","v":"GravityZone Security for Mobile"},"3 years","5 - 14","GravityZone Security for Mobile3 years5 - 14",null,34.132499999999993,{"$f":"IF(Products!$Z$8=$C$1,ROUND(F264*$B$3,2),IF(Products!$Z$8=$C$2,ROUND(F264*$B$3*(1+$D$2),2),IF(Products!$Z$8=$C$3,ROUND(F264*$B$3*(1+$D$3),2),IF(Products!$Z$8=$C$4,ROUND(F264*$B$3*(1+$D$4),2),IF(Products!$Z$8=$C$5,ROUND(F264*$B$3*(1+$D$5),2),IF(Products!$Z$8=$C$6,ROUND(F264*$B$3*(1+$D$6),2),IF(Products!$Z$8=$C$7,ROUND(F264*$B$3*(1+$D$7),2))))))))","v":34.130000000000003},{"$f":"IF(Products!$Z$8=$C$1,I264,IF(Products!$Z$8=$C$2,J264,IF(Products!$Z$8=$C$3,K264,IF(Products!$Z$8=$C$4,L264,IF(Products!$Z$8=$C$5,O264,IF(Products!$Z$8=$C$6,M264,IF(Products!$Z$8=$C$7,N264)))))))","v":"BL1213300A-EN"},"BL1213300A-EN","BL1513300A-EN","BL1613300A-EN","BL3213300A-EN","BL3513300A-EN","BL3613300A-EN","BL5213300A-EN",null,"GravityZone Security for Mobile","GravityZone Security for Mobile - EDU","GravityZone Security for Mobile - GOV","GravityZone Security for Mobile - R","GravityZone Security for Mobile - EDU R","GravityZone Security for Mobile - GOV R","GravityZone Security for Mobile - CUPG"]
[{"$f":"IF(Products!$Z$8=$C$1,Q265,IF(Products!$Z$8=$C$2,R265,IF(Products!$Z$8=$C$3,S265,IF(Products!$Z$8=$C$4,T265,IF(Products!$Z$8=$C$5,W265,IF(Products!$Z$8=$C$6,U265,IF(Products!$Z$8=$C$7,V265)))))))","v":"GravityZone Security for Mobile"},"3 years","15 - 24","GravityZone Security for Mobile3 years15 - 24",null,31.426499999999997,{"$f":"IF(Products!$Z$8=$C$1,ROUND(F265*$B$3,2),IF(Products!$Z$8=$C$2,ROUND(F265*$B$3*(1+$D$2),2),IF(Products!$Z$8=$C$3,ROUND(F265*$B$3*(1+$D$3),2),IF(Products!$Z$8=$C$4,ROUND(F265*$B$3*(1+$D$4),2),IF(Products!$Z$8=$C$5,ROUND(F265*$B$3*(1+$D$5),2),IF(Products!$Z$8=$C$6,ROUND(F265*$B$3*(1+$D$6),2),IF(Products!$Z$8=$C$7,ROUND(F265*$B$3*(1+$D$7),2))))))))","v":31.43},{"$f":"IF(Products!$Z$8=$C$1,I265,IF(Products!$Z$8=$C$2,J265,IF(Products!$Z$8=$C$3,K265,IF(Products!$Z$8=$C$4,L265,IF(Products!$Z$8=$C$5,O265,IF(Products!$Z$8=$C$6,M265,IF(Products!$Z$8=$C$7,N265)))))))","v":"BL1213300B-EN"},"BL1213300B-EN","BL1513300B-EN","BL1613300B-EN","BL3213300B-EN","BL3513300B-EN","BL3613300B-EN","BL5213300B-EN",null,"GravityZone Security for Mobile","GravityZone Security for Mobile - EDU","GravityZone Security for Mobile - GOV","GravityZone Security for Mobile - R","GravityZone Security for Mobile - EDU R","GravityZone Security for Mobile - GOV R","GravityZone Security for Mobile - CUPG"]
[{"$f":"IF(Products!$Z$8=$C$1,Q266,IF(Products!$Z$8=$C$2,R266,IF(Products!$Z$8=$C$3,S266,IF(Products!$Z$8=$C$4,T266,IF(Products!$Z$8=$C$5,W266,IF(Products!$Z$8=$C$6,U266,IF(Products!$Z$8=$C$7,V266)))))))","v":"GravityZone Security for Mobile"},"3 years","25 - 49","GravityZone Security for Mobile3 years25 - 49",null,29.109999999999996,{"$f":"IF(Products!$Z$8=$C$1,ROUND(F266*$B$3,2),IF(Products!$Z$8=$C$2,ROUND(F266*$B$3*(1+$D$2),2),IF(Products!$Z$8=$C$3,ROUND(F266*$B$3*(1+$D$3),2),IF(Products!$Z$8=$C$4,ROUND(F266*$B$3*(1+$D$4),2),IF(Products!$Z$8=$C$5,ROUND(F266*$B$3*(1+$D$5),2),IF(Products!$Z$8=$C$6,ROUND(F266*$B$3*(1+$D$6),2),IF(Products!$Z$8=$C$7,ROUND(F266*$B$3*(1+$D$7),2))))))))","v":29.11},{"$f":"IF(Products!$Z$8=$C$1,I266,IF(Products!$Z$8=$C$2,J266,IF(Products!$Z$8=$C$3,K266,IF(Products!$Z$8=$C$4,L266,IF(Products!$Z$8=$C$5,O266,IF(Products!$Z$8=$C$6,M266,IF(Products!$Z$8=$C$7,N266)))))))","v":"BL1213300C-EN"},"BL1213300C-EN","BL1513300C-EN","BL1613300C-EN","BL3213300C-EN","BL3513300C-EN","BL3613300C-EN","BL5213300C-EN",null,"GravityZone Security for Mobile","GravityZone Security for Mobile - EDU","GravityZone Security for Mobile - GOV","GravityZone Security for Mobile - R","GravityZone Security for Mobile - EDU R","GravityZone Security for Mobile - GOV R","GravityZone Security for Mobile - CUPG"]
[{"$f":"IF(Products!$Z$8=$C$1,Q267,IF(Products!$Z$8=$C$2,R267,IF(Products!$Z$8=$C$3,S267,IF(Products!$Z$8=$C$4,T267,IF(Products!$Z$8=$C$5,W267,IF(Products!$Z$8=$C$6,U267,IF(Products!$Z$8=$C$7,V267)))))))","v":"GravityZone Security for Mobile"},"3 years","50 - 99","GravityZone Security for Mobile3 years50 - 99",null,27.265000000000001,{"$f":"IF(Products!$Z$8=$C$1,ROUND(F267*$B$3,2),IF(Products!$Z$8=$C$2,ROUND(F267*$B$3*(1+$D$2),2),IF(Products!$Z$8=$C$3,ROUND(F267*$B$3*(1+$D$3),2),IF(Products!$Z$8=$C$4,ROUND(F267*$B$3*(1+$D$4),2),IF(Products!$Z$8=$C$5,ROUND(F267*$B$3*(1+$D$5),2),IF(Products!$Z$8=$C$6,ROUND(F267*$B$3*(1+$D$6),2),IF(Products!$Z$8=$C$7,ROUND(F267*$B$3*(1+$D$7),2))))))))","v":27.27},{"$f":"IF(Products!$Z$8=$C$1,I267,IF(Products!$Z$8=$C$2,J267,IF(Products!$Z$8=$C$3,K267,IF(Products!$Z$8=$C$4,L267,IF(Products!$Z$8=$C$5,O267,IF(Products!$Z$8=$C$6,M267,IF(Products!$Z$8=$C$7,N267)))))))","v":"BL1213300D-EN"},"BL1213300D-EN","BL1513300D-EN","BL1613300D-EN","BL3213300D-EN","BL3513300D-EN","BL3613300D-EN","BL5213300D-EN",null,"GravityZone Security for Mobile","GravityZone Security for Mobile - EDU","GravityZone Security for Mobile - GOV","GravityZone Security for Mobile - R","GravityZone Security for Mobile - EDU R","GravityZone Security for Mobile - GOV R","GravityZone Security for Mobile - CUPG"]
[{"$f":"IF(Products!$Z$8=$C$1,Q268,IF(Products!$Z$8=$C$2,R268,IF(Products!$Z$8=$C$3,S268,IF(Products!$Z$8=$C$4,T268,IF(Products!$Z$8=$C$5,W268,IF(Products!$Z$8=$C$6,U268,IF(Products!$Z$8=$C$7,V268)))))))","v":"GravityZone Security for Mobile"},"3 years","100 - 149","GravityZone Security for Mobile3 years100 - 149",null,24.292499999999997,{"$f":"IF(Products!$Z$8=$C$1,ROUND(F268*$B$3,2),IF(Products!$Z$8=$C$2,ROUND(F268*$B$3*(1+$D$2),2),IF(Products!$Z$8=$C$3,ROUND(F268*$B$3*(1+$D$3),2),IF(Products!$Z$8=$C$4,ROUND(F268*$B$3*(1+$D$4),2),IF(Products!$Z$8=$C$5,ROUND(F268*$B$3*(1+$D$5),2),IF(Products!$Z$8=$C$6,ROUND(F268*$B$3*(1+$D$6),2),IF(Products!$Z$8=$C$7,ROUND(F268*$B$3*(1+$D$7),2))))))))","v":24.29},{"$f":"IF(Products!$Z$8=$C$1,I268,IF(Products!$Z$8=$C$2,J268,IF(Products!$Z$8=$C$3,K268,IF(Products!$Z$8=$C$4,L268,IF(Products!$Z$8=$C$5,O268,IF(Products!$Z$8=$C$6,M268,IF(Products!$Z$8=$C$7,N268)))))))","v":"BL1213300E-EN"},"BL1213300E-EN","BL1513300E-EN","BL1613300E-EN","BL3213300E-EN","BL3513300E-EN","BL3613300E-EN","BL5213300E-EN",null,"GravityZone Security for Mobile","GravityZone Security for Mobile - EDU","GravityZone Security for Mobile - GOV","GravityZone Security for Mobile - R","GravityZone Security for Mobile - EDU R","GravityZone Security for Mobile - GOV R","GravityZone Security for Mobile - CUPG"]
[{"$f":"IF(Products!$Z$8=$C$1,Q269,IF(Products!$Z$8=$C$2,R269,IF(Products!$Z$8=$C$3,S269,IF(Products!$Z$8=$C$4,T269,IF(Products!$Z$8=$C$5,W269,IF(Products!$Z$8=$C$6,U269,IF(Products!$Z$8=$C$7,V269)))))))","v":"GravityZone Security for Mobile"},"3 years","150 - 249","GravityZone Security for Mobile3 years150 - 249",null,21.791499999999999,{"$f":"IF(Products!$Z$8=$C$1,ROUND(F269*$B$3,2),IF(Products!$Z$8=$C$2,ROUND(F269*$B$3*(1+$D$2),2),IF(Products!$Z$8=$C$3,ROUND(F269*$B$3*(1+$D$3),2),IF(Products!$Z$8=$C$4,ROUND(F269*$B$3*(1+$D$4),2),IF(Products!$Z$8=$C$5,ROUND(F269*$B$3*(1+$D$5),2),IF(Products!$Z$8=$C$6,ROUND(F269*$B$3*(1+$D$6),2),IF(Products!$Z$8=$C$7,ROUND(F269*$B$3*(1+$D$7),2))))))))","v":21.79},{"$f":"IF(Products!$Z$8=$C$1,I269,IF(Products!$Z$8=$C$2,J269,IF(Products!$Z$8=$C$3,K269,IF(Products!$Z$8=$C$4,L269,IF(Products!$Z$8=$C$5,O269,IF(Products!$Z$8=$C$6,M269,IF(Products!$Z$8=$C$7,N269)))))))","v":"BL1213300F-EN"},"BL1213300F-EN","BL1513300F-EN","BL1613300F-EN","BL3213300F-EN","BL3513300F-EN","BL3613300F-EN","BL5213300F-EN",null,"GravityZone Security for Mobile","GravityZone Security for Mobile - EDU","GravityZone Security for Mobile - GOV","GravityZone Security for Mobile - R","GravityZone Security for Mobile - EDU R","GravityZone Security for Mobile - GOV R","GravityZone Security for Mobile - CUPG"]
[{"$f":"IF(Products!$Z$8=$C$1,Q270,IF(Products!$Z$8=$C$2,R270,IF(Products!$Z$8=$C$3,S270,IF(Products!$Z$8=$C$4,T270,IF(Products!$Z$8=$C$5,W270,IF(Products!$Z$8=$C$6,U270,IF(Products!$Z$8=$C$7,V270)))))))","v":"GravityZone Security for Mobile"},"3 years","250 - 499","GravityZone Security for Mobile3 years250 - 499",null,20.254000000000001,{"$f":"IF(Products!$Z$8=$C$1,ROUND(F270*$B$3,2),IF(Products!$Z$8=$C$2,ROUND(F270*$B$3*(1+$D$2),2),IF(Products!$Z$8=$C$3,ROUND(F270*$B$3*(1+$D$3),2),IF(Products!$Z$8=$C$4,ROUND(F270*$B$3*(1+$D$4),2),IF(Products!$Z$8=$C$5,ROUND(F270*$B$3*(1+$D$5),2),IF(Products!$Z$8=$C$6,ROUND(F270*$B$3*(1+$D$6),2),IF(Products!$Z$8=$C$7,ROUND(F270*$B$3*(1+$D$7),2))))))))","v":20.25},{"$f":"IF(Products!$Z$8=$C$1,I270,IF(Products!$Z$8=$C$2,J270,IF(Products!$Z$8=$C$3,K270,IF(Products!$Z$8=$C$4,L270,IF(Products!$Z$8=$C$5,O270,IF(Products!$Z$8=$C$6,M270,IF(Products!$Z$8=$C$7,N270)))))))","v":"BL1213300G-EN"},"BL1213300G-EN","BL1513300G-EN","BL1613300G-EN","BL3213300G-EN","BL3513300G-EN","BL3613300G-EN","BL5213300G-EN",null,"GravityZone Security for Mobile","GravityZone Security for Mobile - EDU","GravityZone Security for Mobile - GOV","GravityZone Security for Mobile - R","GravityZone Security for Mobile - EDU R","GravityZone Security for Mobile - GOV R","GravityZone Security for Mobile - CUPG"]
[{"$f":"IF(Products!$Z$8=$C$1,Q271,IF(Products!$Z$8=$C$2,R271,IF(Products!$Z$8=$C$3,S271,IF(Products!$Z$8=$C$4,T271,IF(Products!$Z$8=$C$5,W271,IF(Products!$Z$8=$C$6,U271,IF(Products!$Z$8=$C$7,V271)))))))","v":"GravityZone Security for Mobile"},"3 years","500 - 999","GravityZone Security for Mobile3 years500 - 999",null,17.22,{"$f":"IF(Products!$Z$8=$C$1,ROUND(F271*$B$3,2),IF(Products!$Z$8=$C$2,ROUND(F271*$B$3*(1+$D$2),2),IF(Products!$Z$8=$C$3,ROUND(F271*$B$3*(1+$D$3),2),IF(Products!$Z$8=$C$4,ROUND(F271*$B$3*(1+$D$4),2),IF(Products!$Z$8=$C$5,ROUND(F271*$B$3*(1+$D$5),2),IF(Products!$Z$8=$C$6,ROUND(F271*$B$3*(1+$D$6),2),IF(Products!$Z$8=$C$7,ROUND(F271*$B$3*(1+$D$7),2))))))))","v":17.22},{"$f":"IF(Products!$Z$8=$C$1,I271,IF(Products!$Z$8=$C$2,J271,IF(Products!$Z$8=$C$3,K271,IF(Products!$Z$8=$C$4,L271,IF(Products!$Z$8=$C$5,O271,IF(Products!$Z$8=$C$6,M271,IF(Products!$Z$8=$C$7,N271)))))))","v":"BL1213300H-EN"},"BL1213300H-EN","BL1513300H-EN","BL1613300H-EN","BL3213300H-EN","BL3513300H-EN","BL3613300H-EN","BL5213300H-EN",null,"GravityZone Security for Mobile","GravityZone Security for Mobile - EDU","GravityZone Security for Mobile - GOV","GravityZone Security for Mobile - R","GravityZone Security for Mobile - EDU R","GravityZone Security for Mobile - GOV R","GravityZone Security for Mobile - CUPG"]
[{"$f":"IF(Products!$Z$8=$C$1,Q272,IF(Products!$Z$8=$C$2,R272,IF(Products!$Z$8=$C$3,S272,IF(Products!$Z$8=$C$4,T272,IF(Products!$Z$8=$C$5,W272,IF(Products!$Z$8=$C$6,U272,IF(Products!$Z$8=$C$7,V272)))))))","v":"GravityZone Security for Mobile"},"3 years","1000 - 2999","GravityZone Security for Mobile3 years1000 - 2999",null,15.477499999999999,{"$f":"IF(Products!$Z$8=$C$1,ROUND(F272*$B$3,2),IF(Products!$Z$8=$C$2,ROUND(F272*$B$3*(1+$D$2),2),IF(Products!$Z$8=$C$3,ROUND(F272*$B$3*(1+$D$3),2),IF(Products!$Z$8=$C$4,ROUND(F272*$B$3*(1+$D$4),2),IF(Products!$Z$8=$C$5,ROUND(F272*$B$3*(1+$D$5),2),IF(Products!$Z$8=$C$6,ROUND(F272*$B$3*(1+$D$6),2),IF(Products!$Z$8=$C$7,ROUND(F272*$B$3*(1+$D$7),2))))))))","v":15.48},{"$f":"IF(Products!$Z$8=$C$1,I272,IF(Products!$Z$8=$C$2,J272,IF(Products!$Z$8=$C$3,K272,IF(Products!$Z$8=$C$4,L272,IF(Products!$Z$8=$C$5,O272,IF(Products!$Z$8=$C$6,M272,IF(Products!$Z$8=$C$7,N272)))))))","v":"BL1213300I-EN"},"BL1213300I-EN","BL1513300I-EN","BL1613300I-EN","BL3213300I-EN","BL3513300I-EN","BL3613300I-EN","BL5213300I-EN",null,"GravityZone Security for Mobile","GravityZone Security for Mobile - EDU","GravityZone Security for Mobile - GOV","GravityZone Security for Mobile - R","GravityZone Security for Mobile - EDU R","GravityZone Security for Mobile - GOV R","GravityZone Security for Mobile - CUPG"]
[{"$f":"IF(Products!$Z$8=$C$1,Q273,IF(Products!$Z$8=$C$2,R273,IF(Products!$Z$8=$C$3,S273,IF(Products!$Z$8=$C$4,T273,IF(Products!$Z$8=$C$5,W273,IF(Products!$Z$8=$C$6,U273,IF(Products!$Z$8=$C$7,V273)))))))","v":"GravityZone Security for Mobile"},"3 years","3000+","GravityZone Security for Mobile3 years3000+",null,13.734999999999999,{"$f":"IF(Products!$Z$8=$C$1,ROUND(F273*$B$3,2),IF(Products!$Z$8=$C$2,ROUND(F273*$B$3*(1+$D$2),2),IF(Products!$Z$8=$C$3,ROUND(F273*$B$3*(1+$D$3),2),IF(Products!$Z$8=$C$4,ROUND(F273*$B$3*(1+$D$4),2),IF(Products!$Z$8=$C$5,ROUND(F273*$B$3*(1+$D$5),2),IF(Products!$Z$8=$C$6,ROUND(F273*$B$3*(1+$D$6),2),IF(Products!$Z$8=$C$7,ROUND(F273*$B$3*(1+$D$7),2))))))))","v":13.74},{"$f":"IF(Products!$Z$8=$C$1,I273,IF(Products!$Z$8=$C$2,J273,IF(Products!$Z$8=$C$3,K273,IF(Products!$Z$8=$C$4,L273,IF(Products!$Z$8=$C$5,O273,IF(Products!$Z$8=$C$6,M273,IF(Products!$Z$8=$C$7,N273)))))))","v":"BL1213300J-EN"},"BL1213300J-EN","BL1513300J-EN","BL1613300J-EN","BL3213300J-EN","BL3513300J-EN","BL3613300J-EN","BL5213300J-EN",null,"GravityZone Security for Mobile","GravityZone Security for Mobile - EDU","GravityZone Security for Mobile - GOV","GravityZone Security for Mobile - R","GravityZone Security for Mobile - EDU R","GravityZone Security for Mobile - GOV R","GravityZone Security for Mobile - CUPG"]
[{"$f":"IF(Products!$Z$8=$C$1,Q274,IF(Products!$Z$8=$C$2,R274,IF(Products!$Z$8=$C$3,S274,IF(Products!$Z$8=$C$4,T274,IF(Products!$Z$8=$C$5,W274,IF(Products!$Z$8=$C$6,U274,IF(Products!$Z$8=$C$7,V274)))))))","v":"Bitdefender Security for Mail Servers - Linux"},"1 year","5 - 14","Bitdefender Security for Mail Servers - Linux1 year5 - 14",null,23.5365,{"$f":"IF(Products!$Z$8=$C$1,ROUND(F274*$B$3,2),IF(Products!$Z$8=$C$2,ROUND(F274*$B$3*(1+$D$2),2),IF(Products!$Z$8=$C$3,ROUND(F274*$B$3*(1+$D$3),2),IF(Products!$Z$8=$C$4,ROUND(F274*$B$3*(1+$D$4),2),IF(Products!$Z$8=$C$5,ROUND(F274*$B$3*(1+$D$5),2),IF(Products!$Z$8=$C$6,ROUND(F274*$B$3*(1+$D$6),2),IF(Products!$Z$8=$C$7,ROUND(F274*$B$3*(1+$D$7),2))))))))","v":23.54},{"$f":"IF(Products!$Z$8=$C$1,I274,IF(Products!$Z$8=$C$2,J274,IF(Products!$Z$8=$C$3,K274,IF(Products!$Z$8=$C$4,L274,IF(Products!$Z$8=$C$5,O274,IF(Products!$Z$8=$C$6,M274,IF(Products!$Z$8=$C$7,N274)))))))","v":"AL1242100A-EN"},"AL1242100A-EN","AL1542100A-EN","AL1642100A-EN","AL3242100A-EN","AL3542100A-EN","AL3642100A-EN","AL5242100A-EN",null,"Bitdefender Security for Mail Servers - Linux","Bitdefender Security for Mail Servers - Linux - EDU","Bitdefender Security for Mail Servers - Linux - GOV","Bitdefender Security for Mail Servers - Linux - R","Bitdefender Security for Mail Servers - Linux - EDU R","Bitdefender Security for Mail Servers - Linux - GOV R","Bitdefender Security for Mail Servers - Linux - CUPG"]
[{"$f":"IF(Products!$Z$8=$C$1,Q275,IF(Products!$Z$8=$C$2,R275,IF(Products!$Z$8=$C$3,S275,IF(Products!$Z$8=$C$4,T275,IF(Products!$Z$8=$C$5,W275,IF(Products!$Z$8=$C$6,U275,IF(Products!$Z$8=$C$7,V275)))))))","v":"Bitdefender Security for Mail Servers - Linux"},"1 year","15 - 24","Bitdefender Security for Mail Servers - Linux1 year15 - 24",null,21.394500000000001,{"$f":"IF(Products!$Z$8=$C$1,ROUND(F275*$B$3,2),IF(Products!$Z$8=$C$2,ROUND(F275*$B$3*(1+$D$2),2),IF(Products!$Z$8=$C$3,ROUND(F275*$B$3*(1+$D$3),2),IF(Products!$Z$8=$C$4,ROUND(F275*$B$3*(1+$D$4),2),IF(Products!$Z$8=$C$5,ROUND(F275*$B$3*(1+$D$5),2),IF(Products!$Z$8=$C$6,ROUND(F275*$B$3*(1+$D$6),2),IF(Products!$Z$8=$C$7,ROUND(F275*$B$3*(1+$D$7),2))))))))","v":21.39},{"$f":"IF(Products!$Z$8=$C$1,I275,IF(Products!$Z$8=$C$2,J275,IF(Products!$Z$8=$C$3,K275,IF(Products!$Z$8=$C$4,L275,IF(Products!$Z$8=$C$5,O275,IF(Products!$Z$8=$C$6,M275,IF(Products!$Z$8=$C$7,N275)))))))","v":"AL1242100B-EN"},"AL1242100B-EN","AL1542100B-EN","AL1642100B-EN","AL3242100B-EN","AL3542100B-EN","AL3642100B-EN","AL5242100B-EN",null,"Bitdefender Security for Mail Servers - Linux","Bitdefender Security for Mail Servers - Linux - EDU","Bitdefender Security for Mail Servers - Linux - GOV","Bitdefender Security for Mail Servers - Linux - R","Bitdefender Security for Mail Servers - Linux - EDU R","Bitdefender Security for Mail Servers - Linux - GOV R","Bitdefender Security for Mail Servers - Linux - CUPG"]
[{"$f":"IF(Products!$Z$8=$C$1,Q276,IF(Products!$Z$8=$C$2,R276,IF(Products!$Z$8=$C$3,S276,IF(Products!$Z$8=$C$4,T276,IF(Products!$Z$8=$C$5,W276,IF(Products!$Z$8=$C$6,U276,IF(Products!$Z$8=$C$7,V276)))))))","v":"Bitdefender Security for Mail Servers - Linux"},"1 year","25 - 49","Bitdefender Security for Mail Servers - Linux1 year25 - 49",null,19.252499999999998,{"$f":"IF(Products!$Z$8=$C$1,ROUND(F276*$B$3,2),IF(Products!$Z$8=$C$2,ROUND(F276*$B$3*(1+$D$2),2),IF(Products!$Z$8=$C$3,ROUND(F276*$B$3*(1+$D$3),2),IF(Products!$Z$8=$C$4,ROUND(F276*$B$3*(1+$D$4),2),IF(Products!$Z$8=$C$5,ROUND(F276*$B$3*(1+$D$5),2),IF(Products!$Z$8=$C$6,ROUND(F276*$B$3*(1+$D$6),2),IF(Products!$Z$8=$C$7,ROUND(F276*$B$3*(1+$D$7),2))))))))","v":19.25},{"$f":"IF(Products!$Z$8=$C$1,I276,IF(Products!$Z$8=$C$2,J276,IF(Products!$Z$8=$C$3,K276,IF(Products!$Z$8=$C$4,L276,IF(Products!$Z$8=$C$5,O276,IF(Products!$Z$8=$C$6,M276,IF(Products!$Z$8=$C$7,N276)))))))","v":"AL1242100C-EN"},"AL1242100C-EN","AL1542100C-EN","AL1642100C-EN","AL3242100C-EN","AL3542100C-EN","AL3642100C-EN","AL5242100C-EN",null,"Bitdefender Security for Mail Servers - Linux","Bitdefender Security for Mail Servers - Linux - EDU","Bitdefender Security for Mail Servers - Linux - GOV","Bitdefender Security for Mail Servers - Linux - R","Bitdefender Security for Mail Servers - Linux - EDU R","Bitdefender Security for Mail Servers - Linux - GOV R","Bitdefender Security for Mail Servers - Linux - CUPG"]
[{"$f":"IF(Products!$Z$8=$C$1,Q277,IF(Products!$Z$8=$C$2,R277,IF(Products!$Z$8=$C$3,S277,IF(Products!$Z$8=$C$4,T277,IF(Products!$Z$8=$C$5,W277,IF(Products!$Z$8=$C$6,U277,IF(Products!$Z$8=$C$7,V277)))))))","v":"Bitdefender Security for Mail Servers - Linux"},"1 year","50 - 99","Bitdefender Security for Mail Servers - Linux1 year50 - 99",null,17.467500000000001,{"$f":"IF(Products!$Z$8=$C$1,ROUND(F277*$B$3,2),IF(Products!$Z$8=$C$2,ROUND(F277*$B$3*(1+$D$2),2),IF(Products!$Z$8=$C$3,ROUND(F277*$B$3*(1+$D$3),2),IF(Products!$Z$8=$C$4,ROUND(F277*$B$3*(1+$D$4),2),IF(Products!$Z$8=$C$5,ROUND(F277*$B$3*(1+$D$5),2),IF(Products!$Z$8=$C$6,ROUND(F277*$B$3*(1+$D$6),2),IF(Products!$Z$8=$C$7,ROUND(F277*$B$3*(1+$D$7),2))))))))","v":17.47},{"$f":"IF(Products!$Z$8=$C$1,I277,IF(Products!$Z$8=$C$2,J277,IF(Products!$Z$8=$C$3,K277,IF(Products!$Z$8=$C$4,L277,IF(Products!$Z$8=$C$5,O277,IF(Products!$Z$8=$C$6,M277,IF(Products!$Z$8=$C$7,N277)))))))","v":"AL1242100D-EN"},"AL1242100D-EN","AL1542100D-EN","AL1642100D-EN","AL3242100D-EN","AL3542100D-EN","AL3642100D-EN","AL5242100D-EN",null,"Bitdefender Security for Mail Servers - Linux","Bitdefender Security for Mail Servers - Linux - EDU","Bitdefender Security for Mail Servers - Linux - GOV","Bitdefender Security for Mail Servers - Linux - R","Bitdefender Security for Mail Servers - Linux - EDU R","Bitdefender Security for Mail Servers - Linux - GOV R","Bitdefender Security for Mail Servers - Linux - CUPG"]
[{"$f":"IF(Products!$Z$8=$C$1,Q278,IF(Products!$Z$8=$C$2,R278,IF(Products!$Z$8=$C$3,S278,IF(Products!$Z$8=$C$4,T278,IF(Products!$Z$8=$C$5,W278,IF(Products!$Z$8=$C$6,U278,IF(Products!$Z$8=$C$7,V278)))))))","v":"Bitdefender Security for Mail Servers - Linux"},"1 year","100 - 149","Bitdefender Security for Mail Servers - Linux1 year100 - 149",null,15.682499999999999,{"$f":"IF(Products!$Z$8=$C$1,ROUND(F278*$B$3,2),IF(Products!$Z$8=$C$2,ROUND(F278*$B$3*(1+$D$2),2),IF(Products!$Z$8=$C$3,ROUND(F278*$B$3*(1+$D$3),2),IF(Products!$Z$8=$C$4,ROUND(F278*$B$3*(1+$D$4),2),IF(Products!$Z$8=$C$5,ROUND(F278*$B$3*(1+$D$5),2),IF(Products!$Z$8=$C$6,ROUND(F278*$B$3*(1+$D$6),2),IF(Products!$Z$8=$C$7,ROUND(F278*$B$3*(1+$D$7),2))))))))","v":15.68},{"$f":"IF(Products!$Z$8=$C$1,I278,IF(Products!$Z$8=$C$2,J278,IF(Products!$Z$8=$C$3,K278,IF(Products!$Z$8=$C$4,L278,IF(Products!$Z$8=$C$5,O278,IF(Products!$Z$8=$C$6,M278,IF(Products!$Z$8=$C$7,N278)))))))","v":"AL1242100E-EN"},"AL1242100E-EN","AL1542100E-EN","AL1642100E-EN","AL3242100E-EN","AL3542100E-EN","AL3642100E-EN","AL5242100E-EN",null,"Bitdefender Security for Mail Servers - Linux","Bitdefender Security for Mail Servers - Linux - EDU","Bitdefender Security for Mail Servers - Linux - GOV","Bitdefender Security for Mail Servers - Linux - R","Bitdefender Security for Mail Servers - Linux - EDU R","Bitdefender Security for Mail Servers - Linux - GOV R","Bitdefender Security for Mail Servers - Linux - CUPG"]
[{"$f":"IF(Products!$Z$8=$C$1,Q279,IF(Products!$Z$8=$C$2,R279,IF(Products!$Z$8=$C$3,S279,IF(Products!$Z$8=$C$4,T279,IF(Products!$Z$8=$C$5,W279,IF(Products!$Z$8=$C$6,U279,IF(Products!$Z$8=$C$7,V279)))))))","v":"Bitdefender Security for Mail Servers - Linux"},"1 year","150 - 249","Bitdefender Security for Mail Servers - Linux1 year150 - 249",null,14.390499999999999,{"$f":"IF(Products!$Z$8=$C$1,ROUND(F279*$B$3,2),IF(Products!$Z$8=$C$2,ROUND(F279*$B$3*(1+$D$2),2),IF(Products!$Z$8=$C$3,ROUND(F279*$B$3*(1+$D$3),2),IF(Products!$Z$8=$C$4,ROUND(F279*$B$3*(1+$D$4),2),IF(Products!$Z$8=$C$5,ROUND(F279*$B$3*(1+$D$5),2),IF(Products!$Z$8=$C$6,ROUND(F279*$B$3*(1+$D$6),2),IF(Products!$Z$8=$C$7,ROUND(F279*$B$3*(1+$D$7),2))))))))","v":14.39},{"$f":"IF(Products!$Z$8=$C$1,I279,IF(Products!$Z$8=$C$2,J279,IF(Products!$Z$8=$C$3,K279,IF(Products!$Z$8=$C$4,L279,IF(Products!$Z$8=$C$5,O279,IF(Products!$Z$8=$C$6,M279,IF(Products!$Z$8=$C$7,N279)))))))","v":"AL1242100F-EN"},"AL1242100F-EN","AL1542100F-EN","AL1642100F-EN","AL3242100F-EN","AL3542100F-EN","AL3642100F-EN","AL5242100F-EN",null,"Bitdefender Security for Mail Servers - Linux","Bitdefender Security for Mail Servers - Linux - EDU","Bitdefender Security for Mail Servers - Linux - GOV","Bitdefender Security for Mail Servers - Linux - R","Bitdefender Security for Mail Servers - Linux - EDU R","Bitdefender Security for Mail Servers - Linux - GOV R","Bitdefender Security for Mail Servers - Linux - CUPG"]
[{"$f":"IF(Products!$Z$8=$C$1,Q280,IF(Products!$Z$8=$C$2,R280,IF(Products!$Z$8=$C$3,S280,IF(Products!$Z$8=$C$4,T280,IF(Products!$Z$8=$C$5,W280,IF(Products!$Z$8=$C$6,U280,IF(Products!$Z$8=$C$7,V280)))))))","v":"Bitdefender Security for Mail Servers - Linux"},"1 year","250 - 499","Bitdefender Security for Mail Servers - Linux1 year250 - 499",null,13.174999999999999,{"$f":"IF(Products!$Z$8=$C$1,ROUND(F280*$B$3,2),IF(Products!$Z$8=$C$2,ROUND(F280*$B$3*(1+$D$2),2),IF(Products!$Z$8=$C$3,ROUND(F280*$B$3*(1+$D$3),2),IF(Products!$Z$8=$C$4,ROUND(F280*$B$3*(1+$D$4),2),IF(Products!$Z$8=$C$5,ROUND(F280*$B$3*(1+$D$5),2),IF(Products!$Z$8=$C$6,ROUND(F280*$B$3*(1+$D$6),2),IF(Products!$Z$8=$C$7,ROUND(F280*$B$3*(1+$D$7),2))))))))","v":13.18},{"$f":"IF(Products!$Z$8=$C$1,I280,IF(Products!$Z$8=$C$2,J280,IF(Products!$Z$8=$C$3,K280,IF(Products!$Z$8=$C$4,L280,IF(Products!$Z$8=$C$5,O280,IF(Products!$Z$8=$C$6,M280,IF(Products!$Z$8=$C$7,N280)))))))","v":"AL1242100G-EN"},"AL1242100G-EN","AL1542100G-EN","AL1642100G-EN","AL3242100G-EN","AL3542100G-EN","AL3642100G-EN","AL5242100G-EN",null,"Bitdefender Security for Mail Servers - Linux","Bitdefender Security for Mail Servers - Linux - EDU","Bitdefender Security for Mail Servers - Linux - GOV","Bitdefender Security for Mail Servers - Linux - R","Bitdefender Security for Mail Servers - Linux - EDU R","Bitdefender Security for Mail Servers - Linux - GOV R","Bitdefender Security for Mail Servers - Linux - CUPG"]
[{"$f":"IF(Products!$Z$8=$C$1,Q281,IF(Products!$Z$8=$C$2,R281,IF(Products!$Z$8=$C$3,S281,IF(Products!$Z$8=$C$4,T281,IF(Products!$Z$8=$C$5,W281,IF(Products!$Z$8=$C$6,U281,IF(Products!$Z$8=$C$7,V281)))))))","v":"Bitdefender Security for Mail Servers - Linux"},"1 year","500 - 999","Bitdefender Security for Mail Servers - Linux1 year500 - 999",null,12.103999999999999,{"$f":"IF(Products!$Z$8=$C$1,ROUND(F281*$B$3,2),IF(Products!$Z$8=$C$2,ROUND(F281*$B$3*(1+$D$2),2),IF(Products!$Z$8=$C$3,ROUND(F281*$B$3*(1+$D$3),2),IF(Products!$Z$8=$C$4,ROUND(F281*$B$3*(1+$D$4),2),IF(Products!$Z$8=$C$5,ROUND(F281*$B$3*(1+$D$5),2),IF(Products!$Z$8=$C$6,ROUND(F281*$B$3*(1+$D$6),2),IF(Products!$Z$8=$C$7,ROUND(F281*$B$3*(1+$D$7),2))))))))","v":12.1},{"$f":"IF(Products!$Z$8=$C$1,I281,IF(Products!$Z$8=$C$2,J281,IF(Products!$Z$8=$C$3,K281,IF(Products!$Z$8=$C$4,L281,IF(Products!$Z$8=$C$5,O281,IF(Products!$Z$8=$C$6,M281,IF(Products!$Z$8=$C$7,N281)))))))","v":"AL1242100H-EN"},"AL1242100H-EN","AL1542100H-EN","AL1642100H-EN","AL3242100H-EN","AL3542100H-EN","AL3642100H-EN","AL5242100H-EN",null,"Bitdefender Security for Mail Servers - Linux","Bitdefender Security for Mail Servers - Linux - EDU","Bitdefender Security for Mail Servers - Linux - GOV","Bitdefender Security for Mail Servers - Linux - R","Bitdefender Security for Mail Servers - Linux - EDU R","Bitdefender Security for Mail Servers - Linux - GOV R","Bitdefender Security for Mail Servers - Linux - CUPG"]
[{"$f":"IF(Products!$Z$8=$C$1,Q282,IF(Products!$Z$8=$C$2,R282,IF(Products!$Z$8=$C$3,S282,IF(Products!$Z$8=$C$4,T282,IF(Products!$Z$8=$C$5,W282,IF(Products!$Z$8=$C$6,U282,IF(Products!$Z$8=$C$7,V282)))))))","v":"Bitdefender Security for Mail Servers - Linux"},"1 year","1000 - 2999","Bitdefender Security for Mail Servers - Linux1 year1000 - 2999",null,11.032999999999999,{"$f":"IF(Products!$Z$8=$C$1,ROUND(F282*$B$3,2),IF(Products!$Z$8=$C$2,ROUND(F282*$B$3*(1+$D$2),2),IF(Products!$Z$8=$C$3,ROUND(F282*$B$3*(1+$D$3),2),IF(Products!$Z$8=$C$4,ROUND(F282*$B$3*(1+$D$4),2),IF(Products!$Z$8=$C$5,ROUND(F282*$B$3*(1+$D$5),2),IF(Products!$Z$8=$C$6,ROUND(F282*$B$3*(1+$D$6),2),IF(Products!$Z$8=$C$7,ROUND(F282*$B$3*(1+$D$7),2))))))))","v":11.03},{"$f":"IF(Products!$Z$8=$C$1,I282,IF(Products!$Z$8=$C$2,J282,IF(Products!$Z$8=$C$3,K282,IF(Products!$Z$8=$C$4,L282,IF(Products!$Z$8=$C$5,O282,IF(Products!$Z$8=$C$6,M282,IF(Products!$Z$8=$C$7,N282)))))))","v":"AL1242100I-EN"},"AL1242100I-EN","AL1542100I-EN","AL1642100I-EN","AL3242100I-EN","AL3542100I-EN","AL3642100I-EN","AL5242100I-EN",null,"Bitdefender Security for Mail Servers - Linux","Bitdefender Security for Mail Servers - Linux - EDU","Bitdefender Security for Mail Servers - Linux - GOV","Bitdefender Security for Mail Servers - Linux - R","Bitdefender Security for Mail Servers - Linux - EDU R","Bitdefender Security for Mail Servers - Linux - GOV R","Bitdefender Security for Mail Servers - Linux - CUPG"]
[{"$f":"IF(Products!$Z$8=$C$1,Q283,IF(Products!$Z$8=$C$2,R283,IF(Products!$Z$8=$C$3,S283,IF(Products!$Z$8=$C$4,T283,IF(Products!$Z$8=$C$5,W283,IF(Products!$Z$8=$C$6,U283,IF(Products!$Z$8=$C$7,V283)))))))","v":"Bitdefender Security for Mail Servers - Linux"},"1 year","3000+","Bitdefender Security for Mail Servers - Linux1 year3000+",null,9.9619999999999997,{"$f":"IF(Products!$Z$8=$C$1,ROUND(F283*$B$3,2),IF(Products!$Z$8=$C$2,ROUND(F283*$B$3*(1+$D$2),2),IF(Products!$Z$8=$C$3,ROUND(F283*$B$3*(1+$D$3),2),IF(Products!$Z$8=$C$4,ROUND(F283*$B$3*(1+$D$4),2),IF(Products!$Z$8=$C$5,ROUND(F283*$B$3*(1+$D$5),2),IF(Products!$Z$8=$C$6,ROUND(F283*$B$3*(1+$D$6),2),IF(Products!$Z$8=$C$7,ROUND(F283*$B$3*(1+$D$7),2))))))))","v":9.9600000000000009},{"$f":"IF(Products!$Z$8=$C$1,I283,IF(Products!$Z$8=$C$2,J283,IF(Products!$Z$8=$C$3,K283,IF(Products!$Z$8=$C$4,L283,IF(Products!$Z$8=$C$5,O283,IF(Products!$Z$8=$C$6,M283,IF(Products!$Z$8=$C$7,N283)))))))","v":"AL1242100J-EN"},"AL1242100J-EN","AL1542100J-EN","AL1642100J-EN","AL3242100J-EN","AL3542100J-EN","AL3642100J-EN","AL5242100J-EN",null,"Bitdefender Security for Mail Servers - Linux","Bitdefender Security for Mail Servers - Linux - EDU","Bitdefender Security for Mail Servers - Linux - GOV","Bitdefender Security for Mail Servers - Linux - R","Bitdefender Security for Mail Servers - Linux - EDU R","Bitdefender Security for Mail Servers - Linux - GOV R","Bitdefender Security for Mail Servers - Linux - CUPG"]
[{"$f":"IF(Products!$Z$8=$C$1,Q284,IF(Products!$Z$8=$C$2,R284,IF(Products!$Z$8=$C$3,S284,IF(Products!$Z$8=$C$4,T284,IF(Products!$Z$8=$C$5,W284,IF(Products!$Z$8=$C$6,U284,IF(Products!$Z$8=$C$7,V284)))))))","v":"Bitdefender Security for Mail Servers - Linux"},"2 years","5 - 14","Bitdefender Security for Mail Servers - Linux2 years5 - 14",null,37.659999999999997,{"$f":"IF(Products!$Z$8=$C$1,ROUND(F284*$B$3,2),IF(Products!$Z$8=$C$2,ROUND(F284*$B$3*(1+$D$2),2),IF(Products!$Z$8=$C$3,ROUND(F284*$B$3*(1+$D$3),2),IF(Products!$Z$8=$C$4,ROUND(F284*$B$3*(1+$D$4),2),IF(Products!$Z$8=$C$5,ROUND(F284*$B$3*(1+$D$5),2),IF(Products!$Z$8=$C$6,ROUND(F284*$B$3*(1+$D$6),2),IF(Products!$Z$8=$C$7,ROUND(F284*$B$3*(1+$D$7),2))))))))","v":37.659999999999997},{"$f":"IF(Products!$Z$8=$C$1,I284,IF(Products!$Z$8=$C$2,J284,IF(Products!$Z$8=$C$3,K284,IF(Products!$Z$8=$C$4,L284,IF(Products!$Z$8=$C$5,O284,IF(Products!$Z$8=$C$6,M284,IF(Products!$Z$8=$C$7,N284)))))))","v":"AL1242200A-EN"},"AL1242200A-EN","AL1542200A-EN","AL1642200A-EN","AL3242200A-EN","AL3542200A-EN","AL3642200A-EN","AL5242200A-EN",null,"Bitdefender Security for Mail Servers - Linux","Bitdefender Security for Mail Servers - Linux - EDU","Bitdefender Security for Mail Servers - Linux - GOV","Bitdefender Security for Mail Servers - Linux - R","Bitdefender Security for Mail Servers - Linux - EDU R","Bitdefender Security for Mail Servers - Linux - GOV R","Bitdefender Security for Mail Servers - Linux - CUPG"]
[{"$f":"IF(Products!$Z$8=$C$1,Q285,IF(Products!$Z$8=$C$2,R285,IF(Products!$Z$8=$C$3,S285,IF(Products!$Z$8=$C$4,T285,IF(Products!$Z$8=$C$5,W285,IF(Products!$Z$8=$C$6,U285,IF(Products!$Z$8=$C$7,V285)))))))","v":"Bitdefender Security for Mail Servers - Linux"},"2 years","15 - 24","Bitdefender Security for Mail Servers - Linux2 years15 - 24",null,34.229999999999997,{"$f":"IF(Products!$Z$8=$C$1,ROUND(F285*$B$3,2),IF(Products!$Z$8=$C$2,ROUND(F285*$B$3*(1+$D$2),2),IF(Products!$Z$8=$C$3,ROUND(F285*$B$3*(1+$D$3),2),IF(Products!$Z$8=$C$4,ROUND(F285*$B$3*(1+$D$4),2),IF(Products!$Z$8=$C$5,ROUND(F285*$B$3*(1+$D$5),2),IF(Products!$Z$8=$C$6,ROUND(F285*$B$3*(1+$D$6),2),IF(Products!$Z$8=$C$7,ROUND(F285*$B$3*(1+$D$7),2))))))))","v":34.229999999999997},{"$f":"IF(Products!$Z$8=$C$1,I285,IF(Products!$Z$8=$C$2,J285,IF(Products!$Z$8=$C$3,K285,IF(Products!$Z$8=$C$4,L285,IF(Products!$Z$8=$C$5,O285,IF(Products!$Z$8=$C$6,M285,IF(Products!$Z$8=$C$7,N285)))))))","v":"AL1242200B-EN"},"AL1242200B-EN","AL1542200B-EN","AL1642200B-EN","AL3242200B-EN","AL3542200B-EN","AL3642200B-EN","AL5242200B-EN",null,"Bitdefender Security for Mail Servers - Linux","Bitdefender Security for Mail Servers - Linux - EDU","Bitdefender Security for Mail Servers - Linux - GOV","Bitdefender Security for Mail Servers - Linux - R","Bitdefender Security for Mail Servers - Linux - EDU R","Bitdefender Security for Mail Servers - Linux - GOV R","Bitdefender Security for Mail Servers - Linux - CUPG"]
[{"$f":"IF(Products!$Z$8=$C$1,Q286,IF(Products!$Z$8=$C$2,R286,IF(Products!$Z$8=$C$3,S286,IF(Products!$Z$8=$C$4,T286,IF(Products!$Z$8=$C$5,W286,IF(Products!$Z$8=$C$6,U286,IF(Products!$Z$8=$C$7,V286)))))))","v":"Bitdefender Security for Mail Servers - Linux"},"2 years","25 - 49","Bitdefender Security for Mail Servers - Linux2 years25 - 49",null,30.8,{"$f":"IF(Products!$Z$8=$C$1,ROUND(F286*$B$3,2),IF(Products!$Z$8=$C$2,ROUND(F286*$B$3*(1+$D$2),2),IF(Products!$Z$8=$C$3,ROUND(F286*$B$3*(1+$D$3),2),IF(Products!$Z$8=$C$4,ROUND(F286*$B$3*(1+$D$4),2),IF(Products!$Z$8=$C$5,ROUND(F286*$B$3*(1+$D$5),2),IF(Products!$Z$8=$C$6,ROUND(F286*$B$3*(1+$D$6),2),IF(Products!$Z$8=$C$7,ROUND(F286*$B$3*(1+$D$7),2))))))))","v":30.8},{"$f":"IF(Products!$Z$8=$C$1,I286,IF(Products!$Z$8=$C$2,J286,IF(Products!$Z$8=$C$3,K286,IF(Products!$Z$8=$C$4,L286,IF(Products!$Z$8=$C$5,O286,IF(Products!$Z$8=$C$6,M286,IF(Products!$Z$8=$C$7,N286)))))))","v":"AL1242200C-EN"},"AL1242200C-EN","AL1542200C-EN","AL1642200C-EN","AL3242200C-EN","AL3542200C-EN","AL3642200C-EN","AL5242200C-EN",null,"Bitdefender Security for Mail Servers - Linux","Bitdefender Security for Mail Servers - Linux - EDU","Bitdefender Security for Mail Servers - Linux - GOV","Bitdefender Security for Mail Servers - Linux - R","Bitdefender Security for Mail Servers - Linux - EDU R","Bitdefender Security for Mail Servers - Linux - GOV R","Bitdefender Security for Mail Servers - Linux - CUPG"]
[{"$f":"IF(Products!$Z$8=$C$1,Q287,IF(Products!$Z$8=$C$2,R287,IF(Products!$Z$8=$C$3,S287,IF(Products!$Z$8=$C$4,T287,IF(Products!$Z$8=$C$5,W287,IF(Products!$Z$8=$C$6,U287,IF(Products!$Z$8=$C$7,V287)))))))","v":"Bitdefender Security for Mail Servers - Linux"},"2 years","50 - 99","Bitdefender Security for Mail Servers - Linux2 years50 - 99",null,27.95,{"$f":"IF(Products!$Z$8=$C$1,ROUND(F287*$B$3,2),IF(Products!$Z$8=$C$2,ROUND(F287*$B$3*(1+$D$2),2),IF(Products!$Z$8=$C$3,ROUND(F287*$B$3*(1+$D$3),2),IF(Products!$Z$8=$C$4,ROUND(F287*$B$3*(1+$D$4),2),IF(Products!$Z$8=$C$5,ROUND(F287*$B$3*(1+$D$5),2),IF(Products!$Z$8=$C$6,ROUND(F287*$B$3*(1+$D$6),2),IF(Products!$Z$8=$C$7,ROUND(F287*$B$3*(1+$D$7),2))))))))","v":27.95},{"$f":"IF(Products!$Z$8=$C$1,I287,IF(Products!$Z$8=$C$2,J287,IF(Products!$Z$8=$C$3,K287,IF(Products!$Z$8=$C$4,L287,IF(Products!$Z$8=$C$5,O287,IF(Products!$Z$8=$C$6,M287,IF(Products!$Z$8=$C$7,N287)))))))","v":"AL1242200D-EN"},"AL1242200D-EN","AL1542200D-EN","AL1642200D-EN","AL3242200D-EN","AL3542200D-EN","AL3642200D-EN","AL5242200D-EN",null,"Bitdefender Security for Mail Servers - Linux","Bitdefender Security for Mail Servers - Linux - EDU","Bitdefender Security for Mail Servers - Linux - GOV","Bitdefender Security for Mail Servers - Linux - R","Bitdefender Security for Mail Servers - Linux - EDU R","Bitdefender Security for Mail Servers - Linux - GOV R","Bitdefender Security for Mail Servers - Linux - CUPG"]
[{"$f":"IF(Products!$Z$8=$C$1,Q288,IF(Products!$Z$8=$C$2,R288,IF(Products!$Z$8=$C$3,S288,IF(Products!$Z$8=$C$4,T288,IF(Products!$Z$8=$C$5,W288,IF(Products!$Z$8=$C$6,U288,IF(Products!$Z$8=$C$7,V288)))))))","v":"Bitdefender Security for Mail Servers - Linux"},"2 years","100 - 149","Bitdefender Security for Mail Servers - Linux2 years100 - 149",null,25.09,{"$f":"IF(Products!$Z$8=$C$1,ROUND(F288*$B$3,2),IF(Products!$Z$8=$C$2,ROUND(F288*$B$3*(1+$D$2),2),IF(Products!$Z$8=$C$3,ROUND(F288*$B$3*(1+$D$3),2),IF(Products!$Z$8=$C$4,ROUND(F288*$B$3*(1+$D$4),2),IF(Products!$Z$8=$C$5,ROUND(F288*$B$3*(1+$D$5),2),IF(Products!$Z$8=$C$6,ROUND(F288*$B$3*(1+$D$6),2),IF(Products!$Z$8=$C$7,ROUND(F288*$B$3*(1+$D$7),2))))))))","v":25.09},{"$f":"IF(Products!$Z$8=$C$1,I288,IF(Products!$Z$8=$C$2,J288,IF(Products!$Z$8=$C$3,K288,IF(Products!$Z$8=$C$4,L288,IF(Products!$Z$8=$C$5,O288,IF(Products!$Z$8=$C$6,M288,IF(Products!$Z$8=$C$7,N288)))))))","v":"AL1242200E-EN"},"AL1242200E-EN","AL1542200E-EN","AL1642200E-EN","AL3242200E-EN","AL3542200E-EN","AL3642200E-EN","AL5242200E-EN",null,"Bitdefender Security for Mail Servers - Linux","Bitdefender Security for Mail Servers - Linux - EDU","Bitdefender Security for Mail Servers - Linux - GOV","Bitdefender Security for Mail Servers - Linux - R","Bitdefender Security for Mail Servers - Linux - EDU R","Bitdefender Security for Mail Servers - Linux - GOV R","Bitdefender Security for Mail Servers - Linux - CUPG"]
[{"$f":"IF(Products!$Z$8=$C$1,Q289,IF(Products!$Z$8=$C$2,R289,IF(Products!$Z$8=$C$3,S289,IF(Products!$Z$8=$C$4,T289,IF(Products!$Z$8=$C$5,W289,IF(Products!$Z$8=$C$6,U289,IF(Products!$Z$8=$C$7,V289)))))))","v":"Bitdefender Security for Mail Servers - Linux"},"2 years","150 - 249","Bitdefender Security for Mail Servers - Linux2 years150 - 249",null,23.02,{"$f":"IF(Products!$Z$8=$C$1,ROUND(F289*$B$3,2),IF(Products!$Z$8=$C$2,ROUND(F289*$B$3*(1+$D$2),2),IF(Products!$Z$8=$C$3,ROUND(F289*$B$3*(1+$D$3),2),IF(Products!$Z$8=$C$4,ROUND(F289*$B$3*(1+$D$4),2),IF(Products!$Z$8=$C$5,ROUND(F289*$B$3*(1+$D$5),2),IF(Products!$Z$8=$C$6,ROUND(F289*$B$3*(1+$D$6),2),IF(Products!$Z$8=$C$7,ROUND(F289*$B$3*(1+$D$7),2))))))))","v":23.02},{"$f":"IF(Products!$Z$8=$C$1,I289,IF(Products!$Z$8=$C$2,J289,IF(Products!$Z$8=$C$3,K289,IF(Products!$Z$8=$C$4,L289,IF(Products!$Z$8=$C$5,O289,IF(Products!$Z$8=$C$6,M289,IF(Products!$Z$8=$C$7,N289)))))))","v":"AL1242200F-EN"},"AL1242200F-EN","AL1542200F-EN","AL1642200F-EN","AL3242200F-EN","AL3542200F-EN","AL3642200F-EN","AL5242200F-EN",null,"Bitdefender Security for Mail Servers - Linux","Bitdefender Security for Mail Servers - Linux - EDU","Bitdefender Security for Mail Servers - Linux - GOV","Bitdefender Security for Mail Servers - Linux - R","Bitdefender Security for Mail Servers - Linux - EDU R","Bitdefender Security for Mail Servers - Linux - GOV R","Bitdefender Security for Mail Servers - Linux - CUPG"]
[{"$f":"IF(Products!$Z$8=$C$1,Q290,IF(Products!$Z$8=$C$2,R290,IF(Products!$Z$8=$C$3,S290,IF(Products!$Z$8=$C$4,T290,IF(Products!$Z$8=$C$5,W290,IF(Products!$Z$8=$C$6,U290,IF(Products!$Z$8=$C$7,V290)))))))","v":"Bitdefender Security for Mail Servers - Linux"},"2 years","250 - 499","Bitdefender Security for Mail Servers - Linux2 years250 - 499",null,21.08,{"$f":"IF(Products!$Z$8=$C$1,ROUND(F290*$B$3,2),IF(Products!$Z$8=$C$2,ROUND(F290*$B$3*(1+$D$2),2),IF(Products!$Z$8=$C$3,ROUND(F290*$B$3*(1+$D$3),2),IF(Products!$Z$8=$C$4,ROUND(F290*$B$3*(1+$D$4),2),IF(Products!$Z$8=$C$5,ROUND(F290*$B$3*(1+$D$5),2),IF(Products!$Z$8=$C$6,ROUND(F290*$B$3*(1+$D$6),2),IF(Products!$Z$8=$C$7,ROUND(F290*$B$3*(1+$D$7),2))))))))","v":21.08},{"$f":"IF(Products!$Z$8=$C$1,I290,IF(Products!$Z$8=$C$2,J290,IF(Products!$Z$8=$C$3,K290,IF(Products!$Z$8=$C$4,L290,IF(Products!$Z$8=$C$5,O290,IF(Products!$Z$8=$C$6,M290,IF(Products!$Z$8=$C$7,N290)))))))","v":"AL1242200G-EN"},"AL1242200G-EN","AL1542200G-EN","AL1642200G-EN","AL3242200G-EN","AL3542200G-EN","AL3642200G-EN","AL5242200G-EN",null,"Bitdefender Security for Mail Servers - Linux","Bitdefender Security for Mail Servers - Linux - EDU","Bitdefender Security for Mail Servers - Linux - GOV","Bitdefender Security for Mail Servers - Linux - R","Bitdefender Security for Mail Servers - Linux - EDU R","Bitdefender Security for Mail Servers - Linux - GOV R","Bitdefender Security for Mail Servers - Linux - CUPG"]
[{"$f":"IF(Products!$Z$8=$C$1,Q291,IF(Products!$Z$8=$C$2,R291,IF(Products!$Z$8=$C$3,S291,IF(Products!$Z$8=$C$4,T291,IF(Products!$Z$8=$C$5,W291,IF(Products!$Z$8=$C$6,U291,IF(Products!$Z$8=$C$7,V291)))))))","v":"Bitdefender Security for Mail Servers - Linux"},"2 years","500 - 999","Bitdefender Security for Mail Servers - Linux2 years500 - 999",null,19.37,{"$f":"IF(Products!$Z$8=$C$1,ROUND(F291*$B$3,2),IF(Products!$Z$8=$C$2,ROUND(F291*$B$3*(1+$D$2),2),IF(Products!$Z$8=$C$3,ROUND(F291*$B$3*(1+$D$3),2),IF(Products!$Z$8=$C$4,ROUND(F291*$B$3*(1+$D$4),2),IF(Products!$Z$8=$C$5,ROUND(F291*$B$3*(1+$D$5),2),IF(Products!$Z$8=$C$6,ROUND(F291*$B$3*(1+$D$6),2),IF(Products!$Z$8=$C$7,ROUND(F291*$B$3*(1+$D$7),2))))))))","v":19.37},{"$f":"IF(Products!$Z$8=$C$1,I291,IF(Products!$Z$8=$C$2,J291,IF(Products!$Z$8=$C$3,K291,IF(Products!$Z$8=$C$4,L291,IF(Products!$Z$8=$C$5,O291,IF(Products!$Z$8=$C$6,M291,IF(Products!$Z$8=$C$7,N291)))))))","v":"AL1242200H-EN"},"AL1242200H-EN","AL1542200H-EN","AL1642200H-EN","AL3242200H-EN","AL3542200H-EN","AL3642200H-EN","AL5242200H-EN",null,"Bitdefender Security for Mail Servers - Linux","Bitdefender Security for Mail Servers - Linux - EDU","Bitdefender Security for Mail Servers - Linux - GOV","Bitdefender Security for Mail Servers - Linux - R","Bitdefender Security for Mail Servers - Linux - EDU R","Bitdefender Security for Mail Servers - Linux - GOV R","Bitdefender Security for Mail Servers - Linux - CUPG"]
[{"$f":"IF(Products!$Z$8=$C$1,Q292,IF(Products!$Z$8=$C$2,R292,IF(Products!$Z$8=$C$3,S292,IF(Products!$Z$8=$C$4,T292,IF(Products!$Z$8=$C$5,W292,IF(Products!$Z$8=$C$6,U292,IF(Products!$Z$8=$C$7,V292)))))))","v":"Bitdefender Security for Mail Servers - Linux"},"2 years","1000 - 2999","Bitdefender Security for Mail Servers - Linux2 years1000 - 2999",null,17.649999999999999,{"$f":"IF(Products!$Z$8=$C$1,ROUND(F292*$B$3,2),IF(Products!$Z$8=$C$2,ROUND(F292*$B$3*(1+$D$2),2),IF(Products!$Z$8=$C$3,ROUND(F292*$B$3*(1+$D$3),2),IF(Products!$Z$8=$C$4,ROUND(F292*$B$3*(1+$D$4),2),IF(Products!$Z$8=$C$5,ROUND(F292*$B$3*(1+$D$5),2),IF(Products!$Z$8=$C$6,ROUND(F292*$B$3*(1+$D$6),2),IF(Products!$Z$8=$C$7,ROUND(F292*$B$3*(1+$D$7),2))))))))","v":17.649999999999999},{"$f":"IF(Products!$Z$8=$C$1,I292,IF(Products!$Z$8=$C$2,J292,IF(Products!$Z$8=$C$3,K292,IF(Products!$Z$8=$C$4,L292,IF(Products!$Z$8=$C$5,O292,IF(Products!$Z$8=$C$6,M292,IF(Products!$Z$8=$C$7,N292)))))))","v":"AL1242200I-EN"},"AL1242200I-EN","AL1542200I-EN","AL1642200I-EN","AL3242200I-EN","AL3542200I-EN","AL3642200I-EN","AL5242200I-EN",null,"Bitdefender Security for Mail Servers - Linux","Bitdefender Security for Mail Servers - Linux - EDU","Bitdefender Security for Mail Servers - Linux - GOV","Bitdefender Security for Mail Servers - Linux - R","Bitdefender Security for Mail Servers - Linux - EDU R","Bitdefender Security for Mail Servers - Linux - GOV R","Bitdefender Security for Mail Servers - Linux - CUPG"]
[{"$f":"IF(Products!$Z$8=$C$1,Q293,IF(Products!$Z$8=$C$2,R293,IF(Products!$Z$8=$C$3,S293,IF(Products!$Z$8=$C$4,T293,IF(Products!$Z$8=$C$5,W293,IF(Products!$Z$8=$C$6,U293,IF(Products!$Z$8=$C$7,V293)))))))","v":"Bitdefender Security for Mail Servers - Linux"},"2 years","3000+","Bitdefender Security for Mail Servers - Linux2 years3000+",null,15.94,{"$f":"IF(Products!$Z$8=$C$1,ROUND(F293*$B$3,2),IF(Products!$Z$8=$C$2,ROUND(F293*$B$3*(1+$D$2),2),IF(Products!$Z$8=$C$3,ROUND(F293*$B$3*(1+$D$3),2),IF(Products!$Z$8=$C$4,ROUND(F293*$B$3*(1+$D$4),2),IF(Products!$Z$8=$C$5,ROUND(F293*$B$3*(1+$D$5),2),IF(Products!$Z$8=$C$6,ROUND(F293*$B$3*(1+$D$6),2),IF(Products!$Z$8=$C$7,ROUND(F293*$B$3*(1+$D$7),2))))))))","v":15.94},{"$f":"IF(Products!$Z$8=$C$1,I293,IF(Products!$Z$8=$C$2,J293,IF(Products!$Z$8=$C$3,K293,IF(Products!$Z$8=$C$4,L293,IF(Products!$Z$8=$C$5,O293,IF(Products!$Z$8=$C$6,M293,IF(Products!$Z$8=$C$7,N293)))))))","v":"AL1242200J-EN"},"AL1242200J-EN","AL1542200J-EN","AL1642200J-EN","AL3242200J-EN","AL3542200J-EN","AL3642200J-EN","AL5242200J-EN",null,"Bitdefender Security for Mail Servers - Linux","Bitdefender Security for Mail Servers - Linux - EDU","Bitdefender Security for Mail Servers - Linux - GOV","Bitdefender Security for Mail Servers - Linux - R","Bitdefender Security for Mail Servers - Linux - EDU R","Bitdefender Security for Mail Servers - Linux - GOV R","Bitdefender Security for Mail Servers - Linux - CUPG"]
[{"$f":"IF(Products!$Z$8=$C$1,Q294,IF(Products!$Z$8=$C$2,R294,IF(Products!$Z$8=$C$3,S294,IF(Products!$Z$8=$C$4,T294,IF(Products!$Z$8=$C$5,W294,IF(Products!$Z$8=$C$6,U294,IF(Products!$Z$8=$C$7,V294)))))))","v":"Bitdefender Security for Mail Servers - Linux"},"3 years","5 - 14","Bitdefender Security for Mail Servers - Linux3 years5 - 14",null,48.246749999999999,{"$f":"IF(Products!$Z$8=$C$1,ROUND(F294*$B$3,2),IF(Products!$Z$8=$C$2,ROUND(F294*$B$3*(1+$D$2),2),IF(Products!$Z$8=$C$3,ROUND(F294*$B$3*(1+$D$3),2),IF(Products!$Z$8=$C$4,ROUND(F294*$B$3*(1+$D$4),2),IF(Products!$Z$8=$C$5,ROUND(F294*$B$3*(1+$D$5),2),IF(Products!$Z$8=$C$6,ROUND(F294*$B$3*(1+$D$6),2),IF(Products!$Z$8=$C$7,ROUND(F294*$B$3*(1+$D$7),2))))))))","v":48.25},{"$f":"IF(Products!$Z$8=$C$1,I294,IF(Products!$Z$8=$C$2,J294,IF(Products!$Z$8=$C$3,K294,IF(Products!$Z$8=$C$4,L294,IF(Products!$Z$8=$C$5,O294,IF(Products!$Z$8=$C$6,M294,IF(Products!$Z$8=$C$7,N294)))))))","v":"AL1242300A-EN"},"AL1242300A-EN","AL1542300A-EN","AL1642300A-EN","AL3242300A-EN","AL3542300A-EN","AL3642300A-EN","AL5242300A-EN",null,"Bitdefender Security for Mail Servers - Linux","Bitdefender Security for Mail Servers - Linux - EDU","Bitdefender Security for Mail Servers - Linux - GOV","Bitdefender Security for Mail Servers - Linux - R","Bitdefender Security for Mail Servers - Linux - EDU R","Bitdefender Security for Mail Servers - Linux - GOV R","Bitdefender Security for Mail Servers - Linux - CUPG"]
[{"$f":"IF(Products!$Z$8=$C$1,Q295,IF(Products!$Z$8=$C$2,R295,IF(Products!$Z$8=$C$3,S295,IF(Products!$Z$8=$C$4,T295,IF(Products!$Z$8=$C$5,W295,IF(Products!$Z$8=$C$6,U295,IF(Products!$Z$8=$C$7,V295)))))))","v":"Bitdefender Security for Mail Servers - Linux"},"3 years","15 - 24","Bitdefender Security for Mail Servers - Linux3 years15 - 24",null,43.859749999999998,{"$f":"IF(Products!$Z$8=$C$1,ROUND(F295*$B$3,2),IF(Products!$Z$8=$C$2,ROUND(F295*$B$3*(1+$D$2),2),IF(Products!$Z$8=$C$3,ROUND(F295*$B$3*(1+$D$3),2),IF(Products!$Z$8=$C$4,ROUND(F295*$B$3*(1+$D$4),2),IF(Products!$Z$8=$C$5,ROUND(F295*$B$3*(1+$D$5),2),IF(Products!$Z$8=$C$6,ROUND(F295*$B$3*(1+$D$6),2),IF(Products!$Z$8=$C$7,ROUND(F295*$B$3*(1+$D$7),2))))))))","v":43.86},{"$f":"IF(Products!$Z$8=$C$1,I295,IF(Products!$Z$8=$C$2,J295,IF(Products!$Z$8=$C$3,K295,IF(Products!$Z$8=$C$4,L295,IF(Products!$Z$8=$C$5,O295,IF(Products!$Z$8=$C$6,M295,IF(Products!$Z$8=$C$7,N295)))))))","v":"AL1242300B-EN"},"AL1242300B-EN","AL1542300B-EN","AL1642300B-EN","AL3242300B-EN","AL3542300B-EN","AL3642300B-EN","AL5242300B-EN",null,"Bitdefender Security for Mail Servers - Linux","Bitdefender Security for Mail Servers - Linux - EDU","Bitdefender Security for Mail Servers - Linux - GOV","Bitdefender Security for Mail Servers - Linux - R","Bitdefender Security for Mail Servers - Linux - EDU R","Bitdefender Security for Mail Servers - Linux - GOV R","Bitdefender Security for Mail Servers - Linux - CUPG"]
[{"$f":"IF(Products!$Z$8=$C$1,Q296,IF(Products!$Z$8=$C$2,R296,IF(Products!$Z$8=$C$3,S296,IF(Products!$Z$8=$C$4,T296,IF(Products!$Z$8=$C$5,W296,IF(Products!$Z$8=$C$6,U296,IF(Products!$Z$8=$C$7,V296)))))))","v":"Bitdefender Security for Mail Servers - Linux"},"3 years","25 - 49","Bitdefender Security for Mail Servers - Linux3 years25 - 49",null,39.472749999999998,{"$f":"IF(Products!$Z$8=$C$1,ROUND(F296*$B$3,2),IF(Products!$Z$8=$C$2,ROUND(F296*$B$3*(1+$D$2),2),IF(Products!$Z$8=$C$3,ROUND(F296*$B$3*(1+$D$3),2),IF(Products!$Z$8=$C$4,ROUND(F296*$B$3*(1+$D$4),2),IF(Products!$Z$8=$C$5,ROUND(F296*$B$3*(1+$D$5),2),IF(Products!$Z$8=$C$6,ROUND(F296*$B$3*(1+$D$6),2),IF(Products!$Z$8=$C$7,ROUND(F296*$B$3*(1+$D$7),2))))))))","v":39.47},{"$f":"IF(Products!$Z$8=$C$1,I296,IF(Products!$Z$8=$C$2,J296,IF(Products!$Z$8=$C$3,K296,IF(Products!$Z$8=$C$4,L296,IF(Products!$Z$8=$C$5,O296,IF(Products!$Z$8=$C$6,M296,IF(Products!$Z$8=$C$7,N296)))))))","v":"AL1242300C-EN"},"AL1242300C-EN","AL1542300C-EN","AL1642300C-EN","AL3242300C-EN","AL3542300C-EN","AL3642300C-EN","AL5242300C-EN",null,"Bitdefender Security for Mail Servers - Linux","Bitdefender Security for Mail Servers - Linux - EDU","Bitdefender Security for Mail Servers - Linux - GOV","Bitdefender Security for Mail Servers - Linux - R","Bitdefender Security for Mail Servers - Linux - EDU R","Bitdefender Security for Mail Servers - Linux - GOV R","Bitdefender Security for Mail Servers - Linux - CUPG"]
[{"$f":"IF(Products!$Z$8=$C$1,Q297,IF(Products!$Z$8=$C$2,R297,IF(Products!$Z$8=$C$3,S297,IF(Products!$Z$8=$C$4,T297,IF(Products!$Z$8=$C$5,W297,IF(Products!$Z$8=$C$6,U297,IF(Products!$Z$8=$C$7,V297)))))))","v":"Bitdefender Security for Mail Servers - Linux"},"3 years","50 - 99","Bitdefender Security for Mail Servers - Linux3 years50 - 99",null,35.813499999999998,{"$f":"IF(Products!$Z$8=$C$1,ROUND(F297*$B$3,2),IF(Products!$Z$8=$C$2,ROUND(F297*$B$3*(1+$D$2),2),IF(Products!$Z$8=$C$3,ROUND(F297*$B$3*(1+$D$3),2),IF(Products!$Z$8=$C$4,ROUND(F297*$B$3*(1+$D$4),2),IF(Products!$Z$8=$C$5,ROUND(F297*$B$3*(1+$D$5),2),IF(Products!$Z$8=$C$6,ROUND(F297*$B$3*(1+$D$6),2),IF(Products!$Z$8=$C$7,ROUND(F297*$B$3*(1+$D$7),2))))))))","v":35.81},{"$f":"IF(Products!$Z$8=$C$1,I297,IF(Products!$Z$8=$C$2,J297,IF(Products!$Z$8=$C$3,K297,IF(Products!$Z$8=$C$4,L297,IF(Products!$Z$8=$C$5,O297,IF(Products!$Z$8=$C$6,M297,IF(Products!$Z$8=$C$7,N297)))))))","v":"AL1242300D-EN"},"AL1242300D-EN","AL1542300D-EN","AL1642300D-EN","AL3242300D-EN","AL3542300D-EN","AL3642300D-EN","AL5242300D-EN",null,"Bitdefender Security for Mail Servers - Linux","Bitdefender Security for Mail Servers - Linux - EDU","Bitdefender Security for Mail Servers - Linux - GOV","Bitdefender Security for Mail Servers - Linux - R","Bitdefender Security for Mail Servers - Linux - EDU R","Bitdefender Security for Mail Servers - Linux - GOV R","Bitdefender Security for Mail Servers - Linux - CUPG"]
[{"$f":"IF(Products!$Z$8=$C$1,Q298,IF(Products!$Z$8=$C$2,R298,IF(Products!$Z$8=$C$3,S298,IF(Products!$Z$8=$C$4,T298,IF(Products!$Z$8=$C$5,W298,IF(Products!$Z$8=$C$6,U298,IF(Products!$Z$8=$C$7,V298)))))))","v":"Bitdefender Security for Mail Servers - Linux"},"3 years","100 - 149","Bitdefender Security for Mail Servers - Linux3 years100 - 149",null,32.154249999999998,{"$f":"IF(Products!$Z$8=$C$1,ROUND(F298*$B$3,2),IF(Products!$Z$8=$C$2,ROUND(F298*$B$3*(1+$D$2),2),IF(Products!$Z$8=$C$3,ROUND(F298*$B$3*(1+$D$3),2),IF(Products!$Z$8=$C$4,ROUND(F298*$B$3*(1+$D$4),2),IF(Products!$Z$8=$C$5,ROUND(F298*$B$3*(1+$D$5),2),IF(Products!$Z$8=$C$6,ROUND(F298*$B$3*(1+$D$6),2),IF(Products!$Z$8=$C$7,ROUND(F298*$B$3*(1+$D$7),2))))))))","v":32.15},{"$f":"IF(Products!$Z$8=$C$1,I298,IF(Products!$Z$8=$C$2,J298,IF(Products!$Z$8=$C$3,K298,IF(Products!$Z$8=$C$4,L298,IF(Products!$Z$8=$C$5,O298,IF(Products!$Z$8=$C$6,M298,IF(Products!$Z$8=$C$7,N298)))))))","v":"AL1242300E-EN"},"AL1242300E-EN","AL1542300E-EN","AL1642300E-EN","AL3242300E-EN","AL3542300E-EN","AL3642300E-EN","AL5242300E-EN",null,"Bitdefender Security for Mail Servers - Linux","Bitdefender Security for Mail Servers - Linux - EDU","Bitdefender Security for Mail Servers - Linux - GOV","Bitdefender Security for Mail Servers - Linux - R","Bitdefender Security for Mail Servers - Linux - EDU R","Bitdefender Security for Mail Servers - Linux - GOV R","Bitdefender Security for Mail Servers - Linux - CUPG"]
[{"$f":"IF(Products!$Z$8=$C$1,Q299,IF(Products!$Z$8=$C$2,R299,IF(Products!$Z$8=$C$3,S299,IF(Products!$Z$8=$C$4,T299,IF(Products!$Z$8=$C$5,W299,IF(Products!$Z$8=$C$6,U299,IF(Products!$Z$8=$C$7,V299)))))))","v":"Bitdefender Security for Mail Servers - Linux"},"3 years","150 - 249","Bitdefender Security for Mail Servers - Linux3 years150 - 249",null,29.499499999999998,{"$f":"IF(Products!$Z$8=$C$1,ROUND(F299*$B$3,2),IF(Products!$Z$8=$C$2,ROUND(F299*$B$3*(1+$D$2),2),IF(Products!$Z$8=$C$3,ROUND(F299*$B$3*(1+$D$3),2),IF(Products!$Z$8=$C$4,ROUND(F299*$B$3*(1+$D$4),2),IF(Products!$Z$8=$C$5,ROUND(F299*$B$3*(1+$D$5),2),IF(Products!$Z$8=$C$6,ROUND(F299*$B$3*(1+$D$6),2),IF(Products!$Z$8=$C$7,ROUND(F299*$B$3*(1+$D$7),2))))))))","v":29.5},{"$f":"IF(Products!$Z$8=$C$1,I299,IF(Products!$Z$8=$C$2,J299,IF(Products!$Z$8=$C$3,K299,IF(Products!$Z$8=$C$4,L299,IF(Products!$Z$8=$C$5,O299,IF(Products!$Z$8=$C$6,M299,IF(Products!$Z$8=$C$7,N299)))))))","v":"AL1242300F-EN"},"AL1242300F-EN","AL1542300F-EN","AL1642300F-EN","AL3242300F-EN","AL3542300F-EN","AL3642300F-EN","AL5242300F-EN",null,"Bitdefender Security for Mail Servers - Linux","Bitdefender Security for Mail Servers - Linux - EDU","Bitdefender Security for Mail Servers - Linux - GOV","Bitdefender Security for Mail Servers - Linux - R","Bitdefender Security for Mail Servers - Linux - EDU R","Bitdefender Security for Mail Servers - Linux - GOV R","Bitdefender Security for Mail Servers - Linux - CUPG"]
[{"$f":"IF(Products!$Z$8=$C$1,Q300,IF(Products!$Z$8=$C$2,R300,IF(Products!$Z$8=$C$3,S300,IF(Products!$Z$8=$C$4,T300,IF(Products!$Z$8=$C$5,W300,IF(Products!$Z$8=$C$6,U300,IF(Products!$Z$8=$C$7,V300)))))))","v":"Bitdefender Security for Mail Servers - Linux"},"3 years","250 - 499","Bitdefender Security for Mail Servers - Linux3 years250 - 499",null,27.008749999999999,{"$f":"IF(Products!$Z$8=$C$1,ROUND(F300*$B$3,2),IF(Products!$Z$8=$C$2,ROUND(F300*$B$3*(1+$D$2),2),IF(Products!$Z$8=$C$3,ROUND(F300*$B$3*(1+$D$3),2),IF(Products!$Z$8=$C$4,ROUND(F300*$B$3*(1+$D$4),2),IF(Products!$Z$8=$C$5,ROUND(F300*$B$3*(1+$D$5),2),IF(Products!$Z$8=$C$6,ROUND(F300*$B$3*(1+$D$6),2),IF(Products!$Z$8=$C$7,ROUND(F300*$B$3*(1+$D$7),2))))))))","v":27.01},{"$f":"IF(Products!$Z$8=$C$1,I300,IF(Products!$Z$8=$C$2,J300,IF(Products!$Z$8=$C$3,K300,IF(Products!$Z$8=$C$4,L300,IF(Products!$Z$8=$C$5,O300,IF(Products!$Z$8=$C$6,M300,IF(Products!$Z$8=$C$7,N300)))))))","v":"AL1242300G-EN"},"AL1242300G-EN","AL1542300G-EN","AL1642300G-EN","AL3242300G-EN","AL3542300G-EN","AL3642300G-EN","AL5242300G-EN",null,"Bitdefender Security for Mail Servers - Linux","Bitdefender Security for Mail Servers - Linux - EDU","Bitdefender Security for Mail Servers - Linux - GOV","Bitdefender Security for Mail Servers - Linux - R","Bitdefender Security for Mail Servers - Linux - EDU R","Bitdefender Security for Mail Servers - Linux - GOV R","Bitdefender Security for Mail Servers - Linux - CUPG"]
[{"$f":"IF(Products!$Z$8=$C$1,Q301,IF(Products!$Z$8=$C$2,R301,IF(Products!$Z$8=$C$3,S301,IF(Products!$Z$8=$C$4,T301,IF(Products!$Z$8=$C$5,W301,IF(Products!$Z$8=$C$6,U301,IF(Products!$Z$8=$C$7,V301)))))))","v":"Bitdefender Security for Mail Servers - Linux"},"3 years","500 - 999","Bitdefender Security for Mail Servers - Linux3 years500 - 999",null,24.815249999999999,{"$f":"IF(Products!$Z$8=$C$1,ROUND(F301*$B$3,2),IF(Products!$Z$8=$C$2,ROUND(F301*$B$3*(1+$D$2),2),IF(Products!$Z$8=$C$3,ROUND(F301*$B$3*(1+$D$3),2),IF(Products!$Z$8=$C$4,ROUND(F301*$B$3*(1+$D$4),2),IF(Products!$Z$8=$C$5,ROUND(F301*$B$3*(1+$D$5),2),IF(Products!$Z$8=$C$6,ROUND(F301*$B$3*(1+$D$6),2),IF(Products!$Z$8=$C$7,ROUND(F301*$B$3*(1+$D$7),2))))))))","v":24.82},{"$f":"IF(Products!$Z$8=$C$1,I301,IF(Products!$Z$8=$C$2,J301,IF(Products!$Z$8=$C$3,K301,IF(Products!$Z$8=$C$4,L301,IF(Products!$Z$8=$C$5,O301,IF(Products!$Z$8=$C$6,M301,IF(Products!$Z$8=$C$7,N301)))))))","v":"AL1242300H-EN"},"AL1242300H-EN","AL1542300H-EN","AL1642300H-EN","AL3242300H-EN","AL3542300H-EN","AL3642300H-EN","AL5242300H-EN",null,"Bitdefender Security for Mail Servers - Linux","Bitdefender Security for Mail Servers - Linux - EDU","Bitdefender Security for Mail Servers - Linux - GOV","Bitdefender Security for Mail Servers - Linux - R","Bitdefender Security for Mail Servers - Linux - EDU R","Bitdefender Security for Mail Servers - Linux - GOV R","Bitdefender Security for Mail Servers - Linux - CUPG"]
[{"$f":"IF(Products!$Z$8=$C$1,Q302,IF(Products!$Z$8=$C$2,R302,IF(Products!$Z$8=$C$3,S302,IF(Products!$Z$8=$C$4,T302,IF(Products!$Z$8=$C$5,W302,IF(Products!$Z$8=$C$6,U302,IF(Products!$Z$8=$C$7,V302)))))))","v":"Bitdefender Security for Mail Servers - Linux"},"3 years","1000 - 2999","Bitdefender Security for Mail Servers - Linux3 years1000 - 2999",null,22.621749999999999,{"$f":"IF(Products!$Z$8=$C$1,ROUND(F302*$B$3,2),IF(Products!$Z$8=$C$2,ROUND(F302*$B$3*(1+$D$2),2),IF(Products!$Z$8=$C$3,ROUND(F302*$B$3*(1+$D$3),2),IF(Products!$Z$8=$C$4,ROUND(F302*$B$3*(1+$D$4),2),IF(Products!$Z$8=$C$5,ROUND(F302*$B$3*(1+$D$5),2),IF(Products!$Z$8=$C$6,ROUND(F302*$B$3*(1+$D$6),2),IF(Products!$Z$8=$C$7,ROUND(F302*$B$3*(1+$D$7),2))))))))","v":22.62},{"$f":"IF(Products!$Z$8=$C$1,I302,IF(Products!$Z$8=$C$2,J302,IF(Products!$Z$8=$C$3,K302,IF(Products!$Z$8=$C$4,L302,IF(Products!$Z$8=$C$5,O302,IF(Products!$Z$8=$C$6,M302,IF(Products!$Z$8=$C$7,N302)))))))","v":"AL1242300I-EN"},"AL1242300I-EN","AL1542300I-EN","AL1642300I-EN","AL3242300I-EN","AL3542300I-EN","AL3642300I-EN","AL5242300I-EN",null,"Bitdefender Security for Mail Servers - Linux","Bitdefender Security for Mail Servers - Linux - EDU","Bitdefender Security for Mail Servers - Linux - GOV","Bitdefender Security for Mail Servers - Linux - R","Bitdefender Security for Mail Servers - Linux - EDU R","Bitdefender Security for Mail Servers - Linux - GOV R","Bitdefender Security for Mail Servers - Linux - CUPG"]
[{"$f":"IF(Products!$Z$8=$C$1,Q303,IF(Products!$Z$8=$C$2,R303,IF(Products!$Z$8=$C$3,S303,IF(Products!$Z$8=$C$4,T303,IF(Products!$Z$8=$C$5,W303,IF(Products!$Z$8=$C$6,U303,IF(Products!$Z$8=$C$7,V303)))))))","v":"Bitdefender Security for Mail Servers - Linux"},"3 years","3000+","Bitdefender Security for Mail Servers - Linux3 years3000+",null,20.417999999999999,{"$f":"IF(Products!$Z$8=$C$1,ROUND(F303*$B$3,2),IF(Products!$Z$8=$C$2,ROUND(F303*$B$3*(1+$D$2),2),IF(Products!$Z$8=$C$3,ROUND(F303*$B$3*(1+$D$3),2),IF(Products!$Z$8=$C$4,ROUND(F303*$B$3*(1+$D$4),2),IF(Products!$Z$8=$C$5,ROUND(F303*$B$3*(1+$D$5),2),IF(Products!$Z$8=$C$6,ROUND(F303*$B$3*(1+$D$6),2),IF(Products!$Z$8=$C$7,ROUND(F303*$B$3*(1+$D$7),2))))))))","v":20.420000000000002},{"$f":"IF(Products!$Z$8=$C$1,I303,IF(Products!$Z$8=$C$2,J303,IF(Products!$Z$8=$C$3,K303,IF(Products!$Z$8=$C$4,L303,IF(Products!$Z$8=$C$5,O303,IF(Products!$Z$8=$C$6,M303,IF(Products!$Z$8=$C$7,N303)))))))","v":"AL1242300J-EN"},"AL1242300J-EN","AL1542300J-EN","AL1642300J-EN","AL3242300J-EN","AL3542300J-EN","AL3642300J-EN","AL5242300J-EN",null,"Bitdefender Security for Mail Servers - Linux","Bitdefender Security for Mail Servers - Linux - EDU","Bitdefender Security for Mail Servers - Linux - GOV","Bitdefender Security for Mail Servers - Linux - R","Bitdefender Security for Mail Servers - Linux - EDU R","Bitdefender Security for Mail Servers - Linux - GOV R","Bitdefender Security for Mail Servers - Linux - CUPG"]
[null,null,null,{"$f":"CONCATENATE(A304,B304,C304)","v":""}]
[null,null,null,""]
[null,null,null,""]
[]
[null,null,null,""]
[null,null,null,""]
[null,null,null,""]
[null,null,null,""]
[null,null,null,""]
[null,null,null,""]
[null,null,null,""]
[null,null,null,""]
[null,null,null,""]
[null,null,null,""]
[null,null,null,""]
[null,null,null,""]
[null,null,null,""]
[null,null,null,""]
[null,null,null,{"$f":"CONCATENATE(A322,B322,C322)","v":""}]
[null,null,null,""]
[null,null,null,""]
[null,null,null,""]
[null,null,null,""]
[null,null,null,""]
[null,null,null,""]
[null,null,null,""]
[null,null,null,""]
[null,null,null,""]
[null,null,null,""]
[null,null,null,""]
[null,null,null,""]
[null,null,null,""]
[null,null,null,""]
[null,null,null,""]
[null,null,null,""]
[null,null,null,""]
[null,null,null,""]
[null,null,null,""]
[null,null,null,""]
[null,null,null,""]
[null,null,null,""]
[null,null,null,""]
[null,null,null,""]
[null,null,null,""]
[null,null,null,""]
[null,null,null,""]
[null,null,null,""]
[null,null,null,""]
[null,null,null,""]
[null,null,null,""]
[null,null,null,""]
[null,null,null,""]
[null,null,null,""]
[null,null,null,""]
[null,null,null,""]
[null,null,null,""]
[null,null,null,""]
[null,null,null,""]
[null,null,null,""]
[null,null,null,""]
[null,null,null,""]
[null,null,null,""]
[null,null,null,""]
[null,null,null,""]
[null,null,null,""]
[null,null,null,""]
[null,null,null,""]
[null,null,null,""]
[null,null,null,""]
[null,null,null,""]
[null,null,null,""]
[null,null,null,""]
[null,null,null,""]
[null,null,null,""]
[null,null,null,""]
[null,null,null,""]
[null,null,null,""]
[null,null,null,""]
[null,null,null,""]
[null,null,null,""]
[null,null,null,""]
[null,null,null,""]
[null,null,null,{"$f":"CONCATENATE(A386,B386,C386)","v":""}]

{"sheet":"Base Prod","index":5,"n_rows":307,"n_cols":16,"rows_kept":307,"cut":false,"hidden":true,"merged":[[0,0,0,7],[1,0,1,7],[2,0,2,7],[5,0,5,6],[11,0,11,4],[11,5,11,6]]}
[]
["Business Solutions",null,null,null,null,null,null,null,null,"Consumer with VAT","Business Standard"]
[null,null,null,null,null,null,null,null,null,"Consumer without VAT","Education & Non Profit",null,null,null,{"$f":"IF(Products!$Z$8='Base Prod'!$K$2,'Base Prod'!P3,IF(Products!$Z$8='Base Prod'!$K$3,CONCATENATE('Base Prod'!P3,\" - EDU\"),IF(Products!$Z$8='Base Prod'!$K$4,CONCATENATE(P3,\" - GOV\"),IF(Products!$Z$8='Base Prod'!$K$5,CONCATENATE(P3,\" - R\"),IF(Products!$Z$8='Base Prod'!$K$6,CONCATENATE(P3,\" - CUPG\"),IF(Products!$Z$8='Base Prod'!$K$7,CONCATENATE(P3,\" - EDU R\"),IF(Products!$Z$8='Base Prod'!$K$8,CONCATENATE(P3,\" - GOV R\"))))))))","v":"Bitdefender Small Office Security (Cloud Console)"},"Bitdefender Small Office Security (Cloud Console)"]
[null,null,null,null,null,null,null,null,null,"Business","Government",null,null,null,{"$f":"IF(Products!$Z$8='Base Prod'!$K$2,'Base Prod'!P4,IF(Products!$Z$8='Base Prod'!$K$3,CONCATENATE('Base Prod'!P4,\" - EDU\"),IF(Products!$Z$8='Base Prod'!$K$4,CONCATENATE(P4,\" - GOV\"),IF(Products!$Z$8='Base Prod'!$K$5,CONCATENATE(P4,\" - R\"),IF(Products!$Z$8='Base Prod'!$K$6,CONCATENATE(P4,\" - CUPG\"),IF(Products!$Z$8='Base Prod'!$K$7,CONCATENATE(P4,\" - EDU R\"),IF(Products!$Z$8='Base Prod'!$K$8,CONCATENATE(P4,\" - GOV R\"))))))))","v":"Bitdefender Small Office Security (On-premise Console)"},"Bitdefender Small Office Security (On-premise Console)"]
[null,null,null,null,null,null,null,null,null,"Previous & Legacy Business","Renew",null,null,null,{"$f":"IF(Products!$Z$8='Base Prod'!$K$2,'Base Prod'!P5,IF(Products!$Z$8='Base Prod'!$K$3,CONCATENATE('Base Prod'!P5,\" - EDU\"),IF(Products!$Z$8='Base Prod'!$K$4,CONCATENATE(P5,\" - GOV\"),IF(Products!$Z$8='Base Prod'!$K$5,CONCATENATE(P5,\" - R\"),IF(Products!$Z$8='Base Prod'!$K$6,CONCATENATE(P5,\" - CUPG\"),IF(Products!$Z$8='Base Prod'!$K$7,CONCATENATE(P5,\" - EDU R\"),IF(Products!$Z$8='Base Prod'!$K$8,CONCATENATE(P5,\" - GOV R\"))))))))","v":"Bitdefender Security for Endpoints (Cloud Console)"},"Bitdefender Security for Endpoints (Cloud Console)"]
["Enter the desired number of units in the appropriate yellow cell to calculate the price. Unless otherwise specified, all the units are users.",null,null,null,null,null,null,null,null,null,"Competitive Upgrade",null,null,null,{"$f":"IF(Products!$Z$8='Base Prod'!$K$2,'Base Prod'!P6,IF(Products!$Z$8='Base Prod'!$K$3,CONCATENATE('Base Prod'!P6,\" - EDU\"),IF(Products!$Z$8='Base Prod'!$K$4,CONCATENATE(P6,\" - GOV\"),IF(Products!$Z$8='Base Prod'!$K$5,CONCATENATE(P6,\" - R\"),IF(Products!$Z$8='Base Prod'!$K$6,CONCATENATE(P6,\" - CUPG\"),IF(Products!$Z$8='Base Prod'!$K$7,CONCATENATE(P6,\" - EDU R\"),IF(Products!$Z$8='Base Prod'!$K$8,CONCATENATE(P6,\" - GOV R\"))))))))","v":"Bitdefender Security for Endpoints (On-premise Console)"},"Bitdefender Security for Endpoints (On-premise Console)"]
[null,null,null,null,null,null,null,null,null,null,"Education & Non Profit Renew",null,null,null,{"$f":"IF(Products!$Z$8='Base Prod'!$K$2,'Base Prod'!P7,IF(Products!$Z$8='Base Prod'!$K$3,CONCATENATE('Base Prod'!P7,\" - EDU\"),IF(Products!$Z$8='Base Prod'!$K$4,CONCATENATE(P7,\" - GOV\"),IF(Products!$Z$8='Base Prod'!$K$5,CONCATENATE(P7,\" - R\"),IF(Products!$Z$8='Base Prod'!$K$6,CONCATENATE(P7,\" - CUPG\"),IF(Products!$Z$8='Base Prod'!$K$7,CONCATENATE(P7,\" - EDU R\"),IF(Products!$Z$8='Base Prod'!$K$8,CONCATENATE(P7,\" - GOV R\"))))))))","v":"Bitdefender Security for Virtual Environments (VDI)"},"Bitdefender Security for Virtual Environments (VDI)"]
["Select Product Type",null,null,null,null,null,null,null,null,null,"Government Renew",null,null,null,{"$f":"IF(Products!$Z$8='Base Prod'!$K$2,'Base Prod'!P8,IF(Products!$Z$8='Base Prod'!$K$3,CONCATENATE('Base Prod'!P8,\" - EDU\"),IF(Products!$Z$8='Base Prod'!$K$4,CONCATENATE(P8,\" - GOV\"),IF(Products!$Z$8='Base Prod'!$K$5,CONCATENATE(P8,\" - R\"),IF(Products!$Z$8='Base Prod'!$K$6,CONCATENATE(P8,\" - CUPG\"),IF(Products!$Z$8='Base Prod'!$K$7,CONCATENATE(P8,\" - EDU R\"),IF(Products!$Z$8='Base Prod'!$K$8,CONCATENATE(P8,\" - GOV R\"))))))))","v":"Bitdefender Security for Virtual Environments (VS)"},"Bitdefender Security for Virtual Environments (VS)"]
[null,null,null,null,null,null,null,null,null,null,null,null,null,null,{"$f":"IF(Products!$Z$8='Base Prod'!$K$2,'Base Prod'!P9,IF(Products!$Z$8='Base Prod'!$K$3,CONCATENATE('Base Prod'!P9,\" - EDU\"),IF(Products!$Z$8='Base Prod'!$K$4,CONCATENATE(P9,\" - GOV\"),IF(Products!$Z$8='Base Prod'!$K$5,CONCATENATE(P9,\" - R\"),IF(Products!$Z$8='Base Prod'!$K$6,CONCATENATE(P9,\" - CUPG\"),IF(Products!$Z$8='Base Prod'!$K$7,CONCATENATE(P9,\" - EDU R\"),IF(Products!$Z$8='Base Prod'!$K$8,CONCATENATE(P9,\" - GOV R\"))))))))","v":"Bitdefender Security for Mobile"},"Bitdefender Security for Mobile"]
["Select Offer Type",null,null,"Discount from MSRP",null,null,{"$f":"Base!B5","v":0},null,null,null,null,null,null,null,{"$f":"IF(Products!$Z$8='Base Prod'!$K$2,'Base Prod'!P10,IF(Products!$Z$8='Base Prod'!$K$3,CONCATENATE('Base Prod'!P10,\" - EDU\"),IF(Products!$Z$8='Base Prod'!$K$4,CONCATENATE(P10,\" - GOV\"),IF(Products!$Z$8='Base Prod'!$K$5,CONCATENATE(P10,\" - R\"),IF(Products!$Z$8='Base Prod'!$K$6,CONCATENATE(P10,\" - CUPG\"),IF(Products!$Z$8='Base Prod'!$K$7,CONCATENATE(P10,\" - EDU R\"),IF(Products!$Z$8='Base Prod'!$K$8,CONCATENATE(P10,\" - GOV R\"))))))))","v":"GravityZone Security for Virtual Environments (CPU)"},"GravityZone Security for Virtual Environments (CPU)"]
[null,null,null,null,null,null,null,null,null,null,null,null,null,null,{"$f":"IF(Products!$Z$8='Base Prod'!$K$2,'Base Prod'!P11,IF(Products!$Z$8='Base Prod'!$K$3,CONCATENATE('Base Prod'!P11,\" - EDU\"),IF(Products!$Z$8='Base Prod'!$K$4,CONCATENATE(P11,\" - GOV\"),IF(Products!$Z$8='Base Prod'!$K$5,CONCATENATE(P11,\" - R\"),IF(Products!$Z$8='Base Prod'!$K$6,CONCATENATE(P11,\" - CUPG\"),IF(Products!$Z$8='Base Prod'!$K$7,CONCATENATE(P11,\" - EDU R\"),IF(Products!$Z$8='Base Prod'!$K$8,CONCATENATE(P11,\" - GOV R\"))))))))","v":"GravityZone Security for Endpoints"},"GravityZone Security for Endpoints"]
["Total price per choosen configuration",null,null,null,null,{"$f":"SUM(F14:F430)","v":0},null,null,null,null,null,null,null,null,{"$f":"IF(Products!$Z$8='Base Prod'!$K$2,'Base Prod'!P12,IF(Products!$Z$8='Base Prod'!$K$3,CONCATENATE('Base Prod'!P12,\" - EDU\"),IF(Products!$Z$8='Base Prod'!$K$4,CONCATENATE(P12,\" - GOV\"),IF(Products!$Z$8='Base Prod'!$K$5,CONCATENATE(P12,\" - R\"),IF(Products!$Z$8='Base Prod'!$K$6,CONCATENATE(P12,\" - CUPG\"),IF(Products!$Z$8='Base Prod'!$K$7,CONCATENATE(P12,\" - EDU R\"),IF(Products!$Z$8='Base Prod'!$K$8,CONCATENATE(P12,\" - GOV R\"))))))))","v":"GravityZone Security for Virtual Environments (VDI)"},"GravityZone Security for Virtual Environments (VDI)"]
["Product","Period","Users","Price/Unit","# Units","Total Price ","Part #",null,null,null,null,null,null,null,{"$f":"IF(Products!$Z$8='Base Prod'!$K$2,'Base Prod'!P13,IF(Products!$Z$8='Base Prod'!$K$3,CONCATENATE('Base Prod'!P13,\" - EDU\"),IF(Products!$Z$8='Base Prod'!$K$4,CONCATENATE(P13,\" - GOV\"),IF(Products!$Z$8='Base Prod'!$K$5,CONCATENATE(P13,\" - R\"),IF(Products!$Z$8='Base Prod'!$K$6,CONCATENATE(P13,\" - CUPG\"),IF(Products!$Z$8='Base Prod'!$K$7,CONCATENATE(P13,\" - EDU R\"),IF(Products!$Z$8='Base Prod'!$K$8,CONCATENATE(P13,\" - GOV R\"))))))))","v":"GravityZone Security for Virtual Environments (VS)"},"GravityZone Security for Virtual Environments (VS)"]
[{"$f":"IF(Products!$Z$7=$J$4,Base!A10,IF(Products!$Z$7=$J$5,Base!#REF!,IF(OR(Products!$Z$7=$J$2,Products!$Z$7=$J$3),Base!Y13)))","v":"Bitdefender GravityZone Business Security"},{"$f":"IF(Products!$Z$7=$J$4,Base!B10,IF(Products!$Z$7=$J$5,Base!#REF!,IF(OR(Products!$Z$7=$J$2,Products!$Z$7=$J$3),Base!Z13)))","v":"1 year"},{"$f":"IF(Products!$Z$7=$J$4,Base!C10,IF(Products!$Z$7=$J$5,Base!#REF!,IF(OR(Products!$Z$7=$J$2,Products!$Z$7=$J$3),Base!AA13)))","v":"3 - 14"},{"$f":"IFERROR(IF(Products!$Z$7=$J$3,VLOOKUP(CONCATENATE(A14,B14,C14),Base!$AB$13:$AC$64,2,FALSE),IF(Products!$Z$7=$J$2,VLOOKUP(CONCATENATE(A14,B14,C14),Base!$AB$13:$AE$64,4,FALSE),VLOOKUP(CONCATENATE(A14,B14,C14),Base!$D$9:$G$386,4,FALSE))),\"\")","v":33.32},{"$f":"Products!F14","v":0},{"$f":"IF(ISBLANK(Products!F14),0,IF(LEFT(Products!$Z$7,8)=\"Consumer\",D14*E14,IF(C14=\"500+\",IF(E14>=500,E14*D14),IF(C14=\"1000+\",IF(E14>=1000,E14*D14),IF(C14=\"3000+\",IF(E14>=3000,E14*D14),IF(AND(E14>=VLOOKUP(C14,$M$18:$P$34,3,FALSE),E14<=VLOOKUP(C14,$M$18:$P$34,4,FALSE)),E14*D14))))))","v":0},{"$f":"IF(Products!$Z$7=$J$4,Base!H10,IF(Products!$Z$7=$J$5,Base!#REF!,IF(OR(Products!$Z$7=$J$2,Products!$Z$7=$J$3),Base!AD13)))","v":"AL1286100A-EN"},null,null,null,null,null,null,null,{"$f":"IF(Products!$Z$8='Base Prod'!$K$2,'Base Prod'!P14,IF(Products!$Z$8='Base Prod'!$K$3,CONCATENATE('Base Prod'!P14,\" - EDU\"),IF(Products!$Z$8='Base Prod'!$K$4,CONCATENATE(P14,\" - GOV\"),IF(Products!$Z$8='Base Prod'!$K$5,CONCATENATE(P14,\" - R\"),IF(Products!$Z$8='Base Prod'!$K$6,CONCATENATE(P14,\" - CUPG\"),IF(Products!$Z$8='Base Prod'!$K$7,CONCATENATE(P14,\" - EDU R\"),IF(Products!$Z$8='Base Prod'!$K$8,CONCATENATE(P14,\" - GOV R\"))))))))","v":"GravityZone Security for Mobile"},"GravityZone Security for Mobile"]
[{"$f":"IF(Products!$Z$7=$J$4,Base!A11,IF(Products!$Z$7=$J$5,Base!#REF!,IF(OR(Products!$Z$7=$J$2,Products!$Z$7=$J$3),Base!Y14)))","v":"Bitdefender GravityZone Business Security"},{"$f":"IF(Products!$Z$7=$J$4,Base!B11,IF(Products!$Z$7=$J$5,Base!#REF!,IF(OR(Products!$Z$7=$J$2,Products!$Z$7=$J$3),Base!Z14)))","v":"1 year"},{"$f":"IF(Products!$Z$7=$J$4,Base!C11,IF(Products!$Z$7=$J$5,Base!#REF!,IF(OR(Products!$Z$7=$J$2,Products!$Z$7=$J$3),Base!AA14)))","v":"15 - 24"},{"$f":"IFERROR(IF(Products!$Z$7=$J$3,VLOOKUP(CONCATENATE(A15,B15,C15),Base!$AB$13:$AC$64,2,FALSE),IF(Products!$Z$7=$J$2,VLOOKUP(CONCATENATE(A15,B15,C15),Base!$AB$13:$AE$64,4,FALSE),VLOOKUP(CONCATENATE(A15,B15,C15),Base!$D$9:$G$386,4,FALSE))),\"\")","v":29.37},{"$f":"Products!F15","v":0},{"$f":"IF(ISBLANK(Products!F15),0,IF(LEFT(Products!$Z$7,8)=\"Consumer\",D15*E15,IF(C15=\"500+\",IF(E15>=500,E15*D15),IF(C15=\"1000+\",IF(E15>=1000,E15*D15),IF(C15=\"3000+\",IF(E15>=3000,E15*D15),IF(AND(E15>=VLOOKUP(C15,$M$18:$P$34,3,FALSE),E15<=VLOOKUP(C15,$M$18:$P$34,4,FALSE)),E15*D15))))))","v":0},{"$f":"IF(Products!$Z$7=$J$4,Base!H11,IF(Products!$Z$7=$J$5,Base!#REF!,IF(OR(Products!$Z$7=$J$2,Products!$Z$7=$J$3),Base!AD14)))","v":"AL1286100B-EN"}]
[{"$f":"IF(Products!$Z$7=$J$4,Base!A12,IF(Products!$Z$7=$J$5,Base!#REF!,IF(OR(Products!$Z$7=$J$2,Products!$Z$7=$J$3),Base!Y15)))","v":"Bitdefender GravityZone Business Security"},{"$f":"IF(Products!$Z$7=$J$4,Base!B12,IF(Products!$Z$7=$J$5,Base!#REF!,IF(OR(Products!$Z$7=$J$2,Products!$Z$7=$J$3),Base!Z15)))","v":"1 year"},{"$f":"IF(Products!$Z$7=$J$4,Base!C12,IF(Products!$Z$7=$J$5,Base!#REF!,IF(OR(Products!$Z$7=$J$2,Products!$Z$7=$J$3),Base!AA15)))","v":"25 - 49"},{"$f":"IFERROR(IF(Products!$Z$7=$J$3,VLOOKUP(CONCATENATE(A16,B16,C16),Base!$AB$13:$AC$64,2,FALSE),IF(Products!$Z$7=$J$2,VLOOKUP(CONCATENATE(A16,B16,C16),Base!$AB$13:$AE$64,4,FALSE),VLOOKUP(CONCATENATE(A16,B16,C16),Base!$D$9:$G$386,4,FALSE))),\"\")","v":27.69},{"$f":"Products!F16","v":0},{"$f":"IF(ISBLANK(Products!F16),0,IF(LEFT(Products!$Z$7,8)=\"Consumer\",D16*E16,IF(C16=\"500+\",IF(E16>=500,E16*D16),IF(C16=\"1000+\",IF(E16>=1000,E16*D16),IF(C16=\"3000+\",IF(E16>=3000,E16*D16),IF(AND(E16>=VLOOKUP(C16,$M$18:$P$34,3,FALSE),E16<=VLOOKUP(C16,$M$18:$P$34,4,FALSE)),E16*D16))))))","v":0},{"$f":"IF(Products!$Z$7=$J$4,Base!H12,IF(Products!$Z$7=$J$5,Base!#REF!,IF(OR(Products!$Z$7=$J$2,Products!$Z$7=$J$3),Base!AD15)))","v":"AL1286100C-EN"}]
[{"$f":"IF(Products!$Z$7=$J$4,Base!A13,IF(Products!$Z$7=$J$5,Base!#REF!,IF(OR(Products!$Z$7=$J$2,Products!$Z$7=$J$3),Base!Y16)))","v":"Bitdefender GravityZone Business Security"},{"$f":"IF(Products!$Z$7=$J$4,Base!B13,IF(Products!$Z$7=$J$5,Base!#REF!,IF(OR(Products!$Z$7=$J$2,Products!$Z$7=$J$3),Base!Z16)))","v":"1 year"},{"$f":"IF(Products!$Z$7=$J$4,Base!C13,IF(Products!$Z$7=$J$5,Base!#REF!,IF(OR(Products!$Z$7=$J$2,Products!$Z$7=$J$3),Base!AA16)))","v":"50 - 99"},{"$f":"IFERROR(IF(Products!$Z$7=$J$3,VLOOKUP(CONCATENATE(A17,B17,C17),Base!$AB$13:$AC$64,2,FALSE),IF(Products!$Z$7=$J$2,VLOOKUP(CONCATENATE(A17,B17,C17),Base!$AB$13:$AE$64,4,FALSE),VLOOKUP(CONCATENATE(A17,B17,C17),Base!$D$9:$G$386,4,FALSE))),\"\")","v":24.33},{"$f":"Products!F17","v":0},{"$f":"IF(ISBLANK(Products!F17),0,IF(LEFT(Products!$Z$7,8)=\"Consumer\",D17*E17,IF(C17=\"500+\",IF(E17>=500,E17*D17),IF(C17=\"1000+\",IF(E17>=1000,E17*D17),IF(C17=\"3000+\",IF(E17>=3000,E17*D17),IF(AND(E17>=VLOOKUP(C17,$M$18:$P$34,3,FALSE),E17<=VLOOKUP(C17,$M$18:$P$34,4,FALSE)),E17*D17))))))","v":0},{"$f":"IF(Products!$Z$7=$J$4,Base!H13,IF(Products!$Z$7=$J$5,Base!#REF!,IF(OR(Products!$Z$7=$J$2,Products!$Z$7=$J$3),Base!AD16)))","v":"AL1286100D-EN"}]
[{"$f":"IF(Products!$Z$7=$J$4,Base!A14,IF(Products!$Z$7=$J$5,Base!#REF!,IF(OR(Products!$Z$7=$J$2,Products!$Z$7=$J$3),Base!Y17)))","v":"Bitdefender GravityZone Business Security"},{"$f":"IF(Products!$Z$7=$J$4,Base!B14,IF(Products!$Z$7=$J$5,Base!#REF!,IF(OR(Products!$Z$7=$J$2,Products!$Z$7=$J$3),Base!Z17)))","v":"1 year"},{"$f":"IF(Products!$Z$7=$J$4,Base!C14,IF(Products!$Z$7=$J$5,Base!#REF!,IF(OR(Products!$Z$7=$J$2,Products!$Z$7=$J$3),Base!AA17)))","v":"100 - 149"},{"$f":"IFERROR(IF(Products!$Z$7=$J$3,VLOOKUP(CONCATENATE(A18,B18,C18),Base!$AB$13:$AC$64,2,FALSE),IF(Products!$Z$7=$J$2,VLOOKUP(CONCATENATE(A18,B18,C18),Base!$AB$13:$AE$64,4,FALSE),VLOOKUP(CONCATENATE(A18,B18,C18),Base!$D$9:$G$386,4,FALSE))),\"\")","v":22.38},{"$f":"Products!F18","v":0},{"$f":"IF(ISBLANK(Products!F18),0,IF(LEFT(Products!$Z$7,8)=\"Consumer\",D18*E18,IF(C18=\"500+\",IF(E18>=500,E18*D18),IF(C18=\"1000+\",IF(E18>=1000,E18*D18),IF(C18=\"3000+\",IF(E18>=3000,E18*D18),IF(AND(E18>=VLOOKUP(C18,$M$18:$P$34,3,FALSE),E18<=VLOOKUP(C18,$M$18:$P$34,4,FALSE)),E18*D18))))))","v":0},{"$f":"IF(Products!$Z$7=$J$4,Base!H14,IF(Products!$Z$7=$J$5,Base!#REF!,IF(OR(Products!$Z$7=$J$2,Products!$Z$7=$J$3),Base!AD17)))","v":"AL1286100E-EN"},null,null,null,null,null,"1 - 14","1 - 14",1,14]
[{"$f":"IF(Products!$Z$7=$J$4,Base!A15,IF(Products!$Z$7=$J$5,Base!#REF!,IF(OR(Products!$Z$7=$J$2,Products!$Z$7=$J$3),Base!Y18)))","v":"Bitdefender GravityZone Business Security"},{"$f":"IF(Products!$Z$7=$J$4,Base!B15,IF(Products!$Z$7=$J$5,Base!#REF!,IF(OR(Products!$Z$7=$J$2,Products!$Z$7=$J$3),Base!Z18)))","v":"1 year"},{"$f":"IF(Products!$Z$7=$J$4,Base!C15,IF(Products!$Z$7=$J$5,Base!#REF!,IF(OR(Products!$Z$7=$J$2,Products!$Z$7=$J$3),Base!AA18)))","v":"150 - 249"},{"$f":"IFERROR(IF(Products!$Z$7=$J$3,VLOOKUP(CONCATENATE(A19,B19,C19),Base!$AB$13:$AC$64,2,FALSE),IF(Products!$Z$7=$J$2,VLOOKUP(CONCATENATE(A19,B19,C19),Base!$AB$13:$AE$64,4,FALSE),VLOOKUP(CONCATENATE(A19,B19,C19),Base!$D$9:$G$386,4,FALSE))),\"\")","v":21.49},{"$f":"Products!F19","v":0},{"$f":"IF(ISBLANK(Products!F19),0,IF(LEFT(Products!$Z$7,8)=\"Consumer\",D19*E19,IF(C19=\"500+\",IF(E19>=500,E19*D19),IF(C19=\"1000+\",IF(E19>=1000,E19*D19),IF(C19=\"3000+\",IF(E19>=3000,E19*D19),IF(AND(E19>=VLOOKUP(C19,$M$18:$P$34,3,FALSE),E19<=VLOOKUP(C19,$M$18:$P$34,4,FALSE)),E19*D19))))))","v":0},{"$f":"IF(Products!$Z$7=$J$4,Base!H15,IF(Products!$Z$7=$J$5,Base!#REF!,IF(OR(Products!$Z$7=$J$2,Products!$Z$7=$J$3),Base!AD18)))","v":"AL1286100F-EN"},null,null,null,null,null,"3 - 14","3 - 14",3,14]
[{"$f":"IF(Products!$Z$7=$J$4,Base!A16,IF(Products!$Z$7=$J$5,Base!#REF!,IF(OR(Products!$Z$7=$J$2,Products!$Z$7=$J$3),Base!Y19)))","v":"Bitdefender GravityZone Business Security"},{"$f":"IF(Products!$Z$7=$J$4,Base!B16,IF(Products!$Z$7=$J$5,Base!#REF!,IF(OR(Products!$Z$7=$J$2,Products!$Z$7=$J$3),Base!Z19)))","v":"1 year"},{"$f":"IF(Products!$Z$7=$J$4,Base!C16,IF(Products!$Z$7=$J$5,Base!#REF!,IF(OR(Products!$Z$7=$J$2,Products!$Z$7=$J$3),Base!AA19)))","v":"250 - 499"},{"$f":"IFERROR(IF(Products!$Z$7=$J$3,VLOOKUP(CONCATENATE(A20,B20,C20),Base!$AB$13:$AC$64,2,FALSE),IF(Products!$Z$7=$J$2,VLOOKUP(CONCATENATE(A20,B20,C20),Base!$AB$13:$AE$64,4,FALSE),VLOOKUP(CONCATENATE(A20,B20,C20),Base!$D$9:$G$386,4,FALSE))),\"\")","v":20.41},{"$f":"Products!F20","v":0},{"$f":"IF(ISBLANK(Products!F20),0,IF(LEFT(Products!$Z$7,8)=\"Consumer\",D20*E20,IF(C20=\"500+\",IF(E20>=500,E20*D20),IF(C20=\"1000+\",IF(E20>=1000,E20*D20),IF(C20=\"3000+\",IF(E20>=3000,E20*D20),IF(AND(E20>=VLOOKUP(C20,$M$18:$P$34,3,FALSE),E20<=VLOOKUP(C20,$M$18:$P$34,4,FALSE)),E20*D20))))))","v":0},{"$f":"IF(Products!$Z$7=$J$4,Base!H16,IF(Products!$Z$7=$J$5,Base!#REF!,IF(OR(Products!$Z$7=$J$2,Products!$Z$7=$J$3),Base!AD19)))","v":"AL1286100G-EN"},null,null,null,null,null,"5 - 14","5 - 14",5,14]
[{"$f":"IF(Products!$Z$7=$J$4,Base!A17,IF(Products!$Z$7=$J$5,Base!#REF!,IF(OR(Products!$Z$7=$J$2,Products!$Z$7=$J$3),Base!Y20)))","v":"Bitdefender GravityZone Business Security"},{"$f":"IF(Products!$Z$7=$J$4,Base!B17,IF(Products!$Z$7=$J$5,Base!#REF!,IF(OR(Products!$Z$7=$J$2,Products!$Z$7=$J$3),Base!Z20)))","v":"1 year"},{"$f":"IF(Products!$Z$7=$J$4,Base!C17,IF(Products!$Z$7=$J$5,Base!#REF!,IF(OR(Products!$Z$7=$J$2,Products!$Z$7=$J$3),Base!AA20)))","v":"500 - 999"},{"$f":"IFERROR(IF(Products!$Z$7=$J$3,VLOOKUP(CONCATENATE(A21,B21,C21),Base!$AB$13:$AC$64,2,FALSE),IF(Products!$Z$7=$J$2,VLOOKUP(CONCATENATE(A21,B21,C21),Base!$AB$13:$AE$64,4,FALSE),VLOOKUP(CONCATENATE(A21,B21,C21),Base!$D$9:$G$386,4,FALSE))),\"\")","v":20.11},{"$f":"Products!F21","v":0},{"$f":"IF(ISBLANK(Products!F21),0,IF(LEFT(Products!$Z$7,8)=\"Consumer\",D21*E21,IF(C21=\"500+\",IF(E21>=500,E21*D21),IF(C21=\"1000+\",IF(E21>=1000,E21*D21),IF(C21=\"3000+\",IF(E21>=3000,E21*D21),IF(AND(E21>=VLOOKUP(C21,$M$18:$P$34,3,FALSE),E21<=VLOOKUP(C21,$M$18:$P$34,4,FALSE)),E21*D21))))))","v":0},{"$f":"IF(Products!$Z$7=$J$4,Base!H17,IF(Products!$Z$7=$J$5,Base!#REF!,IF(OR(Products!$Z$7=$J$2,Products!$Z$7=$J$3),Base!AD20)))","v":"AL1286100H-EN"},null,null,null,null,null,"15 - 24","15 - 24",15,24]
[{"$f":"IF(Products!$Z$7=$J$4,Base!A18,IF(Products!$Z$7=$J$5,Base!#REF!,IF(OR(Products!$Z$7=$J$2,Products!$Z$7=$J$3),Base!Y21)))","v":"Bitdefender GravityZone Business Security"},{"$f":"IF(Products!$Z$7=$J$4,Base!B18,IF(Products!$Z$7=$J$5,Base!#REF!,IF(OR(Products!$Z$7=$J$2,Products!$Z$7=$J$3),Base!Z21)))","v":"1 year"},{"$f":"IF(Products!$Z$7=$J$4,Base!C18,IF(Products!$Z$7=$J$5,Base!#REF!,IF(OR(Products!$Z$7=$J$2,Products!$Z$7=$J$3),Base!AA21)))","v":"1000 - 2999"},{"$f":"IFERROR(IF(Products!$Z$7=$J$3,VLOOKUP(CONCATENATE(A22,B22,C22),Base!$AB$13:$AC$64,2,FALSE),IF(Products!$Z$7=$J$2,VLOOKUP(CONCATENATE(A22,B22,C22),Base!$AB$13:$AE$64,4,FALSE),VLOOKUP(CONCATENATE(A22,B22,C22),Base!$D$9:$G$386,4,FALSE))),\"\")","v":19.809999999999999},{"$f":"Products!F22","v":0},{"$f":"IF(ISBLANK(Products!F22),0,IF(LEFT(Products!$Z$7,8)=\"Consumer\",D22*E22,IF(C22=\"500+\",IF(E22>=500,E22*D22),IF(C22=\"1000+\",IF(E22>=1000,E22*D22),IF(C22=\"3000+\",IF(E22>=3000,E22*D22),IF(AND(E22>=VLOOKUP(C22,$M$18:$P$34,3,FALSE),E22<=VLOOKUP(C22,$M$18:$P$34,4,FALSE)),E22*D22))))))","v":0},{"$f":"IF(Products!$Z$7=$J$4,Base!H18,IF(Products!$Z$7=$J$5,Base!#REF!,IF(OR(Products!$Z$7=$J$2,Products!$Z$7=$J$3),Base!AD21)))","v":"AL1286100I-EN"},null,null,null,null,null,"5 - 24","5 - 24",5,24]
[{"$f":"IF(Products!$Z$7=$J$4,Base!A19,IF(Products!$Z$7=$J$5,Base!#REF!,IF(OR(Products!$Z$7=$J$2,Products!$Z$7=$J$3),Base!Y22)))","v":"Bitdefender GravityZone Business Security"},{"$f":"IF(Products!$Z$7=$J$4,Base!B19,IF(Products!$Z$7=$J$5,Base!#REF!,IF(OR(Products!$Z$7=$J$2,Products!$Z$7=$J$3),Base!Z22)))","v":"1 year"},{"$f":"IF(Products!$Z$7=$J$4,Base!C19,IF(Products!$Z$7=$J$5,Base!#REF!,IF(OR(Products!$Z$7=$J$2,Products!$Z$7=$J$3),Base!AA22)))","v":"3000+"},{"$f":"IFERROR(IF(Products!$Z$7=$J$3,VLOOKUP(CONCATENATE(A23,B23,C23),Base!$AB$13:$AC$64,2,FALSE),IF(Products!$Z$7=$J$2,VLOOKUP(CONCATENATE(A23,B23,C23),Base!$AB$13:$AE$64,4,FALSE),VLOOKUP(CONCATENATE(A23,B23,C23),Base!$D$9:$G$386,4,FALSE))),\"\")","v":19.510000000000002},{"$f":"Products!F23","v":0},{"$f":"IF(ISBLANK(Products!F23),0,IF(LEFT(Products!$Z$7,8)=\"Consumer\",D23*E23,IF(C23=\"500+\",IF(E23>=500,E23*D23),IF(C23=\"1000+\",IF(E23>=1000,E23*D23),IF(C23=\"3000+\",IF(E23>=3000,E23*D23),IF(AND(E23>=VLOOKUP(C23,$M$18:$P$34,3,FALSE),E23<=VLOOKUP(C23,$M$18:$P$34,4,FALSE)),E23*D23))))))","v":0},{"$f":"IF(Products!$Z$7=$J$4,Base!H19,IF(Products!$Z$7=$J$5,Base!#REF!,IF(OR(Products!$Z$7=$J$2,Products!$Z$7=$J$3),Base!AD22)))","v":"AL1286100J-EN"},null,null,null,null,null,"25 - 49","25 - 49",25,49]
[{"$f":"IF(Products!$Z$7=$J$4,Base!A20,IF(Products!$Z$7=$J$5,Base!#REF!,IF(OR(Products!$Z$7=$J$2,Products!$Z$7=$J$3),Base!Y23)))","v":"Bitdefender GravityZone Business Security"},{"$f":"IF(Products!$Z$7=$J$4,Base!B20,IF(Products!$Z$7=$J$5,Base!#REF!,IF(OR(Products!$Z$7=$J$2,Products!$Z$7=$J$3),Base!Z23)))","v":"2 years"},{"$f":"IF(Products!$Z$7=$J$4,Base!C20,IF(Products!$Z$7=$J$5,Base!#REF!,IF(OR(Products!$Z$7=$J$2,Products!$Z$7=$J$3),Base!AA23)))","v":"3 - 14"},{"$f":"IFERROR(IF(Products!$Z$7=$J$3,VLOOKUP(CONCATENATE(A24,B24,C24),Base!$AB$13:$AC$64,2,FALSE),IF(Products!$Z$7=$J$2,VLOOKUP(CONCATENATE(A24,B24,C24),Base!$AB$13:$AE$64,4,FALSE),VLOOKUP(CONCATENATE(A24,B24,C24),Base!$D$9:$G$386,4,FALSE))),\"\")","v":53.31},{"$f":"Products!F24","v":0},{"$f":"IF(ISBLANK(Products!F24),0,IF(LEFT(Products!$Z$7,8)=\"Consumer\",D24*E24,IF(C24=\"500+\",IF(E24>=500,E24*D24),IF(C24=\"1000+\",IF(E24>=1000,E24*D24),IF(C24=\"3000+\",IF(E24>=3000,E24*D24),IF(AND(E24>=VLOOKUP(C24,$M$18:$P$34,3,FALSE),E24<=VLOOKUP(C24,$M$18:$P$34,4,FALSE)),E24*D24))))))","v":0},{"$f":"IF(Products!$Z$7=$J$4,Base!H20,IF(Products!$Z$7=$J$5,Base!#REF!,IF(OR(Products!$Z$7=$J$2,Products!$Z$7=$J$3),Base!AD23)))","v":"AL1286200A-EN"},null,null,null,null,null,"50 - 99","50 - 99",50,99]
[{"$f":"IF(Products!$Z$7=$J$4,Base!A21,IF(Products!$Z$7=$J$5,Base!#REF!,IF(OR(Products!$Z$7=$J$2,Products!$Z$7=$J$3),Base!Y24)))","v":"Bitdefender GravityZone Business Security"},{"$f":"IF(Products!$Z$7=$J$4,Base!B21,IF(Products!$Z$7=$J$5,Base!#REF!,IF(OR(Products!$Z$7=$J$2,Products!$Z$7=$J$3),Base!Z24)))","v":"2 years"},{"$f":"IF(Products!$Z$7=$J$4,Base!C21,IF(Products!$Z$7=$J$5,Base!#REF!,IF(OR(Products!$Z$7=$J$2,Products!$Z$7=$J$3),Base!AA24)))","v":"15 - 24"},{"$f":"IFERROR(IF(Products!$Z$7=$J$3,VLOOKUP(CONCATENATE(A25,B25,C25),Base!$AB$13:$AC$64,2,FALSE),IF(Products!$Z$7=$J$2,VLOOKUP(CONCATENATE(A25,B25,C25),Base!$AB$13:$AE$64,4,FALSE),VLOOKUP(CONCATENATE(A25,B25,C25),Base!$D$9:$G$386,4,FALSE))),\"\")","v":46.99},{"$f":"Products!F25","v":0},{"$f":"IF(ISBLANK(Products!F25),0,IF(LEFT(Products!$Z$7,8)=\"Consumer\",D25*E25,IF(C25=\"500+\",IF(E25>=500,E25*D25),IF(C25=\"1000+\",IF(E25>=1000,E25*D25),IF(C25=\"3000+\",IF(E25>=3000,E25*D25),IF(AND(E25>=VLOOKUP(C25,$M$18:$P$34,3,FALSE),E25<=VLOOKUP(C25,$M$18:$P$34,4,FALSE)),E25*D25))))))","v":0},{"$f":"IF(Products!$Z$7=$J$4,Base!H21,IF(Products!$Z$7=$J$5,Base!#REF!,IF(OR(Products!$Z$7=$J$2,Products!$Z$7=$J$3),Base!AD24)))","v":"AL1286200B-EN"},null,null,null,null,null,"100 - 149","100 - 149",100,149]
[{"$f":"IF(Products!$Z$7=$J$4,Base!A22,IF(Products!$Z$7=$J$5,Base!#REF!,IF(OR(Products!$Z$7=$J$2,Products!$Z$7=$J$3),Base!Y25)))","v":"Bitdefender GravityZone Business Security"},{"$f":"IF(Products!$Z$7=$J$4,Base!B22,IF(Products!$Z$7=$J$5,Base!#REF!,IF(OR(Products!$Z$7=$J$2,Products!$Z$7=$J$3),Base!Z25)))","v":"2 years"},{"$f":"IF(Products!$Z$7=$J$4,Base!C22,IF(Products!$Z$7=$J$5,Base!#REF!,IF(OR(Products!$Z$7=$J$2,Products!$Z$7=$J$3),Base!AA25)))","v":"25 - 49"},{"$f":"IFERROR(IF(Products!$Z$7=$J$3,VLOOKUP(CONCATENATE(A26,B26,C26),Base!$AB$13:$AC$64,2,FALSE),IF(Products!$Z$7=$J$2,VLOOKUP(CONCATENATE(A26,B26,C26),Base!$AB$13:$AE$64,4,FALSE),VLOOKUP(CONCATENATE(A26,B26,C26),Base!$D$9:$G$386,4,FALSE))),\"\")","v":44.3},{"$f":"Products!F26","v":0},{"$f":"IF(ISBLANK(Products!F26),0,IF(LEFT(Products!$Z$7,8)=\"Consumer\",D26*E26,IF(C26=\"500+\",IF(E26>=500,E26*D26),IF(C26=\"1000+\",IF(E26>=1000,E26*D26),IF(C26=\"3000+\",IF(E26>=3000,E26*D26),IF(AND(E26>=VLOOKUP(C26,$M$18:$P$34,3,FALSE),E26<=VLOOKUP(C26,$M$18:$P$34,4,FALSE)),E26*D26))))))","v":0},{"$f":"IF(Products!$Z$7=$J$4,Base!H22,IF(Products!$Z$7=$J$5,Base!#REF!,IF(OR(Products!$Z$7=$J$2,Products!$Z$7=$J$3),Base!AD25)))","v":"AL1286200C-EN"},null,null,null,null,null,"150 - 250","150 - 250",150,250]
[{"$f":"IF(Products!$Z$7=$J$4,Base!A23,IF(Products!$Z$7=$J$5,Base!#REF!,IF(OR(Products!$Z$7=$J$2,Products!$Z$7=$J$3),Base!Y26)))","v":"Bitdefender GravityZone Business Security"},{"$f":"IF(Products!$Z$7=$J$4,Base!B23,IF(Products!$Z$7=$J$5,Base!#REF!,IF(OR(Products!$Z$7=$J$2,Products!$Z$7=$J$3),Base!Z26)))","v":"2 years"},{"$f":"IF(Products!$Z$7=$J$4,Base!C23,IF(Products!$Z$7=$J$5,Base!#REF!,IF(OR(Products!$Z$7=$J$2,Products!$Z$7=$J$3),Base!AA26)))","v":"50 - 99"},{"$f":"IFERROR(IF(Products!$Z$7=$J$3,VLOOKUP(CONCATENATE(A27,B27,C27),Base!$AB$13:$AC$64,2,FALSE),IF(Products!$Z$7=$J$2,VLOOKUP(CONCATENATE(A27,B27,C27),Base!$AB$13:$AE$64,4,FALSE),VLOOKUP(CONCATENATE(A27,B27,C27),Base!$D$9:$G$386,4,FALSE))),\"\")","v":38.93},{"$f":"Products!F27","v":0},{"$f":"IF(ISBLANK(Products!F27),0,IF(LEFT(Products!$Z$7,8)=\"Consumer\",D27*E27,IF(C27=\"500+\",IF(E27>=500,E27*D27),IF(C27=\"1000+\",IF(E27>=1000,E27*D27),IF(C27=\"3000+\",IF(E27>=3000,E27*D27),IF(AND(E27>=VLOOKUP(C27,$M$18:$P$34,3,FALSE),E27<=VLOOKUP(C27,$M$18:$P$34,4,FALSE)),E27*D27))))))","v":0},{"$f":"IF(Products!$Z$7=$J$4,Base!H23,IF(Products!$Z$7=$J$5,Base!#REF!,IF(OR(Products!$Z$7=$J$2,Products!$Z$7=$J$3),Base!AD26)))","v":"AL1286200D-EN"},null,null,null,null,null,"150 - 249","150 - 249",150,249]
[{"$f":"IF(Products!$Z$7=$J$4,Base!A24,IF(Products!$Z$7=$J$5,Base!#REF!,IF(OR(Products!$Z$7=$J$2,Products!$Z$7=$J$3),Base!Y27)))","v":"Bitdefender GravityZone Business Security"},{"$f":"IF(Products!$Z$7=$J$4,Base!B24,IF(Products!$Z$7=$J$5,Base!#REF!,IF(OR(Products!$Z$7=$J$2,Products!$Z$7=$J$3),Base!Z27)))","v":"2 years"},{"$f":"IF(Products!$Z$7=$J$4,Base!C24,IF(Products!$Z$7=$J$5,Base!#REF!,IF(OR(Products!$Z$7=$J$2,Products!$Z$7=$J$3),Base!AA27)))","v":"100 - 149"},{"$f":"IFERROR(IF(Products!$Z$7=$J$3,VLOOKUP(CONCATENATE(A28,B28,C28),Base!$AB$13:$AC$64,2,FALSE),IF(Products!$Z$7=$J$2,VLOOKUP(CONCATENATE(A28,B28,C28),Base!$AB$13:$AE$64,4,FALSE),VLOOKUP(CONCATENATE(A28,B28,C28),Base!$D$9:$G$386,4,FALSE))),\"\")","v":35.81},{"$f":"Products!F28","v":0},{"$f":"IF(ISBLANK(Products!F28),0,IF(LEFT(Products!$Z$7,8)=\"Consumer\",D28*E28,IF(C28=\"500+\",IF(E28>=500,E28*D28),IF(C28=\"1000+\",IF(E28>=1000,E28*D28),IF(C28=\"3000+\",IF(E28>=3000,E28*D28),IF(AND(E28>=VLOOKUP(C28,$M$18:$P$34,3,FALSE),E28<=VLOOKUP(C28,$M$18:$P$34,4,FALSE)),E28*D28))))))","v":0},{"$f":"IF(Products!$Z$7=$J$4,Base!H24,IF(Products!$Z$7=$J$5,Base!#REF!,IF(OR(Products!$Z$7=$J$2,Products!$Z$7=$J$3),Base!AD27)))","v":"AL1286200E-EN"},null,null,null,null,null,"100 - 249","100 - 249",100,249]
[{"$f":"IF(Products!$Z$7=$J$4,Base!A25,IF(Products!$Z$7=$J$5,Base!#REF!,IF(OR(Products!$Z$7=$J$2,Products!$Z$7=$J$3),Base!Y28)))","v":"Bitdefender GravityZone Business Security"},{"$f":"IF(Products!$Z$7=$J$4,Base!B25,IF(Products!$Z$7=$J$5,Base!#REF!,IF(OR(Products!$Z$7=$J$2,Products!$Z$7=$J$3),Base!Z28)))","v":"2 years"},{"$f":"IF(Products!$Z$7=$J$4,Base!C25,IF(Products!$Z$7=$J$5,Base!#REF!,IF(OR(Products!$Z$7=$J$2,Products!$Z$7=$J$3),Base!AA28)))","v":"150 - 249"},{"$f":"IFERROR(IF(Products!$Z$7=$J$3,VLOOKUP(CONCATENATE(A29,B29,C29),Base!$AB$13:$AC$64,2,FALSE),IF(Products!$Z$7=$J$2,VLOOKUP(CONCATENATE(A29,B29,C29),Base!$AB$13:$AE$64,4,FALSE),VLOOKUP(CONCATENATE(A29,B29,C29),Base!$D$9:$G$386,4,FALSE))),\"\")","v":34.380000000000003},{"$f":"Products!F29","v":0},{"$f":"IF(ISBLANK(Products!F29),0,IF(LEFT(Products!$Z$7,8)=\"Consumer\",D29*E29,IF(C29=\"500+\",IF(E29>=500,E29*D29),IF(C29=\"1000+\",IF(E29>=1000,E29*D29),IF(C29=\"3000+\",IF(E29>=3000,E29*D29),IF(AND(E29>=VLOOKUP(C29,$M$18:$P$34,3,FALSE),E29<=VLOOKUP(C29,$M$18:$P$34,4,FALSE)),E29*D29))))))","v":0},{"$f":"IF(Products!$Z$7=$J$4,Base!H25,IF(Products!$Z$7=$J$5,Base!#REF!,IF(OR(Products!$Z$7=$J$2,Products!$Z$7=$J$3),Base!AD28)))","v":"AL1286200F-EN"},null,null,null,null,null,"250 - 499","250 - 499",250,499]
[{"$f":"IF(Products!$Z$7=$J$4,Base!A26,IF(Products!$Z$7=$J$5,Base!#REF!,IF(OR(Products!$Z$7=$J$2,Products!$Z$7=$J$3),Base!Y29)))","v":"Bitdefender GravityZone Business Security"},{"$f":"IF(Products!$Z$7=$J$4,Base!B26,IF(Products!$Z$7=$J$5,Base!#REF!,IF(OR(Products!$Z$7=$J$2,Products!$Z$7=$J$3),Base!Z29)))","v":"2 years"},{"$f":"IF(Products!$Z$7=$J$4,Base!C26,IF(Products!$Z$7=$J$5,Base!#REF!,IF(OR(Products!$Z$7=$J$2,Products!$Z$7=$J$3),Base!AA29)))","v":"250 - 499"},{"$f":"IFERROR(IF(Products!$Z$7=$J$3,VLOOKUP(CONCATENATE(A30,B30,C30),Base!$AB$13:$AC$64,2,FALSE),IF(Products!$Z$7=$J$2,VLOOKUP(CONCATENATE(A30,B30,C30),Base!$AB$13:$AE$64,4,FALSE),VLOOKUP(CONCATENATE(A30,B30,C30),Base!$D$9:$G$386,4,FALSE))),\"\")","v":32.659999999999997},{"$f":"Products!F30","v":0},{"$f":"IF(ISBLANK(Products!F30),0,IF(LEFT(Products!$Z$7,8)=\"Consumer\",D30*E30,IF(C30=\"500+\",IF(E30>=500,E30*D30),IF(C30=\"1000+\",IF(E30>=1000,E30*D30),IF(C30=\"3000+\",IF(E30>=3000,E30*D30),IF(AND(E30>=VLOOKUP(C30,$M$18:$P$34,3,FALSE),E30<=VLOOKUP(C30,$M$18:$P$34,4,FALSE)),E30*D30))))))","v":0},{"$f":"IF(Products!$Z$7=$J$4,Base!H26,IF(Products!$Z$7=$J$5,Base!#REF!,IF(OR(Products!$Z$7=$J$2,Products!$Z$7=$J$3),Base!AD29)))","v":"AL1286200G-EN"},null,null,null,null,null,"500 - 999","500 - 999",500,999]
[{"$f":"IF(Products!$Z$7=$J$4,Base!A27,IF(Products!$Z$7=$J$5,Base!#REF!,IF(OR(Products!$Z$7=$J$2,Products!$Z$7=$J$3),Base!Y30)))","v":"Bitdefender GravityZone Business Security"},{"$f":"IF(Products!$Z$7=$J$4,Base!B27,IF(Products!$Z$7=$J$5,Base!#REF!,IF(OR(Products!$Z$7=$J$2,Products!$Z$7=$J$3),Base!Z30)))","v":"2 years"},{"$f":"IF(Products!$Z$7=$J$4,Base!C27,IF(Products!$Z$7=$J$5,Base!#REF!,IF(OR(Products!$Z$7=$J$2,Products!$Z$7=$J$3),Base!AA30)))","v":"500 - 999"},{"$f":"IFERROR(IF(Products!$Z$7=$J$3,VLOOKUP(CONCATENATE(A31,B31,C31),Base!$AB$13:$AC$64,2,FALSE),IF(Products!$Z$7=$J$2,VLOOKUP(CONCATENATE(A31,B31,C31),Base!$AB$13:$AE$64,4,FALSE),VLOOKUP(CONCATENATE(A31,B31,C31),Base!$D$9:$G$386,4,FALSE))),\"\")","v":32.18},{"$f":"Products!F31","v":0},{"$f":"IF(ISBLANK(Products!F31),0,IF(LEFT(Products!$Z$7,8)=\"Consumer\",D31*E31,IF(C31=\"500+\",IF(E31>=500,E31*D31),IF(C31=\"1000+\",IF(E31>=1000,E31*D31),IF(C31=\"3000+\",IF(E31>=3000,E31*D31),IF(AND(E31>=VLOOKUP(C31,$M$18:$P$34,3,FALSE),E31<=VLOOKUP(C31,$M$18:$P$34,4,FALSE)),E31*D31))))))","v":0},{"$f":"IF(Products!$Z$7=$J$4,Base!H27,IF(Products!$Z$7=$J$5,Base!#REF!,IF(OR(Products!$Z$7=$J$2,Products!$Z$7=$J$3),Base!AD30)))","v":"AL1286200H-EN"},null,null,null,null,null,"500+","500+",500]
[{"$f":"IF(Products!$Z$7=$J$4,Base!A28,IF(Products!$Z$7=$J$5,Base!#REF!,IF(OR(Products!$Z$7=$J$2,Products!$Z$7=$J$3),Base!Y31)))","v":"Bitdefender GravityZone Business Security"},{"$f":"IF(Products!$Z$7=$J$4,Base!B28,IF(Products!$Z$7=$J$5,Base!#REF!,IF(OR(Products!$Z$7=$J$2,Products!$Z$7=$J$3),Base!Z31)))","v":"2 years"},{"$f":"IF(Products!$Z$7=$J$4,Base!C28,IF(Products!$Z$7=$J$5,Base!#REF!,IF(OR(Products!$Z$7=$J$2,Products!$Z$7=$J$3),Base!AA31)))","v":"1000 - 2999"},{"$f":"IFERROR(IF(Products!$Z$7=$J$3,VLOOKUP(CONCATENATE(A32,B32,C32),Base!$AB$13:$AC$64,2,FALSE),IF(Products!$Z$7=$J$2,VLOOKUP(CONCATENATE(A32,B32,C32),Base!$AB$13:$AE$64,4,FALSE),VLOOKUP(CONCATENATE(A32,B32,C32),Base!$D$9:$G$386,4,FALSE))),\"\")","v":31.7},{"$f":"Products!F32","v":0},{"$f":"IF(ISBLANK(Products!F32),0,IF(LEFT(Products!$Z$7,8)=\"Consumer\",D32*E32,IF(C32=\"500+\",IF(E32>=500,E32*D32),IF(C32=\"1000+\",IF(E32>=1000,E32*D32),IF(C32=\"3000+\",IF(E32>=3000,E32*D32),IF(AND(E32>=VLOOKUP(C32,$M$18:$P$34,3,FALSE),E32<=VLOOKUP(C32,$M$18:$P$34,4,FALSE)),E32*D32))))))","v":0},{"$f":"IF(Products!$Z$7=$J$4,Base!H28,IF(Products!$Z$7=$J$5,Base!#REF!,IF(OR(Products!$Z$7=$J$2,Products!$Z$7=$J$3),Base!AD31)))","v":"AL1286200I-EN"},null,null,null,null,null,"1000 - 2999","1000 - 2999",1000,2999]
[{"$f":"IF(Products!$Z$7=$J$4,Base!A29,IF(Products!$Z$7=$J$5,Base!#REF!,IF(OR(Products!$Z$7=$J$2,Products!$Z$7=$J$3),Base!Y32)))","v":"Bitdefender GravityZone Business Security"},{"$f":"IF(Products!$Z$7=$J$4,Base!B29,IF(Products!$Z$7=$J$5,Base!#REF!,IF(OR(Products!$Z$7=$J$2,Products!$Z$7=$J$3),Base!Z32)))","v":"2 years"},{"$f":"IF(Products!$Z$7=$J$4,Base!C29,IF(Products!$Z$7=$J$5,Base!#REF!,IF(OR(Products!$Z$7=$J$2,Products!$Z$7=$J$3),Base!AA32)))","v":"3000+"},{"$f":"IFERROR(IF(Products!$Z$7=$J$3,VLOOKUP(CONCATENATE(A33,B33,C33),Base!$AB$13:$AC$64,2,FALSE),IF(Products!$Z$7=$J$2,VLOOKUP(CONCATENATE(A33,B33,C33),Base!$AB$13:$AE$64,4,FALSE),VLOOKUP(CONCATENATE(A33,B33,C33),Base!$D$9:$G$386,4,FALSE))),\"\")","v":31.22},{"$f":"Products!F33","v":0},{"$f":"IF(ISBLANK(Products!F33),0,IF(LEFT(Products!$Z$7,8)=\"Consumer\",D33*E33,IF(C33=\"500+\",IF(E33>=500,E33*D33),IF(C33=\"1000+\",IF(E33>=1000,E33*D33),IF(C33=\"3000+\",IF(E33>=3000,E33*D33),IF(AND(E33>=VLOOKUP(C33,$M$18:$P$34,3,FALSE),E33<=VLOOKUP(C33,$M$18:$P$34,4,FALSE)),E33*D33))))))","v":0},{"$f":"IF(Products!$Z$7=$J$4,Base!H29,IF(Products!$Z$7=$J$5,Base!#REF!,IF(OR(Products!$Z$7=$J$2,Products!$Z$7=$J$3),Base!AD32)))","v":"AL1286200J-EN"},null,null,null,null,null,"3000+","3000+",3000]
[{"$f":"IF(Products!$Z$7=$J$4,Base!A30,IF(Products!$Z$7=$J$5,Base!#REF!,IF(OR(Products!$Z$7=$J$2,Products!$Z$7=$J$3),Base!Y33)))","v":"Bitdefender GravityZone Business Security"},{"$f":"IF(Products!$Z$7=$J$4,Base!B30,IF(Products!$Z$7=$J$5,Base!#REF!,IF(OR(Products!$Z$7=$J$2,Products!$Z$7=$J$3),Base!Z33)))","v":"3 years"},{"$f":"IF(Products!$Z$7=$J$4,Base!C30,IF(Products!$Z$7=$J$5,Base!#REF!,IF(OR(Products!$Z$7=$J$2,Products!$Z$7=$J$3),Base!AA33)))","v":"3 - 14"},{"$f":"IFERROR(IF(Products!$Z$7=$J$3,VLOOKUP(CONCATENATE(A34,B34,C34),Base!$AB$13:$AC$64,2,FALSE),IF(Products!$Z$7=$J$2,VLOOKUP(CONCATENATE(A34,B34,C34),Base!$AB$13:$AE$64,4,FALSE),VLOOKUP(CONCATENATE(A34,B34,C34),Base!$D$9:$G$386,4,FALSE))),\"\")","v":68.25},{"$f":"Products!F34","v":0},{"$f":"IF(ISBLANK(Products!F34),0,IF(LEFT(Products!$Z$7,8)=\"Consumer\",D34*E34,IF(C34=\"500+\",IF(E34>=500,E34*D34),IF(C34=\"1000+\",IF(E34>=1000,E34*D34),IF(C34=\"3000+\",IF(E34>=3000,E34*D34),IF(AND(E34>=VLOOKUP(C34,$M$18:$P$34,3,FALSE),E34<=VLOOKUP(C34,$M$18:$P$34,4,FALSE)),E34*D34))))))","v":0},{"$f":"IF(Products!$Z$7=$J$4,Base!H30,IF(Products!$Z$7=$J$5,Base!#REF!,IF(OR(Products!$Z$7=$J$2,Products!$Z$7=$J$3),Base!AD33)))","v":"AL1286300A-EN"},null,null,null,null,null,"1000+","1000+",1000]
[{"$f":"IF(Products!$Z$7=$J$4,Base!A31,IF(Products!$Z$7=$J$5,Base!#REF!,IF(OR(Products!$Z$7=$J$2,Products!$Z$7=$J$3),Base!Y34)))","v":"Bitdefender GravityZone Business Security"},{"$f":"IF(Products!$Z$7=$J$4,Base!B31,IF(Products!$Z$7=$J$5,Base!#REF!,IF(OR(Products!$Z$7=$J$2,Products!$Z$7=$J$3),Base!Z34)))","v":"3 years"},{"$f":"IF(Products!$Z$7=$J$4,Base!C31,IF(Products!$Z$7=$J$5,Base!#REF!,IF(OR(Products!$Z$7=$J$2,Products!$Z$7=$J$3),Base!AA34)))","v":"15 - 24"},{"$f":"IFERROR(IF(Products!$Z$7=$J$3,VLOOKUP(CONCATENATE(A35,B35,C35),Base!$AB$13:$AC$64,2,FALSE),IF(Products!$Z$7=$J$2,VLOOKUP(CONCATENATE(A35,B35,C35),Base!$AB$13:$AE$64,4,FALSE),VLOOKUP(CONCATENATE(A35,B35,C35),Base!$D$9:$G$386,4,FALSE))),\"\")","v":60.21},{"$f":"Products!F35","v":0},{"$f":"IF(ISBLANK(Products!F35),0,IF(LEFT(Products!$Z$7,8)=\"Consumer\",D35*E35,IF(C35=\"500+\",IF(E35>=500,E35*D35),IF(C35=\"1000+\",IF(E35>=1000,E35*D35),IF(C35=\"3000+\",IF(E35>=3000,E35*D35),IF(AND(E35>=VLOOKUP(C35,$M$18:$P$34,3,FALSE),E35<=VLOOKUP(C35,$M$18:$P$34,4,FALSE)),E35*D35))))))","v":0},{"$f":"IF(Products!$Z$7=$J$4,Base!H31,IF(Products!$Z$7=$J$5,Base!#REF!,IF(OR(Products!$Z$7=$J$2,Products!$Z$7=$J$3),Base!AD34)))","v":"AL1286300B-EN"}]
[{"$f":"IF(Products!$Z$7=$J$4,Base!A32,IF(Products!$Z$7=$J$5,Base!#REF!,IF(OR(Products!$Z$7=$J$2,Products!$Z$7=$J$3),Base!Y35)))","v":"Bitdefender GravityZone Business Security"},{"$f":"IF(Products!$Z$7=$J$4,Base!B32,IF(Products!$Z$7=$J$5,Base!#REF!,IF(OR(Products!$Z$7=$J$2,Products!$Z$7=$J$3),Base!Z35)))","v":"3 years"},{"$f":"IF(Products!$Z$7=$J$4,Base!C32,IF(Products!$Z$7=$J$5,Base!#REF!,IF(OR(Products!$Z$7=$J$2,Products!$Z$7=$J$3),Base!AA35)))","v":"25 - 49"},{"$f":"IFERROR(IF(Products!$Z$7=$J$3,VLOOKUP(CONCATENATE(A36,B36,C36),Base!$AB$13:$AC$64,2,FALSE),IF(Products!$Z$7=$J$2,VLOOKUP(CONCATENATE(A36,B36,C36),Base!$AB$13:$AE$64,4,FALSE),VLOOKUP(CONCATENATE(A36,B36,C36),Base!$D$9:$G$386,4,FALSE))),\"\")","v":56.76},{"$f":"Products!F36","v":0},{"$f":"IF(ISBLANK(Products!F36),0,IF(LEFT(Products!$Z$7,8)=\"Consumer\",D36*E36,IF(C36=\"500+\",IF(E36>=500,E36*D36),IF(C36=\"1000+\",IF(E36>=1000,E36*D36),IF(C36=\"3000+\",IF(E36>=3000,E36*D36),IF(AND(E36>=VLOOKUP(C36,$M$18:$P$34,3,FALSE),E36<=VLOOKUP(C36,$M$18:$P$34,4,FALSE)),E36*D36))))))","v":0},{"$f":"IF(Products!$Z$7=$J$4,Base!H32,IF(Products!$Z$7=$J$5,Base!#REF!,IF(OR(Products!$Z$7=$J$2,Products!$Z$7=$J$3),Base!AD35)))","v":"AL1286300C-EN"}]
[{"$f":"IF(Products!$Z$7=$J$4,Base!A33,IF(Products!$Z$7=$J$5,Base!#REF!,IF(OR(Products!$Z$7=$J$2,Products!$Z$7=$J$3),Base!Y36)))","v":"Bitdefender GravityZone Business Security"},{"$f":"IF(Products!$Z$7=$J$4,Base!B33,IF(Products!$Z$7=$J$5,Base!#REF!,IF(OR(Products!$Z$7=$J$2,Products!$Z$7=$J$3),Base!Z36)))","v":"3 years"},{"$f":"IF(Products!$Z$7=$J$4,Base!C33,IF(Products!$Z$7=$J$5,Base!#REF!,IF(OR(Products!$Z$7=$J$2,Products!$Z$7=$J$3),Base!AA36)))","v":"50 - 99"},{"$f":"IFERROR(IF(Products!$Z$7=$J$3,VLOOKUP(CONCATENATE(A37,B37,C37),Base!$AB$13:$AC$64,2,FALSE),IF(Products!$Z$7=$J$2,VLOOKUP(CONCATENATE(A37,B37,C37),Base!$AB$13:$AE$64,4,FALSE),VLOOKUP(CONCATENATE(A37,B37,C37),Base!$D$9:$G$386,4,FALSE))),\"\")","v":49.88},{"$f":"Products!F37","v":0},{"$f":"IF(ISBLANK(Products!F37),0,IF(LEFT(Products!$Z$7,8)=\"Consumer\",D37*E37,IF(C37=\"500+\",IF(E37>=500,E37*D37),IF(C37=\"1000+\",IF(E37>=1000,E37*D37),IF(C37=\"3000+\",IF(E37>=3000,E37*D37),IF(AND(E37>=VLOOKUP(C37,$M$18:$P$34,3,FALSE),E37<=VLOOKUP(C37,$M$18:$P$34,4,FALSE)),E37*D37))))))","v":0},{"$f":"IF(Products!$Z$7=$J$4,Base!H33,IF(Products!$Z$7=$J$5,Base!#REF!,IF(OR(Products!$Z$7=$J$2,Products!$Z$7=$J$3),Base!AD36)))","v":"AL1286300D-EN"}]
[{"$f":"IF(Products!$Z$7=$J$4,Base!A34,IF(Products!$Z$7=$J$5,Base!#REF!,IF(OR(Products!$Z$7=$J$2,Products!$Z$7=$J$3),Base!Y37)))","v":"Bitdefender GravityZone Business Security"},{"$f":"IF(Products!$Z$7=$J$4,Base!B34,IF(Products!$Z$7=$J$5,Base!#REF!,IF(OR(Products!$Z$7=$J$2,Products!$Z$7=$J$3),Base!Z37)))","v":"3 years"},{"$f":"IF(Products!$Z$7=$J$4,Base!C34,IF(Products!$Z$7=$J$5,Base!#REF!,IF(OR(Products!$Z$7=$J$2,Products!$Z$7=$J$3),Base!AA37)))","v":"100 - 149"},{"$f":"IFERROR(IF(Products!$Z$7=$J$3,VLOOKUP(CONCATENATE(A38,B38,C38),Base!$AB$13:$AC$64,2,FALSE),IF(Products!$Z$7=$J$2,VLOOKUP(CONCATENATE(A38,B38,C38),Base!$AB$13:$AE$64,4,FALSE),VLOOKUP(CONCATENATE(A38,B38,C38),Base!$D$9:$G$386,4,FALSE))),\"\")","v":45.88},{"$f":"Products!F38","v":0},{"$f":"IF(ISBLANK(Products!F38),0,IF(LEFT(Products!$Z$7,8)=\"Consumer\",D38*E38,IF(C38=\"500+\",IF(E38>=500,E38*D38),IF(C38=\"1000+\",IF(E38>=1000,E38*D38),IF(C38=\"3000+\",IF(E38>=3000,E38*D38),IF(AND(E38>=VLOOKUP(C38,$M$18:$P$34,3,FALSE),E38<=VLOOKUP(C38,$M$18:$P$34,4,FALSE)),E38*D38))))))","v":0},{"$f":"IF(Products!$Z$7=$J$4,Base!H34,IF(Products!$Z$7=$J$5,Base!#REF!,IF(OR(Products!$Z$7=$J$2,Products!$Z$7=$J$3),Base!AD37)))","v":"AL1286300E-EN"}]
[{"$f":"IF(Products!$Z$7=$J$4,Base!A35,IF(Products!$Z$7=$J$5,Base!#REF!,IF(OR(Products!$Z$7=$J$2,Products!$Z$7=$J$3),Base!Y38)))","v":"Bitdefender GravityZone Business Security"},{"$f":"IF(Products!$Z$7=$J$4,Base!B35,IF(Products!$Z$7=$J$5,Base!#REF!,IF(OR(Products!$Z$7=$J$2,Products!$Z$7=$J$3),Base!Z38)))","v":"3 years"},{"$f":"IF(Products!$Z$7=$J$4,Base!C35,IF(Products!$Z$7=$J$5,Base!#REF!,IF(OR(Products!$Z$7=$J$2,Products!$Z$7=$J$3),Base!AA38)))","v":"150 - 249"},{"$f":"IFERROR(IF(Products!$Z$7=$J$3,VLOOKUP(CONCATENATE(A39,B39,C39),Base!$AB$13:$AC$64,2,FALSE),IF(Products!$Z$7=$J$2,VLOOKUP(CONCATENATE(A39,B39,C39),Base!$AB$13:$AE$64,4,FALSE),VLOOKUP(CONCATENATE(A39,B39,C39),Base!$D$9:$G$386,4,FALSE))),\"\")","v":44.05},{"$f":"Products!F39","v":0},{"$f":"IF(ISBLANK(Products!F39),0,IF(LEFT(Products!$Z$7,8)=\"Consumer\",D39*E39,IF(C39=\"500+\",IF(E39>=500,E39*D39),IF(C39=\"1000+\",IF(E39>=1000,E39*D39),IF(C39=\"3000+\",IF(E39>=3000,E39*D39),IF(AND(E39>=VLOOKUP(C39,$M$18:$P$34,3,FALSE),E39<=VLOOKUP(C39,$M$18:$P$34,4,FALSE)),E39*D39))))))","v":0},{"$f":"IF(Products!$Z$7=$J$4,Base!H35,IF(Products!$Z$7=$J$5,Base!#REF!,IF(OR(Products!$Z$7=$J$2,Products!$Z$7=$J$3),Base!AD38)))","v":"AL1286300F-EN"}]
[{"$f":"IF(Products!$Z$7=$J$4,Base!A36,IF(Products!$Z$7=$J$5,Base!#REF!,IF(OR(Products!$Z$7=$J$2,Products!$Z$7=$J$3),Base!Y39)))","v":"Bitdefender GravityZone Business Security"},{"$f":"IF(Products!$Z$7=$J$4,Base!B36,IF(Products!$Z$7=$J$5,Base!#REF!,IF(OR(Products!$Z$7=$J$2,Products!$Z$7=$J$3),Base!Z39)))","v":"3 years"},{"$f":"IF(Products!$Z$7=$J$4,Base!C36,IF(Products!$Z$7=$J$5,Base!#REF!,IF(OR(Products!$Z$7=$J$2,Products!$Z$7=$J$3),Base!AA39)))","v":"250 - 499"},{"$f":"IFERROR(IF(Products!$Z$7=$J$3,VLOOKUP(CONCATENATE(A40,B40,C40),Base!$AB$13:$AC$64,2,FALSE),IF(Products!$Z$7=$J$2,VLOOKUP(CONCATENATE(A40,B40,C40),Base!$AB$13:$AE$64,4,FALSE),VLOOKUP(CONCATENATE(A40,B40,C40),Base!$D$9:$G$386,4,FALSE))),\"\")","v":41.84},{"$f":"Products!F40","v":0},{"$f":"IF(ISBLANK(Products!F40),0,IF(LEFT(Products!$Z$7,8)=\"Consumer\",D40*E40,IF(C40=\"500+\",IF(E40>=500,E40*D40),IF(C40=\"1000+\",IF(E40>=1000,E40*D40),IF(C40=\"3000+\",IF(E40>=3000,E40*D40),IF(AND(E40>=VLOOKUP(C40,$M$18:$P$34,3,FALSE),E40<=VLOOKUP(C40,$M$18:$P$34,4,FALSE)),E40*D40))))))","v":0},{"$f":"IF(Products!$Z$7=$J$4,Base!H36,IF(Products!$Z$7=$J$5,Base!#REF!,IF(OR(Products!$Z$7=$J$2,Products!$Z$7=$J$3),Base!AD39)))","v":"AL1286300G-EN"}]
[{"$f":"IF(Products!$Z$7=$J$4,Base!A37,IF(Products!$Z$7=$J$5,Base!#REF!,IF(OR(Products!$Z$7=$J$2,Products!$Z$7=$J$3),Base!Y40)))","v":"Bitdefender GravityZone Business Security"},{"$f":"IF(Products!$Z$7=$J$4,Base!B37,IF(Products!$Z$7=$J$5,Base!#REF!,IF(OR(Products!$Z$7=$J$2,Products!$Z$7=$J$3),Base!Z40)))","v":"3 years"},{"$f":"IF(Products!$Z$7=$J$4,Base!C37,IF(Products!$Z$7=$J$5,Base!#REF!,IF(OR(Products!$Z$7=$J$2,Products!$Z$7=$J$3),Base!AA40)))","v":"500 - 999"},{"$f":"IFERROR(IF(Products!$Z$7=$J$3,VLOOKUP(CONCATENATE(A41,B41,C41),Base!$AB$13:$AC$64,2,FALSE),IF(Products!$Z$7=$J$2,VLOOKUP(CONCATENATE(A41,B41,C41),Base!$AB$13:$AE$64,4,FALSE),VLOOKUP(CONCATENATE(A41,B41,C41),Base!$D$9:$G$386,4,FALSE))),\"\")","v":41.23},{"$f":"Products!F41","v":0},{"$f":"IF(ISBLANK(Products!F41),0,IF(LEFT(Products!$Z$7,8)=\"Consumer\",D41*E41,IF(C41=\"500+\",IF(E41>=500,E41*D41),IF(C41=\"1000+\",IF(E41>=1000,E41*D41),IF(C41=\"3000+\",IF(E41>=3000,E41*D41),IF(AND(E41>=VLOOKUP(C41,$M$18:$P$34,3,FALSE),E41<=VLOOKUP(C41,$M$18:$P$34,4,FALSE)),E41*D41))))))","v":0},{"$f":"IF(Products!$Z$7=$J$4,Base!H37,IF(Products!$Z$7=$J$5,Base!#REF!,IF(OR(Products!$Z$7=$J$2,Products!$Z$7=$J$3),Base!AD40)))","v":"AL1286300H-EN"}]
[{"$f":"IF(Products!$Z$7=$J$4,Base!A38,IF(Products!$Z$7=$J$5,Base!#REF!,IF(OR(Products!$Z$7=$J$2,Products!$Z$7=$J$3),Base!Y41)))","v":"Bitdefender GravityZone Business Security"},{"$f":"IF(Products!$Z$7=$J$4,Base!B38,IF(Products!$Z$7=$J$5,Base!#REF!,IF(OR(Products!$Z$7=$J$2,Products!$Z$7=$J$3),Base!Z41)))","v":"3 years"},{"$f":"IF(Products!$Z$7=$J$4,Base!C38,IF(Products!$Z$7=$J$5,Base!#REF!,IF(OR(Products!$Z$7=$J$2,Products!$Z$7=$J$3),Base!AA41)))","v":"1000 - 2999"},{"$f":"IFERROR(IF(Products!$Z$7=$J$3,VLOOKUP(CONCATENATE(A42,B42,C42),Base!$AB$13:$AC$64,2,FALSE),IF(Products!$Z$7=$J$2,VLOOKUP(CONCATENATE(A42,B42,C42),Base!$AB$13:$AE$64,4,FALSE),VLOOKUP(CONCATENATE(A42,B42,C42),Base!$D$9:$G$386,4,FALSE))),\"\")","v":40.61},{"$f":"Products!F42","v":0},{"$f":"IF(ISBLANK(Products!F42),0,IF(LEFT(Products!$Z$7,8)=\"Consumer\",D42*E42,IF(C42=\"500+\",IF(E42>=500,E42*D42),IF(C42=\"1000+\",IF(E42>=1000,E42*D42),IF(C42=\"3000+\",IF(E42>=3000,E42*D42),IF(AND(E42>=VLOOKUP(C42,$M$18:$P$34,3,FALSE),E42<=VLOOKUP(C42,$M$18:$P$34,4,FALSE)),E42*D42))))))","v":0},{"$f":"IF(Products!$Z$7=$J$4,Base!H38,IF(Products!$Z$7=$J$5,Base!#REF!,IF(OR(Products!$Z$7=$J$2,Products!$Z$7=$J$3),Base!AD41)))","v":"AL1286300I-EN"}]
[{"$f":"IF(Products!$Z$7=$J$4,Base!A39,IF(Products!$Z$7=$J$5,Base!#REF!,IF(OR(Products!$Z$7=$J$2,Products!$Z$7=$J$3),Base!Y42)))","v":"Bitdefender GravityZone Business Security"},{"$f":"IF(Products!$Z$7=$J$4,Base!B39,IF(Products!$Z$7=$J$5,Base!#REF!,IF(OR(Products!$Z$7=$J$2,Products!$Z$7=$J$3),Base!Z42)))","v":"3 years"},{"$f":"IF(Products!$Z$7=$J$4,Base!C39,IF(Products!$Z$7=$J$5,Base!#REF!,IF(OR(Products!$Z$7=$J$2,Products!$Z$7=$J$3),Base!AA42)))","v":"3000+"},{"$f":"IFERROR(IF(Products!$Z$7=$J$3,VLOOKUP(CONCATENATE(A43,B43,C43),Base!$AB$13:$AC$64,2,FALSE),IF(Products!$Z$7=$J$2,VLOOKUP(CONCATENATE(A43,B43,C43),Base!$AB$13:$AE$64,4,FALSE),VLOOKUP(CONCATENATE(A43,B43,C43),Base!$D$9:$G$386,4,FALSE))),\"\")","v":40},{"$f":"Products!F43","v":0},{"$f":"IF(ISBLANK(Products!F43),0,IF(LEFT(Products!$Z$7,8)=\"Consumer\",D43*E43,IF(C43=\"500+\",IF(E43>=500,E43*D43),IF(C43=\"1000+\",IF(E43>=1000,E43*D43),IF(C43=\"3000+\",IF(E43>=3000,E43*D43),IF(AND(E43>=VLOOKUP(C43,$M$18:$P$34,3,FALSE),E43<=VLOOKUP(C43,$M$18:$P$34,4,FALSE)),E43*D43))))))","v":0},{"$f":"IF(Products!$Z$7=$J$4,Base!H39,IF(Products!$Z$7=$J$5,Base!#REF!,IF(OR(Products!$Z$7=$J$2,Products!$Z$7=$J$3),Base!AD42)))","v":"AL1286300J-EN"}]
[{"$f":"IF(Products!$Z$7=$J$4,Base!A40,IF(Products!$Z$7=$J$5,Base!#REF!,IF(OR(Products!$Z$7=$J$2,Products!$Z$7=$J$3),Base!Y43)))","v":"Bitdefender GravityZone Advanced Business Security"},{"$f":"IF(Products!$Z$7=$J$4,Base!B40,IF(Products!$Z$7=$J$5,Base!#REF!,IF(OR(Products!$Z$7=$J$2,Products!$Z$7=$J$3),Base!Z43)))","v":"1 year"},{"$f":"IF(Products!$Z$7=$J$4,Base!C40,IF(Products!$Z$7=$J$5,Base!#REF!,IF(OR(Products!$Z$7=$J$2,Products!$Z$7=$J$3),Base!AA43)))","v":"5 - 14"},{"$f":"IFERROR(IF(Products!$Z$7=$J$3,VLOOKUP(CONCATENATE(A44,B44,C44),Base!$AB$13:$AC$64,2,FALSE),IF(Products!$Z$7=$J$2,VLOOKUP(CONCATENATE(A44,B44,C44),Base!$AB$13:$AE$64,4,FALSE),VLOOKUP(CONCATENATE(A44,B44,C44),Base!$D$9:$G$386,4,FALSE))),\"\")","v":48.32},{"$f":"Products!F44","v":0},{"$f":"IF(ISBLANK(Products!F44),0,IF(LEFT(Products!$Z$7,8)=\"Consumer\",D44*E44,IF(C44=\"500+\",IF(E44>=500,E44*D44),IF(C44=\"1000+\",IF(E44>=1000,E44*D44),IF(C44=\"3000+\",IF(E44>=3000,E44*D44),IF(AND(E44>=VLOOKUP(C44,$M$18:$P$34,3,FALSE),E44<=VLOOKUP(C44,$M$18:$P$34,4,FALSE)),E44*D44))))))","v":0},{"$f":"IF(Products!$Z$7=$J$4,Base!H40,IF(Products!$Z$7=$J$5,Base!#REF!,IF(OR(Products!$Z$7=$J$2,Products!$Z$7=$J$3),Base!AD43)))","v":"AL1287100A-EN"}]
[{"$f":"IF(Products!$Z$7=$J$4,Base!A41,IF(Products!$Z$7=$J$5,Base!#REF!,IF(OR(Products!$Z$7=$J$2,Products!$Z$7=$J$3),Base!Y44)))","v":"Bitdefender GravityZone Advanced Business Security"},{"$f":"IF(Products!$Z$7=$J$4,Base!B41,IF(Products!$Z$7=$J$5,Base!#REF!,IF(OR(Products!$Z$7=$J$2,Products!$Z$7=$J$3),Base!Z44)))","v":"1 year"},{"$f":"IF(Products!$Z$7=$J$4,Base!C41,IF(Products!$Z$7=$J$5,Base!#REF!,IF(OR(Products!$Z$7=$J$2,Products!$Z$7=$J$3),Base!AA44)))","v":"15 - 24"},{"$f":"IFERROR(IF(Products!$Z$7=$J$3,VLOOKUP(CONCATENATE(A45,B45,C45),Base!$AB$13:$AC$64,2,FALSE),IF(Products!$Z$7=$J$2,VLOOKUP(CONCATENATE(A45,B45,C45),Base!$AB$13:$AE$64,4,FALSE),VLOOKUP(CONCATENATE(A45,B45,C45),Base!$D$9:$G$386,4,FALSE))),\"\")","v":44.66},{"$f":"Products!F45","v":0},{"$f":"IF(ISBLANK(Products!F45),0,IF(LEFT(Products!$Z$7,8)=\"Consumer\",D45*E45,IF(C45=\"500+\",IF(E45>=500,E45*D45),IF(C45=\"1000+\",IF(E45>=1000,E45*D45),IF(C45=\"3000+\",IF(E45>=3000,E45*D45),IF(AND(E45>=VLOOKUP(C45,$M$18:$P$34,3,FALSE),E45<=VLOOKUP(C45,$M$18:$P$34,4,FALSE)),E45*D45))))))","v":0},{"$f":"IF(Products!$Z$7=$J$4,Base!H41,IF(Products!$Z$7=$J$5,Base!#REF!,IF(OR(Products!$Z$7=$J$2,Products!$Z$7=$J$3),Base!AD44)))","v":"AL1287100B-EN"}]
[{"$f":"IF(Products!$Z$7=$J$4,Base!A42,IF(Products!$Z$7=$J$5,Base!#REF!,IF(OR(Products!$Z$7=$J$2,Products!$Z$7=$J$3),Base!Y45)))","v":"Bitdefender GravityZone Advanced Business Security"},{"$f":"IF(Products!$Z$7=$J$4,Base!B42,IF(Products!$Z$7=$J$5,Base!#REF!,IF(OR(Products!$Z$7=$J$2,Products!$Z$7=$J$3),Base!Z45)))","v":"1 year"},{"$f":"IF(Products!$Z$7=$J$4,Base!C42,IF(Products!$Z$7=$J$5,Base!#REF!,IF(OR(Products!$Z$7=$J$2,Products!$Z$7=$J$3),Base!AA45)))","v":"25 - 49"},{"$f":"IFERROR(IF(Products!$Z$7=$J$3,VLOOKUP(CONCATENATE(A46,B46,C46),Base!$AB$13:$AC$64,2,FALSE),IF(Products!$Z$7=$J$2,VLOOKUP(CONCATENATE(A46,B46,C46),Base!$AB$13:$AE$64,4,FALSE),VLOOKUP(CONCATENATE(A46,B46,C46),Base!$D$9:$G$386,4,FALSE))),\"\")","v":39.99},{"$f":"Products!F46","v":0},{"$f":"IF(ISBLANK(Products!F46),0,IF(LEFT(Products!$Z$7,8)=\"Consumer\",D46*E46,IF(C46=\"500+\",IF(E46>=500,E46*D46),IF(C46=\"1000+\",IF(E46>=1000,E46*D46),IF(C46=\"3000+\",IF(E46>=3000,E46*D46),IF(AND(E46>=VLOOKUP(C46,$M$18:$P$34,3,FALSE),E46<=VLOOKUP(C46,$M$18:$P$34,4,FALSE)),E46*D46))))))","v":0},{"$f":"IF(Products!$Z$7=$J$4,Base!H42,IF(Products!$Z$7=$J$5,Base!#REF!,IF(OR(Products!$Z$7=$J$2,Products!$Z$7=$J$3),Base!AD45)))","v":"AL1287100C-EN"}]
[{"$f":"IF(Products!$Z$7=$J$4,Base!A43,IF(Products!$Z$7=$J$5,Base!#REF!,IF(OR(Products!$Z$7=$J$2,Products!$Z$7=$J$3),Base!Y46)))","v":"Bitdefender GravityZone Advanced Business Security"},{"$f":"IF(Products!$Z$7=$J$4,Base!B43,IF(Products!$Z$7=$J$5,Base!#REF!,IF(OR(Products!$Z$7=$J$2,Products!$Z$7=$J$3),Base!Z46)))","v":"1 year"},{"$f":"IF(Products!$Z$7=$J$4,Base!C43,IF(Products!$Z$7=$J$5,Base!#REF!,IF(OR(Products!$Z$7=$J$2,Products!$Z$7=$J$3),Base!AA46)))","v":"50 - 99"},{"$f":"IFERROR(IF(Products!$Z$7=$J$3,VLOOKUP(CONCATENATE(A47,B47,C47),Base!$AB$13:$AC$64,2,FALSE),IF(Products!$Z$7=$J$2,VLOOKUP(CONCATENATE(A47,B47,C47),Base!$AB$13:$AE$64,4,FALSE),VLOOKUP(CONCATENATE(A47,B47,C47),Base!$D$9:$G$386,4,FALSE))),\"\")","v":35.99},{"$f":"Products!F47","v":0},{"$f":"IF(ISBLANK(Products!F47),0,IF(LEFT(Products!$Z$7,8)=\"Consumer\",D47*E47,IF(C47=\"500+\",IF(E47>=500,E47*D47),IF(C47=\"1000+\",IF(E47>=1000,E47*D47),IF(C47=\"3000+\",IF(E47>=3000,E47*D47),IF(AND(E47>=VLOOKUP(C47,$M$18:$P$34,3,FALSE),E47<=VLOOKUP(C47,$M$18:$P$34,4,FALSE)),E47*D47))))))","v":0},{"$f":"IF(Products!$Z$7=$J$4,Base!H43,IF(Products!$Z$7=$J$5,Base!#REF!,IF(OR(Products!$Z$7=$J$2,Products!$Z$7=$J$3),Base!AD46)))","v":"AL1287100D-EN"}]
[{"$f":"IF(Products!$Z$7=$J$4,Base!A44,IF(Products!$Z$7=$J$5,Base!#REF!,IF(OR(Products!$Z$7=$J$2,Products!$Z$7=$J$3),Base!Y47)))","v":"Bitdefender GravityZone Advanced Business Security"},{"$f":"IF(Products!$Z$7=$J$4,Base!B44,IF(Products!$Z$7=$J$5,Base!#REF!,IF(OR(Products!$Z$7=$J$2,Products!$Z$7=$J$3),Base!Z47)))","v":"1 year"},{"$f":"IF(Products!$Z$7=$J$4,Base!C44,IF(Products!$Z$7=$J$5,Base!#REF!,IF(OR(Products!$Z$7=$J$2,Products!$Z$7=$J$3),Base!AA47)))","v":"100 - 149"},{"$f":"IFERROR(IF(Products!$Z$7=$J$3,VLOOKUP(CONCATENATE(A48,B48,C48),Base!$AB$13:$AC$64,2,FALSE),IF(Products!$Z$7=$J$2,VLOOKUP(CONCATENATE(A48,B48,C48),Base!$AB$13:$AE$64,4,FALSE),VLOOKUP(CONCATENATE(A48,B48,C48),Base!$D$9:$G$386,4,FALSE))),\"\")","v":32.659999999999997},{"$f":"Products!F48","v":0},{"$f":"IF(ISBLANK(Products!F48),0,IF(LEFT(Products!$Z$7,8)=\"Consumer\",D48*E48,IF(C48=\"500+\",IF(E48>=500,E48*D48),IF(C48=\"1000+\",IF(E48>=1000,E48*D48),IF(C48=\"3000+\",IF(E48>=3000,E48*D48),IF(AND(E48>=VLOOKUP(C48,$M$18:$P$34,3,FALSE),E48<=VLOOKUP(C48,$M$18:$P$34,4,FALSE)),E48*D48))))))","v":0},{"$f":"IF(Products!$Z$7=$J$4,Base!H44,IF(Products!$Z$7=$J$5,Base!#REF!,IF(OR(Products!$Z$7=$J$2,Products!$Z$7=$J$3),Base!AD47)))","v":"AL1287100E-EN"}]
[{"$f":"IF(Products!$Z$7=$J$4,Base!A45,IF(Products!$Z$7=$J$5,Base!#REF!,IF(OR(Products!$Z$7=$J$2,Products!$Z$7=$J$3),Base!Y48)))","v":"Bitdefender GravityZone Advanced Business Security"},{"$f":"IF(Products!$Z$7=$J$4,Base!B45,IF(Products!$Z$7=$J$5,Base!#REF!,IF(OR(Products!$Z$7=$J$2,Products!$Z$7=$J$3),Base!Z48)))","v":"1 year"},{"$f":"IF(Products!$Z$7=$J$4,Base!C45,IF(Products!$Z$7=$J$5,Base!#REF!,IF(OR(Products!$Z$7=$J$2,Products!$Z$7=$J$3),Base!AA48)))","v":"150 - 249"},{"$f":"IFERROR(IF(Products!$Z$7=$J$3,VLOOKUP(CONCATENATE(A49,B49,C49),Base!$AB$13:$AC$64,2,FALSE),IF(Products!$Z$7=$J$2,VLOOKUP(CONCATENATE(A49,B49,C49),Base!$AB$13:$AE$64,4,FALSE),VLOOKUP(CONCATENATE(A49,B49,C49),Base!$D$9:$G$386,4,FALSE))),\"\")","v":28.09},{"$f":"Products!F49","v":0},{"$f":"IF(ISBLANK(Products!F49),0,IF(LEFT(Products!$Z$7,8)=\"Consumer\",D49*E49,IF(C49=\"500+\",IF(E49>=500,E49*D49),IF(C49=\"1000+\",IF(E49>=1000,E49*D49),IF(C49=\"3000+\",IF(E49>=3000,E49*D49),IF(AND(E49>=VLOOKUP(C49,$M$18:$P$34,3,FALSE),E49<=VLOOKUP(C49,$M$18:$P$34,4,FALSE)),E49*D49))))))","v":0},{"$f":"IF(Products!$Z$7=$J$4,Base!H45,IF(Products!$Z$7=$J$5,Base!#REF!,IF(OR(Products!$Z$7=$J$2,Products!$Z$7=$J$3),Base!AD48)))","v":"AL1287100F-EN"}]
[{"$f":"IF(Products!$Z$7=$J$4,Base!A46,IF(Products!$Z$7=$J$5,Base!#REF!,IF(OR(Products!$Z$7=$J$2,Products!$Z$7=$J$3),Base!Y49)))","v":"Bitdefender GravityZone Advanced Business Security"},{"$f":"IF(Products!$Z$7=$J$4,Base!B46,IF(Products!$Z$7=$J$5,Base!#REF!,IF(OR(Products!$Z$7=$J$2,Products!$Z$7=$J$3),Base!Z49)))","v":"1 year"},{"$f":"IF(Products!$Z$7=$J$4,Base!C46,IF(Products!$Z$7=$J$5,Base!#REF!,IF(OR(Products!$Z$7=$J$2,Products!$Z$7=$J$3),Base!AA49)))","v":"250 - 499"},{"$f":"IFERROR(IF(Products!$Z$7=$J$3,VLOOKUP(CONCATENATE(A50,B50,C50),Base!$AB$13:$AC$64,2,FALSE),IF(Products!$Z$7=$J$2,VLOOKUP(CONCATENATE(A50,B50,C50),Base!$AB$13:$AE$64,4,FALSE),VLOOKUP(CONCATENATE(A50,B50,C50),Base!$D$9:$G$386,4,FALSE))),\"\")","v":25.84},{"$f":"Products!F50","v":0},{"$f":"IF(ISBLANK(Products!F50),0,IF(LEFT(Products!$Z$7,8)=\"Consumer\",D50*E50,IF(C50=\"500+\",IF(E50>=500,E50*D50),IF(C50=\"1000+\",IF(E50>=1000,E50*D50),IF(C50=\"3000+\",IF(E50>=3000,E50*D50),IF(AND(E50>=VLOOKUP(C50,$M$18:$P$34,3,FALSE),E50<=VLOOKUP(C50,$M$18:$P$34,4,FALSE)),E50*D50))))))","v":0},{"$f":"IF(Products!$Z$7=$J$4,Base!H46,IF(Products!$Z$7=$J$5,Base!#REF!,IF(OR(Products!$Z$7=$J$2,Products!$Z$7=$J$3),Base!AD49)))","v":"AL1287100G-EN"}]
[{"$f":"IF(Products!$Z$7=$J$4,Base!A47,IF(Products!$Z$7=$J$5,Base!#REF!,IF(OR(Products!$Z$7=$J$2,Products!$Z$7=$J$3),Base!Y50)))","v":"Bitdefender GravityZone Advanced Business Security"},{"$f":"IF(Products!$Z$7=$J$4,Base!B47,IF(Products!$Z$7=$J$5,Base!#REF!,IF(OR(Products!$Z$7=$J$2,Products!$Z$7=$J$3),Base!Z50)))","v":"1 year"},{"$f":"IF(Products!$Z$7=$J$4,Base!C47,IF(Products!$Z$7=$J$5,Base!#REF!,IF(OR(Products!$Z$7=$J$2,Products!$Z$7=$J$3),Base!AA50)))","v":"500 - 999"},{"$f":"IFERROR(IF(Products!$Z$7=$J$3,VLOOKUP(CONCATENATE(A51,B51,C51),Base!$AB$13:$AC$64,2,FALSE),IF(Products!$Z$7=$J$2,VLOOKUP(CONCATENATE(A51,B51,C51),Base!$AB$13:$AE$64,4,FALSE),VLOOKUP(CONCATENATE(A51,B51,C51),Base!$D$9:$G$386,4,FALSE))),\"\")","v":24.03},{"$f":"Products!F51","v":0},{"$f":"IF(ISBLANK(Products!F51),0,IF(LEFT(Products!$Z$7,8)=\"Consumer\",D51*E51,IF(C51=\"500+\",IF(E51>=500,E51*D51),IF(C51=\"1000+\",IF(E51>=1000,E51*D51),IF(C51=\"3000+\",IF(E51>=3000,E51*D51),IF(AND(E51>=VLOOKUP(C51,$M$18:$P$34,3,FALSE),E51<=VLOOKUP(C51,$M$18:$P$34,4,FALSE)),E51*D51))))))","v":0},{"$f":"IF(Products!$Z$7=$J$4,Base!H47,IF(Products!$Z$7=$J$5,Base!#REF!,IF(OR(Products!$Z$7=$J$2,Products!$Z$7=$J$3),Base!AD50)))","v":"AL1287100H-EN"}]
[{"$f":"IF(Products!$Z$7=$J$4,Base!A48,IF(Products!$Z$7=$J$5,Base!#REF!,IF(OR(Products!$Z$7=$J$2,Products!$Z$7=$J$3),Base!Y51)))","v":"Bitdefender GravityZone Advanced Business Security"},{"$f":"IF(Products!$Z$7=$J$4,Base!B48,IF(Products!$Z$7=$J$5,Base!#REF!,IF(OR(Products!$Z$7=$J$2,Products!$Z$7=$J$3),Base!Z51)))","v":"1 year"},{"$f":"IF(Products!$Z$7=$J$4,Base!C48,IF(Products!$Z$7=$J$5,Base!#REF!,IF(OR(Products!$Z$7=$J$2,Products!$Z$7=$J$3),Base!AA51)))","v":"1000 - 2999"},{"$f":"IFERROR(IF(Products!$Z$7=$J$3,VLOOKUP(CONCATENATE(A52,B52,C52),Base!$AB$13:$AC$64,2,FALSE),IF(Products!$Z$7=$J$2,VLOOKUP(CONCATENATE(A52,B52,C52),Base!$AB$13:$AE$64,4,FALSE),VLOOKUP(CONCATENATE(A52,B52,C52),Base!$D$9:$G$386,4,FALSE))),\"\")","v":22.83},{"$f":"Products!F52","v":0},{"$f":"IF(ISBLANK(Products!F52),0,IF(LEFT(Products!$Z$7,8)=\"Consumer\",D52*E52,IF(C52=\"500+\",IF(E52>=500,E52*D52),IF(C52=\"1000+\",IF(E52>=1000,E52*D52),IF(C52=\"3000+\",IF(E52>=3000,E52*D52),IF(AND(E52>=VLOOKUP(C52,$M$18:$P$34,3,FALSE),E52<=VLOOKUP(C52,$M$18:$P$34,4,FALSE)),E52*D52))))))","v":0},{"$f":"IF(Products!$Z$7=$J$4,Base!H48,IF(Products!$Z$7=$J$5,Base!#REF!,IF(OR(Products!$Z$7=$J$2,Products!$Z$7=$J$3),Base!AD51)))","v":"AL1287100I-EN"}]
[{"$f":"IF(Products!$Z$7=$J$4,Base!A49,IF(Products!$Z$7=$J$5,Base!#REF!,IF(OR(Products!$Z$7=$J$2,Products!$Z$7=$J$3),Base!Y52)))","v":"Bitdefender GravityZone Advanced Business Security"},{"$f":"IF(Products!$Z$7=$J$4,Base!B49,IF(Products!$Z$7=$J$5,Base!#REF!,IF(OR(Products!$Z$7=$J$2,Products!$Z$7=$J$3),Base!Z52)))","v":"1 year"},{"$f":"IF(Products!$Z$7=$J$4,Base!C49,IF(Products!$Z$7=$J$5,Base!#REF!,IF(OR(Products!$Z$7=$J$2,Products!$Z$7=$J$3),Base!AA52)))","v":"3000+"},{"$f":"IFERROR(IF(Products!$Z$7=$J$3,VLOOKUP(CONCATENATE(A53,B53,C53),Base!$AB$13:$AC$64,2,FALSE),IF(Products!$Z$7=$J$2,VLOOKUP(CONCATENATE(A53,B53,C53),Base!$AB$13:$AE$64,4,FALSE),VLOOKUP(CONCATENATE(A53,B53,C53),Base!$D$9:$G$386,4,FALSE))),\"\")","v":22.14},{"$f":"Products!F53","v":0},{"$f":"IF(ISBLANK(Products!F53),0,IF(LEFT(Products!$Z$7,8)=\"Consumer\",D53*E53,IF(C53=\"500+\",IF(E53>=500,E53*D53),IF(C53=\"1000+\",IF(E53>=1000,E53*D53),IF(C53=\"3000+\",IF(E53>=3000,E53*D53),IF(AND(E53>=VLOOKUP(C53,$M$18:$P$34,3,FALSE),E53<=VLOOKUP(C53,$M$18:$P$34,4,FALSE)),E53*D53))))))","v":0},{"$f":"IF(Products!$Z$7=$J$4,Base!H49,IF(Products!$Z$7=$J$5,Base!#REF!,IF(OR(Products!$Z$7=$J$2,Products!$Z$7=$J$3),Base!AD52)))","v":"AL1287100J-EN"}]
[{"$f":"IF(Products!$Z$7=$J$4,Base!A50,IF(Products!$Z$7=$J$5,Base!#REF!,IF(OR(Products!$Z$7=$J$2,Products!$Z$7=$J$3),Base!Y53)))","v":"Bitdefender GravityZone Advanced Business Security"},{"$f":"IF(Products!$Z$7=$J$4,Base!B50,IF(Products!$Z$7=$J$5,Base!#REF!,IF(OR(Products!$Z$7=$J$2,Products!$Z$7=$J$3),Base!Z53)))","v":"2 years"},{"$f":"IF(Products!$Z$7=$J$4,Base!C50,IF(Products!$Z$7=$J$5,Base!#REF!,IF(OR(Products!$Z$7=$J$2,Products!$Z$7=$J$3),Base!AA53)))","v":"5 - 14"},{"$f":"IFERROR(IF(Products!$Z$7=$J$3,VLOOKUP(CONCATENATE(A54,B54,C54),Base!$AB$13:$AC$64,2,FALSE),IF(Products!$Z$7=$J$2,VLOOKUP(CONCATENATE(A54,B54,C54),Base!$AB$13:$AE$64,4,FALSE),VLOOKUP(CONCATENATE(A54,B54,C54),Base!$D$9:$G$386,4,FALSE))),\"\")","v":77.31},{"$f":"Products!F54","v":0},{"$f":"IF(ISBLANK(Products!F54),0,IF(LEFT(Products!$Z$7,8)=\"Consumer\",D54*E54,IF(C54=\"500+\",IF(E54>=500,E54*D54),IF(C54=\"1000+\",IF(E54>=1000,E54*D54),IF(C54=\"3000+\",IF(E54>=3000,E54*D54),IF(AND(E54>=VLOOKUP(C54,$M$18:$P$34,3,FALSE),E54<=VLOOKUP(C54,$M$18:$P$34,4,FALSE)),E54*D54))))))","v":0},{"$f":"IF(Products!$Z$7=$J$4,Base!H50,IF(Products!$Z$7=$J$5,Base!#REF!,IF(OR(Products!$Z$7=$J$2,Products!$Z$7=$J$3),Base!AD53)))","v":"AL1287200A-EN"}]
[{"$f":"IF(Products!$Z$7=$J$4,Base!A51,IF(Products!$Z$7=$J$5,Base!#REF!,IF(OR(Products!$Z$7=$J$2,Products!$Z$7=$J$3),Base!Y54)))","v":"Bitdefender GravityZone Advanced Business Security"},{"$f":"IF(Products!$Z$7=$J$4,Base!B51,IF(Products!$Z$7=$J$5,Base!#REF!,IF(OR(Products!$Z$7=$J$2,Products!$Z$7=$J$3),Base!Z54)))","v":"2 years"},{"$f":"IF(Products!$Z$7=$J$4,Base!C51,IF(Products!$Z$7=$J$5,Base!#REF!,IF(OR(Products!$Z$7=$J$2,Products!$Z$7=$J$3),Base!AA54)))","v":"15 - 24"},{"$f":"IFERROR(IF(Products!$Z$7=$J$3,VLOOKUP(CONCATENATE(A55,B55,C55),Base!$AB$13:$AC$64,2,FALSE),IF(Products!$Z$7=$J$2,VLOOKUP(CONCATENATE(A55,B55,C55),Base!$AB$13:$AE$64,4,FALSE),VLOOKUP(CONCATENATE(A55,B55,C55),Base!$D$9:$G$386,4,FALSE))),\"\")","v":71.459999999999994},{"$f":"Products!F55","v":0},{"$f":"IF(ISBLANK(Products!F55),0,IF(LEFT(Products!$Z$7,8)=\"Consumer\",D55*E55,IF(C55=\"500+\",IF(E55>=500,E55*D55),IF(C55=\"1000+\",IF(E55>=1000,E55*D55),IF(C55=\"3000+\",IF(E55>=3000,E55*D55),IF(AND(E55>=VLOOKUP(C55,$M$18:$P$34,3,FALSE),E55<=VLOOKUP(C55,$M$18:$P$34,4,FALSE)),E55*D55))))))","v":0},{"$f":"IF(Products!$Z$7=$J$4,Base!H51,IF(Products!$Z$7=$J$5,Base!#REF!,IF(OR(Products!$Z$7=$J$2,Products!$Z$7=$J$3),Base!AD54)))","v":"AL1287200B-EN"}]
[{"$f":"IF(Products!$Z$7=$J$4,Base!A52,IF(Products!$Z$7=$J$5,Base!#REF!,IF(OR(Products!$Z$7=$J$2,Products!$Z$7=$J$3),Base!Y55)))","v":"Bitdefender GravityZone Advanced Business Security"},{"$f":"IF(Products!$Z$7=$J$4,Base!B52,IF(Products!$Z$7=$J$5,Base!#REF!,IF(OR(Products!$Z$7=$J$2,Products!$Z$7=$J$3),Base!Z55)))","v":"2 years"},{"$f":"IF(Products!$Z$7=$J$4,Base!C52,IF(Products!$Z$7=$J$5,Base!#REF!,IF(OR(Products!$Z$7=$J$2,Products!$Z$7=$J$3),Base!AA55)))","v":"25 - 49"},{"$f":"IFERROR(IF(Products!$Z$7=$J$3,VLOOKUP(CONCATENATE(A56,B56,C56),Base!$AB$13:$AC$64,2,FALSE),IF(Products!$Z$7=$J$2,VLOOKUP(CONCATENATE(A56,B56,C56),Base!$AB$13:$AE$64,4,FALSE),VLOOKUP(CONCATENATE(A56,B56,C56),Base!$D$9:$G$386,4,FALSE))),\"\")","v":63.98},{"$f":"Products!F56","v":0},{"$f":"IF(ISBLANK(Products!F56),0,IF(LEFT(Products!$Z$7,8)=\"Consumer\",D56*E56,IF(C56=\"500+\",IF(E56>=500,E56*D56),IF(C56=\"1000+\",IF(E56>=1000,E56*D56),IF(C56=\"3000+\",IF(E56>=3000,E56*D56),IF(AND(E56>=VLOOKUP(C56,$M$18:$P$34,3,FALSE),E56<=VLOOKUP(C56,$M$18:$P$34,4,FALSE)),E56*D56))))))","v":0},{"$f":"IF(Products!$Z$7=$J$4,Base!H52,IF(Products!$Z$7=$J$5,Base!#REF!,IF(OR(Products!$Z$7=$J$2,Products!$Z$7=$J$3),Base!AD55)))","v":"AL1287200C-EN"}]
[{"$f":"IF(Products!$Z$7=$J$4,Base!A53,IF(Products!$Z$7=$J$5,Base!#REF!,IF(OR(Products!$Z$7=$J$2,Products!$Z$7=$J$3),Base!Y56)))","v":"Bitdefender GravityZone Advanced Business Security"},{"$f":"IF(Products!$Z$7=$J$4,Base!B53,IF(Products!$Z$7=$J$5,Base!#REF!,IF(OR(Products!$Z$7=$J$2,Products!$Z$7=$J$3),Base!Z56)))","v":"2 years"},{"$f":"IF(Products!$Z$7=$J$4,Base!C53,IF(Products!$Z$7=$J$5,Base!#REF!,IF(OR(Products!$Z$7=$J$2,Products!$Z$7=$J$3),Base!AA56)))","v":"50 - 99"},{"$f":"IFERROR(IF(Products!$Z$7=$J$3,VLOOKUP(CONCATENATE(A57,B57,C57),Base!$AB$13:$AC$64,2,FALSE),IF(Products!$Z$7=$J$2,VLOOKUP(CONCATENATE(A57,B57,C57),Base!$AB$13:$AE$64,4,FALSE),VLOOKUP(CONCATENATE(A57,B57,C57),Base!$D$9:$G$386,4,FALSE))),\"\")","v":57.58},{"$f":"Products!F57","v":0},{"$f":"IF(ISBLANK(Products!F57),0,IF(LEFT(Products!$Z$7,8)=\"Consumer\",D57*E57,IF(C57=\"500+\",IF(E57>=500,E57*D57),IF(C57=\"1000+\",IF(E57>=1000,E57*D57),IF(C57=\"3000+\",IF(E57>=3000,E57*D57),IF(AND(E57>=VLOOKUP(C57,$M$18:$P$34,3,FALSE),E57<=VLOOKUP(C57,$M$18:$P$34,4,FALSE)),E57*D57))))))","v":0},{"$f":"IF(Products!$Z$7=$J$4,Base!H53,IF(Products!$Z$7=$J$5,Base!#REF!,IF(OR(Products!$Z$7=$J$2,Products!$Z$7=$J$3),Base!AD56)))","v":"AL1287200D-EN"}]
[{"$f":"IF(Products!$Z$7=$J$4,Base!A54,IF(Products!$Z$7=$J$5,Base!#REF!,IF(OR(Products!$Z$7=$J$2,Products!$Z$7=$J$3),Base!Y57)))","v":"Bitdefender GravityZone Advanced Business Security"},{"$f":"IF(Products!$Z$7=$J$4,Base!B54,IF(Products!$Z$7=$J$5,Base!#REF!,IF(OR(Products!$Z$7=$J$2,Products!$Z$7=$J$3),Base!Z57)))","v":"2 years"},{"$f":"IF(Products!$Z$7=$J$4,Base!C54,IF(Products!$Z$7=$J$5,Base!#REF!,IF(OR(Products!$Z$7=$J$2,Products!$Z$7=$J$3),Base!AA57)))","v":"100 - 149"},{"$f":"IFERROR(IF(Products!$Z$7=$J$3,VLOOKUP(CONCATENATE(A58,B58,C58),Base!$AB$13:$AC$64,2,FALSE),IF(Products!$Z$7=$J$2,VLOOKUP(CONCATENATE(A58,B58,C58),Base!$AB$13:$AE$64,4,FALSE),VLOOKUP(CONCATENATE(A58,B58,C58),Base!$D$9:$G$386,4,FALSE))),\"\")","v":52.26},{"$f":"Products!F58","v":0},{"$f":"IF(ISBLANK(Products!F58),0,IF(LEFT(Products!$Z$7,8)=\"Consumer\",D58*E58,IF(C58=\"500+\",IF(E58>=500,E58*D58),IF(C58=\"1000+\",IF(E58>=1000,E58*D58),IF(C58=\"3000+\",IF(E58>=3000,E58*D58),IF(AND(E58>=VLOOKUP(C58,$M$18:$P$34,3,FALSE),E58<=VLOOKUP(C58,$M$18:$P$34,4,FALSE)),E58*D58))))))","v":0},{"$f":"IF(Products!$Z$7=$J$4,Base!H54,IF(Products!$Z$7=$J$5,Base!#REF!,IF(OR(Products!$Z$7=$J$2,Products!$Z$7=$J$3),Base!AD57)))","v":"AL1287200E-EN"}]
[{"$f":"IF(Products!$Z$7=$J$4,Base!A55,IF(Products!$Z$7=$J$5,Base!#REF!,IF(OR(Products!$Z$7=$J$2,Products!$Z$7=$J$3),Base!Y58)))","v":"Bitdefender GravityZone Advanced Business Security"},{"$f":"IF(Products!$Z$7=$J$4,Base!B55,IF(Products!$Z$7=$J$5,Base!#REF!,IF(OR(Products!$Z$7=$J$2,Products!$Z$7=$J$3),Base!Z58)))","v":"2 years"},{"$f":"IF(Products!$Z$7=$J$4,Base!C55,IF(Products!$Z$7=$J$5,Base!#REF!,IF(OR(Products!$Z$7=$J$2,Products!$Z$7=$J$3),Base!AA58)))","v":"150 - 249"},{"$f":"IFERROR(IF(Products!$Z$7=$J$3,VLOOKUP(CONCATENATE(A59,B59,C59),Base!$AB$13:$AC$64,2,FALSE),IF(Products!$Z$7=$J$2,VLOOKUP(CONCATENATE(A59,B59,C59),Base!$AB$13:$AE$64,4,FALSE),VLOOKUP(CONCATENATE(A59,B59,C59),Base!$D$9:$G$386,4,FALSE))),\"\")","v":44.94},{"$f":"Products!F59","v":0},{"$f":"IF(ISBLANK(Products!F59),0,IF(LEFT(Products!$Z$7,8)=\"Consumer\",D59*E59,IF(C59=\"500+\",IF(E59>=500,E59*D59),IF(C59=\"1000+\",IF(E59>=1000,E59*D59),IF(C59=\"3000+\",IF(E59>=3000,E59*D59),IF(AND(E59>=VLOOKUP(C59,$M$18:$P$34,3,FALSE),E59<=VLOOKUP(C59,$M$18:$P$34,4,FALSE)),E59*D59))))))","v":0},{"$f":"IF(Products!$Z$7=$J$4,Base!H55,IF(Products!$Z$7=$J$5,Base!#REF!,IF(OR(Products!$Z$7=$J$2,Products!$Z$7=$J$3),Base!AD58)))","v":"AL1287200F-EN"}]
[{"$f":"IF(Products!$Z$7=$J$4,Base!A56,IF(Products!$Z$7=$J$5,Base!#REF!,IF(OR(Products!$Z$7=$J$2,Products!$Z$7=$J$3),Base!Y59)))","v":"Bitdefender GravityZone Advanced Business Security"},{"$f":"IF(Products!$Z$7=$J$4,Base!B56,IF(Products!$Z$7=$J$5,Base!#REF!,IF(OR(Products!$Z$7=$J$2,Products!$Z$7=$J$3),Base!Z59)))","v":"2 years"},{"$f":"IF(Products!$Z$7=$J$4,Base!C56,IF(Products!$Z$7=$J$5,Base!#REF!,IF(OR(Products!$Z$7=$J$2,Products!$Z$7=$J$3),Base!AA59)))","v":"250 - 499"},{"$f":"IFERROR(IF(Products!$Z$7=$J$3,VLOOKUP(CONCATENATE(A60,B60,C60),Base!$AB$13:$AC$64,2,FALSE),IF(Products!$Z$7=$J$2,VLOOKUP(CONCATENATE(A60,B60,C60),Base!$AB$13:$AE$64,4,FALSE),VLOOKUP(CONCATENATE(A60,B60,C60),Base!$D$9:$G$386,4,FALSE))),\"\")","v":41.34},{"$f":"Products!F60","v":0},{"$f":"IF(ISBLANK(Products!F60),0,IF(LEFT(Products!$Z$7,8)=\"Consumer\",D60*E60,IF(C60=\"500+\",IF(E60>=500,E60*D60),IF(C60=\"1000+\",IF(E60>=1000,E60*D60),IF(C60=\"3000+\",IF(E60>=3000,E60*D60),IF(AND(E60>=VLOOKUP(C60,$M$18:$P$34,3,FALSE),E60<=VLOOKUP(C60,$M$18:$P$34,4,FALSE)),E60*D60))))))","v":0},{"$f":"IF(Products!$Z$7=$J$4,Base!H56,IF(Products!$Z$7=$J$5,Base!#REF!,IF(OR(Products!$Z$7=$J$2,Products!$Z$7=$J$3),Base!AD59)))","v":"AL1287200G-EN"}]
[{"$f":"IF(Products!$Z$7=$J$4,Base!A57,IF(Products!$Z$7=$J$5,Base!#REF!,IF(OR(Products!$Z$7=$J$2,Products!$Z$7=$J$3),Base!Y60)))","v":"Bitdefender GravityZone Advanced Business Security"},{"$f":"IF(Products!$Z$7=$J$4,Base!B57,IF(Products!$Z$7=$J$5,Base!#REF!,IF(OR(Products!$Z$7=$J$2,Products!$Z$7=$J$3),Base!Z60)))","v":"2 years"},{"$f":"IF(Products!$Z$7=$J$4,Base!C57,IF(Products!$Z$7=$J$5,Base!#REF!,IF(OR(Products!$Z$7=$J$2,Products!$Z$7=$J$3),Base!AA60)))","v":"500 - 999"},{"$f":"IFERROR(IF(Products!$Z$7=$J$3,VLOOKUP(CONCATENATE(A61,B61,C61),Base!$AB$13:$AC$64,2,FALSE),IF(Products!$Z$7=$J$2,VLOOKUP(CONCATENATE(A61,B61,C61),Base!$AB$13:$AE$64,4,FALSE),VLOOKUP(CONCATENATE(A61,B61,C61),Base!$D$9:$G$386,4,FALSE))),\"\")","v":38.450000000000003},{"$f":"Products!F61","v":0},{"$f":"IF(ISBLANK(Products!F61),0,IF(LEFT(Products!$Z$7,8)=\"Consumer\",D61*E61,IF(C61=\"500+\",IF(E61>=500,E61*D61),IF(C61=\"1000+\",IF(E61>=1000,E61*D61),IF(C61=\"3000+\",IF(E61>=3000,E61*D61),IF(AND(E61>=VLOOKUP(C61,$M$18:$P$34,3,FALSE),E61<=VLOOKUP(C61,$M$18:$P$34,4,FALSE)),E61*D61))))))","v":0},{"$f":"IF(Products!$Z$7=$J$4,Base!H57,IF(Products!$Z$7=$J$5,Base!#REF!,IF(OR(Products!$Z$7=$J$2,Products!$Z$7=$J$3),Base!AD60)))","v":"AL1287200H-EN"}]
[{"$f":"IF(Products!$Z$7=$J$4,Base!A58,IF(Products!$Z$7=$J$5,Base!#REF!,IF(OR(Products!$Z$7=$J$2,Products!$Z$7=$J$3),Base!Y61)))","v":"Bitdefender GravityZone Advanced Business Security"},{"$f":"IF(Products!$Z$7=$J$4,Base!B58,IF(Products!$Z$7=$J$5,Base!#REF!,IF(OR(Products!$Z$7=$J$2,Products!$Z$7=$J$3),Base!Z61)))","v":"2 years"},{"$f":"IF(Products!$Z$7=$J$4,Base!C58,IF(Products!$Z$7=$J$5,Base!#REF!,IF(OR(Products!$Z$7=$J$2,Products!$Z$7=$J$3),Base!AA61)))","v":"1000 - 2999"},{"$f":"IFERROR(IF(Products!$Z$7=$J$3,VLOOKUP(CONCATENATE(A62,B62,C62),Base!$AB$13:$AC$64,2,FALSE),IF(Products!$Z$7=$J$2,VLOOKUP(CONCATENATE(A62,B62,C62),Base!$AB$13:$AE$64,4,FALSE),VLOOKUP(CONCATENATE(A62,B62,C62),Base!$D$9:$G$386,4,FALSE))),\"\")","v":36.53},{"$f":"Products!F62","v":0},{"$f":"IF(ISBLANK(Products!F62),0,IF(LEFT(Products!$Z$7,8)=\"Consumer\",D62*E62,IF(C62=\"500+\",IF(E62>=500,E62*D62),IF(C62=\"1000+\",IF(E62>=1000,E62*D62),IF(C62=\"3000+\",IF(E62>=3000,E62*D62),IF(AND(E62>=VLOOKUP(C62,$M$18:$P$34,3,FALSE),E62<=VLOOKUP(C62,$M$18:$P$34,4,FALSE)),E62*D62))))))","v":0},{"$f":"IF(Products!$Z$7=$J$4,Base!H58,IF(Products!$Z$7=$J$5,Base!#REF!,IF(OR(Products!$Z$7=$J$2,Products!$Z$7=$J$3),Base!AD61)))","v":"AL1287200I-EN"}]
[{"$f":"IF(Products!$Z$7=$J$4,Base!A59,IF(Products!$Z$7=$J$5,Base!#REF!,IF(OR(Products!$Z$7=$J$2,Products!$Z$7=$J$3),Base!Y62)))","v":"Bitdefender GravityZone Advanced Business Security"},{"$f":"IF(Products!$Z$7=$J$4,Base!B59,IF(Products!$Z$7=$J$5,Base!#REF!,IF(OR(Products!$Z$7=$J$2,Products!$Z$7=$J$3),Base!Z62)))","v":"2 years"},{"$f":"IF(Products!$Z$7=$J$4,Base!C59,IF(Products!$Z$7=$J$5,Base!#REF!,IF(OR(Products!$Z$7=$J$2,Products!$Z$7=$J$3),Base!AA62)))","v":"3000+"},{"$f":"IFERROR(IF(Products!$Z$7=$J$3,VLOOKUP(CONCATENATE(A63,B63,C63),Base!$AB$13:$AC$64,2,FALSE),IF(Products!$Z$7=$J$2,VLOOKUP(CONCATENATE(A63,B63,C63),Base!$AB$13:$AE$64,4,FALSE),VLOOKUP(CONCATENATE(A63,B63,C63),Base!$D$9:$G$386,4,FALSE))),\"\")","v":35.42},{"$f":"Products!F63","v":0},{"$f":"IF(ISBLANK(Products!F63),0,IF(LEFT(Products!$Z$7,8)=\"Consumer\",D63*E63,IF(C63=\"500+\",IF(E63>=500,E63*D63),IF(C63=\"1000+\",IF(E63>=1000,E63*D63),IF(C63=\"3000+\",IF(E63>=3000,E63*D63),IF(AND(E63>=VLOOKUP(C63,$M$18:$P$34,3,FALSE),E63<=VLOOKUP(C63,$M$18:$P$34,4,FALSE)),E63*D63))))))","v":0},{"$f":"IF(Products!$Z$7=$J$4,Base!H59,IF(Products!$Z$7=$J$5,Base!#REF!,IF(OR(Products!$Z$7=$J$2,Products!$Z$7=$J$3),Base!AD62)))","v":"AL1287200J-EN"}]
[{"$f":"IF(Products!$Z$7=$J$4,Base!A60,IF(Products!$Z$7=$J$5,Base!#REF!,IF(OR(Products!$Z$7=$J$2,Products!$Z$7=$J$3),Base!Y63)))","v":"Bitdefender GravityZone Advanced Business Security"},{"$f":"IF(Products!$Z$7=$J$4,Base!B60,IF(Products!$Z$7=$J$5,Base!#REF!,IF(OR(Products!$Z$7=$J$2,Products!$Z$7=$J$3),Base!Z63)))","v":"3 years"},{"$f":"IF(Products!$Z$7=$J$4,Base!C60,IF(Products!$Z$7=$J$5,Base!#REF!,IF(OR(Products!$Z$7=$J$2,Products!$Z$7=$J$3),Base!AA63)))","v":"5 - 14"},{"$f":"IFERROR(IF(Products!$Z$7=$J$3,VLOOKUP(CONCATENATE(A64,B64,C64),Base!$AB$13:$AC$64,2,FALSE),IF(Products!$Z$7=$J$2,VLOOKUP(CONCATENATE(A64,B64,C64),Base!$AB$13:$AE$64,4,FALSE),VLOOKUP(CONCATENATE(A64,B64,C64),Base!$D$9:$G$386,4,FALSE))),\"\")","v":99.06},{"$f":"Products!F64","v":0},{"$f":"IF(ISBLANK(Products!F64),0,IF(LEFT(Products!$Z$7,8)=\"Consumer\",D64*E64,IF(C64=\"500+\",IF(E64>=500,E64*D64),IF(C64=\"1000+\",IF(E64>=1000,E64*D64),IF(C64=\"3000+\",IF(E64>=3000,E64*D64),IF(AND(E64>=VLOOKUP(C64,$M$18:$P$34,3,FALSE),E64<=VLOOKUP(C64,$M$18:$P$34,4,FALSE)),E64*D64))))))","v":0},{"$f":"IF(Products!$Z$7=$J$4,Base!H60,IF(Products!$Z$7=$J$5,Base!#REF!,IF(OR(Products!$Z$7=$J$2,Products!$Z$7=$J$3),Base!AD63)))","v":"AL1287300A-EN"}]
[{"$f":"IF(Products!$Z$7=$J$4,Base!A61,IF(Products!$Z$7=$J$5,Base!#REF!,IF(OR(Products!$Z$7=$J$2,Products!$Z$7=$J$3),Base!Y64)))","v":"Bitdefender GravityZone Advanced Business Security"},{"$f":"IF(Products!$Z$7=$J$4,Base!B61,IF(Products!$Z$7=$J$5,Base!#REF!,IF(OR(Products!$Z$7=$J$2,Products!$Z$7=$J$3),Base!Z64)))","v":"3 years"},{"$f":"IF(Products!$Z$7=$J$4,Base!C61,IF(Products!$Z$7=$J$5,Base!#REF!,IF(OR(Products!$Z$7=$J$2,Products!$Z$7=$J$3),Base!AA64)))","v":"15 - 24"},{"$f":"IFERROR(IF(Products!$Z$7=$J$3,VLOOKUP(CONCATENATE(A65,B65,C65),Base!$AB$13:$AC$64,2,FALSE),IF(Products!$Z$7=$J$2,VLOOKUP(CONCATENATE(A65,B65,C65),Base!$AB$13:$AE$64,4,FALSE),VLOOKUP(CONCATENATE(A65,B65,C65),Base!$D$9:$G$386,4,FALSE))),\"\")","v":91.55},{"$f":"Products!F65","v":0},{"$f":"IF(ISBLANK(Products!F65),0,IF(LEFT(Products!$Z$7,8)=\"Consumer\",D65*E65,IF(C65=\"500+\",IF(E65>=500,E65*D65),IF(C65=\"1000+\",IF(E65>=1000,E65*D65),IF(C65=\"3000+\",IF(E65>=3000,E65*D65),IF(AND(E65>=VLOOKUP(C65,$M$18:$P$34,3,FALSE),E65<=VLOOKUP(C65,$M$18:$P$34,4,FALSE)),E65*D65))))))","v":0},{"$f":"IF(Products!$Z$7=$J$4,Base!H61,IF(Products!$Z$7=$J$5,Base!#REF!,IF(OR(Products!$Z$7=$J$2,Products!$Z$7=$J$3),Base!AD64)))","v":"AL1287300B-EN"}]
[{"$f":"IF(Products!$Z$7=$J$4,Base!A62,IF(Products!$Z$7=$J$5,Base!#REF!,IF(OR(Products!$Z$7=$J$2,Products!$Z$7=$J$3),Base!Y65)))","v":"Bitdefender GravityZone Advanced Business Security"},{"$f":"IF(Products!$Z$7=$J$4,Base!B62,IF(Products!$Z$7=$J$5,Base!#REF!,IF(OR(Products!$Z$7=$J$2,Products!$Z$7=$J$3),Base!Z65)))","v":"3 years"},{"$f":"IF(Products!$Z$7=$J$4,Base!C62,IF(Products!$Z$7=$J$5,Base!#REF!,IF(OR(Products!$Z$7=$J$2,Products!$Z$7=$J$3),Base!AA65)))","v":"25 - 49"},{"$f":"IFERROR(IF(Products!$Z$7=$J$3,VLOOKUP(CONCATENATE(A66,B66,C66),Base!$AB$13:$AC$64,2,FALSE),IF(Products!$Z$7=$J$2,VLOOKUP(CONCATENATE(A66,B66,C66),Base!$AB$13:$AE$64,4,FALSE),VLOOKUP(CONCATENATE(A66,B66,C66),Base!$D$9:$G$386,4,FALSE))),\"\")","v":81.98},{"$f":"Products!F66","v":0},{"$f":"IF(ISBLANK(Products!F66),0,IF(LEFT(Products!$Z$7,8)=\"Consumer\",D66*E66,IF(C66=\"500+\",IF(E66>=500,E66*D66),IF(C66=\"1000+\",IF(E66>=1000,E66*D66),IF(C66=\"3000+\",IF(E66>=3000,E66*D66),IF(AND(E66>=VLOOKUP(C66,$M$18:$P$34,3,FALSE),E66<=VLOOKUP(C66,$M$18:$P$34,4,FALSE)),E66*D66))))))","v":0},{"$f":"IF(Products!$Z$7=$J$4,Base!H62,IF(Products!$Z$7=$J$5,Base!#REF!,IF(OR(Products!$Z$7=$J$2,Products!$Z$7=$J$3),Base!AD65)))","v":"AL1287300C-EN"}]
[{"$f":"IF(Products!$Z$7=$J$4,Base!A63,IF(Products!$Z$7=$J$5,Base!#REF!,IF(OR(Products!$Z$7=$J$2,Products!$Z$7=$J$3),Base!Y66)))","v":"Bitdefender GravityZone Advanced Business Security"},{"$f":"IF(Products!$Z$7=$J$4,Base!B63,IF(Products!$Z$7=$J$5,Base!#REF!,IF(OR(Products!$Z$7=$J$2,Products!$Z$7=$J$3),Base!Z66)))","v":"3 years"},{"$f":"IF(Products!$Z$7=$J$4,Base!C63,IF(Products!$Z$7=$J$5,Base!#REF!,IF(OR(Products!$Z$7=$J$2,Products!$Z$7=$J$3),Base!AA66)))","v":"50 - 99"},{"$f":"IFERROR(IF(Products!$Z$7=$J$3,VLOOKUP(CONCATENATE(A67,B67,C67),Base!$AB$13:$AC$64,2,FALSE),IF(Products!$Z$7=$J$2,VLOOKUP(CONCATENATE(A67,B67,C67),Base!$AB$13:$AE$64,4,FALSE),VLOOKUP(CONCATENATE(A67,B67,C67),Base!$D$9:$G$386,4,FALSE))),\"\")","v":73.78},{"$f":"Products!F67","v":0},{"$f":"IF(ISBLANK(Products!F67),0,IF(LEFT(Products!$Z$7,8)=\"Consumer\",D67*E67,IF(C67=\"500+\",IF(E67>=500,E67*D67),IF(C67=\"1000+\",IF(E67>=1000,E67*D67),IF(C67=\"3000+\",IF(E67>=3000,E67*D67),IF(AND(E67>=VLOOKUP(C67,$M$18:$P$34,3,FALSE),E67<=VLOOKUP(C67,$M$18:$P$34,4,FALSE)),E67*D67))))))","v":0},{"$f":"IF(Products!$Z$7=$J$4,Base!H63,IF(Products!$Z$7=$J$5,Base!#REF!,IF(OR(Products!$Z$7=$J$2,Products!$Z$7=$J$3),Base!AD66)))","v":"AL1287300D-EN"}]
[{"$f":"IF(Products!$Z$7=$J$4,Base!A64,IF(Products!$Z$7=$J$5,Base!#REF!,IF(OR(Products!$Z$7=$J$2,Products!$Z$7=$J$3),Base!Y67)))","v":"Bitdefender GravityZone Advanced Business Security"},{"$f":"IF(Products!$Z$7=$J$4,Base!B64,IF(Products!$Z$7=$J$5,Base!#REF!,IF(OR(Products!$Z$7=$J$2,Products!$Z$7=$J$3),Base!Z67)))","v":"3 years"},{"$f":"IF(Products!$Z$7=$J$4,Base!C64,IF(Products!$Z$7=$J$5,Base!#REF!,IF(OR(Products!$Z$7=$J$2,Products!$Z$7=$J$3),Base!AA67)))","v":"100 - 149"},{"$f":"IFERROR(IF(Products!$Z$7=$J$3,VLOOKUP(CONCATENATE(A68,B68,C68),Base!$AB$13:$AC$64,2,FALSE),IF(Products!$Z$7=$J$2,VLOOKUP(CONCATENATE(A68,B68,C68),Base!$AB$13:$AE$64,4,FALSE),VLOOKUP(CONCATENATE(A68,B68,C68),Base!$D$9:$G$386,4,FALSE))),\"\")","v":66.95},{"$f":"Products!F68","v":0},{"$f":"IF(ISBLANK(Products!F68),0,IF(LEFT(Products!$Z$7,8)=\"Consumer\",D68*E68,IF(C68=\"500+\",IF(E68>=500,E68*D68),IF(C68=\"1000+\",IF(E68>=1000,E68*D68),IF(C68=\"3000+\",IF(E68>=3000,E68*D68),IF(AND(E68>=VLOOKUP(C68,$M$18:$P$34,3,FALSE),E68<=VLOOKUP(C68,$M$18:$P$34,4,FALSE)),E68*D68))))))","v":0},{"$f":"IF(Products!$Z$7=$J$4,Base!H64,IF(Products!$Z$7=$J$5,Base!#REF!,IF(OR(Products!$Z$7=$J$2,Products!$Z$7=$J$3),Base!AD67)))","v":"AL1287300E-EN"}]
[{"$f":"IF(Products!$Z$7=$J$4,Base!A65,IF(Products!$Z$7=$J$5,Base!#REF!,IF(OR(Products!$Z$7=$J$2,Products!$Z$7=$J$3),Base!Y68)))","v":"Bitdefender GravityZone Advanced Business Security"},{"$f":"IF(Products!$Z$7=$J$4,Base!B65,IF(Products!$Z$7=$J$5,Base!#REF!,IF(OR(Products!$Z$7=$J$2,Products!$Z$7=$J$3),Base!Z68)))","v":"3 years"},{"$f":"IF(Products!$Z$7=$J$4,Base!C65,IF(Products!$Z$7=$J$5,Base!#REF!,IF(OR(Products!$Z$7=$J$2,Products!$Z$7=$J$3),Base!AA68)))","v":"150 - 249"},{"$f":"IFERROR(IF(Products!$Z$7=$J$3,VLOOKUP(CONCATENATE(A69,B69,C69),Base!$AB$13:$AC$64,2,FALSE),IF(Products!$Z$7=$J$2,VLOOKUP(CONCATENATE(A69,B69,C69),Base!$AB$13:$AE$64,4,FALSE),VLOOKUP(CONCATENATE(A69,B69,C69),Base!$D$9:$G$386,4,FALSE))),\"\")","v":57.58},{"$f":"Products!F69","v":0},{"$f":"IF(ISBLANK(Products!F69),0,IF(LEFT(Products!$Z$7,8)=\"Consumer\",D69*E69,IF(C69=\"500+\",IF(E69>=500,E69*D69),IF(C69=\"1000+\",IF(E69>=1000,E69*D69),IF(C69=\"3000+\",IF(E69>=3000,E69*D69),IF(AND(E69>=VLOOKUP(C69,$M$18:$P$34,3,FALSE),E69<=VLOOKUP(C69,$M$18:$P$34,4,FALSE)),E69*D69))))))","v":0},{"$f":"IF(Products!$Z$7=$J$4,Base!H65,IF(Products!$Z$7=$J$5,Base!#REF!,IF(OR(Products!$Z$7=$J$2,Products!$Z$7=$J$3),Base!AD68)))","v":"AL1287300F-EN"}]
[{"$f":"IF(Products!$Z$7=$J$4,Base!A66,IF(Products!$Z$7=$J$5,Base!#REF!,IF(OR(Products!$Z$7=$J$2,Products!$Z$7=$J$3),Base!Y69)))","v":"Bitdefender GravityZone Advanced Business Security"},{"$f":"IF(Products!$Z$7=$J$4,Base!B66,IF(Products!$Z$7=$J$5,Base!#REF!,IF(OR(Products!$Z$7=$J$2,Products!$Z$7=$J$3),Base!Z69)))","v":"3 years"},{"$f":"IF(Products!$Z$7=$J$4,Base!C66,IF(Products!$Z$7=$J$5,Base!#REF!,IF(OR(Products!$Z$7=$J$2,Products!$Z$7=$J$3),Base!AA69)))","v":"250 - 499"},{"$f":"IFERROR(IF(Products!$Z$7=$J$3,VLOOKUP(CONCATENATE(A70,B70,C70),Base!$AB$13:$AC$64,2,FALSE),IF(Products!$Z$7=$J$2,VLOOKUP(CONCATENATE(A70,B70,C70),Base!$AB$13:$AE$64,4,FALSE),VLOOKUP(CONCATENATE(A70,B70,C70),Base!$D$9:$G$386,4,FALSE))),\"\")","v":52.97},{"$f":"Products!F70","v":0},{"$f":"IF(ISBLANK(Products!F70),0,IF(LEFT(Products!$Z$7,8)=\"Consumer\",D70*E70,IF(C70=\"500+\",IF(E70>=500,E70*D70),IF(C70=\"1000+\",IF(E70>=1000,E70*D70),IF(C70=\"3000+\",IF(E70>=3000,E70*D70),IF(AND(E70>=VLOOKUP(C70,$M$18:$P$34,3,FALSE),E70<=VLOOKUP(C70,$M$18:$P$34,4,FALSE)),E70*D70))))))","v":0},{"$f":"IF(Products!$Z$7=$J$4,Base!H66,IF(Products!$Z$7=$J$5,Base!#REF!,IF(OR(Products!$Z$7=$J$2,Products!$Z$7=$J$3),Base!AD69)))","v":"AL1287300G-EN"}]
[{"$f":"IF(Products!$Z$7=$J$4,Base!A67,IF(Products!$Z$7=$J$5,Base!#REF!,IF(OR(Products!$Z$7=$J$2,Products!$Z$7=$J$3),Base!Y70)))","v":"Bitdefender GravityZone Advanced Business Security"},{"$f":"IF(Products!$Z$7=$J$4,Base!B67,IF(Products!$Z$7=$J$5,Base!#REF!,IF(OR(Products!$Z$7=$J$2,Products!$Z$7=$J$3),Base!Z70)))","v":"3 years"},{"$f":"IF(Products!$Z$7=$J$4,Base!C67,IF(Products!$Z$7=$J$5,Base!#REF!,IF(OR(Products!$Z$7=$J$2,Products!$Z$7=$J$3),Base!AA70)))","v":"500 - 999"},{"$f":"IFERROR(IF(Products!$Z$7=$J$3,VLOOKUP(CONCATENATE(A71,B71,C71),Base!$AB$13:$AC$64,2,FALSE),IF(Products!$Z$7=$J$2,VLOOKUP(CONCATENATE(A71,B71,C71),Base!$AB$13:$AE$64,4,FALSE),VLOOKUP(CONCATENATE(A71,B71,C71),Base!$D$9:$G$386,4,FALSE))),\"\")","v":49.26},{"$f":"Products!F71","v":0},{"$f":"IF(ISBLANK(Products!F71),0,IF(LEFT(Products!$Z$7,8)=\"Consumer\",D71*E71,IF(C71=\"500+\",IF(E71>=500,E71*D71),IF(C71=\"1000+\",IF(E71>=1000,E71*D71),IF(C71=\"3000+\",IF(E71>=3000,E71*D71),IF(AND(E71>=VLOOKUP(C71,$M$18:$P$34,3,FALSE),E71<=VLOOKUP(C71,$M$18:$P$34,4,FALSE)),E71*D71))))))","v":0},{"$f":"IF(Products!$Z$7=$J$4,Base!H67,IF(Products!$Z$7=$J$5,Base!#REF!,IF(OR(Products!$Z$7=$J$2,Products!$Z$7=$J$3),Base!AD70)))","v":"AL1287300H-EN"}]
[{"$f":"IF(Products!$Z$7=$J$4,Base!A68,IF(Products!$Z$7=$J$5,Base!#REF!,IF(OR(Products!$Z$7=$J$2,Products!$Z$7=$J$3),Base!Y71)))","v":"Bitdefender GravityZone Advanced Business Security"},{"$f":"IF(Products!$Z$7=$J$4,Base!B68,IF(Products!$Z$7=$J$5,Base!#REF!,IF(OR(Products!$Z$7=$J$2,Products!$Z$7=$J$3),Base!Z71)))","v":"3 years"},{"$f":"IF(Products!$Z$7=$J$4,Base!C68,IF(Products!$Z$7=$J$5,Base!#REF!,IF(OR(Products!$Z$7=$J$2,Products!$Z$7=$J$3),Base!AA71)))","v":"1000 - 2999"},{"$f":"IFERROR(IF(Products!$Z$7=$J$3,VLOOKUP(CONCATENATE(A72,B72,C72),Base!$AB$13:$AC$64,2,FALSE),IF(Products!$Z$7=$J$2,VLOOKUP(CONCATENATE(A72,B72,C72),Base!$AB$13:$AE$64,4,FALSE),VLOOKUP(CONCATENATE(A72,B72,C72),Base!$D$9:$G$386,4,FALSE))),\"\")","v":46.8},{"$f":"Products!F72","v":0},{"$f":"IF(ISBLANK(Products!F72),0,IF(LEFT(Products!$Z$7,8)=\"Consumer\",D72*E72,IF(C72=\"500+\",IF(E72>=500,E72*D72),IF(C72=\"1000+\",IF(E72>=1000,E72*D72),IF(C72=\"3000+\",IF(E72>=3000,E72*D72),IF(AND(E72>=VLOOKUP(C72,$M$18:$P$34,3,FALSE),E72<=VLOOKUP(C72,$M$18:$P$34,4,FALSE)),E72*D72))))))","v":0},{"$f":"IF(Products!$Z$7=$J$4,Base!H68,IF(Products!$Z$7=$J$5,Base!#REF!,IF(OR(Products!$Z$7=$J$2,Products!$Z$7=$J$3),Base!AD71)))","v":"AL1287300I-EN"}]
[{"$f":"IF(Products!$Z$7=$J$4,Base!A69,IF(Products!$Z$7=$J$5,Base!#REF!,IF(OR(Products!$Z$7=$J$2,Products!$Z$7=$J$3),Base!Y72)))","v":"Bitdefender GravityZone Advanced Business Security"},{"$f":"IF(Products!$Z$7=$J$4,Base!B69,IF(Products!$Z$7=$J$5,Base!#REF!,IF(OR(Products!$Z$7=$J$2,Products!$Z$7=$J$3),Base!Z72)))","v":"3 years"},{"$f":"IF(Products!$Z$7=$J$4,Base!C69,IF(Products!$Z$7=$J$5,Base!#REF!,IF(OR(Products!$Z$7=$J$2,Products!$Z$7=$J$3),Base!AA72)))","v":"3000+"},{"$f":"IFERROR(IF(Products!$Z$7=$J$3,VLOOKUP(CONCATENATE(A73,B73,C73),Base!$AB$13:$AC$64,2,FALSE),IF(Products!$Z$7=$J$2,VLOOKUP(CONCATENATE(A73,B73,C73),Base!$AB$13:$AE$64,4,FALSE),VLOOKUP(CONCATENATE(A73,B73,C73),Base!$D$9:$G$386,4,FALSE))),\"\")","v":45.39},{"$f":"Products!F73","v":0},{"$f":"IF(ISBLANK(Products!F73),0,IF(LEFT(Products!$Z$7,8)=\"Consumer\",D73*E73,IF(C73=\"500+\",IF(E73>=500,E73*D73),IF(C73=\"1000+\",IF(E73>=1000,E73*D73),IF(C73=\"3000+\",IF(E73>=3000,E73*D73),IF(AND(E73>=VLOOKUP(C73,$M$18:$P$34,3,FALSE),E73<=VLOOKUP(C73,$M$18:$P$34,4,FALSE)),E73*D73))))))","v":0},{"$f":"IF(Products!$Z$7=$J$4,Base!H69,IF(Products!$Z$7=$J$5,Base!#REF!,IF(OR(Products!$Z$7=$J$2,Products!$Z$7=$J$3),Base!AD72)))","v":"AL1287300J-EN"}]
[{"$f":"IF(Products!$Z$7=$J$4,Base!A70,IF(Products!$Z$7=$J$5,Base!#REF!,IF(OR(Products!$Z$7=$J$2,Products!$Z$7=$J$3),Base!Y73)))","v":"GravityZone Security for Virtualized Environments VDI"},{"$f":"IF(Products!$Z$7=$J$4,Base!B70,IF(Products!$Z$7=$J$5,Base!#REF!,IF(OR(Products!$Z$7=$J$2,Products!$Z$7=$J$3),Base!Z73)))","v":"1 year"},{"$f":"IF(Products!$Z$7=$J$4,Base!C70,IF(Products!$Z$7=$J$5,Base!#REF!,IF(OR(Products!$Z$7=$J$2,Products!$Z$7=$J$3),Base!AA73)))","v":"5 - 14"},{"$f":"IFERROR(IF(Products!$Z$7=$J$3,VLOOKUP(CONCATENATE(A74,B74,C74),Base!$AB$13:$AC$64,2,FALSE),IF(Products!$Z$7=$J$2,VLOOKUP(CONCATENATE(A74,B74,C74),Base!$AB$13:$AE$64,4,FALSE),VLOOKUP(CONCATENATE(A74,B74,C74),Base!$D$9:$G$386,4,FALSE))),\"\")","v":31},{"$f":"Products!F74","v":0},{"$f":"IF(ISBLANK(Products!F74),0,IF(LEFT(Products!$Z$7,8)=\"Consumer\",D74*E74,IF(C74=\"500+\",IF(E74>=500,E74*D74),IF(C74=\"1000+\",IF(E74>=1000,E74*D74),IF(C74=\"3000+\",IF(E74>=3000,E74*D74),IF(AND(E74>=VLOOKUP(C74,$M$18:$P$34,3,FALSE),E74<=VLOOKUP(C74,$M$18:$P$34,4,FALSE)),E74*D74))))))","v":0},{"$f":"IF(Products!$Z$7=$J$4,Base!H70,IF(Products!$Z$7=$J$5,Base!#REF!,IF(OR(Products!$Z$7=$J$2,Products!$Z$7=$J$3),Base!AD73)))","v":"BL1211100A-EN"}]
[{"$f":"IF(Products!$Z$7=$J$4,Base!A71,IF(Products!$Z$7=$J$5,Base!#REF!,IF(OR(Products!$Z$7=$J$2,Products!$Z$7=$J$3),Base!Y74)))","v":"GravityZone Security for Virtualized Environments VDI"},{"$f":"IF(Products!$Z$7=$J$4,Base!B71,IF(Products!$Z$7=$J$5,Base!#REF!,IF(OR(Products!$Z$7=$J$2,Products!$Z$7=$J$3),Base!Z74)))","v":"1 year"},{"$f":"IF(Products!$Z$7=$J$4,Base!C71,IF(Products!$Z$7=$J$5,Base!#REF!,IF(OR(Products!$Z$7=$J$2,Products!$Z$7=$J$3),Base!AA74)))","v":"15 - 24"},{"$f":"IFERROR(IF(Products!$Z$7=$J$3,VLOOKUP(CONCATENATE(A75,B75,C75),Base!$AB$13:$AC$64,2,FALSE),IF(Products!$Z$7=$J$2,VLOOKUP(CONCATENATE(A75,B75,C75),Base!$AB$13:$AE$64,4,FALSE),VLOOKUP(CONCATENATE(A75,B75,C75),Base!$D$9:$G$386,4,FALSE))),\"\")","v":29.75},{"$f":"Products!F75","v":0},{"$f":"IF(ISBLANK(Products!F75),0,IF(LEFT(Products!$Z$7,8)=\"Consumer\",D75*E75,IF(C75=\"500+\",IF(E75>=500,E75*D75),IF(C75=\"1000+\",IF(E75>=1000,E75*D75),IF(C75=\"3000+\",IF(E75>=3000,E75*D75),IF(AND(E75>=VLOOKUP(C75,$M$18:$P$34,3,FALSE),E75<=VLOOKUP(C75,$M$18:$P$34,4,FALSE)),E75*D75))))))","v":0},{"$f":"IF(Products!$Z$7=$J$4,Base!H71,IF(Products!$Z$7=$J$5,Base!#REF!,IF(OR(Products!$Z$7=$J$2,Products!$Z$7=$J$3),Base!AD74)))","v":"BL1211100B-EN"}]
[{"$f":"IF(Products!$Z$7=$J$4,Base!A72,IF(Products!$Z$7=$J$5,Base!#REF!,IF(OR(Products!$Z$7=$J$2,Products!$Z$7=$J$3),Base!Y75)))","v":"GravityZone Security for Virtualized Environments VDI"},{"$f":"IF(Products!$Z$7=$J$4,Base!B72,IF(Products!$Z$7=$J$5,Base!#REF!,IF(OR(Products!$Z$7=$J$2,Products!$Z$7=$J$3),Base!Z75)))","v":"1 year"},{"$f":"IF(Products!$Z$7=$J$4,Base!C72,IF(Products!$Z$7=$J$5,Base!#REF!,IF(OR(Products!$Z$7=$J$2,Products!$Z$7=$J$3),Base!AA75)))","v":"25 - 49"},{"$f":"IFERROR(IF(Products!$Z$7=$J$3,VLOOKUP(CONCATENATE(A76,B76,C76),Base!$AB$13:$AC$64,2,FALSE),IF(Products!$Z$7=$J$2,VLOOKUP(CONCATENATE(A76,B76,C76),Base!$AB$13:$AE$64,4,FALSE),VLOOKUP(CONCATENATE(A76,B76,C76),Base!$D$9:$G$386,4,FALSE))),\"\")","v":28.25},{"$f":"Products!F76","v":0},{"$f":"IF(ISBLANK(Products!F76),0,IF(LEFT(Products!$Z$7,8)=\"Consumer\",D76*E76,IF(C76=\"500+\",IF(E76>=500,E76*D76),IF(C76=\"1000+\",IF(E76>=1000,E76*D76),IF(C76=\"3000+\",IF(E76>=3000,E76*D76),IF(AND(E76>=VLOOKUP(C76,$M$18:$P$34,3,FALSE),E76<=VLOOKUP(C76,$M$18:$P$34,4,FALSE)),E76*D76))))))","v":0},{"$f":"IF(Products!$Z$7=$J$4,Base!H72,IF(Products!$Z$7=$J$5,Base!#REF!,IF(OR(Products!$Z$7=$J$2,Products!$Z$7=$J$3),Base!AD75)))","v":"BL1211100C-EN"}]
[{"$f":"IF(Products!$Z$7=$J$4,Base!A73,IF(Products!$Z$7=$J$5,Base!#REF!,IF(OR(Products!$Z$7=$J$2,Products!$Z$7=$J$3),Base!Y76)))","v":"GravityZone Security for Virtualized Environments VDI"},{"$f":"IF(Products!$Z$7=$J$4,Base!B73,IF(Products!$Z$7=$J$5,Base!#REF!,IF(OR(Products!$Z$7=$J$2,Products!$Z$7=$J$3),Base!Z76)))","v":"1 year"},{"$f":"IF(Products!$Z$7=$J$4,Base!C73,IF(Products!$Z$7=$J$5,Base!#REF!,IF(OR(Products!$Z$7=$J$2,Products!$Z$7=$J$3),Base!AA76)))","v":"50 - 99"},{"$f":"IFERROR(IF(Products!$Z$7=$J$3,VLOOKUP(CONCATENATE(A77,B77,C77),Base!$AB$13:$AC$64,2,FALSE),IF(Products!$Z$7=$J$2,VLOOKUP(CONCATENATE(A77,B77,C77),Base!$AB$13:$AE$64,4,FALSE),VLOOKUP(CONCATENATE(A77,B77,C77),Base!$D$9:$G$386,4,FALSE))),\"\")","v":26.3},{"$f":"Products!F77","v":0},{"$f":"IF(ISBLANK(Products!F77),0,IF(LEFT(Products!$Z$7,8)=\"Consumer\",D77*E77,IF(C77=\"500+\",IF(E77>=500,E77*D77),IF(C77=\"1000+\",IF(E77>=1000,E77*D77),IF(C77=\"3000+\",IF(E77>=3000,E77*D77),IF(AND(E77>=VLOOKUP(C77,$M$18:$P$34,3,FALSE),E77<=VLOOKUP(C77,$M$18:$P$34,4,FALSE)),E77*D77))))))","v":0},{"$f":"IF(Products!$Z$7=$J$4,Base!H73,IF(Products!$Z$7=$J$5,Base!#REF!,IF(OR(Products!$Z$7=$J$2,Products!$Z$7=$J$3),Base!AD76)))","v":"BL1211100D-EN"}]
[{"$f":"IF(Products!$Z$7=$J$4,Base!A74,IF(Products!$Z$7=$J$5,Base!#REF!,IF(OR(Products!$Z$7=$J$2,Products!$Z$7=$J$3),Base!Y77)))","v":"GravityZone Security for Virtualized Environments VDI"},{"$f":"IF(Products!$Z$7=$J$4,Base!B74,IF(Products!$Z$7=$J$5,Base!#REF!,IF(OR(Products!$Z$7=$J$2,Products!$Z$7=$J$3),Base!Z77)))","v":"1 year"},{"$f":"IF(Products!$Z$7=$J$4,Base!C74,IF(Products!$Z$7=$J$5,Base!#REF!,IF(OR(Products!$Z$7=$J$2,Products!$Z$7=$J$3),Base!AA77)))","v":"100 - 149"},{"$f":"IFERROR(IF(Products!$Z$7=$J$3,VLOOKUP(CONCATENATE(A78,B78,C78),Base!$AB$13:$AC$64,2,FALSE),IF(Products!$Z$7=$J$2,VLOOKUP(CONCATENATE(A78,B78,C78),Base!$AB$13:$AE$64,4,FALSE),VLOOKUP(CONCATENATE(A78,B78,C78),Base!$D$9:$G$386,4,FALSE))),\"\")","v":23.9},{"$f":"Products!F78","v":0},{"$f":"IF(ISBLANK(Products!F78),0,IF(LEFT(Products!$Z$7,8)=\"Consumer\",D78*E78,IF(C78=\"500+\",IF(E78>=500,E78*D78),IF(C78=\"1000+\",IF(E78>=1000,E78*D78),IF(C78=\"3000+\",IF(E78>=3000,E78*D78),IF(AND(E78>=VLOOKUP(C78,$M$18:$P$34,3,FALSE),E78<=VLOOKUP(C78,$M$18:$P$34,4,FALSE)),E78*D78))))))","v":0},{"$f":"IF(Products!$Z$7=$J$4,Base!H74,IF(Products!$Z$7=$J$5,Base!#REF!,IF(OR(Products!$Z$7=$J$2,Products!$Z$7=$J$3),Base!AD77)))","v":"BL1211100E-EN"}]
[{"$f":"IF(Products!$Z$7=$J$4,Base!A75,IF(Products!$Z$7=$J$5,Base!#REF!,IF(OR(Products!$Z$7=$J$2,Products!$Z$7=$J$3),Base!Y78)))","v":"GravityZone Security for Virtualized Environments VDI"},{"$f":"IF(Products!$Z$7=$J$4,Base!B75,IF(Products!$Z$7=$J$5,Base!#REF!,IF(OR(Products!$Z$7=$J$2,Products!$Z$7=$J$3),Base!Z78)))","v":"1 year"},{"$f":"IF(Products!$Z$7=$J$4,Base!C75,IF(Products!$Z$7=$J$5,Base!#REF!,IF(OR(Products!$Z$7=$J$2,Products!$Z$7=$J$3),Base!AA78)))","v":"150 - 249"},{"$f":"IFERROR(IF(Products!$Z$7=$J$3,VLOOKUP(CONCATENATE(A79,B79,C79),Base!$AB$13:$AC$64,2,FALSE),IF(Products!$Z$7=$J$2,VLOOKUP(CONCATENATE(A79,B79,C79),Base!$AB$13:$AE$64,4,FALSE),VLOOKUP(CONCATENATE(A79,B79,C79),Base!$D$9:$G$386,4,FALSE))),\"\")","v":22.65},{"$f":"Products!F79","v":0},{"$f":"IF(ISBLANK(Products!F79),0,IF(LEFT(Products!$Z$7,8)=\"Consumer\",D79*E79,IF(C79=\"500+\",IF(E79>=500,E79*D79),IF(C79=\"1000+\",IF(E79>=1000,E79*D79),IF(C79=\"3000+\",IF(E79>=3000,E79*D79),IF(AND(E79>=VLOOKUP(C79,$M$18:$P$34,3,FALSE),E79<=VLOOKUP(C79,$M$18:$P$34,4,FALSE)),E79*D79))))))","v":0},{"$f":"IF(Products!$Z$7=$J$4,Base!H75,IF(Products!$Z$7=$J$5,Base!#REF!,IF(OR(Products!$Z$7=$J$2,Products!$Z$7=$J$3),Base!AD78)))","v":"BL1211100F-EN"}]
[{"$f":"IF(Products!$Z$7=$J$4,Base!A76,IF(Products!$Z$7=$J$5,Base!#REF!,IF(OR(Products!$Z$7=$J$2,Products!$Z$7=$J$3),Base!Y79)))","v":"GravityZone Security for Virtualized Environments VDI"},{"$f":"IF(Products!$Z$7=$J$4,Base!B76,IF(Products!$Z$7=$J$5,Base!#REF!,IF(OR(Products!$Z$7=$J$2,Products!$Z$7=$J$3),Base!Z79)))","v":"1 year"},{"$f":"IF(Products!$Z$7=$J$4,Base!C76,IF(Products!$Z$7=$J$5,Base!#REF!,IF(OR(Products!$Z$7=$J$2,Products!$Z$7=$J$3),Base!AA79)))","v":"250 - 499"},{"$f":"IFERROR(IF(Products!$Z$7=$J$3,VLOOKUP(CONCATENATE(A80,B80,C80),Base!$AB$13:$AC$64,2,FALSE),IF(Products!$Z$7=$J$2,VLOOKUP(CONCATENATE(A80,B80,C80),Base!$AB$13:$AE$64,4,FALSE),VLOOKUP(CONCATENATE(A80,B80,C80),Base!$D$9:$G$386,4,FALSE))),\"\")","v":20.399999999999999},{"$f":"Products!F80","v":0},{"$f":"IF(ISBLANK(Products!F80),0,IF(LEFT(Products!$Z$7,8)=\"Consumer\",D80*E80,IF(C80=\"500+\",IF(E80>=500,E80*D80),IF(C80=\"1000+\",IF(E80>=1000,E80*D80),IF(C80=\"3000+\",IF(E80>=3000,E80*D80),IF(AND(E80>=VLOOKUP(C80,$M$18:$P$34,3,FALSE),E80<=VLOOKUP(C80,$M$18:$P$34,4,FALSE)),E80*D80))))))","v":0},{"$f":"IF(Products!$Z$7=$J$4,Base!H76,IF(Products!$Z$7=$J$5,Base!#REF!,IF(OR(Products!$Z$7=$J$2,Products!$Z$7=$J$3),Base!AD79)))","v":"BL1211100G-EN"}]
[{"$f":"IF(Products!$Z$7=$J$4,Base!A77,IF(Products!$Z$7=$J$5,Base!#REF!,IF(OR(Products!$Z$7=$J$2,Products!$Z$7=$J$3),Base!Y80)))","v":"GravityZone Security for Virtualized Environments VDI"},{"$f":"IF(Products!$Z$7=$J$4,Base!B77,IF(Products!$Z$7=$J$5,Base!#REF!,IF(OR(Products!$Z$7=$J$2,Products!$Z$7=$J$3),Base!Z80)))","v":"1 year"},{"$f":"IF(Products!$Z$7=$J$4,Base!C77,IF(Products!$Z$7=$J$5,Base!#REF!,IF(OR(Products!$Z$7=$J$2,Products!$Z$7=$J$3),Base!AA80)))","v":"500 - 999"},{"$f":"IFERROR(IF(Products!$Z$7=$J$3,VLOOKUP(CONCATENATE(A81,B81,C81),Base!$AB$13:$AC$64,2,FALSE),IF(Products!$Z$7=$J$2,VLOOKUP(CONCATENATE(A81,B81,C81),Base!$AB$13:$AE$64,4,FALSE),VLOOKUP(CONCATENATE(A81,B81,C81),Base!$D$9:$G$386,4,FALSE))),\"\")","v":18.350000000000001},{"$f":"Products!F81","v":0},{"$f":"IF(ISBLANK(Products!F81),0,IF(LEFT(Products!$Z$7,8)=\"Consumer\",D81*E81,IF(C81=\"500+\",IF(E81>=500,E81*D81),IF(C81=\"1000+\",IF(E81>=1000,E81*D81),IF(C81=\"3000+\",IF(E81>=3000,E81*D81),IF(AND(E81>=VLOOKUP(C81,$M$18:$P$34,3,FALSE),E81<=VLOOKUP(C81,$M$18:$P$34,4,FALSE)),E81*D81))))))","v":0},{"$f":"IF(Products!$Z$7=$J$4,Base!H77,IF(Products!$Z$7=$J$5,Base!#REF!,IF(OR(Products!$Z$7=$J$2,Products!$Z$7=$J$3),Base!AD80)))","v":"BL1211100H-EN"}]
[{"$f":"IF(Products!$Z$7=$J$4,Base!A78,IF(Products!$Z$7=$J$5,Base!#REF!,IF(OR(Products!$Z$7=$J$2,Products!$Z$7=$J$3),Base!Y81)))","v":"GravityZone Security for Virtualized Environments VDI"},{"$f":"IF(Products!$Z$7=$J$4,Base!B78,IF(Products!$Z$7=$J$5,Base!#REF!,IF(OR(Products!$Z$7=$J$2,Products!$Z$7=$J$3),Base!Z81)))","v":"1 year"},{"$f":"IF(Products!$Z$7=$J$4,Base!C78,IF(Products!$Z$7=$J$5,Base!#REF!,IF(OR(Products!$Z$7=$J$2,Products!$Z$7=$J$3),Base!AA81)))","v":"1000 - 2999"},{"$f":"IFERROR(IF(Products!$Z$7=$J$3,VLOOKUP(CONCATENATE(A82,B82,C82),Base!$AB$13:$AC$64,2,FALSE),IF(Products!$Z$7=$J$2,VLOOKUP(CONCATENATE(A82,B82,C82),Base!$AB$13:$AE$64,4,FALSE),VLOOKUP(CONCATENATE(A82,B82,C82),Base!$D$9:$G$386,4,FALSE))),\"\")","v":16.5},{"$f":"Products!F82","v":0},{"$f":"IF(ISBLANK(Products!F82),0,IF(LEFT(Products!$Z$7,8)=\"Consumer\",D82*E82,IF(C82=\"500+\",IF(E82>=500,E82*D82),IF(C82=\"1000+\",IF(E82>=1000,E82*D82),IF(C82=\"3000+\",IF(E82>=3000,E82*D82),IF(AND(E82>=VLOOKUP(C82,$M$18:$P$34,3,FALSE),E82<=VLOOKUP(C82,$M$18:$P$34,4,FALSE)),E82*D82))))))","v":0},{"$f":"IF(Products!$Z$7=$J$4,Base!H78,IF(Products!$Z$7=$J$5,Base!#REF!,IF(OR(Products!$Z$7=$J$2,Products!$Z$7=$J$3),Base!AD81)))","v":"BL1211100I-EN"}]
[{"$f":"IF(Products!$Z$7=$J$4,Base!A79,IF(Products!$Z$7=$J$5,Base!#REF!,IF(OR(Products!$Z$7=$J$2,Products!$Z$7=$J$3),Base!Y82)))","v":"GravityZone Security for Virtualized Environments VDI"},{"$f":"IF(Products!$Z$7=$J$4,Base!B79,IF(Products!$Z$7=$J$5,Base!#REF!,IF(OR(Products!$Z$7=$J$2,Products!$Z$7=$J$3),Base!Z82)))","v":"1 year"},{"$f":"IF(Products!$Z$7=$J$4,Base!C79,IF(Products!$Z$7=$J$5,Base!#REF!,IF(OR(Products!$Z$7=$J$2,Products!$Z$7=$J$3),Base!AA82)))","v":"3000+"},{"$f":"IFERROR(IF(Products!$Z$7=$J$3,VLOOKUP(CONCATENATE(A83,B83,C83),Base!$AB$13:$AC$64,2,FALSE),IF(Products!$Z$7=$J$2,VLOOKUP(CONCATENATE(A83,B83,C83),Base!$AB$13:$AE$64,4,FALSE),VLOOKUP(CONCATENATE(A83,B83,C83),Base!$D$9:$G$386,4,FALSE))),\"\")","v":14.85},{"$f":"Products!F83","v":0},{"$f":"IF(ISBLANK(Products!F83),0,IF(LEFT(Products!$Z$7,8)=\"Consumer\",D83*E83,IF(C83=\"500+\",IF(E83>=500,E83*D83),IF(C83=\"1000+\",IF(E83>=1000,E83*D83),IF(C83=\"3000+\",IF(E83>=3000,E83*D83),IF(AND(E83>=VLOOKUP(C83,$M$18:$P$34,3,FALSE),E83<=VLOOKUP(C83,$M$18:$P$34,4,FALSE)),E83*D83))))))","v":0},{"$f":"IF(Products!$Z$7=$J$4,Base!H79,IF(Products!$Z$7=$J$5,Base!#REF!,IF(OR(Products!$Z$7=$J$2,Products!$Z$7=$J$3),Base!AD82)))","v":"BL1211100J-EN"}]
[{"$f":"IF(Products!$Z$7=$J$4,Base!A80,IF(Products!$Z$7=$J$5,Base!#REF!,IF(OR(Products!$Z$7=$J$2,Products!$Z$7=$J$3),Base!Y83)))","v":"GravityZone Security for Virtualized Environments VDI"},{"$f":"IF(Products!$Z$7=$J$4,Base!B80,IF(Products!$Z$7=$J$5,Base!#REF!,IF(OR(Products!$Z$7=$J$2,Products!$Z$7=$J$3),Base!Z83)))","v":"2 years"},{"$f":"IF(Products!$Z$7=$J$4,Base!C80,IF(Products!$Z$7=$J$5,Base!#REF!,IF(OR(Products!$Z$7=$J$2,Products!$Z$7=$J$3),Base!AA83)))","v":"5 - 14"},{"$f":"IFERROR(IF(Products!$Z$7=$J$3,VLOOKUP(CONCATENATE(A84,B84,C84),Base!$AB$13:$AC$64,2,FALSE),IF(Products!$Z$7=$J$2,VLOOKUP(CONCATENATE(A84,B84,C84),Base!$AB$13:$AE$64,4,FALSE),VLOOKUP(CONCATENATE(A84,B84,C84),Base!$D$9:$G$386,4,FALSE))),\"\")","v":49.6},{"$f":"Products!F84","v":0},{"$f":"IF(ISBLANK(Products!F84),0,IF(LEFT(Products!$Z$7,8)=\"Consumer\",D84*E84,IF(C84=\"500+\",IF(E84>=500,E84*D84),IF(C84=\"1000+\",IF(E84>=1000,E84*D84),IF(C84=\"3000+\",IF(E84>=3000,E84*D84),IF(AND(E84>=VLOOKUP(C84,$M$18:$P$34,3,FALSE),E84<=VLOOKUP(C84,$M$18:$P$34,4,FALSE)),E84*D84))))))","v":0},{"$f":"IF(Products!$Z$7=$J$4,Base!H80,IF(Products!$Z$7=$J$5,Base!#REF!,IF(OR(Products!$Z$7=$J$2,Products!$Z$7=$J$3),Base!AD83)))","v":"BL1211200A-EN"}]
[{"$f":"IF(Products!$Z$7=$J$4,Base!A81,IF(Products!$Z$7=$J$5,Base!#REF!,IF(OR(Products!$Z$7=$J$2,Products!$Z$7=$J$3),Base!Y84)))","v":"GravityZone Security for Virtualized Environments VDI"},{"$f":"IF(Products!$Z$7=$J$4,Base!B81,IF(Products!$Z$7=$J$5,Base!#REF!,IF(OR(Products!$Z$7=$J$2,Products!$Z$7=$J$3),Base!Z84)))","v":"2 years"},{"$f":"IF(Products!$Z$7=$J$4,Base!C81,IF(Products!$Z$7=$J$5,Base!#REF!,IF(OR(Products!$Z$7=$J$2,Products!$Z$7=$J$3),Base!AA84)))","v":"15 - 24"},{"$f":"IFERROR(IF(Products!$Z$7=$J$3,VLOOKUP(CONCATENATE(A85,B85,C85),Base!$AB$13:$AC$64,2,FALSE),IF(Products!$Z$7=$J$2,VLOOKUP(CONCATENATE(A85,B85,C85),Base!$AB$13:$AE$64,4,FALSE),VLOOKUP(CONCATENATE(A85,B85,C85),Base!$D$9:$G$386,4,FALSE))),\"\")","v":47.6},{"$f":"Products!F85","v":0},{"$f":"IF(ISBLANK(Products!F85),0,IF(LEFT(Products!$Z$7,8)=\"Consumer\",D85*E85,IF(C85=\"500+\",IF(E85>=500,E85*D85),IF(C85=\"1000+\",IF(E85>=1000,E85*D85),IF(C85=\"3000+\",IF(E85>=3000,E85*D85),IF(AND(E85>=VLOOKUP(C85,$M$18:$P$34,3,FALSE),E85<=VLOOKUP(C85,$M$18:$P$34,4,FALSE)),E85*D85))))))","v":0},{"$f":"IF(Products!$Z$7=$J$4,Base!H81,IF(Products!$Z$7=$J$5,Base!#REF!,IF(OR(Products!$Z$7=$J$2,Products!$Z$7=$J$3),Base!AD84)))","v":"BL1211200B-EN"}]
[{"$f":"IF(Products!$Z$7=$J$4,Base!A82,IF(Products!$Z$7=$J$5,Base!#REF!,IF(OR(Products!$Z$7=$J$2,Products!$Z$7=$J$3),Base!Y85)))","v":"GravityZone Security for Virtualized Environments VDI"},{"$f":"IF(Products!$Z$7=$J$4,Base!B82,IF(Products!$Z$7=$J$5,Base!#REF!,IF(OR(Products!$Z$7=$J$2,Products!$Z$7=$J$3),Base!Z85)))","v":"2 years"},{"$f":"IF(Products!$Z$7=$J$4,Base!C82,IF(Products!$Z$7=$J$5,Base!#REF!,IF(OR(Products!$Z$7=$J$2,Products!$Z$7=$J$3),Base!AA85)))","v":"25 - 49"},{"$f":"IFERROR(IF(Products!$Z$7=$J$3,VLOOKUP(CONCATENATE(A86,B86,C86),Base!$AB$13:$AC$64,2,FALSE),IF(Products!$Z$7=$J$2,VLOOKUP(CONCATENATE(A86,B86,C86),Base!$AB$13:$AE$64,4,FALSE),VLOOKUP(CONCATENATE(A86,B86,C86),Base!$D$9:$G$386,4,FALSE))),\"\")","v":45.2},{"$f":"Products!F86","v":0},{"$f":"IF(ISBLANK(Products!F86),0,IF(LEFT(Products!$Z$7,8)=\"Consumer\",D86*E86,IF(C86=\"500+\",IF(E86>=500,E86*D86),IF(C86=\"1000+\",IF(E86>=1000,E86*D86),IF(C86=\"3000+\",IF(E86>=3000,E86*D86),IF(AND(E86>=VLOOKUP(C86,$M$18:$P$34,3,FALSE),E86<=VLOOKUP(C86,$M$18:$P$34,4,FALSE)),E86*D86))))))","v":0},{"$f":"IF(Products!$Z$7=$J$4,Base!H82,IF(Products!$Z$7=$J$5,Base!#REF!,IF(OR(Products!$Z$7=$J$2,Products!$Z$7=$J$3),Base!AD85)))","v":"BL1211200C-EN"}]
[{"$f":"IF(Products!$Z$7=$J$4,Base!A83,IF(Products!$Z$7=$J$5,Base!#REF!,IF(OR(Products!$Z$7=$J$2,Products!$Z$7=$J$3),Base!Y86)))","v":"GravityZone Security for Virtualized Environments VDI"},{"$f":"IF(Products!$Z$7=$J$4,Base!B83,IF(Products!$Z$7=$J$5,Base!#REF!,IF(OR(Products!$Z$7=$J$2,Products!$Z$7=$J$3),Base!Z86)))","v":"2 years"},{"$f":"IF(Products!$Z$7=$J$4,Base!C83,IF(Products!$Z$7=$J$5,Base!#REF!,IF(OR(Products!$Z$7=$J$2,Products!$Z$7=$J$3),Base!AA86)))","v":"50 - 99"},{"$f":"IFERROR(IF(Products!$Z$7=$J$3,VLOOKUP(CONCATENATE(A87,B87,C87),Base!$AB$13:$AC$64,2,FALSE),IF(Products!$Z$7=$J$2,VLOOKUP(CONCATENATE(A87,B87,C87),Base!$AB$13:$AE$64,4,FALSE),VLOOKUP(CONCATENATE(A87,B87,C87),Base!$D$9:$G$386,4,FALSE))),\"\")","v":42.08},{"$f":"Products!F87","v":0},{"$f":"IF(ISBLANK(Products!F87),0,IF(LEFT(Products!$Z$7,8)=\"Consumer\",D87*E87,IF(C87=\"500+\",IF(E87>=500,E87*D87),IF(C87=\"1000+\",IF(E87>=1000,E87*D87),IF(C87=\"3000+\",IF(E87>=3000,E87*D87),IF(AND(E87>=VLOOKUP(C87,$M$18:$P$34,3,FALSE),E87<=VLOOKUP(C87,$M$18:$P$34,4,FALSE)),E87*D87))))))","v":0},{"$f":"IF(Products!$Z$7=$J$4,Base!H83,IF(Products!$Z$7=$J$5,Base!#REF!,IF(OR(Products!$Z$7=$J$2,Products!$Z$7=$J$3),Base!AD86)))","v":"BL1211200D-EN"}]
[{"$f":"IF(Products!$Z$7=$J$4,Base!A84,IF(Products!$Z$7=$J$5,Base!#REF!,IF(OR(Products!$Z$7=$J$2,Products!$Z$7=$J$3),Base!Y87)))","v":"GravityZone Security for Virtualized Environments VDI"},{"$f":"IF(Products!$Z$7=$J$4,Base!B84,IF(Products!$Z$7=$J$5,Base!#REF!,IF(OR(Products!$Z$7=$J$2,Products!$Z$7=$J$3),Base!Z87)))","v":"2 years"},{"$f":"IF(Products!$Z$7=$J$4,Base!C84,IF(Products!$Z$7=$J$5,Base!#REF!,IF(OR(Products!$Z$7=$J$2,Products!$Z$7=$J$3),Base!AA87)))","v":"100 - 149"},{"$f":"IFERROR(IF(Products!$Z$7=$J$3,VLOOKUP(CONCATENATE(A88,B88,C88),Base!$AB$13:$AC$64,2,FALSE),IF(Products!$Z$7=$J$2,VLOOKUP(CONCATENATE(A88,B88,C88),Base!$AB$13:$AE$64,4,FALSE),VLOOKUP(CONCATENATE(A88,B88,C88),Base!$D$9:$G$386,4,FALSE))),\"\")","v":38.24},{"$f":"Products!F88","v":0},{"$f":"IF(ISBLANK(Products!F88),0,IF(LEFT(Products!$Z$7,8)=\"Consumer\",D88*E88,IF(C88=\"500+\",IF(E88>=500,E88*D88),IF(C88=\"1000+\",IF(E88>=1000,E88*D88),IF(C88=\"3000+\",IF(E88>=3000,E88*D88),IF(AND(E88>=VLOOKUP(C88,$M$18:$P$34,3,FALSE),E88<=VLOOKUP(C88,$M$18:$P$34,4,FALSE)),E88*D88))))))","v":0},{"$f":"IF(Products!$Z$7=$J$4,Base!H84,IF(Products!$Z$7=$J$5,Base!#REF!,IF(OR(Products!$Z$7=$J$2,Products!$Z$7=$J$3),Base!AD87)))","v":"BL1211200E-EN"}]
[{"$f":"IF(Products!$Z$7=$J$4,Base!A85,IF(Products!$Z$7=$J$5,Base!#REF!,IF(OR(Products!$Z$7=$J$2,Products!$Z$7=$J$3),Base!Y88)))","v":"GravityZone Security for Virtualized Environments VDI"},{"$f":"IF(Products!$Z$7=$J$4,Base!B85,IF(Products!$Z$7=$J$5,Base!#REF!,IF(OR(Products!$Z$7=$J$2,Products!$Z$7=$J$3),Base!Z88)))","v":"2 years"},{"$f":"IF(Products!$Z$7=$J$4,Base!C85,IF(Products!$Z$7=$J$5,Base!#REF!,IF(OR(Products!$Z$7=$J$2,Products!$Z$7=$J$3),Base!AA88)))","v":"150 - 249"},{"$f":"IFERROR(IF(Products!$Z$7=$J$3,VLOOKUP(CONCATENATE(A89,B89,C89),Base!$AB$13:$AC$64,2,FALSE),IF(Products!$Z$7=$J$2,VLOOKUP(CONCATENATE(A89,B89,C89),Base!$AB$13:$AE$64,4,FALSE),VLOOKUP(CONCATENATE(A89,B89,C89),Base!$D$9:$G$386,4,FALSE))),\"\")","v":36.24},{"$f":"Products!F89","v":0},{"$f":"IF(ISBLANK(Products!F89),0,IF(LEFT(Products!$Z$7,8)=\"Consumer\",D89*E89,IF(C89=\"500+\",IF(E89>=500,E89*D89),IF(C89=\"1000+\",IF(E89>=1000,E89*D89),IF(C89=\"3000+\",IF(E89>=3000,E89*D89),IF(AND(E89>=VLOOKUP(C89,$M$18:$P$34,3,FALSE),E89<=VLOOKUP(C89,$M$18:$P$34,4,FALSE)),E89*D89))))))","v":0},{"$f":"IF(Products!$Z$7=$J$4,Base!H85,IF(Products!$Z$7=$J$5,Base!#REF!,IF(OR(Products!$Z$7=$J$2,Products!$Z$7=$J$3),Base!AD88)))","v":"BL1211200F-EN"}]
[{"$f":"IF(Products!$Z$7=$J$4,Base!A86,IF(Products!$Z$7=$J$5,Base!#REF!,IF(OR(Products!$Z$7=$J$2,Products!$Z$7=$J$3),Base!Y89)))","v":"GravityZone Security for Virtualized Environments VDI"},{"$f":"IF(Products!$Z$7=$J$4,Base!B86,IF(Products!$Z$7=$J$5,Base!#REF!,IF(OR(Products!$Z$7=$J$2,Products!$Z$7=$J$3),Base!Z89)))","v":"2 years"},{"$f":"IF(Products!$Z$7=$J$4,Base!C86,IF(Products!$Z$7=$J$5,Base!#REF!,IF(OR(Products!$Z$7=$J$2,Products!$Z$7=$J$3),Base!AA89)))","v":"250 - 499"},{"$f":"IFERROR(IF(Products!$Z$7=$J$3,VLOOKUP(CONCATENATE(A90,B90,C90),Base!$AB$13:$AC$64,2,FALSE),IF(Products!$Z$7=$J$2,VLOOKUP(CONCATENATE(A90,B90,C90),Base!$AB$13:$AE$64,4,FALSE),VLOOKUP(CONCATENATE(A90,B90,C90),Base!$D$9:$G$386,4,FALSE))),\"\")","v":32.64},{"$f":"Products!F90","v":0},{"$f":"IF(ISBLANK(Products!F90),0,IF(LEFT(Products!$Z$7,8)=\"Consumer\",D90*E90,IF(C90=\"500+\",IF(E90>=500,E90*D90),IF(C90=\"1000+\",IF(E90>=1000,E90*D90),IF(C90=\"3000+\",IF(E90>=3000,E90*D90),IF(AND(E90>=VLOOKUP(C90,$M$18:$P$34,3,FALSE),E90<=VLOOKUP(C90,$M$18:$P$34,4,FALSE)),E90*D90))))))","v":0},{"$f":"IF(Products!$Z$7=$J$4,Base!H86,IF(Products!$Z$7=$J$5,Base!#REF!,IF(OR(Products!$Z$7=$J$2,Products!$Z$7=$J$3),Base!AD89)))","v":"BL1211200G-EN"}]
[{"$f":"IF(Products!$Z$7=$J$4,Base!A87,IF(Products!$Z$7=$J$5,Base!#REF!,IF(OR(Products!$Z$7=$J$2,Products!$Z$7=$J$3),Base!Y90)))","v":"GravityZone Security for Virtualized Environments VDI"},{"$f":"IF(Products!$Z$7=$J$4,Base!B87,IF(Products!$Z$7=$J$5,Base!#REF!,IF(OR(Products!$Z$7=$J$2,Products!$Z$7=$J$3),Base!Z90)))","v":"2 years"},{"$f":"IF(Products!$Z$7=$J$4,Base!C87,IF(Products!$Z$7=$J$5,Base!#REF!,IF(OR(Products!$Z$7=$J$2,Products!$Z$7=$J$3),Base!AA90)))","v":"500 - 999"},{"$f":"IFERROR(IF(Products!$Z$7=$J$3,VLOOKUP(CONCATENATE(A91,B91,C91),Base!$AB$13:$AC$64,2,FALSE),IF(Products!$Z$7=$J$2,VLOOKUP(CONCATENATE(A91,B91,C91),Base!$AB$13:$AE$64,4,FALSE),VLOOKUP(CONCATENATE(A91,B91,C91),Base!$D$9:$G$386,4,FALSE))),\"\")","v":29.36},{"$f":"Products!F91","v":0},{"$f":"IF(ISBLANK(Products!F91),0,IF(LEFT(Products!$Z$7,8)=\"Consumer\",D91*E91,IF(C91=\"500+\",IF(E91>=500,E91*D91),IF(C91=\"1000+\",IF(E91>=1000,E91*D91),IF(C91=\"3000+\",IF(E91>=3000,E91*D91),IF(AND(E91>=VLOOKUP(C91,$M$18:$P$34,3,FALSE),E91<=VLOOKUP(C91,$M$18:$P$34,4,FALSE)),E91*D91))))))","v":0},{"$f":"IF(Products!$Z$7=$J$4,Base!H87,IF(Products!$Z$7=$J$5,Base!#REF!,IF(OR(Products!$Z$7=$J$2,Products!$Z$7=$J$3),Base!AD90)))","v":"BL1211200H-EN"}]
[{"$f":"IF(Products!$Z$7=$J$4,Base!A88,IF(Products!$Z$7=$J$5,Base!#REF!,IF(OR(Products!$Z$7=$J$2,Products!$Z$7=$J$3),Base!Y91)))","v":"GravityZone Security for Virtualized Environments VDI"},{"$f":"IF(Products!$Z$7=$J$4,Base!B88,IF(Products!$Z$7=$J$5,Base!#REF!,IF(OR(Products!$Z$7=$J$2,Products!$Z$7=$J$3),Base!Z91)))","v":"2 years"},{"$f":"IF(Products!$Z$7=$J$4,Base!C88,IF(Products!$Z$7=$J$5,Base!#REF!,IF(OR(Products!$Z$7=$J$2,Products!$Z$7=$J$3),Base!AA91)))","v":"1000 - 2999"},{"$f":"IFERROR(IF(Products!$Z$7=$J$3,VLOOKUP(CONCATENATE(A92,B92,C92),Base!$AB$13:$AC$64,2,FALSE),IF(Products!$Z$7=$J$2,VLOOKUP(CONCATENATE(A92,B92,C92),Base!$AB$13:$AE$64,4,FALSE),VLOOKUP(CONCATENATE(A92,B92,C92),Base!$D$9:$G$386,4,FALSE))),\"\")","v":26.4},{"$f":"Products!F92","v":0},{"$f":"IF(ISBLANK(Products!F92),0,IF(LEFT(Products!$Z$7,8)=\"Consumer\",D92*E92,IF(C92=\"500+\",IF(E92>=500,E92*D92),IF(C92=\"1000+\",IF(E92>=1000,E92*D92),IF(C92=\"3000+\",IF(E92>=3000,E92*D92),IF(AND(E92>=VLOOKUP(C92,$M$18:$P$34,3,FALSE),E92<=VLOOKUP(C92,$M$18:$P$34,4,FALSE)),E92*D92))))))","v":0},{"$f":"IF(Products!$Z$7=$J$4,Base!H88,IF(Products!$Z$7=$J$5,Base!#REF!,IF(OR(Products!$Z$7=$J$2,Products!$Z$7=$J$3),Base!AD91)))","v":"BL1211200I-EN"}]
[{"$f":"IF(Products!$Z$7=$J$4,Base!A89,IF(Products!$Z$7=$J$5,Base!#REF!,IF(OR(Products!$Z$7=$J$2,Products!$Z$7=$J$3),Base!Y92)))","v":"GravityZone Security for Virtualized Environments VDI"},{"$f":"IF(Products!$Z$7=$J$4,Base!B89,IF(Products!$Z$7=$J$5,Base!#REF!,IF(OR(Products!$Z$7=$J$2,Products!$Z$7=$J$3),Base!Z92)))","v":"2 years"},{"$f":"IF(Products!$Z$7=$J$4,Base!C89,IF(Products!$Z$7=$J$5,Base!#REF!,IF(OR(Products!$Z$7=$J$2,Products!$Z$7=$J$3),Base!AA92)))","v":"3000+"},{"$f":"IFERROR(IF(Products!$Z$7=$J$3,VLOOKUP(CONCATENATE(A93,B93,C93),Base!$AB$13:$AC$64,2,FALSE),IF(Products!$Z$7=$J$2,VLOOKUP(CONCATENATE(A93,B93,C93),Base!$AB$13:$AE$64,4,FALSE),VLOOKUP(CONCATENATE(A93,B93,C93),Base!$D$9:$G$386,4,FALSE))),\"\")","v":23.76},{"$f":"Products!F93","v":0},{"$f":"IF(ISBLANK(Products!F93),0,IF(LEFT(Products!$Z$7,8)=\"Consumer\",D93*E93,IF(C93=\"500+\",IF(E93>=500,E93*D93),IF(C93=\"1000+\",IF(E93>=1000,E93*D93),IF(C93=\"3000+\",IF(E93>=3000,E93*D93),IF(AND(E93>=VLOOKUP(C93,$M$18:$P$34,3,FALSE),E93<=VLOOKUP(C93,$M$18:$P$34,4,FALSE)),E93*D93))))))","v":0},{"$f":"IF(Products!$Z$7=$J$4,Base!H89,IF(Products!$Z$7=$J$5,Base!#REF!,IF(OR(Products!$Z$7=$J$2,Products!$Z$7=$J$3),Base!AD92)))","v":"BL1211200J-EN"}]
[{"$f":"IF(Products!$Z$7=$J$4,Base!A90,IF(Products!$Z$7=$J$5,Base!#REF!,IF(OR(Products!$Z$7=$J$2,Products!$Z$7=$J$3),Base!Y93)))","v":"GravityZone Security for Virtualized Environments VDI"},{"$f":"IF(Products!$Z$7=$J$4,Base!B90,IF(Products!$Z$7=$J$5,Base!#REF!,IF(OR(Products!$Z$7=$J$2,Products!$Z$7=$J$3),Base!Z93)))","v":"3 years"},{"$f":"IF(Products!$Z$7=$J$4,Base!C90,IF(Products!$Z$7=$J$5,Base!#REF!,IF(OR(Products!$Z$7=$J$2,Products!$Z$7=$J$3),Base!AA93)))","v":"5 - 14"},{"$f":"IFERROR(IF(Products!$Z$7=$J$3,VLOOKUP(CONCATENATE(A94,B94,C94),Base!$AB$13:$AC$64,2,FALSE),IF(Products!$Z$7=$J$2,VLOOKUP(CONCATENATE(A94,B94,C94),Base!$AB$13:$AE$64,4,FALSE),VLOOKUP(CONCATENATE(A94,B94,C94),Base!$D$9:$G$386,4,FALSE))),\"\")","v":63.55},{"$f":"Products!F94","v":0},{"$f":"IF(ISBLANK(Products!F94),0,IF(LEFT(Products!$Z$7,8)=\"Consumer\",D94*E94,IF(C94=\"500+\",IF(E94>=500,E94*D94),IF(C94=\"1000+\",IF(E94>=1000,E94*D94),IF(C94=\"3000+\",IF(E94>=3000,E94*D94),IF(AND(E94>=VLOOKUP(C94,$M$18:$P$34,3,FALSE),E94<=VLOOKUP(C94,$M$18:$P$34,4,FALSE)),E94*D94))))))","v":0},{"$f":"IF(Products!$Z$7=$J$4,Base!H90,IF(Products!$Z$7=$J$5,Base!#REF!,IF(OR(Products!$Z$7=$J$2,Products!$Z$7=$J$3),Base!AD93)))","v":"BL1211300A-EN"}]
[{"$f":"IF(Products!$Z$7=$J$4,Base!A91,IF(Products!$Z$7=$J$5,Base!#REF!,IF(OR(Products!$Z$7=$J$2,Products!$Z$7=$J$3),Base!Y94)))","v":"GravityZone Security for Virtualized Environments VDI"},{"$f":"IF(Products!$Z$7=$J$4,Base!B91,IF(Products!$Z$7=$J$5,Base!#REF!,IF(OR(Products!$Z$7=$J$2,Products!$Z$7=$J$3),Base!Z94)))","v":"3 years"},{"$f":"IF(Products!$Z$7=$J$4,Base!C91,IF(Products!$Z$7=$J$5,Base!#REF!,IF(OR(Products!$Z$7=$J$2,Products!$Z$7=$J$3),Base!AA94)))","v":"15 - 24"},{"$f":"IFERROR(IF(Products!$Z$7=$J$3,VLOOKUP(CONCATENATE(A95,B95,C95),Base!$AB$13:$AC$64,2,FALSE),IF(Products!$Z$7=$J$2,VLOOKUP(CONCATENATE(A95,B95,C95),Base!$AB$13:$AE$64,4,FALSE),VLOOKUP(CONCATENATE(A95,B95,C95),Base!$D$9:$G$386,4,FALSE))),\"\")","v":60.99},{"$f":"Products!F95","v":0},{"$f":"IF(ISBLANK(Products!F95),0,IF(LEFT(Products!$Z$7,8)=\"Consumer\",D95*E95,IF(C95=\"500+\",IF(E95>=500,E95*D95),IF(C95=\"1000+\",IF(E95>=1000,E95*D95),IF(C95=\"3000+\",IF(E95>=3000,E95*D95),IF(AND(E95>=VLOOKUP(C95,$M$18:$P$34,3,FALSE),E95<=VLOOKUP(C95,$M$18:$P$34,4,FALSE)),E95*D95))))))","v":0},{"$f":"IF(Products!$Z$7=$J$4,Base!H91,IF(Products!$Z$7=$J$5,Base!#REF!,IF(OR(Products!$Z$7=$J$2,Products!$Z$7=$J$3),Base!AD94)))","v":"BL1211300B-EN"}]
[{"$f":"IF(Products!$Z$7=$J$4,Base!A92,IF(Products!$Z$7=$J$5,Base!#REF!,IF(OR(Products!$Z$7=$J$2,Products!$Z$7=$J$3),Base!Y95)))","v":"GravityZone Security for Virtualized Environments VDI"},{"$f":"IF(Products!$Z$7=$J$4,Base!B92,IF(Products!$Z$7=$J$5,Base!#REF!,IF(OR(Products!$Z$7=$J$2,Products!$Z$7=$J$3),Base!Z95)))","v":"3 years"},{"$f":"IF(Products!$Z$7=$J$4,Base!C92,IF(Products!$Z$7=$J$5,Base!#REF!,IF(OR(Products!$Z$7=$J$2,Products!$Z$7=$J$3),Base!AA95)))","v":"25 - 49"},{"$f":"IFERROR(IF(Products!$Z$7=$J$3,VLOOKUP(CONCATENATE(A96,B96,C96),Base!$AB$13:$AC$64,2,FALSE),IF(Products!$Z$7=$J$2,VLOOKUP(CONCATENATE(A96,B96,C96),Base!$AB$13:$AE$64,4,FALSE),VLOOKUP(CONCATENATE(A96,B96,C96),Base!$D$9:$G$386,4,FALSE))),\"\")","v":57.91},{"$f":"Products!F96","v":0},{"$f":"IF(ISBLANK(Products!F96),0,IF(LEFT(Products!$Z$7,8)=\"Consumer\",D96*E96,IF(C96=\"500+\",IF(E96>=500,E96*D96),IF(C96=\"1000+\",IF(E96>=1000,E96*D96),IF(C96=\"3000+\",IF(E96>=3000,E96*D96),IF(AND(E96>=VLOOKUP(C96,$M$18:$P$34,3,FALSE),E96<=VLOOKUP(C96,$M$18:$P$34,4,FALSE)),E96*D96))))))","v":0},{"$f":"IF(Products!$Z$7=$J$4,Base!H92,IF(Products!$Z$7=$J$5,Base!#REF!,IF(OR(Products!$Z$7=$J$2,Products!$Z$7=$J$3),Base!AD95)))","v":"BL1211300C-EN"}]
[{"$f":"IF(Products!$Z$7=$J$4,Base!A93,IF(Products!$Z$7=$J$5,Base!#REF!,IF(OR(Products!$Z$7=$J$2,Products!$Z$7=$J$3),Base!Y96)))","v":"GravityZone Security for Virtualized Environments VDI"},{"$f":"IF(Products!$Z$7=$J$4,Base!B93,IF(Products!$Z$7=$J$5,Base!#REF!,IF(OR(Products!$Z$7=$J$2,Products!$Z$7=$J$3),Base!Z96)))","v":"3 years"},{"$f":"IF(Products!$Z$7=$J$4,Base!C93,IF(Products!$Z$7=$J$5,Base!#REF!,IF(OR(Products!$Z$7=$J$2,Products!$Z$7=$J$3),Base!AA96)))","v":"50 - 99"},{"$f":"IFERROR(IF(Products!$Z$7=$J$3,VLOOKUP(CONCATENATE(A97,B97,C97),Base!$AB$13:$AC$64,2,FALSE),IF(Products!$Z$7=$J$2,VLOOKUP(CONCATENATE(A97,B97,C97),Base!$AB$13:$AE$64,4,FALSE),VLOOKUP(CONCATENATE(A97,B97,C97),Base!$D$9:$G$386,4,FALSE))),\"\")","v":53.92},{"$f":"Products!F97","v":0},{"$f":"IF(ISBLANK(Products!F97),0,IF(LEFT(Products!$Z$7,8)=\"Consumer\",D97*E97,IF(C97=\"500+\",IF(E97>=500,E97*D97),IF(C97=\"1000+\",IF(E97>=1000,E97*D97),IF(C97=\"3000+\",IF(E97>=3000,E97*D97),IF(AND(E97>=VLOOKUP(C97,$M$18:$P$34,3,FALSE),E97<=VLOOKUP(C97,$M$18:$P$34,4,FALSE)),E97*D97))))))","v":0},{"$f":"IF(Products!$Z$7=$J$4,Base!H93,IF(Products!$Z$7=$J$5,Base!#REF!,IF(OR(Products!$Z$7=$J$2,Products!$Z$7=$J$3),Base!AD96)))","v":"BL1211300D-EN"}]
[{"$f":"IF(Products!$Z$7=$J$4,Base!A94,IF(Products!$Z$7=$J$5,Base!#REF!,IF(OR(Products!$Z$7=$J$2,Products!$Z$7=$J$3),Base!Y97)))","v":"GravityZone Security for Virtualized Environments VDI"},{"$f":"IF(Products!$Z$7=$J$4,Base!B94,IF(Products!$Z$7=$J$5,Base!#REF!,IF(OR(Products!$Z$7=$J$2,Products!$Z$7=$J$3),Base!Z97)))","v":"3 years"},{"$f":"IF(Products!$Z$7=$J$4,Base!C94,IF(Products!$Z$7=$J$5,Base!#REF!,IF(OR(Products!$Z$7=$J$2,Products!$Z$7=$J$3),Base!AA97)))","v":"100 - 149"},{"$f":"IFERROR(IF(Products!$Z$7=$J$3,VLOOKUP(CONCATENATE(A98,B98,C98),Base!$AB$13:$AC$64,2,FALSE),IF(Products!$Z$7=$J$2,VLOOKUP(CONCATENATE(A98,B98,C98),Base!$AB$13:$AE$64,4,FALSE),VLOOKUP(CONCATENATE(A98,B98,C98),Base!$D$9:$G$386,4,FALSE))),\"\")","v":49},{"$f":"Products!F98","v":0},{"$f":"IF(ISBLANK(Products!F98),0,IF(LEFT(Products!$Z$7,8)=\"Consumer\",D98*E98,IF(C98=\"500+\",IF(E98>=500,E98*D98),IF(C98=\"1000+\",IF(E98>=1000,E98*D98),IF(C98=\"3000+\",IF(E98>=3000,E98*D98),IF(AND(E98>=VLOOKUP(C98,$M$18:$P$34,3,FALSE),E98<=VLOOKUP(C98,$M$18:$P$34,4,FALSE)),E98*D98))))))","v":0},{"$f":"IF(Products!$Z$7=$J$4,Base!H94,IF(Products!$Z$7=$J$5,Base!#REF!,IF(OR(Products!$Z$7=$J$2,Products!$Z$7=$J$3),Base!AD97)))","v":"BL1211300E-EN"}]
[{"$f":"IF(Products!$Z$7=$J$4,Base!A95,IF(Products!$Z$7=$J$5,Base!#REF!,IF(OR(Products!$Z$7=$J$2,Products!$Z$7=$J$3),Base!Y98)))","v":"GravityZone Security for Virtualized Environments VDI"},{"$f":"IF(Products!$Z$7=$J$4,Base!B95,IF(Products!$Z$7=$J$5,Base!#REF!,IF(OR(Products!$Z$7=$J$2,Products!$Z$7=$J$3),Base!Z98)))","v":"3 years"},{"$f":"IF(Products!$Z$7=$J$4,Base!C95,IF(Products!$Z$7=$J$5,Base!#REF!,IF(OR(Products!$Z$7=$J$2,Products!$Z$7=$J$3),Base!AA98)))","v":"150 - 249"},{"$f":"IFERROR(IF(Products!$Z$7=$J$3,VLOOKUP(CONCATENATE(A99,B99,C99),Base!$AB$13:$AC$64,2,FALSE),IF(Products!$Z$7=$J$2,VLOOKUP(CONCATENATE(A99,B99,C99),Base!$AB$13:$AE$64,4,FALSE),VLOOKUP(CONCATENATE(A99,B99,C99),Base!$D$9:$G$386,4,FALSE))),\"\")","v":46.43},{"$f":"Products!F99","v":0},{"$f":"IF(ISBLANK(Products!F99),0,IF(LEFT(Products!$Z$7,8)=\"Consumer\",D99*E99,IF(C99=\"500+\",IF(E99>=500,E99*D99),IF(C99=\"1000+\",IF(E99>=1000,E99*D99),IF(C99=\"3000+\",IF(E99>=3000,E99*D99),IF(AND(E99>=VLOOKUP(C99,$M$18:$P$34,3,FALSE),E99<=VLOOKUP(C99,$M$18:$P$34,4,FALSE)),E99*D99))))))","v":0},{"$f":"IF(Products!$Z$7=$J$4,Base!H95,IF(Products!$Z$7=$J$5,Base!#REF!,IF(OR(Products!$Z$7=$J$2,Products!$Z$7=$J$3),Base!AD98)))","v":"BL1211300F-EN"}]
[{"$f":"IF(Products!$Z$7=$J$4,Base!A96,IF(Products!$Z$7=$J$5,Base!#REF!,IF(OR(Products!$Z$7=$J$2,Products!$Z$7=$J$3),Base!Y99)))","v":"GravityZone Security for Virtualized Environments VDI"},{"$f":"IF(Products!$Z$7=$J$4,Base!B96,IF(Products!$Z$7=$J$5,Base!#REF!,IF(OR(Products!$Z$7=$J$2,Products!$Z$7=$J$3),Base!Z99)))","v":"3 years"},{"$f":"IF(Products!$Z$7=$J$4,Base!C96,IF(Products!$Z$7=$J$5,Base!#REF!,IF(OR(Products!$Z$7=$J$2,Products!$Z$7=$J$3),Base!AA99)))","v":"250 - 499"},{"$f":"IFERROR(IF(Products!$Z$7=$J$3,VLOOKUP(CONCATENATE(A100,B100,C100),Base!$AB$13:$AC$64,2,FALSE),IF(Products!$Z$7=$J$2,VLOOKUP(CONCATENATE(A100,B100,C100),Base!$AB$13:$AE$64,4,FALSE),VLOOKUP(CONCATENATE(A100,B100,C100),Base!$D$9:$G$386,4,FALSE))),\"\")","v":41.82},{"$f":"Products!F100","v":0},{"$f":"IF(ISBLANK(Products!F100),0,IF(LEFT(Products!$Z$7,8)=\"Consumer\",D100*E100,IF(C100=\"500+\",IF(E100>=500,E100*D100),IF(C100=\"1000+\",IF(E100>=1000,E100*D100),IF(C100=\"3000+\",IF(E100>=3000,E100*D100),IF(AND(E100>=VLOOKUP(C100,$M$18:$P$34,3,FALSE),E100<=VLOOKUP(C100,$M$18:$P$34,4,FALSE)),E100*D100))))))","v":0},{"$f":"IF(Products!$Z$7=$J$4,Base!H96,IF(Products!$Z$7=$J$5,Base!#REF!,IF(OR(Products!$Z$7=$J$2,Products!$Z$7=$J$3),Base!AD99)))","v":"BL1211300G-EN"}]
[{"$f":"IF(Products!$Z$7=$J$4,Base!A97,IF(Products!$Z$7=$J$5,Base!#REF!,IF(OR(Products!$Z$7=$J$2,Products!$Z$7=$J$3),Base!Y100)))","v":"GravityZone Security for Virtualized Environments VDI"},{"$f":"IF(Products!$Z$7=$J$4,Base!B97,IF(Products!$Z$7=$J$5,Base!#REF!,IF(OR(Products!$Z$7=$J$2,Products!$Z$7=$J$3),Base!Z100)))","v":"3 years"},{"$f":"IF(Products!$Z$7=$J$4,Base!C97,IF(Products!$Z$7=$J$5,Base!#REF!,IF(OR(Products!$Z$7=$J$2,Products!$Z$7=$J$3),Base!AA100)))","v":"500 - 999"},{"$f":"IFERROR(IF(Products!$Z$7=$J$3,VLOOKUP(CONCATENATE(A101,B101,C101),Base!$AB$13:$AC$64,2,FALSE),IF(Products!$Z$7=$J$2,VLOOKUP(CONCATENATE(A101,B101,C101),Base!$AB$13:$AE$64,4,FALSE),VLOOKUP(CONCATENATE(A101,B101,C101),Base!$D$9:$G$386,4,FALSE))),\"\")","v":37.619999999999997},{"$f":"Products!F101","v":0},{"$f":"IF(ISBLANK(Products!F101),0,IF(LEFT(Products!$Z$7,8)=\"Consumer\",D101*E101,IF(C101=\"500+\",IF(E101>=500,E101*D101),IF(C101=\"1000+\",IF(E101>=1000,E101*D101),IF(C101=\"3000+\",IF(E101>=3000,E101*D101),IF(AND(E101>=VLOOKUP(C101,$M$18:$P$34,3,FALSE),E101<=VLOOKUP(C101,$M$18:$P$34,4,FALSE)),E101*D101))))))","v":0},{"$f":"IF(Products!$Z$7=$J$4,Base!H97,IF(Products!$Z$7=$J$5,Base!#REF!,IF(OR(Products!$Z$7=$J$2,Products!$Z$7=$J$3),Base!AD100)))","v":"BL1211300H-EN"}]
[{"$f":"IF(Products!$Z$7=$J$4,Base!A98,IF(Products!$Z$7=$J$5,Base!#REF!,IF(OR(Products!$Z$7=$J$2,Products!$Z$7=$J$3),Base!Y101)))","v":"GravityZone Security for Virtualized Environments VDI"},{"$f":"IF(Products!$Z$7=$J$4,Base!B98,IF(Products!$Z$7=$J$5,Base!#REF!,IF(OR(Products!$Z$7=$J$2,Products!$Z$7=$J$3),Base!Z101)))","v":"3 years"},{"$f":"IF(Products!$Z$7=$J$4,Base!C98,IF(Products!$Z$7=$J$5,Base!#REF!,IF(OR(Products!$Z$7=$J$2,Products!$Z$7=$J$3),Base!AA101)))","v":"1000 - 2999"},{"$f":"IFERROR(IF(Products!$Z$7=$J$3,VLOOKUP(CONCATENATE(A102,B102,C102),Base!$AB$13:$AC$64,2,FALSE),IF(Products!$Z$7=$J$2,VLOOKUP(CONCATENATE(A102,B102,C102),Base!$AB$13:$AE$64,4,FALSE),VLOOKUP(CONCATENATE(A102,B102,C102),Base!$D$9:$G$386,4,FALSE))),\"\")","v":33.83},{"$f":"Products!F102","v":0},{"$f":"IF(ISBLANK(Products!F102),0,IF(LEFT(Products!$Z$7,8)=\"Consumer\",D102*E102,IF(C102=\"500+\",IF(E102>=500,E102*D102),IF(C102=\"1000+\",IF(E102>=1000,E102*D102),IF(C102=\"3000+\",IF(E102>=3000,E102*D102),IF(AND(E102>=VLOOKUP(C102,$M$18:$P$34,3,FALSE),E102<=VLOOKUP(C102,$M$18:$P$34,4,FALSE)),E102*D102))))))","v":0},{"$f":"IF(Products!$Z$7=$J$4,Base!H98,IF(Products!$Z$7=$J$5,Base!#REF!,IF(OR(Products!$Z$7=$J$2,Products!$Z$7=$J$3),Base!AD101)))","v":"BL1211300I-EN"}]
[{"$f":"IF(Products!$Z$7=$J$4,Base!A99,IF(Products!$Z$7=$J$5,Base!#REF!,IF(OR(Products!$Z$7=$J$2,Products!$Z$7=$J$3),Base!Y102)))","v":"GravityZone Security for Virtualized Environments VDI"},{"$f":"IF(Products!$Z$7=$J$4,Base!B99,IF(Products!$Z$7=$J$5,Base!#REF!,IF(OR(Products!$Z$7=$J$2,Products!$Z$7=$J$3),Base!Z102)))","v":"3 years"},{"$f":"IF(Products!$Z$7=$J$4,Base!C99,IF(Products!$Z$7=$J$5,Base!#REF!,IF(OR(Products!$Z$7=$J$2,Products!$Z$7=$J$3),Base!AA102)))","v":"3000+"},{"$f":"IFERROR(IF(Products!$Z$7=$J$3,VLOOKUP(CONCATENATE(A103,B103,C103),Base!$AB$13:$AC$64,2,FALSE),IF(Products!$Z$7=$J$2,VLOOKUP(CONCATENATE(A103,B103,C103),Base!$AB$13:$AE$64,4,FALSE),VLOOKUP(CONCATENATE(A103,B103,C103),Base!$D$9:$G$386,4,FALSE))),\"\")","v":30.44},{"$f":"Products!F103","v":0},{"$f":"IF(ISBLANK(Products!F103),0,IF(LEFT(Products!$Z$7,8)=\"Consumer\",D103*E103,IF(C103=\"500+\",IF(E103>=500,E103*D103),IF(C103=\"1000+\",IF(E103>=1000,E103*D103),IF(C103=\"3000+\",IF(E103>=3000,E103*D103),IF(AND(E103>=VLOOKUP(C103,$M$18:$P$34,3,FALSE),E103<=VLOOKUP(C103,$M$18:$P$34,4,FALSE)),E103*D103))))))","v":0},{"$f":"IF(Products!$Z$7=$J$4,Base!H99,IF(Products!$Z$7=$J$5,Base!#REF!,IF(OR(Products!$Z$7=$J$2,Products!$Z$7=$J$3),Base!AD102)))","v":"BL1211300J-EN"}]
[{"$f":"IF(Products!$Z$7=$J$4,Base!A100,IF(Products!$Z$7=$J$5,Base!#REF!,IF(OR(Products!$Z$7=$J$2,Products!$Z$7=$J$3),Base!Y103)))","v":"GravityZone Security for Virtualized Environments VS"},{"$f":"IF(Products!$Z$7=$J$4,Base!B100,IF(Products!$Z$7=$J$5,Base!#REF!,IF(OR(Products!$Z$7=$J$2,Products!$Z$7=$J$3),Base!Z103)))","v":"1 year"},{"$f":"IF(Products!$Z$7=$J$4,Base!C100,IF(Products!$Z$7=$J$5,Base!#REF!,IF(OR(Products!$Z$7=$J$2,Products!$Z$7=$J$3),Base!AA103)))","v":"1 - 14"},{"$f":"IFERROR(IF(Products!$Z$7=$J$3,VLOOKUP(CONCATENATE(A104,B104,C104),Base!$AB$13:$AC$64,2,FALSE),IF(Products!$Z$7=$J$2,VLOOKUP(CONCATENATE(A104,B104,C104),Base!$AB$13:$AE$64,4,FALSE),VLOOKUP(CONCATENATE(A104,B104,C104),Base!$D$9:$G$386,4,FALSE))),\"\")","v":92},{"$f":"Products!F104","v":0},{"$f":"IF(ISBLANK(Products!F104),0,IF(LEFT(Products!$Z$7,8)=\"Consumer\",D104*E104,IF(C104=\"500+\",IF(E104>=500,E104*D104),IF(C104=\"1000+\",IF(E104>=1000,E104*D104),IF(C104=\"3000+\",IF(E104>=3000,E104*D104),IF(AND(E104>=VLOOKUP(C104,$M$18:$P$34,3,FALSE),E104<=VLOOKUP(C104,$M$18:$P$34,4,FALSE)),E104*D104))))))","v":0},{"$f":"IF(Products!$Z$7=$J$4,Base!H100,IF(Products!$Z$7=$J$5,Base!#REF!,IF(OR(Products!$Z$7=$J$2,Products!$Z$7=$J$3),Base!AD103)))","v":"BL1225100A-EN"}]
[{"$f":"IF(Products!$Z$7=$J$4,Base!A101,IF(Products!$Z$7=$J$5,Base!#REF!,IF(OR(Products!$Z$7=$J$2,Products!$Z$7=$J$3),Base!Y104)))","v":"GravityZone Security for Virtualized Environments VS"},{"$f":"IF(Products!$Z$7=$J$4,Base!B101,IF(Products!$Z$7=$J$5,Base!#REF!,IF(OR(Products!$Z$7=$J$2,Products!$Z$7=$J$3),Base!Z104)))","v":"1 year"},{"$f":"IF(Products!$Z$7=$J$4,Base!C101,IF(Products!$Z$7=$J$5,Base!#REF!,IF(OR(Products!$Z$7=$J$2,Products!$Z$7=$J$3),Base!AA104)))","v":"15 - 24"},{"$f":"IFERROR(IF(Products!$Z$7=$J$3,VLOOKUP(CONCATENATE(A105,B105,C105),Base!$AB$13:$AC$64,2,FALSE),IF(Products!$Z$7=$J$2,VLOOKUP(CONCATENATE(A105,B105,C105),Base!$AB$13:$AE$64,4,FALSE),VLOOKUP(CONCATENATE(A105,B105,C105),Base!$D$9:$G$386,4,FALSE))),\"\")","v":82.8},{"$f":"Products!F105","v":0},{"$f":"IF(ISBLANK(Products!F105),0,IF(LEFT(Products!$Z$7,8)=\"Consumer\",D105*E105,IF(C105=\"500+\",IF(E105>=500,E105*D105),IF(C105=\"1000+\",IF(E105>=1000,E105*D105),IF(C105=\"3000+\",IF(E105>=3000,E105*D105),IF(AND(E105>=VLOOKUP(C105,$M$18:$P$34,3,FALSE),E105<=VLOOKUP(C105,$M$18:$P$34,4,FALSE)),E105*D105))))))","v":0},{"$f":"IF(Products!$Z$7=$J$4,Base!H101,IF(Products!$Z$7=$J$5,Base!#REF!,IF(OR(Products!$Z$7=$J$2,Products!$Z$7=$J$3),Base!AD104)))","v":"BL1225100B-EN"}]
[{"$f":"IF(Products!$Z$7=$J$4,Base!A102,IF(Products!$Z$7=$J$5,Base!#REF!,IF(OR(Products!$Z$7=$J$2,Products!$Z$7=$J$3),Base!Y105)))","v":"GravityZone Security for Virtualized Environments VS"},{"$f":"IF(Products!$Z$7=$J$4,Base!B102,IF(Products!$Z$7=$J$5,Base!#REF!,IF(OR(Products!$Z$7=$J$2,Products!$Z$7=$J$3),Base!Z105)))","v":"1 year"},{"$f":"IF(Products!$Z$7=$J$4,Base!C102,IF(Products!$Z$7=$J$5,Base!#REF!,IF(OR(Products!$Z$7=$J$2,Products!$Z$7=$J$3),Base!AA105)))","v":"25 - 49"},{"$f":"IFERROR(IF(Products!$Z$7=$J$3,VLOOKUP(CONCATENATE(A106,B106,C106),Base!$AB$13:$AC$64,2,FALSE),IF(Products!$Z$7=$J$2,VLOOKUP(CONCATENATE(A106,B106,C106),Base!$AB$13:$AE$64,4,FALSE),VLOOKUP(CONCATENATE(A106,B106,C106),Base!$D$9:$G$386,4,FALSE))),\"\")","v":76.2},{"$f":"Products!F106","v":0},{"$f":"IF(ISBLANK(Products!F106),0,IF(LEFT(Products!$Z$7,8)=\"Consumer\",D106*E106,IF(C106=\"500+\",IF(E106>=500,E106*D106),IF(C106=\"1000+\",IF(E106>=1000,E106*D106),IF(C106=\"3000+\",IF(E106>=3000,E106*D106),IF(AND(E106>=VLOOKUP(C106,$M$18:$P$34,3,FALSE),E106<=VLOOKUP(C106,$M$18:$P$34,4,FALSE)),E106*D106))))))","v":0},{"$f":"IF(Products!$Z$7=$J$4,Base!H102,IF(Products!$Z$7=$J$5,Base!#REF!,IF(OR(Products!$Z$7=$J$2,Products!$Z$7=$J$3),Base!AD105)))","v":"BL1225100C-EN"}]
[{"$f":"IF(Products!$Z$7=$J$4,Base!A103,IF(Products!$Z$7=$J$5,Base!#REF!,IF(OR(Products!$Z$7=$J$2,Products!$Z$7=$J$3),Base!Y106)))","v":"GravityZone Security for Virtualized Environments VS"},{"$f":"IF(Products!$Z$7=$J$4,Base!B103,IF(Products!$Z$7=$J$5,Base!#REF!,IF(OR(Products!$Z$7=$J$2,Products!$Z$7=$J$3),Base!Z106)))","v":"1 year"},{"$f":"IF(Products!$Z$7=$J$4,Base!C103,IF(Products!$Z$7=$J$5,Base!#REF!,IF(OR(Products!$Z$7=$J$2,Products!$Z$7=$J$3),Base!AA106)))","v":"50 - 99"},{"$f":"IFERROR(IF(Products!$Z$7=$J$3,VLOOKUP(CONCATENATE(A107,B107,C107),Base!$AB$13:$AC$64,2,FALSE),IF(Products!$Z$7=$J$2,VLOOKUP(CONCATENATE(A107,B107,C107),Base!$AB$13:$AE$64,4,FALSE),VLOOKUP(CONCATENATE(A107,B107,C107),Base!$D$9:$G$386,4,FALSE))),\"\")","v":68.5},{"$f":"Products!F107","v":0},{"$f":"IF(ISBLANK(Products!F107),0,IF(LEFT(Products!$Z$7,8)=\"Consumer\",D107*E107,IF(C107=\"500+\",IF(E107>=500,E107*D107),IF(C107=\"1000+\",IF(E107>=1000,E107*D107),IF(C107=\"3000+\",IF(E107>=3000,E107*D107),IF(AND(E107>=VLOOKUP(C107,$M$18:$P$34,3,FALSE),E107<=VLOOKUP(C107,$M$18:$P$34,4,FALSE)),E107*D107))))))","v":0},{"$f":"IF(Products!$Z$7=$J$4,Base!H103,IF(Products!$Z$7=$J$5,Base!#REF!,IF(OR(Products!$Z$7=$J$2,Products!$Z$7=$J$3),Base!AD106)))","v":"BL1225100D-EN"}]
[{"$f":"IF(Products!$Z$7=$J$4,Base!A104,IF(Products!$Z$7=$J$5,Base!#REF!,IF(OR(Products!$Z$7=$J$2,Products!$Z$7=$J$3),Base!Y107)))","v":"GravityZone Security for Virtualized Environments VS"},{"$f":"IF(Products!$Z$7=$J$4,Base!B104,IF(Products!$Z$7=$J$5,Base!#REF!,IF(OR(Products!$Z$7=$J$2,Products!$Z$7=$J$3),Base!Z107)))","v":"1 year"},{"$f":"IF(Products!$Z$7=$J$4,Base!C104,IF(Products!$Z$7=$J$5,Base!#REF!,IF(OR(Products!$Z$7=$J$2,Products!$Z$7=$J$3),Base!AA107)))","v":"100 - 149"},{"$f":"IFERROR(IF(Products!$Z$7=$J$3,VLOOKUP(CONCATENATE(A108,B108,C108),Base!$AB$13:$AC$64,2,FALSE),IF(Products!$Z$7=$J$2,VLOOKUP(CONCATENATE(A108,B108,C108),Base!$AB$13:$AE$64,4,FALSE),VLOOKUP(CONCATENATE(A108,B108,C108),Base!$D$9:$G$386,4,FALSE))),\"\")","v":61.7},{"$f":"Products!F108","v":0},{"$f":"IF(ISBLANK(Products!F108),0,IF(LEFT(Products!$Z$7,8)=\"Consumer\",D108*E108,IF(C108=\"500+\",IF(E108>=500,E108*D108),IF(C108=\"1000+\",IF(E108>=1000,E108*D108),IF(C108=\"3000+\",IF(E108>=3000,E108*D108),IF(AND(E108>=VLOOKUP(C108,$M$18:$P$34,3,FALSE),E108<=VLOOKUP(C108,$M$18:$P$34,4,FALSE)),E108*D108))))))","v":0},{"$f":"IF(Products!$Z$7=$J$4,Base!H104,IF(Products!$Z$7=$J$5,Base!#REF!,IF(OR(Products!$Z$7=$J$2,Products!$Z$7=$J$3),Base!AD107)))","v":"BL1225100E-EN"}]
[{"$f":"IF(Products!$Z$7=$J$4,Base!A105,IF(Products!$Z$7=$J$5,Base!#REF!,IF(OR(Products!$Z$7=$J$2,Products!$Z$7=$J$3),Base!Y108)))","v":"GravityZone Security for Virtualized Environments VS"},{"$f":"IF(Products!$Z$7=$J$4,Base!B105,IF(Products!$Z$7=$J$5,Base!#REF!,IF(OR(Products!$Z$7=$J$2,Products!$Z$7=$J$3),Base!Z108)))","v":"1 year"},{"$f":"IF(Products!$Z$7=$J$4,Base!C105,IF(Products!$Z$7=$J$5,Base!#REF!,IF(OR(Products!$Z$7=$J$2,Products!$Z$7=$J$3),Base!AA108)))","v":"150 - 249"},{"$f":"IFERROR(IF(Products!$Z$7=$J$3,VLOOKUP(CONCATENATE(A109,B109,C109),Base!$AB$13:$AC$64,2,FALSE),IF(Products!$Z$7=$J$2,VLOOKUP(CONCATENATE(A109,B109,C109),Base!$AB$13:$AE$64,4,FALSE),VLOOKUP(CONCATENATE(A109,B109,C109),Base!$D$9:$G$386,4,FALSE))),\"\")","v":58.6},{"$f":"Products!F109","v":0},{"$f":"IF(ISBLANK(Products!F109),0,IF(LEFT(Products!$Z$7,8)=\"Consumer\",D109*E109,IF(C109=\"500+\",IF(E109>=500,E109*D109),IF(C109=\"1000+\",IF(E109>=1000,E109*D109),IF(C109=\"3000+\",IF(E109>=3000,E109*D109),IF(AND(E109>=VLOOKUP(C109,$M$18:$P$34,3,FALSE),E109<=VLOOKUP(C109,$M$18:$P$34,4,FALSE)),E109*D109))))))","v":0},{"$f":"IF(Products!$Z$7=$J$4,Base!H105,IF(Products!$Z$7=$J$5,Base!#REF!,IF(OR(Products!$Z$7=$J$2,Products!$Z$7=$J$3),Base!AD108)))","v":"BL1225100F-EN"}]
[{"$f":"IF(Products!$Z$7=$J$4,Base!A106,IF(Products!$Z$7=$J$5,Base!#REF!,IF(OR(Products!$Z$7=$J$2,Products!$Z$7=$J$3),Base!Y109)))","v":"GravityZone Security for Virtualized Environments VS"},{"$f":"IF(Products!$Z$7=$J$4,Base!B106,IF(Products!$Z$7=$J$5,Base!#REF!,IF(OR(Products!$Z$7=$J$2,Products!$Z$7=$J$3),Base!Z109)))","v":"1 year"},{"$f":"IF(Products!$Z$7=$J$4,Base!C106,IF(Products!$Z$7=$J$5,Base!#REF!,IF(OR(Products!$Z$7=$J$2,Products!$Z$7=$J$3),Base!AA109)))","v":"250 - 499"},{"$f":"IFERROR(IF(Products!$Z$7=$J$3,VLOOKUP(CONCATENATE(A110,B110,C110),Base!$AB$13:$AC$64,2,FALSE),IF(Products!$Z$7=$J$2,VLOOKUP(CONCATENATE(A110,B110,C110),Base!$AB$13:$AE$64,4,FALSE),VLOOKUP(CONCATENATE(A110,B110,C110),Base!$D$9:$G$386,4,FALSE))),\"\")","v":53.35},{"$f":"Products!F110","v":0},{"$f":"IF(ISBLANK(Products!F110),0,IF(LEFT(Products!$Z$7,8)=\"Consumer\",D110*E110,IF(C110=\"500+\",IF(E110>=500,E110*D110),IF(C110=\"1000+\",IF(E110>=1000,E110*D110),IF(C110=\"3000+\",IF(E110>=3000,E110*D110),IF(AND(E110>=VLOOKUP(C110,$M$18:$P$34,3,FALSE),E110<=VLOOKUP(C110,$M$18:$P$34,4,FALSE)),E110*D110))))))","v":0},{"$f":"IF(Products!$Z$7=$J$4,Base!H106,IF(Products!$Z$7=$J$5,Base!#REF!,IF(OR(Products!$Z$7=$J$2,Products!$Z$7=$J$3),Base!AD109)))","v":"BL1225100G-EN"}]
[{"$f":"IF(Products!$Z$7=$J$4,Base!A107,IF(Products!$Z$7=$J$5,Base!#REF!,IF(OR(Products!$Z$7=$J$2,Products!$Z$7=$J$3),Base!Y110)))","v":"GravityZone Security for Virtualized Environments VS"},{"$f":"IF(Products!$Z$7=$J$4,Base!B107,IF(Products!$Z$7=$J$5,Base!#REF!,IF(OR(Products!$Z$7=$J$2,Products!$Z$7=$J$3),Base!Z110)))","v":"1 year"},{"$f":"IF(Products!$Z$7=$J$4,Base!C107,IF(Products!$Z$7=$J$5,Base!#REF!,IF(OR(Products!$Z$7=$J$2,Products!$Z$7=$J$3),Base!AA110)))","v":"500 - 999"},{"$f":"IFERROR(IF(Products!$Z$7=$J$3,VLOOKUP(CONCATENATE(A111,B111,C111),Base!$AB$13:$AC$64,2,FALSE),IF(Products!$Z$7=$J$2,VLOOKUP(CONCATENATE(A111,B111,C111),Base!$AB$13:$AE$64,4,FALSE),VLOOKUP(CONCATENATE(A111,B111,C111),Base!$D$9:$G$386,4,FALSE))),\"\")","v":48},{"$f":"Products!F111","v":0},{"$f":"IF(ISBLANK(Products!F111),0,IF(LEFT(Products!$Z$7,8)=\"Consumer\",D111*E111,IF(C111=\"500+\",IF(E111>=500,E111*D111),IF(C111=\"1000+\",IF(E111>=1000,E111*D111),IF(C111=\"3000+\",IF(E111>=3000,E111*D111),IF(AND(E111>=VLOOKUP(C111,$M$18:$P$34,3,FALSE),E111<=VLOOKUP(C111,$M$18:$P$34,4,FALSE)),E111*D111))))))","v":0},{"$f":"IF(Products!$Z$7=$J$4,Base!H107,IF(Products!$Z$7=$J$5,Base!#REF!,IF(OR(Products!$Z$7=$J$2,Products!$Z$7=$J$3),Base!AD110)))","v":"BL1225100H-EN"}]
[{"$f":"IF(Products!$Z$7=$J$4,Base!A108,IF(Products!$Z$7=$J$5,Base!#REF!,IF(OR(Products!$Z$7=$J$2,Products!$Z$7=$J$3),Base!Y111)))","v":"GravityZone Security for Virtualized Environments VS"},{"$f":"IF(Products!$Z$7=$J$4,Base!B108,IF(Products!$Z$7=$J$5,Base!#REF!,IF(OR(Products!$Z$7=$J$2,Products!$Z$7=$J$3),Base!Z111)))","v":"1 year"},{"$f":"IF(Products!$Z$7=$J$4,Base!C108,IF(Products!$Z$7=$J$5,Base!#REF!,IF(OR(Products!$Z$7=$J$2,Products!$Z$7=$J$3),Base!AA111)))","v":"1000 - 2999"},{"$f":"IFERROR(IF(Products!$Z$7=$J$3,VLOOKUP(CONCATENATE(A112,B112,C112),Base!$AB$13:$AC$64,2,FALSE),IF(Products!$Z$7=$J$2,VLOOKUP(CONCATENATE(A112,B112,C112),Base!$AB$13:$AE$64,4,FALSE),VLOOKUP(CONCATENATE(A112,B112,C112),Base!$D$9:$G$386,4,FALSE))),\"\")","v":43.7},{"$f":"Products!F112","v":0},{"$f":"IF(ISBLANK(Products!F112),0,IF(LEFT(Products!$Z$7,8)=\"Consumer\",D112*E112,IF(C112=\"500+\",IF(E112>=500,E112*D112),IF(C112=\"1000+\",IF(E112>=1000,E112*D112),IF(C112=\"3000+\",IF(E112>=3000,E112*D112),IF(AND(E112>=VLOOKUP(C112,$M$18:$P$34,3,FALSE),E112<=VLOOKUP(C112,$M$18:$P$34,4,FALSE)),E112*D112))))))","v":0},{"$f":"IF(Products!$Z$7=$J$4,Base!H108,IF(Products!$Z$7=$J$5,Base!#REF!,IF(OR(Products!$Z$7=$J$2,Products!$Z$7=$J$3),Base!AD111)))","v":"BL1225100I-EN"}]
[{"$f":"IF(Products!$Z$7=$J$4,Base!A109,IF(Products!$Z$7=$J$5,Base!#REF!,IF(OR(Products!$Z$7=$J$2,Products!$Z$7=$J$3),Base!Y112)))","v":"GravityZone Security for Virtualized Environments VS"},{"$f":"IF(Products!$Z$7=$J$4,Base!B109,IF(Products!$Z$7=$J$5,Base!#REF!,IF(OR(Products!$Z$7=$J$2,Products!$Z$7=$J$3),Base!Z112)))","v":"1 year"},{"$f":"IF(Products!$Z$7=$J$4,Base!C109,IF(Products!$Z$7=$J$5,Base!#REF!,IF(OR(Products!$Z$7=$J$2,Products!$Z$7=$J$3),Base!AA112)))","v":"3000+"},{"$f":"IFERROR(IF(Products!$Z$7=$J$3,VLOOKUP(CONCATENATE(A113,B113,C113),Base!$AB$13:$AC$64,2,FALSE),IF(Products!$Z$7=$J$2,VLOOKUP(CONCATENATE(A113,B113,C113),Base!$AB$13:$AE$64,4,FALSE),VLOOKUP(CONCATENATE(A113,B113,C113),Base!$D$9:$G$386,4,FALSE))),\"\")","v":39.75},{"$f":"Products!F113","v":0},{"$f":"IF(ISBLANK(Products!F113),0,IF(LEFT(Products!$Z$7,8)=\"Consumer\",D113*E113,IF(C113=\"500+\",IF(E113>=500,E113*D113),IF(C113=\"1000+\",IF(E113>=1000,E113*D113),IF(C113=\"3000+\",IF(E113>=3000,E113*D113),IF(AND(E113>=VLOOKUP(C113,$M$18:$P$34,3,FALSE),E113<=VLOOKUP(C113,$M$18:$P$34,4,FALSE)),E113*D113))))))","v":0},{"$f":"IF(Products!$Z$7=$J$4,Base!H109,IF(Products!$Z$7=$J$5,Base!#REF!,IF(OR(Products!$Z$7=$J$2,Products!$Z$7=$J$3),Base!AD112)))","v":"BL1225100J-EN"}]
[{"$f":"IF(Products!$Z$7=$J$4,Base!A110,IF(Products!$Z$7=$J$5,Base!#REF!,IF(OR(Products!$Z$7=$J$2,Products!$Z$7=$J$3),Base!Y113)))","v":"GravityZone Security for Virtualized Environments VS"},{"$f":"IF(Products!$Z$7=$J$4,Base!B110,IF(Products!$Z$7=$J$5,Base!#REF!,IF(OR(Products!$Z$7=$J$2,Products!$Z$7=$J$3),Base!Z113)))","v":"2 years"},{"$f":"IF(Products!$Z$7=$J$4,Base!C110,IF(Products!$Z$7=$J$5,Base!#REF!,IF(OR(Products!$Z$7=$J$2,Products!$Z$7=$J$3),Base!AA113)))","v":"1 - 14"},{"$f":"IFERROR(IF(Products!$Z$7=$J$3,VLOOKUP(CONCATENATE(A114,B114,C114),Base!$AB$13:$AC$64,2,FALSE),IF(Products!$Z$7=$J$2,VLOOKUP(CONCATENATE(A114,B114,C114),Base!$AB$13:$AE$64,4,FALSE),VLOOKUP(CONCATENATE(A114,B114,C114),Base!$D$9:$G$386,4,FALSE))),\"\")","v":147.19999999999999},{"$f":"Products!F114","v":0},{"$f":"IF(ISBLANK(Products!F114),0,IF(LEFT(Products!$Z$7,8)=\"Consumer\",D114*E114,IF(C114=\"500+\",IF(E114>=500,E114*D114),IF(C114=\"1000+\",IF(E114>=1000,E114*D114),IF(C114=\"3000+\",IF(E114>=3000,E114*D114),IF(AND(E114>=VLOOKUP(C114,$M$18:$P$34,3,FALSE),E114<=VLOOKUP(C114,$M$18:$P$34,4,FALSE)),E114*D114))))))","v":0},{"$f":"IF(Products!$Z$7=$J$4,Base!H110,IF(Products!$Z$7=$J$5,Base!#REF!,IF(OR(Products!$Z$7=$J$2,Products!$Z$7=$J$3),Base!AD113)))","v":"BL1225200A-EN"}]
[{"$f":"IF(Products!$Z$7=$J$4,Base!A111,IF(Products!$Z$7=$J$5,Base!#REF!,IF(OR(Products!$Z$7=$J$2,Products!$Z$7=$J$3),Base!Y114)))","v":"GravityZone Security for Virtualized Environments VS"},{"$f":"IF(Products!$Z$7=$J$4,Base!B111,IF(Products!$Z$7=$J$5,Base!#REF!,IF(OR(Products!$Z$7=$J$2,Products!$Z$7=$J$3),Base!Z114)))","v":"2 years"},{"$f":"IF(Products!$Z$7=$J$4,Base!C111,IF(Products!$Z$7=$J$5,Base!#REF!,IF(OR(Products!$Z$7=$J$2,Products!$Z$7=$J$3),Base!AA114)))","v":"15 - 24"},{"$f":"IFERROR(IF(Products!$Z$7=$J$3,VLOOKUP(CONCATENATE(A115,B115,C115),Base!$AB$13:$AC$64,2,FALSE),IF(Products!$Z$7=$J$2,VLOOKUP(CONCATENATE(A115,B115,C115),Base!$AB$13:$AE$64,4,FALSE),VLOOKUP(CONCATENATE(A115,B115,C115),Base!$D$9:$G$386,4,FALSE))),\"\")","v":132.47999999999999},{"$f":"Products!F115","v":0},{"$f":"IF(ISBLANK(Products!F115),0,IF(LEFT(Products!$Z$7,8)=\"Consumer\",D115*E115,IF(C115=\"500+\",IF(E115>=500,E115*D115),IF(C115=\"1000+\",IF(E115>=1000,E115*D115),IF(C115=\"3000+\",IF(E115>=3000,E115*D115),IF(AND(E115>=VLOOKUP(C115,$M$18:$P$34,3,FALSE),E115<=VLOOKUP(C115,$M$18:$P$34,4,FALSE)),E115*D115))))))","v":0},{"$f":"IF(Products!$Z$7=$J$4,Base!H111,IF(Products!$Z$7=$J$5,Base!#REF!,IF(OR(Products!$Z$7=$J$2,Products!$Z$7=$J$3),Base!AD114)))","v":"BL1225200B-EN"}]
[{"$f":"IF(Products!$Z$7=$J$4,Base!A112,IF(Products!$Z$7=$J$5,Base!#REF!,IF(OR(Products!$Z$7=$J$2,Products!$Z$7=$J$3),Base!Y115)))","v":"GravityZone Security for Virtualized Environments VS"},{"$f":"IF(Products!$Z$7=$J$4,Base!B112,IF(Products!$Z$7=$J$5,Base!#REF!,IF(OR(Products!$Z$7=$J$2,Products!$Z$7=$J$3),Base!Z115)))","v":"2 years"},{"$f":"IF(Products!$Z$7=$J$4,Base!C112,IF(Products!$Z$7=$J$5,Base!#REF!,IF(OR(Products!$Z$7=$J$2,Products!$Z$7=$J$3),Base!AA115)))","v":"25 - 49"},{"$f":"IFERROR(IF(Products!$Z$7=$J$3,VLOOKUP(CONCATENATE(A116,B116,C116),Base!$AB$13:$AC$64,2,FALSE),IF(Products!$Z$7=$J$2,VLOOKUP(CONCATENATE(A116,B116,C116),Base!$AB$13:$AE$64,4,FALSE),VLOOKUP(CONCATENATE(A116,B116,C116),Base!$D$9:$G$386,4,FALSE))),\"\")","v":121.92},{"$f":"Products!F116","v":0},{"$f":"IF(ISBLANK(Products!F116),0,IF(LEFT(Products!$Z$7,8)=\"Consumer\",D116*E116,IF(C116=\"500+\",IF(E116>=500,E116*D116),IF(C116=\"1000+\",IF(E116>=1000,E116*D116),IF(C116=\"3000+\",IF(E116>=3000,E116*D116),IF(AND(E116>=VLOOKUP(C116,$M$18:$P$34,3,FALSE),E116<=VLOOKUP(C116,$M$18:$P$34,4,FALSE)),E116*D116))))))","v":0},{"$f":"IF(Products!$Z$7=$J$4,Base!H112,IF(Products!$Z$7=$J$5,Base!#REF!,IF(OR(Products!$Z$7=$J$2,Products!$Z$7=$J$3),Base!AD115)))","v":"BL1225200C-EN"}]
[{"$f":"IF(Products!$Z$7=$J$4,Base!A113,IF(Products!$Z$7=$J$5,Base!#REF!,IF(OR(Products!$Z$7=$J$2,Products!$Z$7=$J$3),Base!Y116)))","v":"GravityZone Security for Virtualized Environments VS"},{"$f":"IF(Products!$Z$7=$J$4,Base!B113,IF(Products!$Z$7=$J$5,Base!#REF!,IF(OR(Products!$Z$7=$J$2,Products!$Z$7=$J$3),Base!Z116)))","v":"2 years"},{"$f":"IF(Products!$Z$7=$J$4,Base!C113,IF(Products!$Z$7=$J$5,Base!#REF!,IF(OR(Products!$Z$7=$J$2,Products!$Z$7=$J$3),Base!AA116)))","v":"50 - 99"},{"$f":"IFERROR(IF(Products!$Z$7=$J$3,VLOOKUP(CONCATENATE(A117,B117,C117),Base!$AB$13:$AC$64,2,FALSE),IF(Products!$Z$7=$J$2,VLOOKUP(CONCATENATE(A117,B117,C117),Base!$AB$13:$AE$64,4,FALSE),VLOOKUP(CONCATENATE(A117,B117,C117),Base!$D$9:$G$386,4,FALSE))),\"\")","v":109.6},{"$f":"Products!F117","v":0},{"$f":"IF(ISBLANK(Products!F117),0,IF(LEFT(Products!$Z$7,8)=\"Consumer\",D117*E117,IF(C117=\"500+\",IF(E117>=500,E117*D117),IF(C117=\"1000+\",IF(E117>=1000,E117*D117),IF(C117=\"3000+\",IF(E117>=3000,E117*D117),IF(AND(E117>=VLOOKUP(C117,$M$18:$P$34,3,FALSE),E117<=VLOOKUP(C117,$M$18:$P$34,4,FALSE)),E117*D117))))))","v":0},{"$f":"IF(Products!$Z$7=$J$4,Base!H113,IF(Products!$Z$7=$J$5,Base!#REF!,IF(OR(Products!$Z$7=$J$2,Products!$Z$7=$J$3),Base!AD116)))","v":"BL1225200D-EN"}]
[{"$f":"IF(Products!$Z$7=$J$4,Base!A114,IF(Products!$Z$7=$J$5,Base!#REF!,IF(OR(Products!$Z$7=$J$2,Products!$Z$7=$J$3),Base!Y117)))","v":"GravityZone Security for Virtualized Environments VS"},{"$f":"IF(Products!$Z$7=$J$4,Base!B114,IF(Products!$Z$7=$J$5,Base!#REF!,IF(OR(Products!$Z$7=$J$2,Products!$Z$7=$J$3),Base!Z117)))","v":"2 years"},{"$f":"IF(Products!$Z$7=$J$4,Base!C114,IF(Products!$Z$7=$J$5,Base!#REF!,IF(OR(Products!$Z$7=$J$2,Products!$Z$7=$J$3),Base!AA117)))","v":"100 - 149"},{"$f":"IFERROR(IF(Products!$Z$7=$J$3,VLOOKUP(CONCATENATE(A118,B118,C118),Base!$AB$13:$AC$64,2,FALSE),IF(Products!$Z$7=$J$2,VLOOKUP(CONCATENATE(A118,B118,C118),Base!$AB$13:$AE$64,4,FALSE),VLOOKUP(CONCATENATE(A118,B118,C118),Base!$D$9:$G$386,4,FALSE))),\"\")","v":98.72},{"$f":"Products!F118","v":0},{"$f":"IF(ISBLANK(Products!F118),0,IF(LEFT(Products!$Z$7,8)=\"Consumer\",D118*E118,IF(C118=\"500+\",IF(E118>=500,E118*D118),IF(C118=\"1000+\",IF(E118>=1000,E118*D118),IF(C118=\"3000+\",IF(E118>=3000,E118*D118),IF(AND(E118>=VLOOKUP(C118,$M$18:$P$34,3,FALSE),E118<=VLOOKUP(C118,$M$18:$P$34,4,FALSE)),E118*D118))))))","v":0},{"$f":"IF(Products!$Z$7=$J$4,Base!H114,IF(Products!$Z$7=$J$5,Base!#REF!,IF(OR(Products!$Z$7=$J$2,Products!$Z$7=$J$3),Base!AD117)))","v":"BL1225200E-EN"}]
[{"$f":"IF(Products!$Z$7=$J$4,Base!A115,IF(Products!$Z$7=$J$5,Base!#REF!,IF(OR(Products!$Z$7=$J$2,Products!$Z$7=$J$3),Base!Y118)))","v":"GravityZone Security for Virtualized Environments VS"},{"$f":"IF(Products!$Z$7=$J$4,Base!B115,IF(Products!$Z$7=$J$5,Base!#REF!,IF(OR(Products!$Z$7=$J$2,Products!$Z$7=$J$3),Base!Z118)))","v":"2 years"},{"$f":"IF(Products!$Z$7=$J$4,Base!C115,IF(Products!$Z$7=$J$5,Base!#REF!,IF(OR(Products!$Z$7=$J$2,Products!$Z$7=$J$3),Base!AA118)))","v":"150 - 249"},{"$f":"IFERROR(IF(Products!$Z$7=$J$3,VLOOKUP(CONCATENATE(A119,B119,C119),Base!$AB$13:$AC$64,2,FALSE),IF(Products!$Z$7=$J$2,VLOOKUP(CONCATENATE(A119,B119,C119),Base!$AB$13:$AE$64,4,FALSE),VLOOKUP(CONCATENATE(A119,B119,C119),Base!$D$9:$G$386,4,FALSE))),\"\")","v":93.76},{"$f":"Products!F119","v":0},{"$f":"IF(ISBLANK(Products!F119),0,IF(LEFT(Products!$Z$7,8)=\"Consumer\",D119*E119,IF(C119=\"500+\",IF(E119>=500,E119*D119),IF(C119=\"1000+\",IF(E119>=1000,E119*D119),IF(C119=\"3000+\",IF(E119>=3000,E119*D119),IF(AND(E119>=VLOOKUP(C119,$M$18:$P$34,3,FALSE),E119<=VLOOKUP(C119,$M$18:$P$34,4,FALSE)),E119*D119))))))","v":0},{"$f":"IF(Products!$Z$7=$J$4,Base!H115,IF(Products!$Z$7=$J$5,Base!#REF!,IF(OR(Products!$Z$7=$J$2,Products!$Z$7=$J$3),Base!AD118)))","v":"BL1225200F-EN"}]
[{"$f":"IF(Products!$Z$7=$J$4,Base!A116,IF(Products!$Z$7=$J$5,Base!#REF!,IF(OR(Products!$Z$7=$J$2,Products!$Z$7=$J$3),Base!Y119)))","v":"GravityZone Security for Virtualized Environments VS"},{"$f":"IF(Products!$Z$7=$J$4,Base!B116,IF(Products!$Z$7=$J$5,Base!#REF!,IF(OR(Products!$Z$7=$J$2,Products!$Z$7=$J$3),Base!Z119)))","v":"2 years"},{"$f":"IF(Products!$Z$7=$J$4,Base!C116,IF(Products!$Z$7=$J$5,Base!#REF!,IF(OR(Products!$Z$7=$J$2,Products!$Z$7=$J$3),Base!AA119)))","v":"250 - 499"},{"$f":"IFERROR(IF(Products!$Z$7=$J$3,VLOOKUP(CONCATENATE(A120,B120,C120),Base!$AB$13:$AC$64,2,FALSE),IF(Products!$Z$7=$J$2,VLOOKUP(CONCATENATE(A120,B120,C120),Base!$AB$13:$AE$64,4,FALSE),VLOOKUP(CONCATENATE(A120,B120,C120),Base!$D$9:$G$386,4,FALSE))),\"\")","v":85.36},{"$f":"Products!F120","v":0},{"$f":"IF(ISBLANK(Products!F120),0,IF(LEFT(Products!$Z$7,8)=\"Consumer\",D120*E120,IF(C120=\"500+\",IF(E120>=500,E120*D120),IF(C120=\"1000+\",IF(E120>=1000,E120*D120),IF(C120=\"3000+\",IF(E120>=3000,E120*D120),IF(AND(E120>=VLOOKUP(C120,$M$18:$P$34,3,FALSE),E120<=VLOOKUP(C120,$M$18:$P$34,4,FALSE)),E120*D120))))))","v":0},{"$f":"IF(Products!$Z$7=$J$4,Base!H116,IF(Products!$Z$7=$J$5,Base!#REF!,IF(OR(Products!$Z$7=$J$2,Products!$Z$7=$J$3),Base!AD119)))","v":"BL1225200G-EN"}]
[{"$f":"IF(Products!$Z$7=$J$4,Base!A117,IF(Products!$Z$7=$J$5,Base!#REF!,IF(OR(Products!$Z$7=$J$2,Products!$Z$7=$J$3),Base!Y120)))","v":"GravityZone Security for Virtualized Environments VS"},{"$f":"IF(Products!$Z$7=$J$4,Base!B117,IF(Products!$Z$7=$J$5,Base!#REF!,IF(OR(Products!$Z$7=$J$2,Products!$Z$7=$J$3),Base!Z120)))","v":"2 years"},{"$f":"IF(Products!$Z$7=$J$4,Base!C117,IF(Products!$Z$7=$J$5,Base!#REF!,IF(OR(Products!$Z$7=$J$2,Products!$Z$7=$J$3),Base!AA120)))","v":"500 - 999"},{"$f":"IFERROR(IF(Products!$Z$7=$J$3,VLOOKUP(CONCATENATE(A121,B121,C121),Base!$AB$13:$AC$64,2,FALSE),IF(Products!$Z$7=$J$2,VLOOKUP(CONCATENATE(A121,B121,C121),Base!$AB$13:$AE$64,4,FALSE),VLOOKUP(CONCATENATE(A121,B121,C121),Base!$D$9:$G$386,4,FALSE))),\"\")","v":76.8},{"$f":"Products!F121","v":0},{"$f":"IF(ISBLANK(Products!F121),0,IF(LEFT(Products!$Z$7,8)=\"Consumer\",D121*E121,IF(C121=\"500+\",IF(E121>=500,E121*D121),IF(C121=\"1000+\",IF(E121>=1000,E121*D121),IF(C121=\"3000+\",IF(E121>=3000,E121*D121),IF(AND(E121>=VLOOKUP(C121,$M$18:$P$34,3,FALSE),E121<=VLOOKUP(C121,$M$18:$P$34,4,FALSE)),E121*D121))))))","v":0},{"$f":"IF(Products!$Z$7=$J$4,Base!H117,IF(Products!$Z$7=$J$5,Base!#REF!,IF(OR(Products!$Z$7=$J$2,Products!$Z$7=$J$3),Base!AD120)))","v":"BL1225200H-EN"}]
[{"$f":"IF(Products!$Z$7=$J$4,Base!A118,IF(Products!$Z$7=$J$5,Base!#REF!,IF(OR(Products!$Z$7=$J$2,Products!$Z$7=$J$3),Base!Y121)))","v":"GravityZone Security for Virtualized Environments VS"},{"$f":"IF(Products!$Z$7=$J$4,Base!B118,IF(Products!$Z$7=$J$5,Base!#REF!,IF(OR(Products!$Z$7=$J$2,Products!$Z$7=$J$3),Base!Z121)))","v":"2 years"},{"$f":"IF(Products!$Z$7=$J$4,Base!C118,IF(Products!$Z$7=$J$5,Base!#REF!,IF(OR(Products!$Z$7=$J$2,Products!$Z$7=$J$3),Base!AA121)))","v":"1000 - 2999"},{"$f":"IFERROR(IF(Products!$Z$7=$J$3,VLOOKUP(CONCATENATE(A122,B122,C122),Base!$AB$13:$AC$64,2,FALSE),IF(Products!$Z$7=$J$2,VLOOKUP(CONCATENATE(A122,B122,C122),Base!$AB$13:$AE$64,4,FALSE),VLOOKUP(CONCATENATE(A122,B122,C122),Base!$D$9:$G$386,4,FALSE))),\"\")","v":69.92},{"$f":"Products!F122","v":0},{"$f":"IF(ISBLANK(Products!F122),0,IF(LEFT(Products!$Z$7,8)=\"Consumer\",D122*E122,IF(C122=\"500+\",IF(E122>=500,E122*D122),IF(C122=\"1000+\",IF(E122>=1000,E122*D122),IF(C122=\"3000+\",IF(E122>=3000,E122*D122),IF(AND(E122>=VLOOKUP(C122,$M$18:$P$34,3,FALSE),E122<=VLOOKUP(C122,$M$18:$P$34,4,FALSE)),E122*D122))))))","v":0},{"$f":"IF(Products!$Z$7=$J$4,Base!H118,IF(Products!$Z$7=$J$5,Base!#REF!,IF(OR(Products!$Z$7=$J$2,Products!$Z$7=$J$3),Base!AD121)))","v":"BL1225200I-EN"}]
[{"$f":"IF(Products!$Z$7=$J$4,Base!A119,IF(Products!$Z$7=$J$5,Base!#REF!,IF(OR(Products!$Z$7=$J$2,Products!$Z$7=$J$3),Base!Y122)))","v":"GravityZone Security for Virtualized Environments VS"},{"$f":"IF(Products!$Z$7=$J$4,Base!B119,IF(Products!$Z$7=$J$5,Base!#REF!,IF(OR(Products!$Z$7=$J$2,Products!$Z$7=$J$3),Base!Z122)))","v":"2 years"},{"$f":"IF(Products!$Z$7=$J$4,Base!C119,IF(Products!$Z$7=$J$5,Base!#REF!,IF(OR(Products!$Z$7=$J$2,Products!$Z$7=$J$3),Base!AA122)))","v":"3000+"},{"$f":"IFERROR(IF(Products!$Z$7=$J$3,VLOOKUP(CONCATENATE(A123,B123,C123),Base!$AB$13:$AC$64,2,FALSE),IF(Products!$Z$7=$J$2,VLOOKUP(CONCATENATE(A123,B123,C123),Base!$AB$13:$AE$64,4,FALSE),VLOOKUP(CONCATENATE(A123,B123,C123),Base!$D$9:$G$386,4,FALSE))),\"\")","v":63.6},{"$f":"Products!F123","v":0},{"$f":"IF(ISBLANK(Products!F123),0,IF(LEFT(Products!$Z$7,8)=\"Consumer\",D123*E123,IF(C123=\"500+\",IF(E123>=500,E123*D123),IF(C123=\"1000+\",IF(E123>=1000,E123*D123),IF(C123=\"3000+\",IF(E123>=3000,E123*D123),IF(AND(E123>=VLOOKUP(C123,$M$18:$P$34,3,FALSE),E123<=VLOOKUP(C123,$M$18:$P$34,4,FALSE)),E123*D123))))))","v":0},{"$f":"IF(Products!$Z$7=$J$4,Base!H119,IF(Products!$Z$7=$J$5,Base!#REF!,IF(OR(Products!$Z$7=$J$2,Products!$Z$7=$J$3),Base!AD122)))","v":"BL1225200J-EN"}]
[{"$f":"IF(Products!$Z$7=$J$4,Base!A120,IF(Products!$Z$7=$J$5,Base!#REF!,IF(OR(Products!$Z$7=$J$2,Products!$Z$7=$J$3),Base!Y123)))","v":"GravityZone Security for Virtualized Environments VS"},{"$f":"IF(Products!$Z$7=$J$4,Base!B120,IF(Products!$Z$7=$J$5,Base!#REF!,IF(OR(Products!$Z$7=$J$2,Products!$Z$7=$J$3),Base!Z123)))","v":"3 years"},{"$f":"IF(Products!$Z$7=$J$4,Base!C120,IF(Products!$Z$7=$J$5,Base!#REF!,IF(OR(Products!$Z$7=$J$2,Products!$Z$7=$J$3),Base!AA123)))","v":"1 - 14"},{"$f":"IFERROR(IF(Products!$Z$7=$J$3,VLOOKUP(CONCATENATE(A124,B124,C124),Base!$AB$13:$AC$64,2,FALSE),IF(Products!$Z$7=$J$2,VLOOKUP(CONCATENATE(A124,B124,C124),Base!$AB$13:$AE$64,4,FALSE),VLOOKUP(CONCATENATE(A124,B124,C124),Base!$D$9:$G$386,4,FALSE))),\"\")","v":188.6},{"$f":"Products!F124","v":0},{"$f":"IF(ISBLANK(Products!F124),0,IF(LEFT(Products!$Z$7,8)=\"Consumer\",D124*E124,IF(C124=\"500+\",IF(E124>=500,E124*D124),IF(C124=\"1000+\",IF(E124>=1000,E124*D124),IF(C124=\"3000+\",IF(E124>=3000,E124*D124),IF(AND(E124>=VLOOKUP(C124,$M$18:$P$34,3,FALSE),E124<=VLOOKUP(C124,$M$18:$P$34,4,FALSE)),E124*D124))))))","v":0},{"$f":"IF(Products!$Z$7=$J$4,Base!H120,IF(Products!$Z$7=$J$5,Base!#REF!,IF(OR(Products!$Z$7=$J$2,Products!$Z$7=$J$3),Base!AD123)))","v":"BL1225300A-EN"}]
[{"$f":"IF(Products!$Z$7=$J$4,Base!A121,IF(Products!$Z$7=$J$5,Base!#REF!,IF(OR(Products!$Z$7=$J$2,Products!$Z$7=$J$3),Base!Y124)))","v":"GravityZone Security for Virtualized Environments VS"},{"$f":"IF(Products!$Z$7=$J$4,Base!B121,IF(Products!$Z$7=$J$5,Base!#REF!,IF(OR(Products!$Z$7=$J$2,Products!$Z$7=$J$3),Base!Z124)))","v":"3 years"},{"$f":"IF(Products!$Z$7=$J$4,Base!C121,IF(Products!$Z$7=$J$5,Base!#REF!,IF(OR(Products!$Z$7=$J$2,Products!$Z$7=$J$3),Base!AA124)))","v":"15 - 24"},{"$f":"IFERROR(IF(Products!$Z$7=$J$3,VLOOKUP(CONCATENATE(A125,B125,C125),Base!$AB$13:$AC$64,2,FALSE),IF(Products!$Z$7=$J$2,VLOOKUP(CONCATENATE(A125,B125,C125),Base!$AB$13:$AE$64,4,FALSE),VLOOKUP(CONCATENATE(A125,B125,C125),Base!$D$9:$G$386,4,FALSE))),\"\")","v":169.74},{"$f":"Products!F125","v":0},{"$f":"IF(ISBLANK(Products!F125),0,IF(LEFT(Products!$Z$7,8)=\"Consumer\",D125*E125,IF(C125=\"500+\",IF(E125>=500,E125*D125),IF(C125=\"1000+\",IF(E125>=1000,E125*D125),IF(C125=\"3000+\",IF(E125>=3000,E125*D125),IF(AND(E125>=VLOOKUP(C125,$M$18:$P$34,3,FALSE),E125<=VLOOKUP(C125,$M$18:$P$34,4,FALSE)),E125*D125))))))","v":0},{"$f":"IF(Products!$Z$7=$J$4,Base!H121,IF(Products!$Z$7=$J$5,Base!#REF!,IF(OR(Products!$Z$7=$J$2,Products!$Z$7=$J$3),Base!AD124)))","v":"BL1225300B-EN"}]
[{"$f":"IF(Products!$Z$7=$J$4,Base!A122,IF(Products!$Z$7=$J$5,Base!#REF!,IF(OR(Products!$Z$7=$J$2,Products!$Z$7=$J$3),Base!Y125)))","v":"GravityZone Security for Virtualized Environments VS"},{"$f":"IF(Products!$Z$7=$J$4,Base!B122,IF(Products!$Z$7=$J$5,Base!#REF!,IF(OR(Products!$Z$7=$J$2,Products!$Z$7=$J$3),Base!Z125)))","v":"3 years"},{"$f":"IF(Products!$Z$7=$J$4,Base!C122,IF(Products!$Z$7=$J$5,Base!#REF!,IF(OR(Products!$Z$7=$J$2,Products!$Z$7=$J$3),Base!AA125)))","v":"25 - 49"},{"$f":"IFERROR(IF(Products!$Z$7=$J$3,VLOOKUP(CONCATENATE(A126,B126,C126),Base!$AB$13:$AC$64,2,FALSE),IF(Products!$Z$7=$J$2,VLOOKUP(CONCATENATE(A126,B126,C126),Base!$AB$13:$AE$64,4,FALSE),VLOOKUP(CONCATENATE(A126,B126,C126),Base!$D$9:$G$386,4,FALSE))),\"\")","v":156.21},{"$f":"Products!F126","v":0},{"$f":"IF(ISBLANK(Products!F126),0,IF(LEFT(Products!$Z$7,8)=\"Consumer\",D126*E126,IF(C126=\"500+\",IF(E126>=500,E126*D126),IF(C126=\"1000+\",IF(E126>=1000,E126*D126),IF(C126=\"3000+\",IF(E126>=3000,E126*D126),IF(AND(E126>=VLOOKUP(C126,$M$18:$P$34,3,FALSE),E126<=VLOOKUP(C126,$M$18:$P$34,4,FALSE)),E126*D126))))))","v":0},{"$f":"IF(Products!$Z$7=$J$4,Base!H122,IF(Products!$Z$7=$J$5,Base!#REF!,IF(OR(Products!$Z$7=$J$2,Products!$Z$7=$J$3),Base!AD125)))","v":"BL1225300C-EN"}]
[{"$f":"IF(Products!$Z$7=$J$4,Base!A123,IF(Products!$Z$7=$J$5,Base!#REF!,IF(OR(Products!$Z$7=$J$2,Products!$Z$7=$J$3),Base!Y126)))","v":"GravityZone Security for Virtualized Environments VS"},{"$f":"IF(Products!$Z$7=$J$4,Base!B123,IF(Products!$Z$7=$J$5,Base!#REF!,IF(OR(Products!$Z$7=$J$2,Products!$Z$7=$J$3),Base!Z126)))","v":"3 years"},{"$f":"IF(Products!$Z$7=$J$4,Base!C123,IF(Products!$Z$7=$J$5,Base!#REF!,IF(OR(Products!$Z$7=$J$2,Products!$Z$7=$J$3),Base!AA126)))","v":"50 - 99"},{"$f":"IFERROR(IF(Products!$Z$7=$J$3,VLOOKUP(CONCATENATE(A127,B127,C127),Base!$AB$13:$AC$64,2,FALSE),IF(Products!$Z$7=$J$2,VLOOKUP(CONCATENATE(A127,B127,C127),Base!$AB$13:$AE$64,4,FALSE),VLOOKUP(CONCATENATE(A127,B127,C127),Base!$D$9:$G$386,4,FALSE))),\"\")","v":140.43},{"$f":"Products!F127","v":0},{"$f":"IF(ISBLANK(Products!F127),0,IF(LEFT(Products!$Z$7,8)=\"Consumer\",D127*E127,IF(C127=\"500+\",IF(E127>=500,E127*D127),IF(C127=\"1000+\",IF(E127>=1000,E127*D127),IF(C127=\"3000+\",IF(E127>=3000,E127*D127),IF(AND(E127>=VLOOKUP(C127,$M$18:$P$34,3,FALSE),E127<=VLOOKUP(C127,$M$18:$P$34,4,FALSE)),E127*D127))))))","v":0},{"$f":"IF(Products!$Z$7=$J$4,Base!H123,IF(Products!$Z$7=$J$5,Base!#REF!,IF(OR(Products!$Z$7=$J$2,Products!$Z$7=$J$3),Base!AD126)))","v":"BL1225300D-EN"}]
[{"$f":"IF(Products!$Z$7=$J$4,Base!A124,IF(Products!$Z$7=$J$5,Base!#REF!,IF(OR(Products!$Z$7=$J$2,Products!$Z$7=$J$3),Base!Y127)))","v":"GravityZone Security for Virtualized Environments VS"},{"$f":"IF(Products!$Z$7=$J$4,Base!B124,IF(Products!$Z$7=$J$5,Base!#REF!,IF(OR(Products!$Z$7=$J$2,Products!$Z$7=$J$3),Base!Z127)))","v":"3 years"},{"$f":"IF(Products!$Z$7=$J$4,Base!C124,IF(Products!$Z$7=$J$5,Base!#REF!,IF(OR(Products!$Z$7=$J$2,Products!$Z$7=$J$3),Base!AA127)))","v":"100 - 149"},{"$f":"IFERROR(IF(Products!$Z$7=$J$3,VLOOKUP(CONCATENATE(A128,B128,C128),Base!$AB$13:$AC$64,2,FALSE),IF(Products!$Z$7=$J$2,VLOOKUP(CONCATENATE(A128,B128,C128),Base!$AB$13:$AE$64,4,FALSE),VLOOKUP(CONCATENATE(A128,B128,C128),Base!$D$9:$G$386,4,FALSE))),\"\")","v":126.49},{"$f":"Products!F128","v":0},{"$f":"IF(ISBLANK(Products!F128),0,IF(LEFT(Products!$Z$7,8)=\"Consumer\",D128*E128,IF(C128=\"500+\",IF(E128>=500,E128*D128),IF(C128=\"1000+\",IF(E128>=1000,E128*D128),IF(C128=\"3000+\",IF(E128>=3000,E128*D128),IF(AND(E128>=VLOOKUP(C128,$M$18:$P$34,3,FALSE),E128<=VLOOKUP(C128,$M$18:$P$34,4,FALSE)),E128*D128))))))","v":0},{"$f":"IF(Products!$Z$7=$J$4,Base!H124,IF(Products!$Z$7=$J$5,Base!#REF!,IF(OR(Products!$Z$7=$J$2,Products!$Z$7=$J$3),Base!AD127)))","v":"BL1225300E-EN"}]
[{"$f":"IF(Products!$Z$7=$J$4,Base!A125,IF(Products!$Z$7=$J$5,Base!#REF!,IF(OR(Products!$Z$7=$J$2,Products!$Z$7=$J$3),Base!Y128)))","v":"GravityZone Security for Virtualized Environments VS"},{"$f":"IF(Products!$Z$7=$J$4,Base!B125,IF(Products!$Z$7=$J$5,Base!#REF!,IF(OR(Products!$Z$7=$J$2,Products!$Z$7=$J$3),Base!Z128)))","v":"3 years"},{"$f":"IF(Products!$Z$7=$J$4,Base!C125,IF(Products!$Z$7=$J$5,Base!#REF!,IF(OR(Products!$Z$7=$J$2,Products!$Z$7=$J$3),Base!AA128)))","v":"150 - 249"},{"$f":"IFERROR(IF(Products!$Z$7=$J$3,VLOOKUP(CONCATENATE(A129,B129,C129),Base!$AB$13:$AC$64,2,FALSE),IF(Products!$Z$7=$J$2,VLOOKUP(CONCATENATE(A129,B129,C129),Base!$AB$13:$AE$64,4,FALSE),VLOOKUP(CONCATENATE(A129,B129,C129),Base!$D$9:$G$386,4,FALSE))),\"\")","v":120.13},{"$f":"Products!F129","v":0},{"$f":"IF(ISBLANK(Products!F129),0,IF(LEFT(Products!$Z$7,8)=\"Consumer\",D129*E129,IF(C129=\"500+\",IF(E129>=500,E129*D129),IF(C129=\"1000+\",IF(E129>=1000,E129*D129),IF(C129=\"3000+\",IF(E129>=3000,E129*D129),IF(AND(E129>=VLOOKUP(C129,$M$18:$P$34,3,FALSE),E129<=VLOOKUP(C129,$M$18:$P$34,4,FALSE)),E129*D129))))))","v":0},{"$f":"IF(Products!$Z$7=$J$4,Base!H125,IF(Products!$Z$7=$J$5,Base!#REF!,IF(OR(Products!$Z$7=$J$2,Products!$Z$7=$J$3),Base!AD128)))","v":"BL1225300F-EN"}]
[{"$f":"IF(Products!$Z$7=$J$4,Base!A126,IF(Products!$Z$7=$J$5,Base!#REF!,IF(OR(Products!$Z$7=$J$2,Products!$Z$7=$J$3),Base!Y129)))","v":"GravityZone Security for Virtualized Environments VS"},{"$f":"IF(Products!$Z$7=$J$4,Base!B126,IF(Products!$Z$7=$J$5,Base!#REF!,IF(OR(Products!$Z$7=$J$2,Products!$Z$7=$J$3),Base!Z129)))","v":"3 years"},{"$f":"IF(Products!$Z$7=$J$4,Base!C126,IF(Products!$Z$7=$J$5,Base!#REF!,IF(OR(Products!$Z$7=$J$2,Products!$Z$7=$J$3),Base!AA129)))","v":"250 - 499"},{"$f":"IFERROR(IF(Products!$Z$7=$J$3,VLOOKUP(CONCATENATE(A130,B130,C130),Base!$AB$13:$AC$64,2,FALSE),IF(Products!$Z$7=$J$2,VLOOKUP(CONCATENATE(A130,B130,C130),Base!$AB$13:$AE$64,4,FALSE),VLOOKUP(CONCATENATE(A130,B130,C130),Base!$D$9:$G$386,4,FALSE))),\"\")","v":109.37},{"$f":"Products!F130","v":0},{"$f":"IF(ISBLANK(Products!F130),0,IF(LEFT(Products!$Z$7,8)=\"Consumer\",D130*E130,IF(C130=\"500+\",IF(E130>=500,E130*D130),IF(C130=\"1000+\",IF(E130>=1000,E130*D130),IF(C130=\"3000+\",IF(E130>=3000,E130*D130),IF(AND(E130>=VLOOKUP(C130,$M$18:$P$34,3,FALSE),E130<=VLOOKUP(C130,$M$18:$P$34,4,FALSE)),E130*D130))))))","v":0},{"$f":"IF(Products!$Z$7=$J$4,Base!H126,IF(Products!$Z$7=$J$5,Base!#REF!,IF(OR(Products!$Z$7=$J$2,Products!$Z$7=$J$3),Base!AD129)))","v":"BL1225300G-EN"}]
[{"$f":"IF(Products!$Z$7=$J$4,Base!A127,IF(Products!$Z$7=$J$5,Base!#REF!,IF(OR(Products!$Z$7=$J$2,Products!$Z$7=$J$3),Base!Y130)))","v":"GravityZone Security for Virtualized Environments VS"},{"$f":"IF(Products!$Z$7=$J$4,Base!B127,IF(Products!$Z$7=$J$5,Base!#REF!,IF(OR(Products!$Z$7=$J$2,Products!$Z$7=$J$3),Base!Z130)))","v":"3 years"},{"$f":"IF(Products!$Z$7=$J$4,Base!C127,IF(Products!$Z$7=$J$5,Base!#REF!,IF(OR(Products!$Z$7=$J$2,Products!$Z$7=$J$3),Base!AA130)))","v":"500 - 999"},{"$f":"IFERROR(IF(Products!$Z$7=$J$3,VLOOKUP(CONCATENATE(A131,B131,C131),Base!$AB$13:$AC$64,2,FALSE),IF(Products!$Z$7=$J$2,VLOOKUP(CONCATENATE(A131,B131,C131),Base!$AB$13:$AE$64,4,FALSE),VLOOKUP(CONCATENATE(A131,B131,C131),Base!$D$9:$G$386,4,FALSE))),\"\")","v":98.4},{"$f":"Products!F131","v":0},{"$f":"IF(ISBLANK(Products!F131),0,IF(LEFT(Products!$Z$7,8)=\"Consumer\",D131*E131,IF(C131=\"500+\",IF(E131>=500,E131*D131),IF(C131=\"1000+\",IF(E131>=1000,E131*D131),IF(C131=\"3000+\",IF(E131>=3000,E131*D131),IF(AND(E131>=VLOOKUP(C131,$M$18:$P$34,3,FALSE),E131<=VLOOKUP(C131,$M$18:$P$34,4,FALSE)),E131*D131))))))","v":0},{"$f":"IF(Products!$Z$7=$J$4,Base!H127,IF(Products!$Z$7=$J$5,Base!#REF!,IF(OR(Products!$Z$7=$J$2,Products!$Z$7=$J$3),Base!AD130)))","v":"BL1225300H-EN"}]
[{"$f":"IF(Products!$Z$7=$J$4,Base!A128,IF(Products!$Z$7=$J$5,Base!#REF!,IF(OR(Products!$Z$7=$J$2,Products!$Z$7=$J$3),Base!Y131)))","v":"GravityZone Security for Virtualized Environments VS"},{"$f":"IF(Products!$Z$7=$J$4,Base!B128,IF(Products!$Z$7=$J$5,Base!#REF!,IF(OR(Products!$Z$7=$J$2,Products!$Z$7=$J$3),Base!Z131)))","v":"3 years"},{"$f":"IF(Products!$Z$7=$J$4,Base!C128,IF(Products!$Z$7=$J$5,Base!#REF!,IF(OR(Products!$Z$7=$J$2,Products!$Z$7=$J$3),Base!AA131)))","v":"1000 - 2999"},{"$f":"IFERROR(IF(Products!$Z$7=$J$3,VLOOKUP(CONCATENATE(A132,B132,C132),Base!$AB$13:$AC$64,2,FALSE),IF(Products!$Z$7=$J$2,VLOOKUP(CONCATENATE(A132,B132,C132),Base!$AB$13:$AE$64,4,FALSE),VLOOKUP(CONCATENATE(A132,B132,C132),Base!$D$9:$G$386,4,FALSE))),\"\")","v":89.59},{"$f":"Products!F132","v":0},{"$f":"IF(ISBLANK(Products!F132),0,IF(LEFT(Products!$Z$7,8)=\"Consumer\",D132*E132,IF(C132=\"500+\",IF(E132>=500,E132*D132),IF(C132=\"1000+\",IF(E132>=1000,E132*D132),IF(C132=\"3000+\",IF(E132>=3000,E132*D132),IF(AND(E132>=VLOOKUP(C132,$M$18:$P$34,3,FALSE),E132<=VLOOKUP(C132,$M$18:$P$34,4,FALSE)),E132*D132))))))","v":0},{"$f":"IF(Products!$Z$7=$J$4,Base!H128,IF(Products!$Z$7=$J$5,Base!#REF!,IF(OR(Products!$Z$7=$J$2,Products!$Z$7=$J$3),Base!AD131)))","v":"BL1225300I-EN"}]
[{"$f":"IF(Products!$Z$7=$J$4,Base!A129,IF(Products!$Z$7=$J$5,Base!#REF!,IF(OR(Products!$Z$7=$J$2,Products!$Z$7=$J$3),Base!Y132)))","v":"GravityZone Security for Virtualized Environments VS"},{"$f":"IF(Products!$Z$7=$J$4,Base!B129,IF(Products!$Z$7=$J$5,Base!#REF!,IF(OR(Products!$Z$7=$J$2,Products!$Z$7=$J$3),Base!Z132)))","v":"3 years"},{"$f":"IF(Products!$Z$7=$J$4,Base!C129,IF(Products!$Z$7=$J$5,Base!#REF!,IF(OR(Products!$Z$7=$J$2,Products!$Z$7=$J$3),Base!AA132)))","v":"3000+"},{"$f":"IFERROR(IF(Products!$Z$7=$J$3,VLOOKUP(CONCATENATE(A133,B133,C133),Base!$AB$13:$AC$64,2,FALSE),IF(Products!$Z$7=$J$2,VLOOKUP(CONCATENATE(A133,B133,C133),Base!$AB$13:$AE$64,4,FALSE),VLOOKUP(CONCATENATE(A133,B133,C133),Base!$D$9:$G$386,4,FALSE))),\"\")","v":81.489999999999995},{"$f":"Products!F133","v":0},{"$f":"IF(ISBLANK(Products!F133),0,IF(LEFT(Products!$Z$7,8)=\"Consumer\",D133*E133,IF(C133=\"500+\",IF(E133>=500,E133*D133),IF(C133=\"1000+\",IF(E133>=1000,E133*D133),IF(C133=\"3000+\",IF(E133>=3000,E133*D133),IF(AND(E133>=VLOOKUP(C133,$M$18:$P$34,3,FALSE),E133<=VLOOKUP(C133,$M$18:$P$34,4,FALSE)),E133*D133))))))","v":0},{"$f":"IF(Products!$Z$7=$J$4,Base!H129,IF(Products!$Z$7=$J$5,Base!#REF!,IF(OR(Products!$Z$7=$J$2,Products!$Z$7=$J$3),Base!AD132)))","v":"BL1225300J-EN"}]
[{"$f":"IF(Products!$Z$7=$J$4,Base!A130,IF(Products!$Z$7=$J$5,Base!#REF!,IF(OR(Products!$Z$7=$J$2,Products!$Z$7=$J$3),Base!Y133)))","v":"GravityZone Security for Virtualized Environments CPU"},{"$f":"IF(Products!$Z$7=$J$4,Base!B130,IF(Products!$Z$7=$J$5,Base!#REF!,IF(OR(Products!$Z$7=$J$2,Products!$Z$7=$J$3),Base!Z133)))","v":"1 year"},{"$f":"IF(Products!$Z$7=$J$4,Base!C130,IF(Products!$Z$7=$J$5,Base!#REF!,IF(OR(Products!$Z$7=$J$2,Products!$Z$7=$J$3),Base!AA133)))","v":"1 - 14"},{"$f":"IFERROR(IF(Products!$Z$7=$J$3,VLOOKUP(CONCATENATE(A134,B134,C134),Base!$AB$13:$AC$64,2,FALSE),IF(Products!$Z$7=$J$2,VLOOKUP(CONCATENATE(A134,B134,C134),Base!$AB$13:$AE$64,4,FALSE),VLOOKUP(CONCATENATE(A134,B134,C134),Base!$D$9:$G$386,4,FALSE))),\"\")","v":800},{"$f":"Products!F134","v":0},{"$f":"IF(ISBLANK(Products!F134),0,IF(LEFT(Products!$Z$7,8)=\"Consumer\",D134*E134,IF(C134=\"500+\",IF(E134>=500,E134*D134),IF(C134=\"1000+\",IF(E134>=1000,E134*D134),IF(C134=\"3000+\",IF(E134>=3000,E134*D134),IF(AND(E134>=VLOOKUP(C134,$M$18:$P$34,3,FALSE),E134<=VLOOKUP(C134,$M$18:$P$34,4,FALSE)),E134*D134))))))","v":0},{"$f":"IF(Products!$Z$7=$J$4,Base!H130,IF(Products!$Z$7=$J$5,Base!#REF!,IF(OR(Products!$Z$7=$J$2,Products!$Z$7=$J$3),Base!AD133)))","v":"BL1226100A-EN"}]
[{"$f":"IF(Products!$Z$7=$J$4,Base!A131,IF(Products!$Z$7=$J$5,Base!#REF!,IF(OR(Products!$Z$7=$J$2,Products!$Z$7=$J$3),Base!Y134)))","v":"GravityZone Security for Virtualized Environments CPU"},{"$f":"IF(Products!$Z$7=$J$4,Base!B131,IF(Products!$Z$7=$J$5,Base!#REF!,IF(OR(Products!$Z$7=$J$2,Products!$Z$7=$J$3),Base!Z134)))","v":"1 year"},{"$f":"IF(Products!$Z$7=$J$4,Base!C131,IF(Products!$Z$7=$J$5,Base!#REF!,IF(OR(Products!$Z$7=$J$2,Products!$Z$7=$J$3),Base!AA134)))","v":"15 - 24"},{"$f":"IFERROR(IF(Products!$Z$7=$J$3,VLOOKUP(CONCATENATE(A135,B135,C135),Base!$AB$13:$AC$64,2,FALSE),IF(Products!$Z$7=$J$2,VLOOKUP(CONCATENATE(A135,B135,C135),Base!$AB$13:$AE$64,4,FALSE),VLOOKUP(CONCATENATE(A135,B135,C135),Base!$D$9:$G$386,4,FALSE))),\"\")","v":760},{"$f":"Products!F135","v":0},{"$f":"IF(ISBLANK(Products!F135),0,IF(LEFT(Products!$Z$7,8)=\"Consumer\",D135*E135,IF(C135=\"500+\",IF(E135>=500,E135*D135),IF(C135=\"1000+\",IF(E135>=1000,E135*D135),IF(C135=\"3000+\",IF(E135>=3000,E135*D135),IF(AND(E135>=VLOOKUP(C135,$M$18:$P$34,3,FALSE),E135<=VLOOKUP(C135,$M$18:$P$34,4,FALSE)),E135*D135))))))","v":0},{"$f":"IF(Products!$Z$7=$J$4,Base!H131,IF(Products!$Z$7=$J$5,Base!#REF!,IF(OR(Products!$Z$7=$J$2,Products!$Z$7=$J$3),Base!AD134)))","v":"BL1226100B-EN"}]
[{"$f":"IF(Products!$Z$7=$J$4,Base!A132,IF(Products!$Z$7=$J$5,Base!#REF!,IF(OR(Products!$Z$7=$J$2,Products!$Z$7=$J$3),Base!Y135)))","v":"GravityZone Security for Virtualized Environments CPU"},{"$f":"IF(Products!$Z$7=$J$4,Base!B132,IF(Products!$Z$7=$J$5,Base!#REF!,IF(OR(Products!$Z$7=$J$2,Products!$Z$7=$J$3),Base!Z135)))","v":"1 year"},{"$f":"IF(Products!$Z$7=$J$4,Base!C132,IF(Products!$Z$7=$J$5,Base!#REF!,IF(OR(Products!$Z$7=$J$2,Products!$Z$7=$J$3),Base!AA135)))","v":"25 - 49"},{"$f":"IFERROR(IF(Products!$Z$7=$J$3,VLOOKUP(CONCATENATE(A136,B136,C136),Base!$AB$13:$AC$64,2,FALSE),IF(Products!$Z$7=$J$2,VLOOKUP(CONCATENATE(A136,B136,C136),Base!$AB$13:$AE$64,4,FALSE),VLOOKUP(CONCATENATE(A136,B136,C136),Base!$D$9:$G$386,4,FALSE))),\"\")","v":725},{"$f":"Products!F136","v":0},{"$f":"IF(ISBLANK(Products!F136),0,IF(LEFT(Products!$Z$7,8)=\"Consumer\",D136*E136,IF(C136=\"500+\",IF(E136>=500,E136*D136),IF(C136=\"1000+\",IF(E136>=1000,E136*D136),IF(C136=\"3000+\",IF(E136>=3000,E136*D136),IF(AND(E136>=VLOOKUP(C136,$M$18:$P$34,3,FALSE),E136<=VLOOKUP(C136,$M$18:$P$34,4,FALSE)),E136*D136))))))","v":0},{"$f":"IF(Products!$Z$7=$J$4,Base!H132,IF(Products!$Z$7=$J$5,Base!#REF!,IF(OR(Products!$Z$7=$J$2,Products!$Z$7=$J$3),Base!AD135)))","v":"BL1226100C-EN"}]
[{"$f":"IF(Products!$Z$7=$J$4,Base!A133,IF(Products!$Z$7=$J$5,Base!#REF!,IF(OR(Products!$Z$7=$J$2,Products!$Z$7=$J$3),Base!Y136)))","v":"GravityZone Security for Virtualized Environments CPU"},{"$f":"IF(Products!$Z$7=$J$4,Base!B133,IF(Products!$Z$7=$J$5,Base!#REF!,IF(OR(Products!$Z$7=$J$2,Products!$Z$7=$J$3),Base!Z136)))","v":"1 year"},{"$f":"IF(Products!$Z$7=$J$4,Base!C133,IF(Products!$Z$7=$J$5,Base!#REF!,IF(OR(Products!$Z$7=$J$2,Products!$Z$7=$J$3),Base!AA136)))","v":"50 - 99"},{"$f":"IFERROR(IF(Products!$Z$7=$J$3,VLOOKUP(CONCATENATE(A137,B137,C137),Base!$AB$13:$AC$64,2,FALSE),IF(Products!$Z$7=$J$2,VLOOKUP(CONCATENATE(A137,B137,C137),Base!$AB$13:$AE$64,4,FALSE),VLOOKUP(CONCATENATE(A137,B137,C137),Base!$D$9:$G$386,4,FALSE))),\"\")","v":690},{"$f":"Products!F137","v":0},{"$f":"IF(ISBLANK(Products!F137),0,IF(LEFT(Products!$Z$7,8)=\"Consumer\",D137*E137,IF(C137=\"500+\",IF(E137>=500,E137*D137),IF(C137=\"1000+\",IF(E137>=1000,E137*D137),IF(C137=\"3000+\",IF(E137>=3000,E137*D137),IF(AND(E137>=VLOOKUP(C137,$M$18:$P$34,3,FALSE),E137<=VLOOKUP(C137,$M$18:$P$34,4,FALSE)),E137*D137))))))","v":0},{"$f":"IF(Products!$Z$7=$J$4,Base!H133,IF(Products!$Z$7=$J$5,Base!#REF!,IF(OR(Products!$Z$7=$J$2,Products!$Z$7=$J$3),Base!AD136)))","v":"BL1226100D-EN"}]
[{"$f":"IF(Products!$Z$7=$J$4,Base!A134,IF(Products!$Z$7=$J$5,Base!#REF!,IF(OR(Products!$Z$7=$J$2,Products!$Z$7=$J$3),Base!Y137)))","v":"GravityZone Security for Virtualized Environments CPU"},{"$f":"IF(Products!$Z$7=$J$4,Base!B134,IF(Products!$Z$7=$J$5,Base!#REF!,IF(OR(Products!$Z$7=$J$2,Products!$Z$7=$J$3),Base!Z137)))","v":"1 year"},{"$f":"IF(Products!$Z$7=$J$4,Base!C134,IF(Products!$Z$7=$J$5,Base!#REF!,IF(OR(Products!$Z$7=$J$2,Products!$Z$7=$J$3),Base!AA137)))","v":"100 - 149"},{"$f":"IFERROR(IF(Products!$Z$7=$J$3,VLOOKUP(CONCATENATE(A138,B138,C138),Base!$AB$13:$AC$64,2,FALSE),IF(Products!$Z$7=$J$2,VLOOKUP(CONCATENATE(A138,B138,C138),Base!$AB$13:$AE$64,4,FALSE),VLOOKUP(CONCATENATE(A138,B138,C138),Base!$D$9:$G$386,4,FALSE))),\"\")","v":630},{"$f":"Products!F138","v":0},{"$f":"IF(ISBLANK(Products!F138),0,IF(LEFT(Products!$Z$7,8)=\"Consumer\",D138*E138,IF(C138=\"500+\",IF(E138>=500,E138*D138),IF(C138=\"1000+\",IF(E138>=1000,E138*D138),IF(C138=\"3000+\",IF(E138>=3000,E138*D138),IF(AND(E138>=VLOOKUP(C138,$M$18:$P$34,3,FALSE),E138<=VLOOKUP(C138,$M$18:$P$34,4,FALSE)),E138*D138))))))","v":0},{"$f":"IF(Products!$Z$7=$J$4,Base!H134,IF(Products!$Z$7=$J$5,Base!#REF!,IF(OR(Products!$Z$7=$J$2,Products!$Z$7=$J$3),Base!AD137)))","v":"BL1226100E-EN"}]
[{"$f":"IF(Products!$Z$7=$J$4,Base!A135,IF(Products!$Z$7=$J$5,Base!#REF!,IF(OR(Products!$Z$7=$J$2,Products!$Z$7=$J$3),Base!Y138)))","v":"GravityZone Security for Virtualized Environments CPU"},{"$f":"IF(Products!$Z$7=$J$4,Base!B135,IF(Products!$Z$7=$J$5,Base!#REF!,IF(OR(Products!$Z$7=$J$2,Products!$Z$7=$J$3),Base!Z138)))","v":"1 year"},{"$f":"IF(Products!$Z$7=$J$4,Base!C135,IF(Products!$Z$7=$J$5,Base!#REF!,IF(OR(Products!$Z$7=$J$2,Products!$Z$7=$J$3),Base!AA138)))","v":"150 - 249"},{"$f":"IFERROR(IF(Products!$Z$7=$J$3,VLOOKUP(CONCATENATE(A139,B139,C139),Base!$AB$13:$AC$64,2,FALSE),IF(Products!$Z$7=$J$2,VLOOKUP(CONCATENATE(A139,B139,C139),Base!$AB$13:$AE$64,4,FALSE),VLOOKUP(CONCATENATE(A139,B139,C139),Base!$D$9:$G$386,4,FALSE))),\"\")","v":600},{"$f":"Products!F139","v":0},{"$f":"IF(ISBLANK(Products!F139),0,IF(LEFT(Products!$Z$7,8)=\"Consumer\",D139*E139,IF(C139=\"500+\",IF(E139>=500,E139*D139),IF(C139=\"1000+\",IF(E139>=1000,E139*D139),IF(C139=\"3000+\",IF(E139>=3000,E139*D139),IF(AND(E139>=VLOOKUP(C139,$M$18:$P$34,3,FALSE),E139<=VLOOKUP(C139,$M$18:$P$34,4,FALSE)),E139*D139))))))","v":0},{"$f":"IF(Products!$Z$7=$J$4,Base!H135,IF(Products!$Z$7=$J$5,Base!#REF!,IF(OR(Products!$Z$7=$J$2,Products!$Z$7=$J$3),Base!AD138)))","v":"BL1226100F-EN"}]
[{"$f":"IF(Products!$Z$7=$J$4,Base!A136,IF(Products!$Z$7=$J$5,Base!#REF!,IF(OR(Products!$Z$7=$J$2,Products!$Z$7=$J$3),Base!Y139)))","v":"GravityZone Security for Virtualized Environments CPU"},{"$f":"IF(Products!$Z$7=$J$4,Base!B136,IF(Products!$Z$7=$J$5,Base!#REF!,IF(OR(Products!$Z$7=$J$2,Products!$Z$7=$J$3),Base!Z139)))","v":"1 year"},{"$f":"IF(Products!$Z$7=$J$4,Base!C136,IF(Products!$Z$7=$J$5,Base!#REF!,IF(OR(Products!$Z$7=$J$2,Products!$Z$7=$J$3),Base!AA139)))","v":"250 - 499"},{"$f":"IFERROR(IF(Products!$Z$7=$J$3,VLOOKUP(CONCATENATE(A140,B140,C140),Base!$AB$13:$AC$64,2,FALSE),IF(Products!$Z$7=$J$2,VLOOKUP(CONCATENATE(A140,B140,C140),Base!$AB$13:$AE$64,4,FALSE),VLOOKUP(CONCATENATE(A140,B140,C140),Base!$D$9:$G$386,4,FALSE))),\"\")","v":570},{"$f":"Products!F140","v":0},{"$f":"IF(ISBLANK(Products!F140),0,IF(LEFT(Products!$Z$7,8)=\"Consumer\",D140*E140,IF(C140=\"500+\",IF(E140>=500,E140*D140),IF(C140=\"1000+\",IF(E140>=1000,E140*D140),IF(C140=\"3000+\",IF(E140>=3000,E140*D140),IF(AND(E140>=VLOOKUP(C140,$M$18:$P$34,3,FALSE),E140<=VLOOKUP(C140,$M$18:$P$34,4,FALSE)),E140*D140))))))","v":0},{"$f":"IF(Products!$Z$7=$J$4,Base!H136,IF(Products!$Z$7=$J$5,Base!#REF!,IF(OR(Products!$Z$7=$J$2,Products!$Z$7=$J$3),Base!AD139)))","v":"BL1226100G-EN"}]
[{"$f":"IF(Products!$Z$7=$J$4,Base!A137,IF(Products!$Z$7=$J$5,Base!#REF!,IF(OR(Products!$Z$7=$J$2,Products!$Z$7=$J$3),Base!Y140)))","v":"GravityZone Security for Virtualized Environments CPU"},{"$f":"IF(Products!$Z$7=$J$4,Base!B137,IF(Products!$Z$7=$J$5,Base!#REF!,IF(OR(Products!$Z$7=$J$2,Products!$Z$7=$J$3),Base!Z140)))","v":"1 year"},{"$f":"IF(Products!$Z$7=$J$4,Base!C137,IF(Products!$Z$7=$J$5,Base!#REF!,IF(OR(Products!$Z$7=$J$2,Products!$Z$7=$J$3),Base!AA140)))","v":"500+"},{"$f":"IFERROR(IF(Products!$Z$7=$J$3,VLOOKUP(CONCATENATE(A141,B141,C141),Base!$AB$13:$AC$64,2,FALSE),IF(Products!$Z$7=$J$2,VLOOKUP(CONCATENATE(A141,B141,C141),Base!$AB$13:$AE$64,4,FALSE),VLOOKUP(CONCATENATE(A141,B141,C141),Base!$D$9:$G$386,4,FALSE))),\"\")","v":545},{"$f":"Products!F141","v":0},{"$f":"IF(ISBLANK(Products!F141),0,IF(LEFT(Products!$Z$7,8)=\"Consumer\",D141*E141,IF(C141=\"500+\",IF(E141>=500,E141*D141),IF(C141=\"1000+\",IF(E141>=1000,E141*D141),IF(C141=\"3000+\",IF(E141>=3000,E141*D141),IF(AND(E141>=VLOOKUP(C141,$M$18:$P$34,3,FALSE),E141<=VLOOKUP(C141,$M$18:$P$34,4,FALSE)),E141*D141))))))","v":0},{"$f":"IF(Products!$Z$7=$J$4,Base!H137,IF(Products!$Z$7=$J$5,Base!#REF!,IF(OR(Products!$Z$7=$J$2,Products!$Z$7=$J$3),Base!AD140)))","v":"BL1226100H-EN"}]
[{"$f":"IF(Products!$Z$7=$J$4,Base!A138,IF(Products!$Z$7=$J$5,Base!#REF!,IF(OR(Products!$Z$7=$J$2,Products!$Z$7=$J$3),Base!Y141)))","v":"GravityZone Security for Virtualized Environments CPU"},{"$f":"IF(Products!$Z$7=$J$4,Base!B138,IF(Products!$Z$7=$J$5,Base!#REF!,IF(OR(Products!$Z$7=$J$2,Products!$Z$7=$J$3),Base!Z141)))","v":"2 years"},{"$f":"IF(Products!$Z$7=$J$4,Base!C138,IF(Products!$Z$7=$J$5,Base!#REF!,IF(OR(Products!$Z$7=$J$2,Products!$Z$7=$J$3),Base!AA141)))","v":"1 - 14"},{"$f":"IFERROR(IF(Products!$Z$7=$J$3,VLOOKUP(CONCATENATE(A142,B142,C142),Base!$AB$13:$AC$64,2,FALSE),IF(Products!$Z$7=$J$2,VLOOKUP(CONCATENATE(A142,B142,C142),Base!$AB$13:$AE$64,4,FALSE),VLOOKUP(CONCATENATE(A142,B142,C142),Base!$D$9:$G$386,4,FALSE))),\"\")","v":1280},{"$f":"Products!F142","v":0},{"$f":"IF(ISBLANK(Products!F142),0,IF(LEFT(Products!$Z$7,8)=\"Consumer\",D142*E142,IF(C142=\"500+\",IF(E142>=500,E142*D142),IF(C142=\"1000+\",IF(E142>=1000,E142*D142),IF(C142=\"3000+\",IF(E142>=3000,E142*D142),IF(AND(E142>=VLOOKUP(C142,$M$18:$P$34,3,FALSE),E142<=VLOOKUP(C142,$M$18:$P$34,4,FALSE)),E142*D142))))))","v":0},{"$f":"IF(Products!$Z$7=$J$4,Base!H138,IF(Products!$Z$7=$J$5,Base!#REF!,IF(OR(Products!$Z$7=$J$2,Products!$Z$7=$J$3),Base!AD141)))","v":"BL1226200A-EN"}]
[{"$f":"IF(Products!$Z$7=$J$4,Base!A139,IF(Products!$Z$7=$J$5,Base!#REF!,IF(OR(Products!$Z$7=$J$2,Products!$Z$7=$J$3),Base!Y142)))","v":"GravityZone Security for Virtualized Environments CPU"},{"$f":"IF(Products!$Z$7=$J$4,Base!B139,IF(Products!$Z$7=$J$5,Base!#REF!,IF(OR(Products!$Z$7=$J$2,Products!$Z$7=$J$3),Base!Z142)))","v":"2 years"},{"$f":"IF(Products!$Z$7=$J$4,Base!C139,IF(Products!$Z$7=$J$5,Base!#REF!,IF(OR(Products!$Z$7=$J$2,Products!$Z$7=$J$3),Base!AA142)))","v":"15 - 24"},{"$f":"IFERROR(IF(Products!$Z$7=$J$3,VLOOKUP(CONCATENATE(A143,B143,C143),Base!$AB$13:$AC$64,2,FALSE),IF(Products!$Z$7=$J$2,VLOOKUP(CONCATENATE(A143,B143,C143),Base!$AB$13:$AE$64,4,FALSE),VLOOKUP(CONCATENATE(A143,B143,C143),Base!$D$9:$G$386,4,FALSE))),\"\")","v":1216},{"$f":"Products!F143","v":0},{"$f":"IF(ISBLANK(Products!F143),0,IF(LEFT(Products!$Z$7,8)=\"Consumer\",D143*E143,IF(C143=\"500+\",IF(E143>=500,E143*D143),IF(C143=\"1000+\",IF(E143>=1000,E143*D143),IF(C143=\"3000+\",IF(E143>=3000,E143*D143),IF(AND(E143>=VLOOKUP(C143,$M$18:$P$34,3,FALSE),E143<=VLOOKUP(C143,$M$18:$P$34,4,FALSE)),E143*D143))))))","v":0},{"$f":"IF(Products!$Z$7=$J$4,Base!H139,IF(Products!$Z$7=$J$5,Base!#REF!,IF(OR(Products!$Z$7=$J$2,Products!$Z$7=$J$3),Base!AD142)))","v":"BL1226200B-EN"}]
[{"$f":"IF(Products!$Z$7=$J$4,Base!A140,IF(Products!$Z$7=$J$5,Base!#REF!,IF(OR(Products!$Z$7=$J$2,Products!$Z$7=$J$3),Base!Y143)))","v":"GravityZone Security for Virtualized Environments CPU"},{"$f":"IF(Products!$Z$7=$J$4,Base!B140,IF(Products!$Z$7=$J$5,Base!#REF!,IF(OR(Products!$Z$7=$J$2,Products!$Z$7=$J$3),Base!Z143)))","v":"2 years"},{"$f":"IF(Products!$Z$7=$J$4,Base!C140,IF(Products!$Z$7=$J$5,Base!#REF!,IF(OR(Products!$Z$7=$J$2,Products!$Z$7=$J$3),Base!AA143)))","v":"25 - 49"},{"$f":"IFERROR(IF(Products!$Z$7=$J$3,VLOOKUP(CONCATENATE(A144,B144,C144),Base!$AB$13:$AC$64,2,FALSE),IF(Products!$Z$7=$J$2,VLOOKUP(CONCATENATE(A144,B144,C144),Base!$AB$13:$AE$64,4,FALSE),VLOOKUP(CONCATENATE(A144,B144,C144),Base!$D$9:$G$386,4,FALSE))),\"\")","v":1160},{"$f":"Products!F144","v":0},{"$f":"IF(ISBLANK(Products!F144),0,IF(LEFT(Products!$Z$7,8)=\"Consumer\",D144*E144,IF(C144=\"500+\",IF(E144>=500,E144*D144),IF(C144=\"1000+\",IF(E144>=1000,E144*D144),IF(C144=\"3000+\",IF(E144>=3000,E144*D144),IF(AND(E144>=VLOOKUP(C144,$M$18:$P$34,3,FALSE),E144<=VLOOKUP(C144,$M$18:$P$34,4,FALSE)),E144*D144))))))","v":0},{"$f":"IF(Products!$Z$7=$J$4,Base!H140,IF(Products!$Z$7=$J$5,Base!#REF!,IF(OR(Products!$Z$7=$J$2,Products!$Z$7=$J$3),Base!AD143)))","v":"BL1226200C-EN"}]
[{"$f":"IF(Products!$Z$7=$J$4,Base!A141,IF(Products!$Z$7=$J$5,Base!#REF!,IF(OR(Products!$Z$7=$J$2,Products!$Z$7=$J$3),Base!Y144)))","v":"GravityZone Security for Virtualized Environments CPU"},{"$f":"IF(Products!$Z$7=$J$4,Base!B141,IF(Products!$Z$7=$J$5,Base!#REF!,IF(OR(Products!$Z$7=$J$2,Products!$Z$7=$J$3),Base!Z144)))","v":"2 years"},{"$f":"IF(Products!$Z$7=$J$4,Base!C141,IF(Products!$Z$7=$J$5,Base!#REF!,IF(OR(Products!$Z$7=$J$2,Products!$Z$7=$J$3),Base!AA144)))","v":"50 - 99"},{"$f":"IFERROR(IF(Products!$Z$7=$J$3,VLOOKUP(CONCATENATE(A145,B145,C145),Base!$AB$13:$AC$64,2,FALSE),IF(Products!$Z$7=$J$2,VLOOKUP(CONCATENATE(A145,B145,C145),Base!$AB$13:$AE$64,4,FALSE),VLOOKUP(CONCATENATE(A145,B145,C145),Base!$D$9:$G$386,4,FALSE))),\"\")","v":1104},{"$f":"Products!F145","v":0},{"$f":"IF(ISBLANK(Products!F145),0,IF(LEFT(Products!$Z$7,8)=\"Consumer\",D145*E145,IF(C145=\"500+\",IF(E145>=500,E145*D145),IF(C145=\"1000+\",IF(E145>=1000,E145*D145),IF(C145=\"3000+\",IF(E145>=3000,E145*D145),IF(AND(E145>=VLOOKUP(C145,$M$18:$P$34,3,FALSE),E145<=VLOOKUP(C145,$M$18:$P$34,4,FALSE)),E145*D145))))))","v":0},{"$f":"IF(Products!$Z$7=$J$4,Base!H141,IF(Products!$Z$7=$J$5,Base!#REF!,IF(OR(Products!$Z$7=$J$2,Products!$Z$7=$J$3),Base!AD144)))","v":"BL1226200D-EN"}]
[{"$f":"IF(Products!$Z$7=$J$4,Base!A142,IF(Products!$Z$7=$J$5,Base!#REF!,IF(OR(Products!$Z$7=$J$2,Products!$Z$7=$J$3),Base!Y145)))","v":"GravityZone Security for Virtualized Environments CPU"},{"$f":"IF(Products!$Z$7=$J$4,Base!B142,IF(Products!$Z$7=$J$5,Base!#REF!,IF(OR(Products!$Z$7=$J$2,Products!$Z$7=$J$3),Base!Z145)))","v":"2 years"},{"$f":"IF(Products!$Z$7=$J$4,Base!C142,IF(Products!$Z$7=$J$5,Base!#REF!,IF(OR(Products!$Z$7=$J$2,Products!$Z$7=$J$3),Base!AA145)))","v":"100 - 149"},{"$f":"IFERROR(IF(Products!$Z$7=$J$3,VLOOKUP(CONCATENATE(A146,B146,C146),Base!$AB$13:$AC$64,2,FALSE),IF(Products!$Z$7=$J$2,VLOOKUP(CONCATENATE(A146,B146,C146),Base!$AB$13:$AE$64,4,FALSE),VLOOKUP(CONCATENATE(A146,B146,C146),Base!$D$9:$G$386,4,FALSE))),\"\")","v":1008},{"$f":"Products!F146","v":0},{"$f":"IF(ISBLANK(Products!F146),0,IF(LEFT(Products!$Z$7,8)=\"Consumer\",D146*E146,IF(C146=\"500+\",IF(E146>=500,E146*D146),IF(C146=\"1000+\",IF(E146>=1000,E146*D146),IF(C146=\"3000+\",IF(E146>=3000,E146*D146),IF(AND(E146>=VLOOKUP(C146,$M$18:$P$34,3,FALSE),E146<=VLOOKUP(C146,$M$18:$P$34,4,FALSE)),E146*D146))))))","v":0},{"$f":"IF(Products!$Z$7=$J$4,Base!H142,IF(Products!$Z$7=$J$5,Base!#REF!,IF(OR(Products!$Z$7=$J$2,Products!$Z$7=$J$3),Base!AD145)))","v":"BL1226200E-EN"}]
[{"$f":"IF(Products!$Z$7=$J$4,Base!A143,IF(Products!$Z$7=$J$5,Base!#REF!,IF(OR(Products!$Z$7=$J$2,Products!$Z$7=$J$3),Base!Y146)))","v":"GravityZone Security for Virtualized Environments CPU"},{"$f":"IF(Products!$Z$7=$J$4,Base!B143,IF(Products!$Z$7=$J$5,Base!#REF!,IF(OR(Products!$Z$7=$J$2,Products!$Z$7=$J$3),Base!Z146)))","v":"2 years"},{"$f":"IF(Products!$Z$7=$J$4,Base!C143,IF(Products!$Z$7=$J$5,Base!#REF!,IF(OR(Products!$Z$7=$J$2,Products!$Z$7=$J$3),Base!AA146)))","v":"150 - 249"},{"$f":"IFERROR(IF(Products!$Z$7=$J$3,VLOOKUP(CONCATENATE(A147,B147,C147),Base!$AB$13:$AC$64,2,FALSE),IF(Products!$Z$7=$J$2,VLOOKUP(CONCATENATE(A147,B147,C147),Base!$AB$13:$AE$64,4,FALSE),VLOOKUP(CONCATENATE(A147,B147,C147),Base!$D$9:$G$386,4,FALSE))),\"\")","v":960},{"$f":"Products!F147","v":0},{"$f":"IF(ISBLANK(Products!F147),0,IF(LEFT(Products!$Z$7,8)=\"Consumer\",D147*E147,IF(C147=\"500+\",IF(E147>=500,E147*D147),IF(C147=\"1000+\",IF(E147>=1000,E147*D147),IF(C147=\"3000+\",IF(E147>=3000,E147*D147),IF(AND(E147>=VLOOKUP(C147,$M$18:$P$34,3,FALSE),E147<=VLOOKUP(C147,$M$18:$P$34,4,FALSE)),E147*D147))))))","v":0},{"$f":"IF(Products!$Z$7=$J$4,Base!H143,IF(Products!$Z$7=$J$5,Base!#REF!,IF(OR(Products!$Z$7=$J$2,Products!$Z$7=$J$3),Base!AD146)))","v":"BL1226200F-EN"}]
[{"$f":"IF(Products!$Z$7=$J$4,Base!A144,IF(Products!$Z$7=$J$5,Base!#REF!,IF(OR(Products!$Z$7=$J$2,Products!$Z$7=$J$3),Base!Y147)))","v":"GravityZone Security for Virtualized Environments CPU"},{"$f":"IF(Products!$Z$7=$J$4,Base!B144,IF(Products!$Z$7=$J$5,Base!#REF!,IF(OR(Products!$Z$7=$J$2,Products!$Z$7=$J$3),Base!Z147)))","v":"2 years"},{"$f":"IF(Products!$Z$7=$J$4,Base!C144,IF(Products!$Z$7=$J$5,Base!#REF!,IF(OR(Products!$Z$7=$J$2,Products!$Z$7=$J$3),Base!AA147)))","v":"250 - 499"},{"$f":"IFERROR(IF(Products!$Z$7=$J$3,VLOOKUP(CONCATENATE(A148,B148,C148),Base!$AB$13:$AC$64,2,FALSE),IF(Products!$Z$7=$J$2,VLOOKUP(CONCATENATE(A148,B148,C148),Base!$AB$13:$AE$64,4,FALSE),VLOOKUP(CONCATENATE(A148,B148,C148),Base!$D$9:$G$386,4,FALSE))),\"\")","v":912},{"$f":"Products!F148","v":0},{"$f":"IF(ISBLANK(Products!F148),0,IF(LEFT(Products!$Z$7,8)=\"Consumer\",D148*E148,IF(C148=\"500+\",IF(E148>=500,E148*D148),IF(C148=\"1000+\",IF(E148>=1000,E148*D148),IF(C148=\"3000+\",IF(E148>=3000,E148*D148),IF(AND(E148>=VLOOKUP(C148,$M$18:$P$34,3,FALSE),E148<=VLOOKUP(C148,$M$18:$P$34,4,FALSE)),E148*D148))))))","v":0},{"$f":"IF(Products!$Z$7=$J$4,Base!H144,IF(Products!$Z$7=$J$5,Base!#REF!,IF(OR(Products!$Z$7=$J$2,Products!$Z$7=$J$3),Base!AD147)))","v":"BL1226200G-EN"}]
[{"$f":"IF(Products!$Z$7=$J$4,Base!A145,IF(Products!$Z$7=$J$5,Base!#REF!,IF(OR(Products!$Z$7=$J$2,Products!$Z$7=$J$3),Base!Y148)))","v":"GravityZone Security for Virtualized Environments CPU"},{"$f":"IF(Products!$Z$7=$J$4,Base!B145,IF(Products!$Z$7=$J$5,Base!#REF!,IF(OR(Products!$Z$7=$J$2,Products!$Z$7=$J$3),Base!Z148)))","v":"2 years"},{"$f":"IF(Products!$Z$7=$J$4,Base!C145,IF(Products!$Z$7=$J$5,Base!#REF!,IF(OR(Products!$Z$7=$J$2,Products!$Z$7=$J$3),Base!AA148)))","v":"500+"},{"$f":"IFERROR(IF(Products!$Z$7=$J$3,VLOOKUP(CONCATENATE(A149,B149,C149),Base!$AB$13:$AC$64,2,FALSE),IF(Products!$Z$7=$J$2,VLOOKUP(CONCATENATE(A149,B149,C149),Base!$AB$13:$AE$64,4,FALSE),VLOOKUP(CONCATENATE(A149,B149,C149),Base!$D$9:$G$386,4,FALSE))),\"\")","v":872},{"$f":"Products!F149","v":0},{"$f":"IF(ISBLANK(Products!F149),0,IF(LEFT(Products!$Z$7,8)=\"Consumer\",D149*E149,IF(C149=\"500+\",IF(E149>=500,E149*D149),IF(C149=\"1000+\",IF(E149>=1000,E149*D149),IF(C149=\"3000+\",IF(E149>=3000,E149*D149),IF(AND(E149>=VLOOKUP(C149,$M$18:$P$34,3,FALSE),E149<=VLOOKUP(C149,$M$18:$P$34,4,FALSE)),E149*D149))))))","v":0},{"$f":"IF(Products!$Z$7=$J$4,Base!H145,IF(Products!$Z$7=$J$5,Base!#REF!,IF(OR(Products!$Z$7=$J$2,Products!$Z$7=$J$3),Base!AD148)))","v":"BL1226200H-EN"}]
[{"$f":"IF(Products!$Z$7=$J$4,Base!A146,IF(Products!$Z$7=$J$5,Base!#REF!,IF(OR(Products!$Z$7=$J$2,Products!$Z$7=$J$3),Base!Y149)))","v":"GravityZone Security for Virtualized Environments CPU"},{"$f":"IF(Products!$Z$7=$J$4,Base!B146,IF(Products!$Z$7=$J$5,Base!#REF!,IF(OR(Products!$Z$7=$J$2,Products!$Z$7=$J$3),Base!Z149)))","v":"3 years"},{"$f":"IF(Products!$Z$7=$J$4,Base!C146,IF(Products!$Z$7=$J$5,Base!#REF!,IF(OR(Products!$Z$7=$J$2,Products!$Z$7=$J$3),Base!AA149)))","v":"1 - 14"},{"$f":"IFERROR(IF(Products!$Z$7=$J$3,VLOOKUP(CONCATENATE(A150,B150,C150),Base!$AB$13:$AC$64,2,FALSE),IF(Products!$Z$7=$J$2,VLOOKUP(CONCATENATE(A150,B150,C150),Base!$AB$13:$AE$64,4,FALSE),VLOOKUP(CONCATENATE(A150,B150,C150),Base!$D$9:$G$386,4,FALSE))),\"\")","v":1640},{"$f":"Products!F150","v":0},{"$f":"IF(ISBLANK(Products!F150),0,IF(LEFT(Products!$Z$7,8)=\"Consumer\",D150*E150,IF(C150=\"500+\",IF(E150>=500,E150*D150),IF(C150=\"1000+\",IF(E150>=1000,E150*D150),IF(C150=\"3000+\",IF(E150>=3000,E150*D150),IF(AND(E150>=VLOOKUP(C150,$M$18:$P$34,3,FALSE),E150<=VLOOKUP(C150,$M$18:$P$34,4,FALSE)),E150*D150))))))","v":0},{"$f":"IF(Products!$Z$7=$J$4,Base!H146,IF(Products!$Z$7=$J$5,Base!#REF!,IF(OR(Products!$Z$7=$J$2,Products!$Z$7=$J$3),Base!AD149)))","v":"BL1226300A-EN"}]
[{"$f":"IF(Products!$Z$7=$J$4,Base!A147,IF(Products!$Z$7=$J$5,Base!#REF!,IF(OR(Products!$Z$7=$J$2,Products!$Z$7=$J$3),Base!Y150)))","v":"GravityZone Security for Virtualized Environments CPU"},{"$f":"IF(Products!$Z$7=$J$4,Base!B147,IF(Products!$Z$7=$J$5,Base!#REF!,IF(OR(Products!$Z$7=$J$2,Products!$Z$7=$J$3),Base!Z150)))","v":"3 years"},{"$f":"IF(Products!$Z$7=$J$4,Base!C147,IF(Products!$Z$7=$J$5,Base!#REF!,IF(OR(Products!$Z$7=$J$2,Products!$Z$7=$J$3),Base!AA150)))","v":"15 - 24"},{"$f":"IFERROR(IF(Products!$Z$7=$J$3,VLOOKUP(CONCATENATE(A151,B151,C151),Base!$AB$13:$AC$64,2,FALSE),IF(Products!$Z$7=$J$2,VLOOKUP(CONCATENATE(A151,B151,C151),Base!$AB$13:$AE$64,4,FALSE),VLOOKUP(CONCATENATE(A151,B151,C151),Base!$D$9:$G$386,4,FALSE))),\"\")","v":1558},{"$f":"Products!F151","v":0},{"$f":"IF(ISBLANK(Products!F151),0,IF(LEFT(Products!$Z$7,8)=\"Consumer\",D151*E151,IF(C151=\"500+\",IF(E151>=500,E151*D151),IF(C151=\"1000+\",IF(E151>=1000,E151*D151),IF(C151=\"3000+\",IF(E151>=3000,E151*D151),IF(AND(E151>=VLOOKUP(C151,$M$18:$P$34,3,FALSE),E151<=VLOOKUP(C151,$M$18:$P$34,4,FALSE)),E151*D151))))))","v":0},{"$f":"IF(Products!$Z$7=$J$4,Base!H147,IF(Products!$Z$7=$J$5,Base!#REF!,IF(OR(Products!$Z$7=$J$2,Products!$Z$7=$J$3),Base!AD150)))","v":"BL1226300B-EN"}]
[{"$f":"IF(Products!$Z$7=$J$4,Base!A148,IF(Products!$Z$7=$J$5,Base!#REF!,IF(OR(Products!$Z$7=$J$2,Products!$Z$7=$J$3),Base!Y151)))","v":"GravityZone Security for Virtualized Environments CPU"},{"$f":"IF(Products!$Z$7=$J$4,Base!B148,IF(Products!$Z$7=$J$5,Base!#REF!,IF(OR(Products!$Z$7=$J$2,Products!$Z$7=$J$3),Base!Z151)))","v":"3 years"},{"$f":"IF(Products!$Z$7=$J$4,Base!C148,IF(Products!$Z$7=$J$5,Base!#REF!,IF(OR(Products!$Z$7=$J$2,Products!$Z$7=$J$3),Base!AA151)))","v":"25 - 49"},{"$f":"IFERROR(IF(Products!$Z$7=$J$3,VLOOKUP(CONCATENATE(A152,B152,C152),Base!$AB$13:$AC$64,2,FALSE),IF(Products!$Z$7=$J$2,VLOOKUP(CONCATENATE(A152,B152,C152),Base!$AB$13:$AE$64,4,FALSE),VLOOKUP(CONCATENATE(A152,B152,C152),Base!$D$9:$G$386,4,FALSE))),\"\")","v":1486.25},{"$f":"Products!F152","v":0},{"$f":"IF(ISBLANK(Products!F152),0,IF(LEFT(Products!$Z$7,8)=\"Consumer\",D152*E152,IF(C152=\"500+\",IF(E152>=500,E152*D152),IF(C152=\"1000+\",IF(E152>=1000,E152*D152),IF(C152=\"3000+\",IF(E152>=3000,E152*D152),IF(AND(E152>=VLOOKUP(C152,$M$18:$P$34,3,FALSE),E152<=VLOOKUP(C152,$M$18:$P$34,4,FALSE)),E152*D152))))))","v":0},{"$f":"IF(Products!$Z$7=$J$4,Base!H148,IF(Products!$Z$7=$J$5,Base!#REF!,IF(OR(Products!$Z$7=$J$2,Products!$Z$7=$J$3),Base!AD151)))","v":"BL1226300C-EN"}]
[{"$f":"IF(Products!$Z$7=$J$4,Base!A149,IF(Products!$Z$7=$J$5,Base!#REF!,IF(OR(Products!$Z$7=$J$2,Products!$Z$7=$J$3),Base!Y152)))","v":"GravityZone Security for Virtualized Environments CPU"},{"$f":"IF(Products!$Z$7=$J$4,Base!B149,IF(Products!$Z$7=$J$5,Base!#REF!,IF(OR(Products!$Z$7=$J$2,Products!$Z$7=$J$3),Base!Z152)))","v":"3 years"},{"$f":"IF(Products!$Z$7=$J$4,Base!C149,IF(Products!$Z$7=$J$5,Base!#REF!,IF(OR(Products!$Z$7=$J$2,Products!$Z$7=$J$3),Base!AA152)))","v":"50 - 99"},{"$f":"IFERROR(IF(Products!$Z$7=$J$3,VLOOKUP(CONCATENATE(A153,B153,C153),Base!$AB$13:$AC$64,2,FALSE),IF(Products!$Z$7=$J$2,VLOOKUP(CONCATENATE(A153,B153,C153),Base!$AB$13:$AE$64,4,FALSE),VLOOKUP(CONCATENATE(A153,B153,C153),Base!$D$9:$G$386,4,FALSE))),\"\")","v":1414.5},{"$f":"Products!F153","v":0},{"$f":"IF(ISBLANK(Products!F153),0,IF(LEFT(Products!$Z$7,8)=\"Consumer\",D153*E153,IF(C153=\"500+\",IF(E153>=500,E153*D153),IF(C153=\"1000+\",IF(E153>=1000,E153*D153),IF(C153=\"3000+\",IF(E153>=3000,E153*D153),IF(AND(E153>=VLOOKUP(C153,$M$18:$P$34,3,FALSE),E153<=VLOOKUP(C153,$M$18:$P$34,4,FALSE)),E153*D153))))))","v":0},{"$f":"IF(Products!$Z$7=$J$4,Base!H149,IF(Products!$Z$7=$J$5,Base!#REF!,IF(OR(Products!$Z$7=$J$2,Products!$Z$7=$J$3),Base!AD152)))","v":"BL1226300D-EN"}]
[{"$f":"IF(Products!$Z$7=$J$4,Base!A150,IF(Products!$Z$7=$J$5,Base!#REF!,IF(OR(Products!$Z$7=$J$2,Products!$Z$7=$J$3),Base!Y153)))","v":"GravityZone Security for Virtualized Environments CPU"},{"$f":"IF(Products!$Z$7=$J$4,Base!B150,IF(Products!$Z$7=$J$5,Base!#REF!,IF(OR(Products!$Z$7=$J$2,Products!$Z$7=$J$3),Base!Z153)))","v":"3 years"},{"$f":"IF(Products!$Z$7=$J$4,Base!C150,IF(Products!$Z$7=$J$5,Base!#REF!,IF(OR(Products!$Z$7=$J$2,Products!$Z$7=$J$3),Base!AA153)))","v":"100 - 149"},{"$f":"IFERROR(IF(Products!$Z$7=$J$3,VLOOKUP(CONCATENATE(A154,B154,C154),Base!$AB$13:$AC$64,2,FALSE),IF(Products!$Z$7=$J$2,VLOOKUP(CONCATENATE(A154,B154,C154),Base!$AB$13:$AE$64,4,FALSE),VLOOKUP(CONCATENATE(A154,B154,C154),Base!$D$9:$G$386,4,FALSE))),\"\")","v":1291.5},{"$f":"Products!F154","v":0},{"$f":"IF(ISBLANK(Products!F154),0,IF(LEFT(Products!$Z$7,8)=\"Consumer\",D154*E154,IF(C154=\"500+\",IF(E154>=500,E154*D154),IF(C154=\"1000+\",IF(E154>=1000,E154*D154),IF(C154=\"3000+\",IF(E154>=3000,E154*D154),IF(AND(E154>=VLOOKUP(C154,$M$18:$P$34,3,FALSE),E154<=VLOOKUP(C154,$M$18:$P$34,4,FALSE)),E154*D154))))))","v":0},{"$f":"IF(Products!$Z$7=$J$4,Base!H150,IF(Products!$Z$7=$J$5,Base!#REF!,IF(OR(Products!$Z$7=$J$2,Products!$Z$7=$J$3),Base!AD153)))","v":"BL1226300E-EN"}]
[{"$f":"IF(Products!$Z$7=$J$4,Base!A151,IF(Products!$Z$7=$J$5,Base!#REF!,IF(OR(Products!$Z$7=$J$2,Products!$Z$7=$J$3),Base!Y154)))","v":"GravityZone Security for Virtualized Environments CPU"},{"$f":"IF(Products!$Z$7=$J$4,Base!B151,IF(Products!$Z$7=$J$5,Base!#REF!,IF(OR(Products!$Z$7=$J$2,Products!$Z$7=$J$3),Base!Z154)))","v":"3 years"},{"$f":"IF(Products!$Z$7=$J$4,Base!C151,IF(Products!$Z$7=$J$5,Base!#REF!,IF(OR(Products!$Z$7=$J$2,Products!$Z$7=$J$3),Base!AA154)))","v":"150 - 249"},{"$f":"IFERROR(IF(Products!$Z$7=$J$3,VLOOKUP(CONCATENATE(A155,B155,C155),Base!$AB$13:$AC$64,2,FALSE),IF(Products!$Z$7=$J$2,VLOOKUP(CONCATENATE(A155,B155,C155),Base!$AB$13:$AE$64,4,FALSE),VLOOKUP(CONCATENATE(A155,B155,C155),Base!$D$9:$G$386,4,FALSE))),\"\")","v":1230},{"$f":"Products!F155","v":0},{"$f":"IF(ISBLANK(Products!F155),0,IF(LEFT(Products!$Z$7,8)=\"Consumer\",D155*E155,IF(C155=\"500+\",IF(E155>=500,E155*D155),IF(C155=\"1000+\",IF(E155>=1000,E155*D155),IF(C155=\"3000+\",IF(E155>=3000,E155*D155),IF(AND(E155>=VLOOKUP(C155,$M$18:$P$34,3,FALSE),E155<=VLOOKUP(C155,$M$18:$P$34,4,FALSE)),E155*D155))))))","v":0},{"$f":"IF(Products!$Z$7=$J$4,Base!H151,IF(Products!$Z$7=$J$5,Base!#REF!,IF(OR(Products!$Z$7=$J$2,Products!$Z$7=$J$3),Base!AD154)))","v":"BL1226300F-EN"}]
[{"$f":"IF(Products!$Z$7=$J$4,Base!A152,IF(Products!$Z$7=$J$5,Base!#REF!,IF(OR(Products!$Z$7=$J$2,Products!$Z$7=$J$3),Base!Y155)))","v":"GravityZone Security for Virtualized Environments CPU"},{"$f":"IF(Products!$Z$7=$J$4,Base!B152,IF(Products!$Z$7=$J$5,Base!#REF!,IF(OR(Products!$Z$7=$J$2,Products!$Z$7=$J$3),Base!Z155)))","v":"3 years"},{"$f":"IF(Products!$Z$7=$J$4,Base!C152,IF(Products!$Z$7=$J$5,Base!#REF!,IF(OR(Products!$Z$7=$J$2,Products!$Z$7=$J$3),Base!AA155)))","v":"250 - 499"},{"$f":"IFERROR(IF(Products!$Z$7=$J$3,VLOOKUP(CONCATENATE(A156,B156,C156),Base!$AB$13:$AC$64,2,FALSE),IF(Products!$Z$7=$J$2,VLOOKUP(CONCATENATE(A156,B156,C156),Base!$AB$13:$AE$64,4,FALSE),VLOOKUP(CONCATENATE(A156,B156,C156),Base!$D$9:$G$386,4,FALSE))),\"\")","v":1168.5},{"$f":"Products!F156","v":0},{"$f":"IF(ISBLANK(Products!F156),0,IF(LEFT(Products!$Z$7,8)=\"Consumer\",D156*E156,IF(C156=\"500+\",IF(E156>=500,E156*D156),IF(C156=\"1000+\",IF(E156>=1000,E156*D156),IF(C156=\"3000+\",IF(E156>=3000,E156*D156),IF(AND(E156>=VLOOKUP(C156,$M$18:$P$34,3,FALSE),E156<=VLOOKUP(C156,$M$18:$P$34,4,FALSE)),E156*D156))))))","v":0},{"$f":"IF(Products!$Z$7=$J$4,Base!H152,IF(Products!$Z$7=$J$5,Base!#REF!,IF(OR(Products!$Z$7=$J$2,Products!$Z$7=$J$3),Base!AD155)))","v":"BL1226300G-EN"}]
[{"$f":"IF(Products!$Z$7=$J$4,Base!A153,IF(Products!$Z$7=$J$5,Base!#REF!,IF(OR(Products!$Z$7=$J$2,Products!$Z$7=$J$3),Base!Y156)))","v":"GravityZone Security for Virtualized Environments CPU"},{"$f":"IF(Products!$Z$7=$J$4,Base!B153,IF(Products!$Z$7=$J$5,Base!#REF!,IF(OR(Products!$Z$7=$J$2,Products!$Z$7=$J$3),Base!Z156)))","v":"3 years"},{"$f":"IF(Products!$Z$7=$J$4,Base!C153,IF(Products!$Z$7=$J$5,Base!#REF!,IF(OR(Products!$Z$7=$J$2,Products!$Z$7=$J$3),Base!AA156)))","v":"500+"},{"$f":"IFERROR(IF(Products!$Z$7=$J$3,VLOOKUP(CONCATENATE(A157,B157,C157),Base!$AB$13:$AC$64,2,FALSE),IF(Products!$Z$7=$J$2,VLOOKUP(CONCATENATE(A157,B157,C157),Base!$AB$13:$AE$64,4,FALSE),VLOOKUP(CONCATENATE(A157,B157,C157),Base!$D$9:$G$386,4,FALSE))),\"\")","v":1117.25},{"$f":"Products!F157","v":0},{"$f":"IF(ISBLANK(Products!F157),0,IF(LEFT(Products!$Z$7,8)=\"Consumer\",D157*E157,IF(C157=\"500+\",IF(E157>=500,E157*D157),IF(C157=\"1000+\",IF(E157>=1000,E157*D157),IF(C157=\"3000+\",IF(E157>=3000,E157*D157),IF(AND(E157>=VLOOKUP(C157,$M$18:$P$34,3,FALSE),E157<=VLOOKUP(C157,$M$18:$P$34,4,FALSE)),E157*D157))))))","v":0},{"$f":"IF(Products!$Z$7=$J$4,Base!H153,IF(Products!$Z$7=$J$5,Base!#REF!,IF(OR(Products!$Z$7=$J$2,Products!$Z$7=$J$3),Base!AD156)))","v":"BL1226300H-EN"}]
[{"$f":"IF(Products!$Z$7=$J$4,Base!A154,IF(Products!$Z$7=$J$5,Base!#REF!,IF(OR(Products!$Z$7=$J$2,Products!$Z$7=$J$3),Base!Y157)))","v":"GravityZone Security for Endpoints Physical Workstations"},{"$f":"IF(Products!$Z$7=$J$4,Base!B154,IF(Products!$Z$7=$J$5,Base!#REF!,IF(OR(Products!$Z$7=$J$2,Products!$Z$7=$J$3),Base!Z157)))","v":"1 year"},{"$f":"IF(Products!$Z$7=$J$4,Base!C154,IF(Products!$Z$7=$J$5,Base!#REF!,IF(OR(Products!$Z$7=$J$2,Products!$Z$7=$J$3),Base!AA157)))","v":"5 - 14"},{"$f":"IFERROR(IF(Products!$Z$7=$J$3,VLOOKUP(CONCATENATE(A158,B158,C158),Base!$AB$13:$AC$64,2,FALSE),IF(Products!$Z$7=$J$2,VLOOKUP(CONCATENATE(A158,B158,C158),Base!$AB$13:$AE$64,4,FALSE),VLOOKUP(CONCATENATE(A158,B158,C158),Base!$D$9:$G$386,4,FALSE))),\"\")","v":31},{"$f":"Products!F158","v":0},{"$f":"IF(ISBLANK(Products!F158),0,IF(LEFT(Products!$Z$7,8)=\"Consumer\",D158*E158,IF(C158=\"500+\",IF(E158>=500,E158*D158),IF(C158=\"1000+\",IF(E158>=1000,E158*D158),IF(C158=\"3000+\",IF(E158>=3000,E158*D158),IF(AND(E158>=VLOOKUP(C158,$M$18:$P$34,3,FALSE),E158<=VLOOKUP(C158,$M$18:$P$34,4,FALSE)),E158*D158))))))","v":0},{"$f":"IF(Products!$Z$7=$J$4,Base!H154,IF(Products!$Z$7=$J$5,Base!#REF!,IF(OR(Products!$Z$7=$J$2,Products!$Z$7=$J$3),Base!AD157)))","v":"AL1216100A-EN"}]
[{"$f":"IF(Products!$Z$7=$J$4,Base!A155,IF(Products!$Z$7=$J$5,Base!#REF!,IF(OR(Products!$Z$7=$J$2,Products!$Z$7=$J$3),Base!Y158)))","v":"GravityZone Security for Endpoints Physical Workstations"},{"$f":"IF(Products!$Z$7=$J$4,Base!B155,IF(Products!$Z$7=$J$5,Base!#REF!,IF(OR(Products!$Z$7=$J$2,Products!$Z$7=$J$3),Base!Z158)))","v":"1 year"},{"$f":"IF(Products!$Z$7=$J$4,Base!C155,IF(Products!$Z$7=$J$5,Base!#REF!,IF(OR(Products!$Z$7=$J$2,Products!$Z$7=$J$3),Base!AA158)))","v":"15 - 24"},{"$f":"IFERROR(IF(Products!$Z$7=$J$3,VLOOKUP(CONCATENATE(A159,B159,C159),Base!$AB$13:$AC$64,2,FALSE),IF(Products!$Z$7=$J$2,VLOOKUP(CONCATENATE(A159,B159,C159),Base!$AB$13:$AE$64,4,FALSE),VLOOKUP(CONCATENATE(A159,B159,C159),Base!$D$9:$G$386,4,FALSE))),\"\")","v":27.2},{"$f":"Products!F159","v":0},{"$f":"IF(ISBLANK(Products!F159),0,IF(LEFT(Products!$Z$7,8)=\"Consumer\",D159*E159,IF(C159=\"500+\",IF(E159>=500,E159*D159),IF(C159=\"1000+\",IF(E159>=1000,E159*D159),IF(C159=\"3000+\",IF(E159>=3000,E159*D159),IF(AND(E159>=VLOOKUP(C159,$M$18:$P$34,3,FALSE),E159<=VLOOKUP(C159,$M$18:$P$34,4,FALSE)),E159*D159))))))","v":0},{"$f":"IF(Products!$Z$7=$J$4,Base!H155,IF(Products!$Z$7=$J$5,Base!#REF!,IF(OR(Products!$Z$7=$J$2,Products!$Z$7=$J$3),Base!AD158)))","v":"AL1216100B-EN"}]
[{"$f":"IF(Products!$Z$7=$J$4,Base!A156,IF(Products!$Z$7=$J$5,Base!#REF!,IF(OR(Products!$Z$7=$J$2,Products!$Z$7=$J$3),Base!Y159)))","v":"GravityZone Security for Endpoints Physical Workstations"},{"$f":"IF(Products!$Z$7=$J$4,Base!B156,IF(Products!$Z$7=$J$5,Base!#REF!,IF(OR(Products!$Z$7=$J$2,Products!$Z$7=$J$3),Base!Z159)))","v":"1 year"},{"$f":"IF(Products!$Z$7=$J$4,Base!C156,IF(Products!$Z$7=$J$5,Base!#REF!,IF(OR(Products!$Z$7=$J$2,Products!$Z$7=$J$3),Base!AA159)))","v":"25 - 49"},{"$f":"IFERROR(IF(Products!$Z$7=$J$3,VLOOKUP(CONCATENATE(A160,B160,C160),Base!$AB$13:$AC$64,2,FALSE),IF(Products!$Z$7=$J$2,VLOOKUP(CONCATENATE(A160,B160,C160),Base!$AB$13:$AE$64,4,FALSE),VLOOKUP(CONCATENATE(A160,B160,C160),Base!$D$9:$G$386,4,FALSE))),\"\")","v":25},{"$f":"Products!F160","v":0},{"$f":"IF(ISBLANK(Products!F160),0,IF(LEFT(Products!$Z$7,8)=\"Consumer\",D160*E160,IF(C160=\"500+\",IF(E160>=500,E160*D160),IF(C160=\"1000+\",IF(E160>=1000,E160*D160),IF(C160=\"3000+\",IF(E160>=3000,E160*D160),IF(AND(E160>=VLOOKUP(C160,$M$18:$P$34,3,FALSE),E160<=VLOOKUP(C160,$M$18:$P$34,4,FALSE)),E160*D160))))))","v":0},{"$f":"IF(Products!$Z$7=$J$4,Base!H156,IF(Products!$Z$7=$J$5,Base!#REF!,IF(OR(Products!$Z$7=$J$2,Products!$Z$7=$J$3),Base!AD159)))","v":"AL1216100C-EN"}]
[{"$f":"IF(Products!$Z$7=$J$4,Base!A157,IF(Products!$Z$7=$J$5,Base!#REF!,IF(OR(Products!$Z$7=$J$2,Products!$Z$7=$J$3),Base!Y160)))","v":"GravityZone Security for Endpoints Physical Workstations"},{"$f":"IF(Products!$Z$7=$J$4,Base!B157,IF(Products!$Z$7=$J$5,Base!#REF!,IF(OR(Products!$Z$7=$J$2,Products!$Z$7=$J$3),Base!Z160)))","v":"1 year"},{"$f":"IF(Products!$Z$7=$J$4,Base!C157,IF(Products!$Z$7=$J$5,Base!#REF!,IF(OR(Products!$Z$7=$J$2,Products!$Z$7=$J$3),Base!AA160)))","v":"50 - 99"},{"$f":"IFERROR(IF(Products!$Z$7=$J$3,VLOOKUP(CONCATENATE(A161,B161,C161),Base!$AB$13:$AC$64,2,FALSE),IF(Products!$Z$7=$J$2,VLOOKUP(CONCATENATE(A161,B161,C161),Base!$AB$13:$AE$64,4,FALSE),VLOOKUP(CONCATENATE(A161,B161,C161),Base!$D$9:$G$386,4,FALSE))),\"\")","v":22.5},{"$f":"Products!F161","v":0},{"$f":"IF(ISBLANK(Products!F161),0,IF(LEFT(Products!$Z$7,8)=\"Consumer\",D161*E161,IF(C161=\"500+\",IF(E161>=500,E161*D161),IF(C161=\"1000+\",IF(E161>=1000,E161*D161),IF(C161=\"3000+\",IF(E161>=3000,E161*D161),IF(AND(E161>=VLOOKUP(C161,$M$18:$P$34,3,FALSE),E161<=VLOOKUP(C161,$M$18:$P$34,4,FALSE)),E161*D161))))))","v":0},{"$f":"IF(Products!$Z$7=$J$4,Base!H157,IF(Products!$Z$7=$J$5,Base!#REF!,IF(OR(Products!$Z$7=$J$2,Products!$Z$7=$J$3),Base!AD160)))","v":"AL1216100D-EN"}]
[{"$f":"IF(Products!$Z$7=$J$4,Base!A158,IF(Products!$Z$7=$J$5,Base!#REF!,IF(OR(Products!$Z$7=$J$2,Products!$Z$7=$J$3),Base!Y161)))","v":"GravityZone Security for Endpoints Physical Workstations"},{"$f":"IF(Products!$Z$7=$J$4,Base!B158,IF(Products!$Z$7=$J$5,Base!#REF!,IF(OR(Products!$Z$7=$J$2,Products!$Z$7=$J$3),Base!Z161)))","v":"1 year"},{"$f":"IF(Products!$Z$7=$J$4,Base!C158,IF(Products!$Z$7=$J$5,Base!#REF!,IF(OR(Products!$Z$7=$J$2,Products!$Z$7=$J$3),Base!AA161)))","v":"100 - 149"},{"$f":"IFERROR(IF(Products!$Z$7=$J$3,VLOOKUP(CONCATENATE(A162,B162,C162),Base!$AB$13:$AC$64,2,FALSE),IF(Products!$Z$7=$J$2,VLOOKUP(CONCATENATE(A162,B162,C162),Base!$AB$13:$AE$64,4,FALSE),VLOOKUP(CONCATENATE(A162,B162,C162),Base!$D$9:$G$386,4,FALSE))),\"\")","v":20.25},{"$f":"Products!F162","v":0},{"$f":"IF(ISBLANK(Products!F162),0,IF(LEFT(Products!$Z$7,8)=\"Consumer\",D162*E162,IF(C162=\"500+\",IF(E162>=500,E162*D162),IF(C162=\"1000+\",IF(E162>=1000,E162*D162),IF(C162=\"3000+\",IF(E162>=3000,E162*D162),IF(AND(E162>=VLOOKUP(C162,$M$18:$P$34,3,FALSE),E162<=VLOOKUP(C162,$M$18:$P$34,4,FALSE)),E162*D162))))))","v":0},{"$f":"IF(Products!$Z$7=$J$4,Base!H158,IF(Products!$Z$7=$J$5,Base!#REF!,IF(OR(Products!$Z$7=$J$2,Products!$Z$7=$J$3),Base!AD161)))","v":"AL1216100E-EN"}]
[{"$f":"IF(Products!$Z$7=$J$4,Base!A159,IF(Products!$Z$7=$J$5,Base!#REF!,IF(OR(Products!$Z$7=$J$2,Products!$Z$7=$J$3),Base!Y162)))","v":"GravityZone Security for Endpoints Physical Workstations"},{"$f":"IF(Products!$Z$7=$J$4,Base!B159,IF(Products!$Z$7=$J$5,Base!#REF!,IF(OR(Products!$Z$7=$J$2,Products!$Z$7=$J$3),Base!Z162)))","v":"1 year"},{"$f":"IF(Products!$Z$7=$J$4,Base!C159,IF(Products!$Z$7=$J$5,Base!#REF!,IF(OR(Products!$Z$7=$J$2,Products!$Z$7=$J$3),Base!AA162)))","v":"150 - 249"},{"$f":"IFERROR(IF(Products!$Z$7=$J$3,VLOOKUP(CONCATENATE(A163,B163,C163),Base!$AB$13:$AC$64,2,FALSE),IF(Products!$Z$7=$J$2,VLOOKUP(CONCATENATE(A163,B163,C163),Base!$AB$13:$AE$64,4,FALSE),VLOOKUP(CONCATENATE(A163,B163,C163),Base!$D$9:$G$386,4,FALSE))),\"\")","v":18.25},{"$f":"Products!F163","v":0},{"$f":"IF(ISBLANK(Products!F163),0,IF(LEFT(Products!$Z$7,8)=\"Consumer\",D163*E163,IF(C163=\"500+\",IF(E163>=500,E163*D163),IF(C163=\"1000+\",IF(E163>=1000,E163*D163),IF(C163=\"3000+\",IF(E163>=3000,E163*D163),IF(AND(E163>=VLOOKUP(C163,$M$18:$P$34,3,FALSE),E163<=VLOOKUP(C163,$M$18:$P$34,4,FALSE)),E163*D163))))))","v":0},{"$f":"IF(Products!$Z$7=$J$4,Base!H159,IF(Products!$Z$7=$J$5,Base!#REF!,IF(OR(Products!$Z$7=$J$2,Products!$Z$7=$J$3),Base!AD162)))","v":"AL1216100F-EN"}]
[{"$f":"IF(Products!$Z$7=$J$4,Base!A160,IF(Products!$Z$7=$J$5,Base!#REF!,IF(OR(Products!$Z$7=$J$2,Products!$Z$7=$J$3),Base!Y163)))","v":"GravityZone Security for Endpoints Physical Workstations"},{"$f":"IF(Products!$Z$7=$J$4,Base!B160,IF(Products!$Z$7=$J$5,Base!#REF!,IF(OR(Products!$Z$7=$J$2,Products!$Z$7=$J$3),Base!Z163)))","v":"1 year"},{"$f":"IF(Products!$Z$7=$J$4,Base!C160,IF(Products!$Z$7=$J$5,Base!#REF!,IF(OR(Products!$Z$7=$J$2,Products!$Z$7=$J$3),Base!AA163)))","v":"250 - 499"},{"$f":"IFERROR(IF(Products!$Z$7=$J$3,VLOOKUP(CONCATENATE(A164,B164,C164),Base!$AB$13:$AC$64,2,FALSE),IF(Products!$Z$7=$J$2,VLOOKUP(CONCATENATE(A164,B164,C164),Base!$AB$13:$AE$64,4,FALSE),VLOOKUP(CONCATENATE(A164,B164,C164),Base!$D$9:$G$386,4,FALSE))),\"\")","v":16.5},{"$f":"Products!F164","v":0},{"$f":"IF(ISBLANK(Products!F164),0,IF(LEFT(Products!$Z$7,8)=\"Consumer\",D164*E164,IF(C164=\"500+\",IF(E164>=500,E164*D164),IF(C164=\"1000+\",IF(E164>=1000,E164*D164),IF(C164=\"3000+\",IF(E164>=3000,E164*D164),IF(AND(E164>=VLOOKUP(C164,$M$18:$P$34,3,FALSE),E164<=VLOOKUP(C164,$M$18:$P$34,4,FALSE)),E164*D164))))))","v":0},{"$f":"IF(Products!$Z$7=$J$4,Base!H160,IF(Products!$Z$7=$J$5,Base!#REF!,IF(OR(Products!$Z$7=$J$2,Products!$Z$7=$J$3),Base!AD163)))","v":"AL1216100G-EN"}]
[{"$f":"IF(Products!$Z$7=$J$4,Base!A161,IF(Products!$Z$7=$J$5,Base!#REF!,IF(OR(Products!$Z$7=$J$2,Products!$Z$7=$J$3),Base!Y164)))","v":"GravityZone Security for Endpoints Physical Workstations"},{"$f":"IF(Products!$Z$7=$J$4,Base!B161,IF(Products!$Z$7=$J$5,Base!#REF!,IF(OR(Products!$Z$7=$J$2,Products!$Z$7=$J$3),Base!Z164)))","v":"1 year"},{"$f":"IF(Products!$Z$7=$J$4,Base!C161,IF(Products!$Z$7=$J$5,Base!#REF!,IF(OR(Products!$Z$7=$J$2,Products!$Z$7=$J$3),Base!AA164)))","v":"500 - 999"},{"$f":"IFERROR(IF(Products!$Z$7=$J$3,VLOOKUP(CONCATENATE(A165,B165,C165),Base!$AB$13:$AC$64,2,FALSE),IF(Products!$Z$7=$J$2,VLOOKUP(CONCATENATE(A165,B165,C165),Base!$AB$13:$AE$64,4,FALSE),VLOOKUP(CONCATENATE(A165,B165,C165),Base!$D$9:$G$386,4,FALSE))),\"\")","v":14.85},{"$f":"Products!F165","v":0},{"$f":"IF(ISBLANK(Products!F165),0,IF(LEFT(Products!$Z$7,8)=\"Consumer\",D165*E165,IF(C165=\"500+\",IF(E165>=500,E165*D165),IF(C165=\"1000+\",IF(E165>=1000,E165*D165),IF(C165=\"3000+\",IF(E165>=3000,E165*D165),IF(AND(E165>=VLOOKUP(C165,$M$18:$P$34,3,FALSE),E165<=VLOOKUP(C165,$M$18:$P$34,4,FALSE)),E165*D165))))))","v":0},{"$f":"IF(Products!$Z$7=$J$4,Base!H161,IF(Products!$Z$7=$J$5,Base!#REF!,IF(OR(Products!$Z$7=$J$2,Products!$Z$7=$J$3),Base!AD164)))","v":"AL1216100H-EN"}]
[{"$f":"IF(Products!$Z$7=$J$4,Base!A162,IF(Products!$Z$7=$J$5,Base!#REF!,IF(OR(Products!$Z$7=$J$2,Products!$Z$7=$J$3),Base!Y165)))","v":"GravityZone Security for Endpoints Physical Workstations"},{"$f":"IF(Products!$Z$7=$J$4,Base!B162,IF(Products!$Z$7=$J$5,Base!#REF!,IF(OR(Products!$Z$7=$J$2,Products!$Z$7=$J$3),Base!Z165)))","v":"1 year"},{"$f":"IF(Products!$Z$7=$J$4,Base!C162,IF(Products!$Z$7=$J$5,Base!#REF!,IF(OR(Products!$Z$7=$J$2,Products!$Z$7=$J$3),Base!AA165)))","v":"1000 - 2999"},{"$f":"IFERROR(IF(Products!$Z$7=$J$3,VLOOKUP(CONCATENATE(A166,B166,C166),Base!$AB$13:$AC$64,2,FALSE),IF(Products!$Z$7=$J$2,VLOOKUP(CONCATENATE(A166,B166,C166),Base!$AB$13:$AE$64,4,FALSE),VLOOKUP(CONCATENATE(A166,B166,C166),Base!$D$9:$G$386,4,FALSE))),\"\")","v":13.35},{"$f":"Products!F166","v":0},{"$f":"IF(ISBLANK(Products!F166),0,IF(LEFT(Products!$Z$7,8)=\"Consumer\",D166*E166,IF(C166=\"500+\",IF(E166>=500,E166*D166),IF(C166=\"1000+\",IF(E166>=1000,E166*D166),IF(C166=\"3000+\",IF(E166>=3000,E166*D166),IF(AND(E166>=VLOOKUP(C166,$M$18:$P$34,3,FALSE),E166<=VLOOKUP(C166,$M$18:$P$34,4,FALSE)),E166*D166))))))","v":0},{"$f":"IF(Products!$Z$7=$J$4,Base!H162,IF(Products!$Z$7=$J$5,Base!#REF!,IF(OR(Products!$Z$7=$J$2,Products!$Z$7=$J$3),Base!AD165)))","v":"AL1216100I-EN"}]
[{"$f":"IF(Products!$Z$7=$J$4,Base!A163,IF(Products!$Z$7=$J$5,Base!#REF!,IF(OR(Products!$Z$7=$J$2,Products!$Z$7=$J$3),Base!Y166)))","v":"GravityZone Security for Endpoints Physical Workstations"},{"$f":"IF(Products!$Z$7=$J$4,Base!B163,IF(Products!$Z$7=$J$5,Base!#REF!,IF(OR(Products!$Z$7=$J$2,Products!$Z$7=$J$3),Base!Z166)))","v":"1 year"},{"$f":"IF(Products!$Z$7=$J$4,Base!C163,IF(Products!$Z$7=$J$5,Base!#REF!,IF(OR(Products!$Z$7=$J$2,Products!$Z$7=$J$3),Base!AA166)))","v":"3000+"},{"$f":"IFERROR(IF(Products!$Z$7=$J$3,VLOOKUP(CONCATENATE(A167,B167,C167),Base!$AB$13:$AC$64,2,FALSE),IF(Products!$Z$7=$J$2,VLOOKUP(CONCATENATE(A167,B167,C167),Base!$AB$13:$AE$64,4,FALSE),VLOOKUP(CONCATENATE(A167,B167,C167),Base!$D$9:$G$386,4,FALSE))),\"\")","v":12},{"$f":"Products!F167","v":0},{"$f":"IF(ISBLANK(Products!F167),0,IF(LEFT(Products!$Z$7,8)=\"Consumer\",D167*E167,IF(C167=\"500+\",IF(E167>=500,E167*D167),IF(C167=\"1000+\",IF(E167>=1000,E167*D167),IF(C167=\"3000+\",IF(E167>=3000,E167*D167),IF(AND(E167>=VLOOKUP(C167,$M$18:$P$34,3,FALSE),E167<=VLOOKUP(C167,$M$18:$P$34,4,FALSE)),E167*D167))))))","v":0},{"$f":"IF(Products!$Z$7=$J$4,Base!H163,IF(Products!$Z$7=$J$5,Base!#REF!,IF(OR(Products!$Z$7=$J$2,Products!$Z$7=$J$3),Base!AD166)))","v":"AL1216100J-EN"}]
[{"$f":"IF(Products!$Z$7=$J$4,Base!A164,IF(Products!$Z$7=$J$5,Base!#REF!,IF(OR(Products!$Z$7=$J$2,Products!$Z$7=$J$3),Base!Y167)))","v":"GravityZone Security for Endpoints Physical Workstations"},{"$f":"IF(Products!$Z$7=$J$4,Base!B164,IF(Products!$Z$7=$J$5,Base!#REF!,IF(OR(Products!$Z$7=$J$2,Products!$Z$7=$J$3),Base!Z167)))","v":"2 years"},{"$f":"IF(Products!$Z$7=$J$4,Base!C164,IF(Products!$Z$7=$J$5,Base!#REF!,IF(OR(Products!$Z$7=$J$2,Products!$Z$7=$J$3),Base!AA167)))","v":"5 - 14"},{"$f":"IFERROR(IF(Products!$Z$7=$J$3,VLOOKUP(CONCATENATE(A168,B168,C168),Base!$AB$13:$AC$64,2,FALSE),IF(Products!$Z$7=$J$2,VLOOKUP(CONCATENATE(A168,B168,C168),Base!$AB$13:$AE$64,4,FALSE),VLOOKUP(CONCATENATE(A168,B168,C168),Base!$D$9:$G$386,4,FALSE))),\"\")","v":49.6},{"$f":"Products!F168","v":0},{"$f":"IF(ISBLANK(Products!F168),0,IF(LEFT(Products!$Z$7,8)=\"Consumer\",D168*E168,IF(C168=\"500+\",IF(E168>=500,E168*D168),IF(C168=\"1000+\",IF(E168>=1000,E168*D168),IF(C168=\"3000+\",IF(E168>=3000,E168*D168),IF(AND(E168>=VLOOKUP(C168,$M$18:$P$34,3,FALSE),E168<=VLOOKUP(C168,$M$18:$P$34,4,FALSE)),E168*D168))))))","v":0},{"$f":"IF(Products!$Z$7=$J$4,Base!H164,IF(Products!$Z$7=$J$5,Base!#REF!,IF(OR(Products!$Z$7=$J$2,Products!$Z$7=$J$3),Base!AD167)))","v":"AL1216200A-EN"}]
[{"$f":"IF(Products!$Z$7=$J$4,Base!A165,IF(Products!$Z$7=$J$5,Base!#REF!,IF(OR(Products!$Z$7=$J$2,Products!$Z$7=$J$3),Base!Y168)))","v":"GravityZone Security for Endpoints Physical Workstations"},{"$f":"IF(Products!$Z$7=$J$4,Base!B165,IF(Products!$Z$7=$J$5,Base!#REF!,IF(OR(Products!$Z$7=$J$2,Products!$Z$7=$J$3),Base!Z168)))","v":"2 years"},{"$f":"IF(Products!$Z$7=$J$4,Base!C165,IF(Products!$Z$7=$J$5,Base!#REF!,IF(OR(Products!$Z$7=$J$2,Products!$Z$7=$J$3),Base!AA168)))","v":"15 - 24"},{"$f":"IFERROR(IF(Products!$Z$7=$J$3,VLOOKUP(CONCATENATE(A169,B169,C169),Base!$AB$13:$AC$64,2,FALSE),IF(Products!$Z$7=$J$2,VLOOKUP(CONCATENATE(A169,B169,C169),Base!$AB$13:$AE$64,4,FALSE),VLOOKUP(CONCATENATE(A169,B169,C169),Base!$D$9:$G$386,4,FALSE))),\"\")","v":43.52},{"$f":"Products!F169","v":0},{"$f":"IF(ISBLANK(Products!F169),0,IF(LEFT(Products!$Z$7,8)=\"Consumer\",D169*E169,IF(C169=\"500+\",IF(E169>=500,E169*D169),IF(C169=\"1000+\",IF(E169>=1000,E169*D169),IF(C169=\"3000+\",IF(E169>=3000,E169*D169),IF(AND(E169>=VLOOKUP(C169,$M$18:$P$34,3,FALSE),E169<=VLOOKUP(C169,$M$18:$P$34,4,FALSE)),E169*D169))))))","v":0},{"$f":"IF(Products!$Z$7=$J$4,Base!H165,IF(Products!$Z$7=$J$5,Base!#REF!,IF(OR(Products!$Z$7=$J$2,Products!$Z$7=$J$3),Base!AD168)))","v":"AL1216200B-EN"}]
[{"$f":"IF(Products!$Z$7=$J$4,Base!A166,IF(Products!$Z$7=$J$5,Base!#REF!,IF(OR(Products!$Z$7=$J$2,Products!$Z$7=$J$3),Base!Y169)))","v":"GravityZone Security for Endpoints Physical Workstations"},{"$f":"IF(Products!$Z$7=$J$4,Base!B166,IF(Products!$Z$7=$J$5,Base!#REF!,IF(OR(Products!$Z$7=$J$2,Products!$Z$7=$J$3),Base!Z169)))","v":"2 years"},{"$f":"IF(Products!$Z$7=$J$4,Base!C166,IF(Products!$Z$7=$J$5,Base!#REF!,IF(OR(Products!$Z$7=$J$2,Products!$Z$7=$J$3),Base!AA169)))","v":"25 - 49"},{"$f":"IFERROR(IF(Products!$Z$7=$J$3,VLOOKUP(CONCATENATE(A170,B170,C170),Base!$AB$13:$AC$64,2,FALSE),IF(Products!$Z$7=$J$2,VLOOKUP(CONCATENATE(A170,B170,C170),Base!$AB$13:$AE$64,4,FALSE),VLOOKUP(CONCATENATE(A170,B170,C170),Base!$D$9:$G$386,4,FALSE))),\"\")","v":40},{"$f":"Products!F170","v":0},{"$f":"IF(ISBLANK(Products!F170),0,IF(LEFT(Products!$Z$7,8)=\"Consumer\",D170*E170,IF(C170=\"500+\",IF(E170>=500,E170*D170),IF(C170=\"1000+\",IF(E170>=1000,E170*D170),IF(C170=\"3000+\",IF(E170>=3000,E170*D170),IF(AND(E170>=VLOOKUP(C170,$M$18:$P$34,3,FALSE),E170<=VLOOKUP(C170,$M$18:$P$34,4,FALSE)),E170*D170))))))","v":0},{"$f":"IF(Products!$Z$7=$J$4,Base!H166,IF(Products!$Z$7=$J$5,Base!#REF!,IF(OR(Products!$Z$7=$J$2,Products!$Z$7=$J$3),Base!AD169)))","v":"AL1216200C-EN"}]
[{"$f":"IF(Products!$Z$7=$J$4,Base!A167,IF(Products!$Z$7=$J$5,Base!#REF!,IF(OR(Products!$Z$7=$J$2,Products!$Z$7=$J$3),Base!Y170)))","v":"GravityZone Security for Endpoints Physical Workstations"},{"$f":"IF(Products!$Z$7=$J$4,Base!B167,IF(Products!$Z$7=$J$5,Base!#REF!,IF(OR(Products!$Z$7=$J$2,Products!$Z$7=$J$3),Base!Z170)))","v":"2 years"},{"$f":"IF(Products!$Z$7=$J$4,Base!C167,IF(Products!$Z$7=$J$5,Base!#REF!,IF(OR(Products!$Z$7=$J$2,Products!$Z$7=$J$3),Base!AA170)))","v":"50 - 99"},{"$f":"IFERROR(IF(Products!$Z$7=$J$3,VLOOKUP(CONCATENATE(A171,B171,C171),Base!$AB$13:$AC$64,2,FALSE),IF(Products!$Z$7=$J$2,VLOOKUP(CONCATENATE(A171,B171,C171),Base!$AB$13:$AE$64,4,FALSE),VLOOKUP(CONCATENATE(A171,B171,C171),Base!$D$9:$G$386,4,FALSE))),\"\")","v":36},{"$f":"Products!F171","v":0},{"$f":"IF(ISBLANK(Products!F171),0,IF(LEFT(Products!$Z$7,8)=\"Consumer\",D171*E171,IF(C171=\"500+\",IF(E171>=500,E171*D171),IF(C171=\"1000+\",IF(E171>=1000,E171*D171),IF(C171=\"3000+\",IF(E171>=3000,E171*D171),IF(AND(E171>=VLOOKUP(C171,$M$18:$P$34,3,FALSE),E171<=VLOOKUP(C171,$M$18:$P$34,4,FALSE)),E171*D171))))))","v":0},{"$f":"IF(Products!$Z$7=$J$4,Base!H167,IF(Products!$Z$7=$J$5,Base!#REF!,IF(OR(Products!$Z$7=$J$2,Products!$Z$7=$J$3),Base!AD170)))","v":"AL1216200D-EN"}]
[{"$f":"IF(Products!$Z$7=$J$4,Base!A168,IF(Products!$Z$7=$J$5,Base!#REF!,IF(OR(Products!$Z$7=$J$2,Products!$Z$7=$J$3),Base!Y171)))","v":"GravityZone Security for Endpoints Physical Workstations"},{"$f":"IF(Products!$Z$7=$J$4,Base!B168,IF(Products!$Z$7=$J$5,Base!#REF!,IF(OR(Products!$Z$7=$J$2,Products!$Z$7=$J$3),Base!Z171)))","v":"2 years"},{"$f":"IF(Products!$Z$7=$J$4,Base!C168,IF(Products!$Z$7=$J$5,Base!#REF!,IF(OR(Products!$Z$7=$J$2,Products!$Z$7=$J$3),Base!AA171)))","v":"100 - 149"},{"$f":"IFERROR(IF(Products!$Z$7=$J$3,VLOOKUP(CONCATENATE(A172,B172,C172),Base!$AB$13:$AC$64,2,FALSE),IF(Products!$Z$7=$J$2,VLOOKUP(CONCATENATE(A172,B172,C172),Base!$AB$13:$AE$64,4,FALSE),VLOOKUP(CONCATENATE(A172,B172,C172),Base!$D$9:$G$386,4,FALSE))),\"\")","v":32.4},{"$f":"Products!F172","v":0},{"$f":"IF(ISBLANK(Products!F172),0,IF(LEFT(Products!$Z$7,8)=\"Consumer\",D172*E172,IF(C172=\"500+\",IF(E172>=500,E172*D172),IF(C172=\"1000+\",IF(E172>=1000,E172*D172),IF(C172=\"3000+\",IF(E172>=3000,E172*D172),IF(AND(E172>=VLOOKUP(C172,$M$18:$P$34,3,FALSE),E172<=VLOOKUP(C172,$M$18:$P$34,4,FALSE)),E172*D172))))))","v":0},{"$f":"IF(Products!$Z$7=$J$4,Base!H168,IF(Products!$Z$7=$J$5,Base!#REF!,IF(OR(Products!$Z$7=$J$2,Products!$Z$7=$J$3),Base!AD171)))","v":"AL1216200E-EN"}]
[{"$f":"IF(Products!$Z$7=$J$4,Base!A169,IF(Products!$Z$7=$J$5,Base!#REF!,IF(OR(Products!$Z$7=$J$2,Products!$Z$7=$J$3),Base!Y172)))","v":"GravityZone Security for Endpoints Physical Workstations"},{"$f":"IF(Products!$Z$7=$J$4,Base!B169,IF(Products!$Z$7=$J$5,Base!#REF!,IF(OR(Products!$Z$7=$J$2,Products!$Z$7=$J$3),Base!Z172)))","v":"2 years"},{"$f":"IF(Products!$Z$7=$J$4,Base!C169,IF(Products!$Z$7=$J$5,Base!#REF!,IF(OR(Products!$Z$7=$J$2,Products!$Z$7=$J$3),Base!AA172)))","v":"150 - 249"},{"$f":"IFERROR(IF(Products!$Z$7=$J$3,VLOOKUP(CONCATENATE(A173,B173,C173),Base!$AB$13:$AC$64,2,FALSE),IF(Products!$Z$7=$J$2,VLOOKUP(CONCATENATE(A173,B173,C173),Base!$AB$13:$AE$64,4,FALSE),VLOOKUP(CONCATENATE(A173,B173,C173),Base!$D$9:$G$386,4,FALSE))),\"\")","v":29.2},{"$f":"Products!F173","v":0},{"$f":"IF(ISBLANK(Products!F173),0,IF(LEFT(Products!$Z$7,8)=\"Consumer\",D173*E173,IF(C173=\"500+\",IF(E173>=500,E173*D173),IF(C173=\"1000+\",IF(E173>=1000,E173*D173),IF(C173=\"3000+\",IF(E173>=3000,E173*D173),IF(AND(E173>=VLOOKUP(C173,$M$18:$P$34,3,FALSE),E173<=VLOOKUP(C173,$M$18:$P$34,4,FALSE)),E173*D173))))))","v":0},{"$f":"IF(Products!$Z$7=$J$4,Base!H169,IF(Products!$Z$7=$J$5,Base!#REF!,IF(OR(Products!$Z$7=$J$2,Products!$Z$7=$J$3),Base!AD172)))","v":"AL1216200F-EN"}]
[{"$f":"IF(Products!$Z$7=$J$4,Base!A170,IF(Products!$Z$7=$J$5,Base!#REF!,IF(OR(Products!$Z$7=$J$2,Products!$Z$7=$J$3),Base!Y173)))","v":"GravityZone Security for Endpoints Physical Workstations"},{"$f":"IF(Products!$Z$7=$J$4,Base!B170,IF(Products!$Z$7=$J$5,Base!#REF!,IF(OR(Products!$Z$7=$J$2,Products!$Z$7=$J$3),Base!Z173)))","v":"2 years"},{"$f":"IF(Products!$Z$7=$J$4,Base!C170,IF(Products!$Z$7=$J$5,Base!#REF!,IF(OR(Products!$Z$7=$J$2,Products!$Z$7=$J$3),Base!AA173)))","v":"250 - 499"},{"$f":"IFERROR(IF(Products!$Z$7=$J$3,VLOOKUP(CONCATENATE(A174,B174,C174),Base!$AB$13:$AC$64,2,FALSE),IF(Products!$Z$7=$J$2,VLOOKUP(CONCATENATE(A174,B174,C174),Base!$AB$13:$AE$64,4,FALSE),VLOOKUP(CONCATENATE(A174,B174,C174),Base!$D$9:$G$386,4,FALSE))),\"\")","v":26.4},{"$f":"Products!F174","v":0},{"$f":"IF(ISBLANK(Products!F174),0,IF(LEFT(Products!$Z$7,8)=\"Consumer\",D174*E174,IF(C174=\"500+\",IF(E174>=500,E174*D174),IF(C174=\"1000+\",IF(E174>=1000,E174*D174),IF(C174=\"3000+\",IF(E174>=3000,E174*D174),IF(AND(E174>=VLOOKUP(C174,$M$18:$P$34,3,FALSE),E174<=VLOOKUP(C174,$M$18:$P$34,4,FALSE)),E174*D174))))))","v":0},{"$f":"IF(Products!$Z$7=$J$4,Base!H170,IF(Products!$Z$7=$J$5,Base!#REF!,IF(OR(Products!$Z$7=$J$2,Products!$Z$7=$J$3),Base!AD173)))","v":"AL1216200G-EN"}]
[{"$f":"IF(Products!$Z$7=$J$4,Base!A171,IF(Products!$Z$7=$J$5,Base!#REF!,IF(OR(Products!$Z$7=$J$2,Products!$Z$7=$J$3),Base!Y174)))","v":"GravityZone Security for Endpoints Physical Workstations"},{"$f":"IF(Products!$Z$7=$J$4,Base!B171,IF(Products!$Z$7=$J$5,Base!#REF!,IF(OR(Products!$Z$7=$J$2,Products!$Z$7=$J$3),Base!Z174)))","v":"2 years"},{"$f":"IF(Products!$Z$7=$J$4,Base!C171,IF(Products!$Z$7=$J$5,Base!#REF!,IF(OR(Products!$Z$7=$J$2,Products!$Z$7=$J$3),Base!AA174)))","v":"500 - 999"},{"$f":"IFERROR(IF(Products!$Z$7=$J$3,VLOOKUP(CONCATENATE(A175,B175,C175),Base!$AB$13:$AC$64,2,FALSE),IF(Products!$Z$7=$J$2,VLOOKUP(CONCATENATE(A175,B175,C175),Base!$AB$13:$AE$64,4,FALSE),VLOOKUP(CONCATENATE(A175,B175,C175),Base!$D$9:$G$386,4,FALSE))),\"\")","v":23.76},{"$f":"Products!F175","v":0},{"$f":"IF(ISBLANK(Products!F175),0,IF(LEFT(Products!$Z$7,8)=\"Consumer\",D175*E175,IF(C175=\"500+\",IF(E175>=500,E175*D175),IF(C175=\"1000+\",IF(E175>=1000,E175*D175),IF(C175=\"3000+\",IF(E175>=3000,E175*D175),IF(AND(E175>=VLOOKUP(C175,$M$18:$P$34,3,FALSE),E175<=VLOOKUP(C175,$M$18:$P$34,4,FALSE)),E175*D175))))))","v":0},{"$f":"IF(Products!$Z$7=$J$4,Base!H171,IF(Products!$Z$7=$J$5,Base!#REF!,IF(OR(Products!$Z$7=$J$2,Products!$Z$7=$J$3),Base!AD174)))","v":"AL1216200H-EN"}]
[{"$f":"IF(Products!$Z$7=$J$4,Base!A172,IF(Products!$Z$7=$J$5,Base!#REF!,IF(OR(Products!$Z$7=$J$2,Products!$Z$7=$J$3),Base!Y175)))","v":"GravityZone Security for Endpoints Physical Workstations"},{"$f":"IF(Products!$Z$7=$J$4,Base!B172,IF(Products!$Z$7=$J$5,Base!#REF!,IF(OR(Products!$Z$7=$J$2,Products!$Z$7=$J$3),Base!Z175)))","v":"2 years"},{"$f":"IF(Products!$Z$7=$J$4,Base!C172,IF(Products!$Z$7=$J$5,Base!#REF!,IF(OR(Products!$Z$7=$J$2,Products!$Z$7=$J$3),Base!AA175)))","v":"1000 - 2999"},{"$f":"IFERROR(IF(Products!$Z$7=$J$3,VLOOKUP(CONCATENATE(A176,B176,C176),Base!$AB$13:$AC$64,2,FALSE),IF(Products!$Z$7=$J$2,VLOOKUP(CONCATENATE(A176,B176,C176),Base!$AB$13:$AE$64,4,FALSE),VLOOKUP(CONCATENATE(A176,B176,C176),Base!$D$9:$G$386,4,FALSE))),\"\")","v":21.36},{"$f":"Products!F176","v":0},{"$f":"IF(ISBLANK(Products!F176),0,IF(LEFT(Products!$Z$7,8)=\"Consumer\",D176*E176,IF(C176=\"500+\",IF(E176>=500,E176*D176),IF(C176=\"1000+\",IF(E176>=1000,E176*D176),IF(C176=\"3000+\",IF(E176>=3000,E176*D176),IF(AND(E176>=VLOOKUP(C176,$M$18:$P$34,3,FALSE),E176<=VLOOKUP(C176,$M$18:$P$34,4,FALSE)),E176*D176))))))","v":0},{"$f":"IF(Products!$Z$7=$J$4,Base!H172,IF(Products!$Z$7=$J$5,Base!#REF!,IF(OR(Products!$Z$7=$J$2,Products!$Z$7=$J$3),Base!AD175)))","v":"AL1216200I-EN"}]
[{"$f":"IF(Products!$Z$7=$J$4,Base!A173,IF(Products!$Z$7=$J$5,Base!#REF!,IF(OR(Products!$Z$7=$J$2,Products!$Z$7=$J$3),Base!Y176)))","v":"GravityZone Security for Endpoints Physical Workstations"},{"$f":"IF(Products!$Z$7=$J$4,Base!B173,IF(Products!$Z$7=$J$5,Base!#REF!,IF(OR(Products!$Z$7=$J$2,Products!$Z$7=$J$3),Base!Z176)))","v":"2 years"},{"$f":"IF(Products!$Z$7=$J$4,Base!C173,IF(Products!$Z$7=$J$5,Base!#REF!,IF(OR(Products!$Z$7=$J$2,Products!$Z$7=$J$3),Base!AA176)))","v":"3000+"},{"$f":"IFERROR(IF(Products!$Z$7=$J$3,VLOOKUP(CONCATENATE(A177,B177,C177),Base!$AB$13:$AC$64,2,FALSE),IF(Products!$Z$7=$J$2,VLOOKUP(CONCATENATE(A177,B177,C177),Base!$AB$13:$AE$64,4,FALSE),VLOOKUP(CONCATENATE(A177,B177,C177),Base!$D$9:$G$386,4,FALSE))),\"\")","v":19.2},{"$f":"Products!F177","v":0},{"$f":"IF(ISBLANK(Products!F177),0,IF(LEFT(Products!$Z$7,8)=\"Consumer\",D177*E177,IF(C177=\"500+\",IF(E177>=500,E177*D177),IF(C177=\"1000+\",IF(E177>=1000,E177*D177),IF(C177=\"3000+\",IF(E177>=3000,E177*D177),IF(AND(E177>=VLOOKUP(C177,$M$18:$P$34,3,FALSE),E177<=VLOOKUP(C177,$M$18:$P$34,4,FALSE)),E177*D177))))))","v":0},{"$f":"IF(Products!$Z$7=$J$4,Base!H173,IF(Products!$Z$7=$J$5,Base!#REF!,IF(OR(Products!$Z$7=$J$2,Products!$Z$7=$J$3),Base!AD176)))","v":"AL1216200J-EN"}]
[{"$f":"IF(Products!$Z$7=$J$4,Base!A174,IF(Products!$Z$7=$J$5,Base!#REF!,IF(OR(Products!$Z$7=$J$2,Products!$Z$7=$J$3),Base!Y177)))","v":"GravityZone Security for Endpoints Physical Workstations"},{"$f":"IF(Products!$Z$7=$J$4,Base!B174,IF(Products!$Z$7=$J$5,Base!#REF!,IF(OR(Products!$Z$7=$J$2,Products!$Z$7=$J$3),Base!Z177)))","v":"3 years"},{"$f":"IF(Products!$Z$7=$J$4,Base!C174,IF(Products!$Z$7=$J$5,Base!#REF!,IF(OR(Products!$Z$7=$J$2,Products!$Z$7=$J$3),Base!AA177)))","v":"5 - 14"},{"$f":"IFERROR(IF(Products!$Z$7=$J$3,VLOOKUP(CONCATENATE(A178,B178,C178),Base!$AB$13:$AC$64,2,FALSE),IF(Products!$Z$7=$J$2,VLOOKUP(CONCATENATE(A178,B178,C178),Base!$AB$13:$AE$64,4,FALSE),VLOOKUP(CONCATENATE(A178,B178,C178),Base!$D$9:$G$386,4,FALSE))),\"\")","v":63.55},{"$f":"Products!F178","v":0},{"$f":"IF(ISBLANK(Products!F178),0,IF(LEFT(Products!$Z$7,8)=\"Consumer\",D178*E178,IF(C178=\"500+\",IF(E178>=500,E178*D178),IF(C178=\"1000+\",IF(E178>=1000,E178*D178),IF(C178=\"3000+\",IF(E178>=3000,E178*D178),IF(AND(E178>=VLOOKUP(C178,$M$18:$P$34,3,FALSE),E178<=VLOOKUP(C178,$M$18:$P$34,4,FALSE)),E178*D178))))))","v":0},{"$f":"IF(Products!$Z$7=$J$4,Base!H174,IF(Products!$Z$7=$J$5,Base!#REF!,IF(OR(Products!$Z$7=$J$2,Products!$Z$7=$J$3),Base!AD177)))","v":"AL1216300A-EN"}]
[{"$f":"IF(Products!$Z$7=$J$4,Base!A175,IF(Products!$Z$7=$J$5,Base!#REF!,IF(OR(Products!$Z$7=$J$2,Products!$Z$7=$J$3),Base!Y178)))","v":"GravityZone Security for Endpoints Physical Workstations"},{"$f":"IF(Products!$Z$7=$J$4,Base!B175,IF(Products!$Z$7=$J$5,Base!#REF!,IF(OR(Products!$Z$7=$J$2,Products!$Z$7=$J$3),Base!Z178)))","v":"3 years"},{"$f":"IF(Products!$Z$7=$J$4,Base!C175,IF(Products!$Z$7=$J$5,Base!#REF!,IF(OR(Products!$Z$7=$J$2,Products!$Z$7=$J$3),Base!AA178)))","v":"15 - 24"},{"$f":"IFERROR(IF(Products!$Z$7=$J$3,VLOOKUP(CONCATENATE(A179,B179,C179),Base!$AB$13:$AC$64,2,FALSE),IF(Products!$Z$7=$J$2,VLOOKUP(CONCATENATE(A179,B179,C179),Base!$AB$13:$AE$64,4,FALSE),VLOOKUP(CONCATENATE(A179,B179,C179),Base!$D$9:$G$386,4,FALSE))),\"\")","v":55.76},{"$f":"Products!F179","v":0},{"$f":"IF(ISBLANK(Products!F179),0,IF(LEFT(Products!$Z$7,8)=\"Consumer\",D179*E179,IF(C179=\"500+\",IF(E179>=500,E179*D179),IF(C179=\"1000+\",IF(E179>=1000,E179*D179),IF(C179=\"3000+\",IF(E179>=3000,E179*D179),IF(AND(E179>=VLOOKUP(C179,$M$18:$P$34,3,FALSE),E179<=VLOOKUP(C179,$M$18:$P$34,4,FALSE)),E179*D179))))))","v":0},{"$f":"IF(Products!$Z$7=$J$4,Base!H175,IF(Products!$Z$7=$J$5,Base!#REF!,IF(OR(Products!$Z$7=$J$2,Products!$Z$7=$J$3),Base!AD178)))","v":"AL1216300B-EN"}]
[{"$f":"IF(Products!$Z$7=$J$4,Base!A176,IF(Products!$Z$7=$J$5,Base!#REF!,IF(OR(Products!$Z$7=$J$2,Products!$Z$7=$J$3),Base!Y179)))","v":"GravityZone Security for Endpoints Physical Workstations"},{"$f":"IF(Products!$Z$7=$J$4,Base!B176,IF(Products!$Z$7=$J$5,Base!#REF!,IF(OR(Products!$Z$7=$J$2,Products!$Z$7=$J$3),Base!Z179)))","v":"3 years"},{"$f":"IF(Products!$Z$7=$J$4,Base!C176,IF(Products!$Z$7=$J$5,Base!#REF!,IF(OR(Products!$Z$7=$J$2,Products!$Z$7=$J$3),Base!AA179)))","v":"25 - 49"},{"$f":"IFERROR(IF(Products!$Z$7=$J$3,VLOOKUP(CONCATENATE(A180,B180,C180),Base!$AB$13:$AC$64,2,FALSE),IF(Products!$Z$7=$J$2,VLOOKUP(CONCATENATE(A180,B180,C180),Base!$AB$13:$AE$64,4,FALSE),VLOOKUP(CONCATENATE(A180,B180,C180),Base!$D$9:$G$386,4,FALSE))),\"\")","v":51.25},{"$f":"Products!F180","v":0},{"$f":"IF(ISBLANK(Products!F180),0,IF(LEFT(Products!$Z$7,8)=\"Consumer\",D180*E180,IF(C180=\"500+\",IF(E180>=500,E180*D180),IF(C180=\"1000+\",IF(E180>=1000,E180*D180),IF(C180=\"3000+\",IF(E180>=3000,E180*D180),IF(AND(E180>=VLOOKUP(C180,$M$18:$P$34,3,FALSE),E180<=VLOOKUP(C180,$M$18:$P$34,4,FALSE)),E180*D180))))))","v":0},{"$f":"IF(Products!$Z$7=$J$4,Base!H176,IF(Products!$Z$7=$J$5,Base!#REF!,IF(OR(Products!$Z$7=$J$2,Products!$Z$7=$J$3),Base!AD179)))","v":"AL1216300C-EN"}]
[{"$f":"IF(Products!$Z$7=$J$4,Base!A177,IF(Products!$Z$7=$J$5,Base!#REF!,IF(OR(Products!$Z$7=$J$2,Products!$Z$7=$J$3),Base!Y180)))","v":"GravityZone Security for Endpoints Physical Workstations"},{"$f":"IF(Products!$Z$7=$J$4,Base!B177,IF(Products!$Z$7=$J$5,Base!#REF!,IF(OR(Products!$Z$7=$J$2,Products!$Z$7=$J$3),Base!Z180)))","v":"3 years"},{"$f":"IF(Products!$Z$7=$J$4,Base!C177,IF(Products!$Z$7=$J$5,Base!#REF!,IF(OR(Products!$Z$7=$J$2,Products!$Z$7=$J$3),Base!AA180)))","v":"50 - 99"},{"$f":"IFERROR(IF(Products!$Z$7=$J$3,VLOOKUP(CONCATENATE(A181,B181,C181),Base!$AB$13:$AC$64,2,FALSE),IF(Products!$Z$7=$J$2,VLOOKUP(CONCATENATE(A181,B181,C181),Base!$AB$13:$AE$64,4,FALSE),VLOOKUP(CONCATENATE(A181,B181,C181),Base!$D$9:$G$386,4,FALSE))),\"\")","v":46.13},{"$f":"Products!F181","v":0},{"$f":"IF(ISBLANK(Products!F181),0,IF(LEFT(Products!$Z$7,8)=\"Consumer\",D181*E181,IF(C181=\"500+\",IF(E181>=500,E181*D181),IF(C181=\"1000+\",IF(E181>=1000,E181*D181),IF(C181=\"3000+\",IF(E181>=3000,E181*D181),IF(AND(E181>=VLOOKUP(C181,$M$18:$P$34,3,FALSE),E181<=VLOOKUP(C181,$M$18:$P$34,4,FALSE)),E181*D181))))))","v":0},{"$f":"IF(Products!$Z$7=$J$4,Base!H177,IF(Products!$Z$7=$J$5,Base!#REF!,IF(OR(Products!$Z$7=$J$2,Products!$Z$7=$J$3),Base!AD180)))","v":"AL1216300D-EN"}]
[{"$f":"IF(Products!$Z$7=$J$4,Base!A178,IF(Products!$Z$7=$J$5,Base!#REF!,IF(OR(Products!$Z$7=$J$2,Products!$Z$7=$J$3),Base!Y181)))","v":"GravityZone Security for Endpoints Physical Workstations"},{"$f":"IF(Products!$Z$7=$J$4,Base!B178,IF(Products!$Z$7=$J$5,Base!#REF!,IF(OR(Products!$Z$7=$J$2,Products!$Z$7=$J$3),Base!Z181)))","v":"3 years"},{"$f":"IF(Products!$Z$7=$J$4,Base!C178,IF(Products!$Z$7=$J$5,Base!#REF!,IF(OR(Products!$Z$7=$J$2,Products!$Z$7=$J$3),Base!AA181)))","v":"100 - 149"},{"$f":"IFERROR(IF(Products!$Z$7=$J$3,VLOOKUP(CONCATENATE(A182,B182,C182),Base!$AB$13:$AC$64,2,FALSE),IF(Products!$Z$7=$J$2,VLOOKUP(CONCATENATE(A182,B182,C182),Base!$AB$13:$AE$64,4,FALSE),VLOOKUP(CONCATENATE(A182,B182,C182),Base!$D$9:$G$386,4,FALSE))),\"\")","v":41.51},{"$f":"Products!F182","v":0},{"$f":"IF(ISBLANK(Products!F182),0,IF(LEFT(Products!$Z$7,8)=\"Consumer\",D182*E182,IF(C182=\"500+\",IF(E182>=500,E182*D182),IF(C182=\"1000+\",IF(E182>=1000,E182*D182),IF(C182=\"3000+\",IF(E182>=3000,E182*D182),IF(AND(E182>=VLOOKUP(C182,$M$18:$P$34,3,FALSE),E182<=VLOOKUP(C182,$M$18:$P$34,4,FALSE)),E182*D182))))))","v":0},{"$f":"IF(Products!$Z$7=$J$4,Base!H178,IF(Products!$Z$7=$J$5,Base!#REF!,IF(OR(Products!$Z$7=$J$2,Products!$Z$7=$J$3),Base!AD181)))","v":"AL1216300E-EN"}]
[{"$f":"IF(Products!$Z$7=$J$4,Base!A179,IF(Products!$Z$7=$J$5,Base!#REF!,IF(OR(Products!$Z$7=$J$2,Products!$Z$7=$J$3),Base!Y182)))","v":"GravityZone Security for Endpoints Physical Workstations"},{"$f":"IF(Products!$Z$7=$J$4,Base!B179,IF(Products!$Z$7=$J$5,Base!#REF!,IF(OR(Products!$Z$7=$J$2,Products!$Z$7=$J$3),Base!Z182)))","v":"3 years"},{"$f":"IF(Products!$Z$7=$J$4,Base!C179,IF(Products!$Z$7=$J$5,Base!#REF!,IF(OR(Products!$Z$7=$J$2,Products!$Z$7=$J$3),Base!AA182)))","v":"150 - 249"},{"$f":"IFERROR(IF(Products!$Z$7=$J$3,VLOOKUP(CONCATENATE(A183,B183,C183),Base!$AB$13:$AC$64,2,FALSE),IF(Products!$Z$7=$J$2,VLOOKUP(CONCATENATE(A183,B183,C183),Base!$AB$13:$AE$64,4,FALSE),VLOOKUP(CONCATENATE(A183,B183,C183),Base!$D$9:$G$386,4,FALSE))),\"\")","v":37.409999999999997},{"$f":"Products!F183","v":0},{"$f":"IF(ISBLANK(Products!F183),0,IF(LEFT(Products!$Z$7,8)=\"Consumer\",D183*E183,IF(C183=\"500+\",IF(E183>=500,E183*D183),IF(C183=\"1000+\",IF(E183>=1000,E183*D183),IF(C183=\"3000+\",IF(E183>=3000,E183*D183),IF(AND(E183>=VLOOKUP(C183,$M$18:$P$34,3,FALSE),E183<=VLOOKUP(C183,$M$18:$P$34,4,FALSE)),E183*D183))))))","v":0},{"$f":"IF(Products!$Z$7=$J$4,Base!H179,IF(Products!$Z$7=$J$5,Base!#REF!,IF(OR(Products!$Z$7=$J$2,Products!$Z$7=$J$3),Base!AD182)))","v":"AL1216300F-EN"}]
[{"$f":"IF(Products!$Z$7=$J$4,Base!A180,IF(Products!$Z$7=$J$5,Base!#REF!,IF(OR(Products!$Z$7=$J$2,Products!$Z$7=$J$3),Base!Y183)))","v":"GravityZone Security for Endpoints Physical Workstations"},{"$f":"IF(Products!$Z$7=$J$4,Base!B180,IF(Products!$Z$7=$J$5,Base!#REF!,IF(OR(Products!$Z$7=$J$2,Products!$Z$7=$J$3),Base!Z183)))","v":"3 years"},{"$f":"IF(Products!$Z$7=$J$4,Base!C180,IF(Products!$Z$7=$J$5,Base!#REF!,IF(OR(Products!$Z$7=$J$2,Products!$Z$7=$J$3),Base!AA183)))","v":"250 - 499"},{"$f":"IFERROR(IF(Products!$Z$7=$J$3,VLOOKUP(CONCATENATE(A184,B184,C184),Base!$AB$13:$AC$64,2,FALSE),IF(Products!$Z$7=$J$2,VLOOKUP(CONCATENATE(A184,B184,C184),Base!$AB$13:$AE$64,4,FALSE),VLOOKUP(CONCATENATE(A184,B184,C184),Base!$D$9:$G$386,4,FALSE))),\"\")","v":33.83},{"$f":"Products!F184","v":0},{"$f":"IF(ISBLANK(Products!F184),0,IF(LEFT(Products!$Z$7,8)=\"Consumer\",D184*E184,IF(C184=\"500+\",IF(E184>=500,E184*D184),IF(C184=\"1000+\",IF(E184>=1000,E184*D184),IF(C184=\"3000+\",IF(E184>=3000,E184*D184),IF(AND(E184>=VLOOKUP(C184,$M$18:$P$34,3,FALSE),E184<=VLOOKUP(C184,$M$18:$P$34,4,FALSE)),E184*D184))))))","v":0},{"$f":"IF(Products!$Z$7=$J$4,Base!H180,IF(Products!$Z$7=$J$5,Base!#REF!,IF(OR(Products!$Z$7=$J$2,Products!$Z$7=$J$3),Base!AD183)))","v":"AL1216300G-EN"}]
[{"$f":"IF(Products!$Z$7=$J$4,Base!A181,IF(Products!$Z$7=$J$5,Base!#REF!,IF(OR(Products!$Z$7=$J$2,Products!$Z$7=$J$3),Base!Y184)))","v":"GravityZone Security for Endpoints Physical Workstations"},{"$f":"IF(Products!$Z$7=$J$4,Base!B181,IF(Products!$Z$7=$J$5,Base!#REF!,IF(OR(Products!$Z$7=$J$2,Products!$Z$7=$J$3),Base!Z184)))","v":"3 years"},{"$f":"IF(Products!$Z$7=$J$4,Base!C181,IF(Products!$Z$7=$J$5,Base!#REF!,IF(OR(Products!$Z$7=$J$2,Products!$Z$7=$J$3),Base!AA184)))","v":"500 - 999"},{"$f":"IFERROR(IF(Products!$Z$7=$J$3,VLOOKUP(CONCATENATE(A185,B185,C185),Base!$AB$13:$AC$64,2,FALSE),IF(Products!$Z$7=$J$2,VLOOKUP(CONCATENATE(A185,B185,C185),Base!$AB$13:$AE$64,4,FALSE),VLOOKUP(CONCATENATE(A185,B185,C185),Base!$D$9:$G$386,4,FALSE))),\"\")","v":30.44},{"$f":"Products!F185","v":0},{"$f":"IF(ISBLANK(Products!F185),0,IF(LEFT(Products!$Z$7,8)=\"Consumer\",D185*E185,IF(C185=\"500+\",IF(E185>=500,E185*D185),IF(C185=\"1000+\",IF(E185>=1000,E185*D185),IF(C185=\"3000+\",IF(E185>=3000,E185*D185),IF(AND(E185>=VLOOKUP(C185,$M$18:$P$34,3,FALSE),E185<=VLOOKUP(C185,$M$18:$P$34,4,FALSE)),E185*D185))))))","v":0},{"$f":"IF(Products!$Z$7=$J$4,Base!H181,IF(Products!$Z$7=$J$5,Base!#REF!,IF(OR(Products!$Z$7=$J$2,Products!$Z$7=$J$3),Base!AD184)))","v":"AL1216300H-EN"}]
[{"$f":"IF(Products!$Z$7=$J$4,Base!A182,IF(Products!$Z$7=$J$5,Base!#REF!,IF(OR(Products!$Z$7=$J$2,Products!$Z$7=$J$3),Base!Y185)))","v":"GravityZone Security for Endpoints Physical Workstations"},{"$f":"IF(Products!$Z$7=$J$4,Base!B182,IF(Products!$Z$7=$J$5,Base!#REF!,IF(OR(Products!$Z$7=$J$2,Products!$Z$7=$J$3),Base!Z185)))","v":"3 years"},{"$f":"IF(Products!$Z$7=$J$4,Base!C182,IF(Products!$Z$7=$J$5,Base!#REF!,IF(OR(Products!$Z$7=$J$2,Products!$Z$7=$J$3),Base!AA185)))","v":"1000 - 2999"},{"$f":"IFERROR(IF(Products!$Z$7=$J$3,VLOOKUP(CONCATENATE(A186,B186,C186),Base!$AB$13:$AC$64,2,FALSE),IF(Products!$Z$7=$J$2,VLOOKUP(CONCATENATE(A186,B186,C186),Base!$AB$13:$AE$64,4,FALSE),VLOOKUP(CONCATENATE(A186,B186,C186),Base!$D$9:$G$386,4,FALSE))),\"\")","v":27.37},{"$f":"Products!F186","v":0},{"$f":"IF(ISBLANK(Products!F186),0,IF(LEFT(Products!$Z$7,8)=\"Consumer\",D186*E186,IF(C186=\"500+\",IF(E186>=500,E186*D186),IF(C186=\"1000+\",IF(E186>=1000,E186*D186),IF(C186=\"3000+\",IF(E186>=3000,E186*D186),IF(AND(E186>=VLOOKUP(C186,$M$18:$P$34,3,FALSE),E186<=VLOOKUP(C186,$M$18:$P$34,4,FALSE)),E186*D186))))))","v":0},{"$f":"IF(Products!$Z$7=$J$4,Base!H182,IF(Products!$Z$7=$J$5,Base!#REF!,IF(OR(Products!$Z$7=$J$2,Products!$Z$7=$J$3),Base!AD185)))","v":"AL1216300I-EN"}]
[{"$f":"IF(Products!$Z$7=$J$4,Base!A183,IF(Products!$Z$7=$J$5,Base!#REF!,IF(OR(Products!$Z$7=$J$2,Products!$Z$7=$J$3),Base!Y186)))","v":"GravityZone Security for Endpoints Physical Workstations"},{"$f":"IF(Products!$Z$7=$J$4,Base!B183,IF(Products!$Z$7=$J$5,Base!#REF!,IF(OR(Products!$Z$7=$J$2,Products!$Z$7=$J$3),Base!Z186)))","v":"3 years"},{"$f":"IF(Products!$Z$7=$J$4,Base!C183,IF(Products!$Z$7=$J$5,Base!#REF!,IF(OR(Products!$Z$7=$J$2,Products!$Z$7=$J$3),Base!AA186)))","v":"3000+"},{"$f":"IFERROR(IF(Products!$Z$7=$J$3,VLOOKUP(CONCATENATE(A187,B187,C187),Base!$AB$13:$AC$64,2,FALSE),IF(Products!$Z$7=$J$2,VLOOKUP(CONCATENATE(A187,B187,C187),Base!$AB$13:$AE$64,4,FALSE),VLOOKUP(CONCATENATE(A187,B187,C187),Base!$D$9:$G$386,4,FALSE))),\"\")","v":24.6},{"$f":"Products!F187","v":0},{"$f":"IF(ISBLANK(Products!F187),0,IF(LEFT(Products!$Z$7,8)=\"Consumer\",D187*E187,IF(C187=\"500+\",IF(E187>=500,E187*D187),IF(C187=\"1000+\",IF(E187>=1000,E187*D187),IF(C187=\"3000+\",IF(E187>=3000,E187*D187),IF(AND(E187>=VLOOKUP(C187,$M$18:$P$34,3,FALSE),E187<=VLOOKUP(C187,$M$18:$P$34,4,FALSE)),E187*D187))))))","v":0},{"$f":"IF(Products!$Z$7=$J$4,Base!H183,IF(Products!$Z$7=$J$5,Base!#REF!,IF(OR(Products!$Z$7=$J$2,Products!$Z$7=$J$3),Base!AD186)))","v":"AL1216300J-EN"}]
[{"$f":"IF(Products!$Z$7=$J$4,Base!A184,IF(Products!$Z$7=$J$5,Base!#REF!,IF(OR(Products!$Z$7=$J$2,Products!$Z$7=$J$3),Base!Y187)))","v":"GravityZone Security for Endpoints Physical Servers"},{"$f":"IF(Products!$Z$7=$J$4,Base!B184,IF(Products!$Z$7=$J$5,Base!#REF!,IF(OR(Products!$Z$7=$J$2,Products!$Z$7=$J$3),Base!Z187)))","v":"1 year"},{"$f":"IF(Products!$Z$7=$J$4,Base!C184,IF(Products!$Z$7=$J$5,Base!#REF!,IF(OR(Products!$Z$7=$J$2,Products!$Z$7=$J$3),Base!AA187)))","v":"1 - 14"},{"$f":"IFERROR(IF(Products!$Z$7=$J$3,VLOOKUP(CONCATENATE(A188,B188,C188),Base!$AB$13:$AC$64,2,FALSE),IF(Products!$Z$7=$J$2,VLOOKUP(CONCATENATE(A188,B188,C188),Base!$AB$13:$AE$64,4,FALSE),VLOOKUP(CONCATENATE(A188,B188,C188),Base!$D$9:$G$386,4,FALSE))),\"\")","v":70},{"$f":"Products!F188","v":0},{"$f":"IF(ISBLANK(Products!F188),0,IF(LEFT(Products!$Z$7,8)=\"Consumer\",D188*E188,IF(C188=\"500+\",IF(E188>=500,E188*D188),IF(C188=\"1000+\",IF(E188>=1000,E188*D188),IF(C188=\"3000+\",IF(E188>=3000,E188*D188),IF(AND(E188>=VLOOKUP(C188,$M$18:$P$34,3,FALSE),E188<=VLOOKUP(C188,$M$18:$P$34,4,FALSE)),E188*D188))))))","v":0},{"$f":"IF(Products!$Z$7=$J$4,Base!H184,IF(Products!$Z$7=$J$5,Base!#REF!,IF(OR(Products!$Z$7=$J$2,Products!$Z$7=$J$3),Base!AD187)))","v":"AL1227100A-EN"}]
[{"$f":"IF(Products!$Z$7=$J$4,Base!A185,IF(Products!$Z$7=$J$5,Base!#REF!,IF(OR(Products!$Z$7=$J$2,Products!$Z$7=$J$3),Base!Y188)))","v":"GravityZone Security for Endpoints Physical Servers"},{"$f":"IF(Products!$Z$7=$J$4,Base!B185,IF(Products!$Z$7=$J$5,Base!#REF!,IF(OR(Products!$Z$7=$J$2,Products!$Z$7=$J$3),Base!Z188)))","v":"1 year"},{"$f":"IF(Products!$Z$7=$J$4,Base!C185,IF(Products!$Z$7=$J$5,Base!#REF!,IF(OR(Products!$Z$7=$J$2,Products!$Z$7=$J$3),Base!AA188)))","v":"15 - 24"},{"$f":"IFERROR(IF(Products!$Z$7=$J$3,VLOOKUP(CONCATENATE(A189,B189,C189),Base!$AB$13:$AC$64,2,FALSE),IF(Products!$Z$7=$J$2,VLOOKUP(CONCATENATE(A189,B189,C189),Base!$AB$13:$AE$64,4,FALSE),VLOOKUP(CONCATENATE(A189,B189,C189),Base!$D$9:$G$386,4,FALSE))),\"\")","v":63},{"$f":"Products!F189","v":0},{"$f":"IF(ISBLANK(Products!F189),0,IF(LEFT(Products!$Z$7,8)=\"Consumer\",D189*E189,IF(C189=\"500+\",IF(E189>=500,E189*D189),IF(C189=\"1000+\",IF(E189>=1000,E189*D189),IF(C189=\"3000+\",IF(E189>=3000,E189*D189),IF(AND(E189>=VLOOKUP(C189,$M$18:$P$34,3,FALSE),E189<=VLOOKUP(C189,$M$18:$P$34,4,FALSE)),E189*D189))))))","v":0},{"$f":"IF(Products!$Z$7=$J$4,Base!H185,IF(Products!$Z$7=$J$5,Base!#REF!,IF(OR(Products!$Z$7=$J$2,Products!$Z$7=$J$3),Base!AD188)))","v":"AL1227100B-EN"}]
[{"$f":"IF(Products!$Z$7=$J$4,Base!A186,IF(Products!$Z$7=$J$5,Base!#REF!,IF(OR(Products!$Z$7=$J$2,Products!$Z$7=$J$3),Base!Y189)))","v":"GravityZone Security for Endpoints Physical Servers"},{"$f":"IF(Products!$Z$7=$J$4,Base!B186,IF(Products!$Z$7=$J$5,Base!#REF!,IF(OR(Products!$Z$7=$J$2,Products!$Z$7=$J$3),Base!Z189)))","v":"1 year"},{"$f":"IF(Products!$Z$7=$J$4,Base!C186,IF(Products!$Z$7=$J$5,Base!#REF!,IF(OR(Products!$Z$7=$J$2,Products!$Z$7=$J$3),Base!AA189)))","v":"25 - 49"},{"$f":"IFERROR(IF(Products!$Z$7=$J$3,VLOOKUP(CONCATENATE(A190,B190,C190),Base!$AB$13:$AC$64,2,FALSE),IF(Products!$Z$7=$J$2,VLOOKUP(CONCATENATE(A190,B190,C190),Base!$AB$13:$AE$64,4,FALSE),VLOOKUP(CONCATENATE(A190,B190,C190),Base!$D$9:$G$386,4,FALSE))),\"\")","v":56.7},{"$f":"Products!F190","v":0},{"$f":"IF(ISBLANK(Products!F190),0,IF(LEFT(Products!$Z$7,8)=\"Consumer\",D190*E190,IF(C190=\"500+\",IF(E190>=500,E190*D190),IF(C190=\"1000+\",IF(E190>=1000,E190*D190),IF(C190=\"3000+\",IF(E190>=3000,E190*D190),IF(AND(E190>=VLOOKUP(C190,$M$18:$P$34,3,FALSE),E190<=VLOOKUP(C190,$M$18:$P$34,4,FALSE)),E190*D190))))))","v":0},{"$f":"IF(Products!$Z$7=$J$4,Base!H186,IF(Products!$Z$7=$J$5,Base!#REF!,IF(OR(Products!$Z$7=$J$2,Products!$Z$7=$J$3),Base!AD189)))","v":"AL1227100C-EN"}]
[{"$f":"IF(Products!$Z$7=$J$4,Base!A187,IF(Products!$Z$7=$J$5,Base!#REF!,IF(OR(Products!$Z$7=$J$2,Products!$Z$7=$J$3),Base!Y190)))","v":"GravityZone Security for Endpoints Physical Servers"},{"$f":"IF(Products!$Z$7=$J$4,Base!B187,IF(Products!$Z$7=$J$5,Base!#REF!,IF(OR(Products!$Z$7=$J$2,Products!$Z$7=$J$3),Base!Z190)))","v":"1 year"},{"$f":"IF(Products!$Z$7=$J$4,Base!C187,IF(Products!$Z$7=$J$5,Base!#REF!,IF(OR(Products!$Z$7=$J$2,Products!$Z$7=$J$3),Base!AA190)))","v":"50 - 99"},{"$f":"IFERROR(IF(Products!$Z$7=$J$3,VLOOKUP(CONCATENATE(A191,B191,C191),Base!$AB$13:$AC$64,2,FALSE),IF(Products!$Z$7=$J$2,VLOOKUP(CONCATENATE(A191,B191,C191),Base!$AB$13:$AE$64,4,FALSE),VLOOKUP(CONCATENATE(A191,B191,C191),Base!$D$9:$G$386,4,FALSE))),\"\")","v":51.03},{"$f":"Products!F191","v":0},{"$f":"IF(ISBLANK(Products!F191),0,IF(LEFT(Products!$Z$7,8)=\"Consumer\",D191*E191,IF(C191=\"500+\",IF(E191>=500,E191*D191),IF(C191=\"1000+\",IF(E191>=1000,E191*D191),IF(C191=\"3000+\",IF(E191>=3000,E191*D191),IF(AND(E191>=VLOOKUP(C191,$M$18:$P$34,3,FALSE),E191<=VLOOKUP(C191,$M$18:$P$34,4,FALSE)),E191*D191))))))","v":0},{"$f":"IF(Products!$Z$7=$J$4,Base!H187,IF(Products!$Z$7=$J$5,Base!#REF!,IF(OR(Products!$Z$7=$J$2,Products!$Z$7=$J$3),Base!AD190)))","v":"AL1227100D-EN"}]
[{"$f":"IF(Products!$Z$7=$J$4,Base!A188,IF(Products!$Z$7=$J$5,Base!#REF!,IF(OR(Products!$Z$7=$J$2,Products!$Z$7=$J$3),Base!Y191)))","v":"GravityZone Security for Endpoints Physical Servers"},{"$f":"IF(Products!$Z$7=$J$4,Base!B188,IF(Products!$Z$7=$J$5,Base!#REF!,IF(OR(Products!$Z$7=$J$2,Products!$Z$7=$J$3),Base!Z191)))","v":"1 year"},{"$f":"IF(Products!$Z$7=$J$4,Base!C188,IF(Products!$Z$7=$J$5,Base!#REF!,IF(OR(Products!$Z$7=$J$2,Products!$Z$7=$J$3),Base!AA191)))","v":"100 - 149"},{"$f":"IFERROR(IF(Products!$Z$7=$J$3,VLOOKUP(CONCATENATE(A192,B192,C192),Base!$AB$13:$AC$64,2,FALSE),IF(Products!$Z$7=$J$2,VLOOKUP(CONCATENATE(A192,B192,C192),Base!$AB$13:$AE$64,4,FALSE),VLOOKUP(CONCATENATE(A192,B192,C192),Base!$D$9:$G$386,4,FALSE))),\"\")","v":48.49},{"$f":"Products!F192","v":0},{"$f":"IF(ISBLANK(Products!F192),0,IF(LEFT(Products!$Z$7,8)=\"Consumer\",D192*E192,IF(C192=\"500+\",IF(E192>=500,E192*D192),IF(C192=\"1000+\",IF(E192>=1000,E192*D192),IF(C192=\"3000+\",IF(E192>=3000,E192*D192),IF(AND(E192>=VLOOKUP(C192,$M$18:$P$34,3,FALSE),E192<=VLOOKUP(C192,$M$18:$P$34,4,FALSE)),E192*D192))))))","v":0},{"$f":"IF(Products!$Z$7=$J$4,Base!H188,IF(Products!$Z$7=$J$5,Base!#REF!,IF(OR(Products!$Z$7=$J$2,Products!$Z$7=$J$3),Base!AD191)))","v":"AL1227100E-EN"}]
[{"$f":"IF(Products!$Z$7=$J$4,Base!A189,IF(Products!$Z$7=$J$5,Base!#REF!,IF(OR(Products!$Z$7=$J$2,Products!$Z$7=$J$3),Base!Y192)))","v":"GravityZone Security for Endpoints Physical Servers"},{"$f":"IF(Products!$Z$7=$J$4,Base!B189,IF(Products!$Z$7=$J$5,Base!#REF!,IF(OR(Products!$Z$7=$J$2,Products!$Z$7=$J$3),Base!Z192)))","v":"1 year"},{"$f":"IF(Products!$Z$7=$J$4,Base!C189,IF(Products!$Z$7=$J$5,Base!#REF!,IF(OR(Products!$Z$7=$J$2,Products!$Z$7=$J$3),Base!AA192)))","v":"150 - 249"},{"$f":"IFERROR(IF(Products!$Z$7=$J$3,VLOOKUP(CONCATENATE(A193,B193,C193),Base!$AB$13:$AC$64,2,FALSE),IF(Products!$Z$7=$J$2,VLOOKUP(CONCATENATE(A193,B193,C193),Base!$AB$13:$AE$64,4,FALSE),VLOOKUP(CONCATENATE(A193,B193,C193),Base!$D$9:$G$386,4,FALSE))),\"\")","v":46.06},{"$f":"Products!F193","v":0},{"$f":"IF(ISBLANK(Products!F193),0,IF(LEFT(Products!$Z$7,8)=\"Consumer\",D193*E193,IF(C193=\"500+\",IF(E193>=500,E193*D193),IF(C193=\"1000+\",IF(E193>=1000,E193*D193),IF(C193=\"3000+\",IF(E193>=3000,E193*D193),IF(AND(E193>=VLOOKUP(C193,$M$18:$P$34,3,FALSE),E193<=VLOOKUP(C193,$M$18:$P$34,4,FALSE)),E193*D193))))))","v":0},{"$f":"IF(Products!$Z$7=$J$4,Base!H189,IF(Products!$Z$7=$J$5,Base!#REF!,IF(OR(Products!$Z$7=$J$2,Products!$Z$7=$J$3),Base!AD192)))","v":"AL1227100F-EN"}]
[{"$f":"IF(Products!$Z$7=$J$4,Base!A190,IF(Products!$Z$7=$J$5,Base!#REF!,IF(OR(Products!$Z$7=$J$2,Products!$Z$7=$J$3),Base!Y193)))","v":"GravityZone Security for Endpoints Physical Servers"},{"$f":"IF(Products!$Z$7=$J$4,Base!B190,IF(Products!$Z$7=$J$5,Base!#REF!,IF(OR(Products!$Z$7=$J$2,Products!$Z$7=$J$3),Base!Z193)))","v":"1 year"},{"$f":"IF(Products!$Z$7=$J$4,Base!C190,IF(Products!$Z$7=$J$5,Base!#REF!,IF(OR(Products!$Z$7=$J$2,Products!$Z$7=$J$3),Base!AA193)))","v":"250 - 499"},{"$f":"IFERROR(IF(Products!$Z$7=$J$3,VLOOKUP(CONCATENATE(A194,B194,C194),Base!$AB$13:$AC$64,2,FALSE),IF(Products!$Z$7=$J$2,VLOOKUP(CONCATENATE(A194,B194,C194),Base!$AB$13:$AE$64,4,FALSE),VLOOKUP(CONCATENATE(A194,B194,C194),Base!$D$9:$G$386,4,FALSE))),\"\")","v":43.75},{"$f":"Products!F194","v":0},{"$f":"IF(ISBLANK(Products!F194),0,IF(LEFT(Products!$Z$7,8)=\"Consumer\",D194*E194,IF(C194=\"500+\",IF(E194>=500,E194*D194),IF(C194=\"1000+\",IF(E194>=1000,E194*D194),IF(C194=\"3000+\",IF(E194>=3000,E194*D194),IF(AND(E194>=VLOOKUP(C194,$M$18:$P$34,3,FALSE),E194<=VLOOKUP(C194,$M$18:$P$34,4,FALSE)),E194*D194))))))","v":0},{"$f":"IF(Products!$Z$7=$J$4,Base!H190,IF(Products!$Z$7=$J$5,Base!#REF!,IF(OR(Products!$Z$7=$J$2,Products!$Z$7=$J$3),Base!AD193)))","v":"AL1227100G-EN"}]
[{"$f":"IF(Products!$Z$7=$J$4,Base!A191,IF(Products!$Z$7=$J$5,Base!#REF!,IF(OR(Products!$Z$7=$J$2,Products!$Z$7=$J$3),Base!Y194)))","v":"GravityZone Security for Endpoints Physical Servers"},{"$f":"IF(Products!$Z$7=$J$4,Base!B191,IF(Products!$Z$7=$J$5,Base!#REF!,IF(OR(Products!$Z$7=$J$2,Products!$Z$7=$J$3),Base!Z194)))","v":"1 year"},{"$f":"IF(Products!$Z$7=$J$4,Base!C191,IF(Products!$Z$7=$J$5,Base!#REF!,IF(OR(Products!$Z$7=$J$2,Products!$Z$7=$J$3),Base!AA194)))","v":"500 - 999"},{"$f":"IFERROR(IF(Products!$Z$7=$J$3,VLOOKUP(CONCATENATE(A195,B195,C195),Base!$AB$13:$AC$64,2,FALSE),IF(Products!$Z$7=$J$2,VLOOKUP(CONCATENATE(A195,B195,C195),Base!$AB$13:$AE$64,4,FALSE),VLOOKUP(CONCATENATE(A195,B195,C195),Base!$D$9:$G$386,4,FALSE))),\"\")","v":41.57},{"$f":"Products!F195","v":0},{"$f":"IF(ISBLANK(Products!F195),0,IF(LEFT(Products!$Z$7,8)=\"Consumer\",D195*E195,IF(C195=\"500+\",IF(E195>=500,E195*D195),IF(C195=\"1000+\",IF(E195>=1000,E195*D195),IF(C195=\"3000+\",IF(E195>=3000,E195*D195),IF(AND(E195>=VLOOKUP(C195,$M$18:$P$34,3,FALSE),E195<=VLOOKUP(C195,$M$18:$P$34,4,FALSE)),E195*D195))))))","v":0},{"$f":"IF(Products!$Z$7=$J$4,Base!H191,IF(Products!$Z$7=$J$5,Base!#REF!,IF(OR(Products!$Z$7=$J$2,Products!$Z$7=$J$3),Base!AD194)))","v":"AL1227100H-EN"}]
[{"$f":"IF(Products!$Z$7=$J$4,Base!A192,IF(Products!$Z$7=$J$5,Base!#REF!,IF(OR(Products!$Z$7=$J$2,Products!$Z$7=$J$3),Base!Y195)))","v":"GravityZone Security for Endpoints Physical Servers"},{"$f":"IF(Products!$Z$7=$J$4,Base!B192,IF(Products!$Z$7=$J$5,Base!#REF!,IF(OR(Products!$Z$7=$J$2,Products!$Z$7=$J$3),Base!Z195)))","v":"1 year"},{"$f":"IF(Products!$Z$7=$J$4,Base!C192,IF(Products!$Z$7=$J$5,Base!#REF!,IF(OR(Products!$Z$7=$J$2,Products!$Z$7=$J$3),Base!AA195)))","v":"1000 - 2999"},{"$f":"IFERROR(IF(Products!$Z$7=$J$3,VLOOKUP(CONCATENATE(A196,B196,C196),Base!$AB$13:$AC$64,2,FALSE),IF(Products!$Z$7=$J$2,VLOOKUP(CONCATENATE(A196,B196,C196),Base!$AB$13:$AE$64,4,FALSE),VLOOKUP(CONCATENATE(A196,B196,C196),Base!$D$9:$G$386,4,FALSE))),\"\")","v":39.49},{"$f":"Products!F196","v":0},{"$f":"IF(ISBLANK(Products!F196),0,IF(LEFT(Products!$Z$7,8)=\"Consumer\",D196*E196,IF(C196=\"500+\",IF(E196>=500,E196*D196),IF(C196=\"1000+\",IF(E196>=1000,E196*D196),IF(C196=\"3000+\",IF(E196>=3000,E196*D196),IF(AND(E196>=VLOOKUP(C196,$M$18:$P$34,3,FALSE),E196<=VLOOKUP(C196,$M$18:$P$34,4,FALSE)),E196*D196))))))","v":0},{"$f":"IF(Products!$Z$7=$J$4,Base!H192,IF(Products!$Z$7=$J$5,Base!#REF!,IF(OR(Products!$Z$7=$J$2,Products!$Z$7=$J$3),Base!AD195)))","v":"AL1227100I-EN"}]
[{"$f":"IF(Products!$Z$7=$J$4,Base!A193,IF(Products!$Z$7=$J$5,Base!#REF!,IF(OR(Products!$Z$7=$J$2,Products!$Z$7=$J$3),Base!Y196)))","v":"GravityZone Security for Endpoints Physical Servers"},{"$f":"IF(Products!$Z$7=$J$4,Base!B193,IF(Products!$Z$7=$J$5,Base!#REF!,IF(OR(Products!$Z$7=$J$2,Products!$Z$7=$J$3),Base!Z196)))","v":"1 year"},{"$f":"IF(Products!$Z$7=$J$4,Base!C193,IF(Products!$Z$7=$J$5,Base!#REF!,IF(OR(Products!$Z$7=$J$2,Products!$Z$7=$J$3),Base!AA196)))","v":"3000+"},{"$f":"IFERROR(IF(Products!$Z$7=$J$3,VLOOKUP(CONCATENATE(A197,B197,C197),Base!$AB$13:$AC$64,2,FALSE),IF(Products!$Z$7=$J$2,VLOOKUP(CONCATENATE(A197,B197,C197),Base!$AB$13:$AE$64,4,FALSE),VLOOKUP(CONCATENATE(A197,B197,C197),Base!$D$9:$G$386,4,FALSE))),\"\")","v":37.51},{"$f":"Products!F197","v":0},{"$f":"IF(ISBLANK(Products!F197),0,IF(LEFT(Products!$Z$7,8)=\"Consumer\",D197*E197,IF(C197=\"500+\",IF(E197>=500,E197*D197),IF(C197=\"1000+\",IF(E197>=1000,E197*D197),IF(C197=\"3000+\",IF(E197>=3000,E197*D197),IF(AND(E197>=VLOOKUP(C197,$M$18:$P$34,3,FALSE),E197<=VLOOKUP(C197,$M$18:$P$34,4,FALSE)),E197*D197))))))","v":0},{"$f":"IF(Products!$Z$7=$J$4,Base!H193,IF(Products!$Z$7=$J$5,Base!#REF!,IF(OR(Products!$Z$7=$J$2,Products!$Z$7=$J$3),Base!AD196)))","v":"AL1227100J-EN"}]
[{"$f":"IF(Products!$Z$7=$J$4,Base!A194,IF(Products!$Z$7=$J$5,Base!#REF!,IF(OR(Products!$Z$7=$J$2,Products!$Z$7=$J$3),Base!Y197)))","v":"GravityZone Security for Endpoints Physical Servers"},{"$f":"IF(Products!$Z$7=$J$4,Base!B194,IF(Products!$Z$7=$J$5,Base!#REF!,IF(OR(Products!$Z$7=$J$2,Products!$Z$7=$J$3),Base!Z197)))","v":"2 years"},{"$f":"IF(Products!$Z$7=$J$4,Base!C194,IF(Products!$Z$7=$J$5,Base!#REF!,IF(OR(Products!$Z$7=$J$2,Products!$Z$7=$J$3),Base!AA197)))","v":"1 - 14"},{"$f":"IFERROR(IF(Products!$Z$7=$J$3,VLOOKUP(CONCATENATE(A198,B198,C198),Base!$AB$13:$AC$64,2,FALSE),IF(Products!$Z$7=$J$2,VLOOKUP(CONCATENATE(A198,B198,C198),Base!$AB$13:$AE$64,4,FALSE),VLOOKUP(CONCATENATE(A198,B198,C198),Base!$D$9:$G$386,4,FALSE))),\"\")","v":112},{"$f":"Products!F198","v":0},{"$f":"IF(ISBLANK(Products!F198),0,IF(LEFT(Products!$Z$7,8)=\"Consumer\",D198*E198,IF(C198=\"500+\",IF(E198>=500,E198*D198),IF(C198=\"1000+\",IF(E198>=1000,E198*D198),IF(C198=\"3000+\",IF(E198>=3000,E198*D198),IF(AND(E198>=VLOOKUP(C198,$M$18:$P$34,3,FALSE),E198<=VLOOKUP(C198,$M$18:$P$34,4,FALSE)),E198*D198))))))","v":0},{"$f":"IF(Products!$Z$7=$J$4,Base!H194,IF(Products!$Z$7=$J$5,Base!#REF!,IF(OR(Products!$Z$7=$J$2,Products!$Z$7=$J$3),Base!AD197)))","v":"AL1227200A-EN"}]
[{"$f":"IF(Products!$Z$7=$J$4,Base!A195,IF(Products!$Z$7=$J$5,Base!#REF!,IF(OR(Products!$Z$7=$J$2,Products!$Z$7=$J$3),Base!Y198)))","v":"GravityZone Security for Endpoints Physical Servers"},{"$f":"IF(Products!$Z$7=$J$4,Base!B195,IF(Products!$Z$7=$J$5,Base!#REF!,IF(OR(Products!$Z$7=$J$2,Products!$Z$7=$J$3),Base!Z198)))","v":"2 years"},{"$f":"IF(Products!$Z$7=$J$4,Base!C195,IF(Products!$Z$7=$J$5,Base!#REF!,IF(OR(Products!$Z$7=$J$2,Products!$Z$7=$J$3),Base!AA198)))","v":"15 - 24"},{"$f":"IFERROR(IF(Products!$Z$7=$J$3,VLOOKUP(CONCATENATE(A199,B199,C199),Base!$AB$13:$AC$64,2,FALSE),IF(Products!$Z$7=$J$2,VLOOKUP(CONCATENATE(A199,B199,C199),Base!$AB$13:$AE$64,4,FALSE),VLOOKUP(CONCATENATE(A199,B199,C199),Base!$D$9:$G$386,4,FALSE))),\"\")","v":100.8},{"$f":"Products!F199","v":0},{"$f":"IF(ISBLANK(Products!F199),0,IF(LEFT(Products!$Z$7,8)=\"Consumer\",D199*E199,IF(C199=\"500+\",IF(E199>=500,E199*D199),IF(C199=\"1000+\",IF(E199>=1000,E199*D199),IF(C199=\"3000+\",IF(E199>=3000,E199*D199),IF(AND(E199>=VLOOKUP(C199,$M$18:$P$34,3,FALSE),E199<=VLOOKUP(C199,$M$18:$P$34,4,FALSE)),E199*D199))))))","v":0},{"$f":"IF(Products!$Z$7=$J$4,Base!H195,IF(Products!$Z$7=$J$5,Base!#REF!,IF(OR(Products!$Z$7=$J$2,Products!$Z$7=$J$3),Base!AD198)))","v":"AL1227200B-EN"}]
[{"$f":"IF(Products!$Z$7=$J$4,Base!A196,IF(Products!$Z$7=$J$5,Base!#REF!,IF(OR(Products!$Z$7=$J$2,Products!$Z$7=$J$3),Base!Y199)))","v":"GravityZone Security for Endpoints Physical Servers"},{"$f":"IF(Products!$Z$7=$J$4,Base!B196,IF(Products!$Z$7=$J$5,Base!#REF!,IF(OR(Products!$Z$7=$J$2,Products!$Z$7=$J$3),Base!Z199)))","v":"2 years"},{"$f":"IF(Products!$Z$7=$J$4,Base!C196,IF(Products!$Z$7=$J$5,Base!#REF!,IF(OR(Products!$Z$7=$J$2,Products!$Z$7=$J$3),Base!AA199)))","v":"25 - 49"},{"$f":"IFERROR(IF(Products!$Z$7=$J$3,VLOOKUP(CONCATENATE(A200,B200,C200),Base!$AB$13:$AC$64,2,FALSE),IF(Products!$Z$7=$J$2,VLOOKUP(CONCATENATE(A200,B200,C200),Base!$AB$13:$AE$64,4,FALSE),VLOOKUP(CONCATENATE(A200,B200,C200),Base!$D$9:$G$386,4,FALSE))),\"\")","v":90.72},{"$f":"Products!F200","v":0},{"$f":"IF(ISBLANK(Products!F200),0,IF(LEFT(Products!$Z$7,8)=\"Consumer\",D200*E200,IF(C200=\"500+\",IF(E200>=500,E200*D200),IF(C200=\"1000+\",IF(E200>=1000,E200*D200),IF(C200=\"3000+\",IF(E200>=3000,E200*D200),IF(AND(E200>=VLOOKUP(C200,$M$18:$P$34,3,FALSE),E200<=VLOOKUP(C200,$M$18:$P$34,4,FALSE)),E200*D200))))))","v":0},{"$f":"IF(Products!$Z$7=$J$4,Base!H196,IF(Products!$Z$7=$J$5,Base!#REF!,IF(OR(Products!$Z$7=$J$2,Products!$Z$7=$J$3),Base!AD199)))","v":"AL1227200C-EN"}]
[{"$f":"IF(Products!$Z$7=$J$4,Base!A197,IF(Products!$Z$7=$J$5,Base!#REF!,IF(OR(Products!$Z$7=$J$2,Products!$Z$7=$J$3),Base!Y200)))","v":"GravityZone Security for Endpoints Physical Servers"},{"$f":"IF(Products!$Z$7=$J$4,Base!B197,IF(Products!$Z$7=$J$5,Base!#REF!,IF(OR(Products!$Z$7=$J$2,Products!$Z$7=$J$3),Base!Z200)))","v":"2 years"},{"$f":"IF(Products!$Z$7=$J$4,Base!C197,IF(Products!$Z$7=$J$5,Base!#REF!,IF(OR(Products!$Z$7=$J$2,Products!$Z$7=$J$3),Base!AA200)))","v":"50 - 99"},{"$f":"IFERROR(IF(Products!$Z$7=$J$3,VLOOKUP(CONCATENATE(A201,B201,C201),Base!$AB$13:$AC$64,2,FALSE),IF(Products!$Z$7=$J$2,VLOOKUP(CONCATENATE(A201,B201,C201),Base!$AB$13:$AE$64,4,FALSE),VLOOKUP(CONCATENATE(A201,B201,C201),Base!$D$9:$G$386,4,FALSE))),\"\")","v":81.66},{"$f":"Products!F201","v":0},{"$f":"IF(ISBLANK(Products!F201),0,IF(LEFT(Products!$Z$7,8)=\"Consumer\",D201*E201,IF(C201=\"500+\",IF(E201>=500,E201*D201),IF(C201=\"1000+\",IF(E201>=1000,E201*D201),IF(C201=\"3000+\",IF(E201>=3000,E201*D201),IF(AND(E201>=VLOOKUP(C201,$M$18:$P$34,3,FALSE),E201<=VLOOKUP(C201,$M$18:$P$34,4,FALSE)),E201*D201))))))","v":0},{"$f":"IF(Products!$Z$7=$J$4,Base!H197,IF(Products!$Z$7=$J$5,Base!#REF!,IF(OR(Products!$Z$7=$J$2,Products!$Z$7=$J$3),Base!AD200)))","v":"AL1227200D-EN"}]
[{"$f":"IF(Products!$Z$7=$J$4,Base!A198,IF(Products!$Z$7=$J$5,Base!#REF!,IF(OR(Products!$Z$7=$J$2,Products!$Z$7=$J$3),Base!Y201)))","v":"GravityZone Security for Endpoints Physical Servers"},{"$f":"IF(Products!$Z$7=$J$4,Base!B198,IF(Products!$Z$7=$J$5,Base!#REF!,IF(OR(Products!$Z$7=$J$2,Products!$Z$7=$J$3),Base!Z201)))","v":"2 years"},{"$f":"IF(Products!$Z$7=$J$4,Base!C198,IF(Products!$Z$7=$J$5,Base!#REF!,IF(OR(Products!$Z$7=$J$2,Products!$Z$7=$J$3),Base!AA201)))","v":"100 - 149"},{"$f":"IFERROR(IF(Products!$Z$7=$J$3,VLOOKUP(CONCATENATE(A202,B202,C202),Base!$AB$13:$AC$64,2,FALSE),IF(Products!$Z$7=$J$2,VLOOKUP(CONCATENATE(A202,B202,C202),Base!$AB$13:$AE$64,4,FALSE),VLOOKUP(CONCATENATE(A202,B202,C202),Base!$D$9:$G$386,4,FALSE))),\"\")","v":77.58},{"$f":"Products!F202","v":0},{"$f":"IF(ISBLANK(Products!F202),0,IF(LEFT(Products!$Z$7,8)=\"Consumer\",D202*E202,IF(C202=\"500+\",IF(E202>=500,E202*D202),IF(C202=\"1000+\",IF(E202>=1000,E202*D202),IF(C202=\"3000+\",IF(E202>=3000,E202*D202),IF(AND(E202>=VLOOKUP(C202,$M$18:$P$34,3,FALSE),E202<=VLOOKUP(C202,$M$18:$P$34,4,FALSE)),E202*D202))))))","v":0},{"$f":"IF(Products!$Z$7=$J$4,Base!H198,IF(Products!$Z$7=$J$5,Base!#REF!,IF(OR(Products!$Z$7=$J$2,Products!$Z$7=$J$3),Base!AD201)))","v":"AL1227200E-EN"}]
[{"$f":"IF(Products!$Z$7=$J$4,Base!A199,IF(Products!$Z$7=$J$5,Base!#REF!,IF(OR(Products!$Z$7=$J$2,Products!$Z$7=$J$3),Base!Y202)))","v":"GravityZone Security for Endpoints Physical Servers"},{"$f":"IF(Products!$Z$7=$J$4,Base!B199,IF(Products!$Z$7=$J$5,Base!#REF!,IF(OR(Products!$Z$7=$J$2,Products!$Z$7=$J$3),Base!Z202)))","v":"2 years"},{"$f":"IF(Products!$Z$7=$J$4,Base!C199,IF(Products!$Z$7=$J$5,Base!#REF!,IF(OR(Products!$Z$7=$J$2,Products!$Z$7=$J$3),Base!AA202)))","v":"150 - 249"},{"$f":"IFERROR(IF(Products!$Z$7=$J$3,VLOOKUP(CONCATENATE(A203,B203,C203),Base!$AB$13:$AC$64,2,FALSE),IF(Products!$Z$7=$J$2,VLOOKUP(CONCATENATE(A203,B203,C203),Base!$AB$13:$AE$64,4,FALSE),VLOOKUP(CONCATENATE(A203,B203,C203),Base!$D$9:$G$386,4,FALSE))),\"\")","v":73.7},{"$f":"Products!F203","v":0},{"$f":"IF(ISBLANK(Products!F203),0,IF(LEFT(Products!$Z$7,8)=\"Consumer\",D203*E203,IF(C203=\"500+\",IF(E203>=500,E203*D203),IF(C203=\"1000+\",IF(E203>=1000,E203*D203),IF(C203=\"3000+\",IF(E203>=3000,E203*D203),IF(AND(E203>=VLOOKUP(C203,$M$18:$P$34,3,FALSE),E203<=VLOOKUP(C203,$M$18:$P$34,4,FALSE)),E203*D203))))))","v":0},{"$f":"IF(Products!$Z$7=$J$4,Base!H199,IF(Products!$Z$7=$J$5,Base!#REF!,IF(OR(Products!$Z$7=$J$2,Products!$Z$7=$J$3),Base!AD202)))","v":"AL1227200F-EN"}]
[{"$f":"IF(Products!$Z$7=$J$4,Base!A200,IF(Products!$Z$7=$J$5,Base!#REF!,IF(OR(Products!$Z$7=$J$2,Products!$Z$7=$J$3),Base!Y203)))","v":"GravityZone Security for Endpoints Physical Servers"},{"$f":"IF(Products!$Z$7=$J$4,Base!B200,IF(Products!$Z$7=$J$5,Base!#REF!,IF(OR(Products!$Z$7=$J$2,Products!$Z$7=$J$3),Base!Z203)))","v":"2 years"},{"$f":"IF(Products!$Z$7=$J$4,Base!C200,IF(Products!$Z$7=$J$5,Base!#REF!,IF(OR(Products!$Z$7=$J$2,Products!$Z$7=$J$3),Base!AA203)))","v":"250 - 499"},{"$f":"IFERROR(IF(Products!$Z$7=$J$3,VLOOKUP(CONCATENATE(A204,B204,C204),Base!$AB$13:$AC$64,2,FALSE),IF(Products!$Z$7=$J$2,VLOOKUP(CONCATENATE(A204,B204,C204),Base!$AB$13:$AE$64,4,FALSE),VLOOKUP(CONCATENATE(A204,B204,C204),Base!$D$9:$G$386,4,FALSE))),\"\")","v":70.010000000000005},{"$f":"Products!F204","v":0},{"$f":"IF(ISBLANK(Products!F204),0,IF(LEFT(Products!$Z$7,8)=\"Consumer\",D204*E204,IF(C204=\"500+\",IF(E204>=500,E204*D204),IF(C204=\"1000+\",IF(E204>=1000,E204*D204),IF(C204=\"3000+\",IF(E204>=3000,E204*D204),IF(AND(E204>=VLOOKUP(C204,$M$18:$P$34,3,FALSE),E204<=VLOOKUP(C204,$M$18:$P$34,4,FALSE)),E204*D204))))))","v":0},{"$f":"IF(Products!$Z$7=$J$4,Base!H200,IF(Products!$Z$7=$J$5,Base!#REF!,IF(OR(Products!$Z$7=$J$2,Products!$Z$7=$J$3),Base!AD203)))","v":"AL1227200G-EN"}]
[{"$f":"IF(Products!$Z$7=$J$4,Base!A201,IF(Products!$Z$7=$J$5,Base!#REF!,IF(OR(Products!$Z$7=$J$2,Products!$Z$7=$J$3),Base!Y204)))","v":"GravityZone Security for Endpoints Physical Servers"},{"$f":"IF(Products!$Z$7=$J$4,Base!B201,IF(Products!$Z$7=$J$5,Base!#REF!,IF(OR(Products!$Z$7=$J$2,Products!$Z$7=$J$3),Base!Z204)))","v":"2 years"},{"$f":"IF(Products!$Z$7=$J$4,Base!C201,IF(Products!$Z$7=$J$5,Base!#REF!,IF(OR(Products!$Z$7=$J$2,Products!$Z$7=$J$3),Base!AA204)))","v":"500 - 999"},{"$f":"IFERROR(IF(Products!$Z$7=$J$3,VLOOKUP(CONCATENATE(A205,B205,C205),Base!$AB$13:$AC$64,2,FALSE),IF(Products!$Z$7=$J$2,VLOOKUP(CONCATENATE(A205,B205,C205),Base!$AB$13:$AE$64,4,FALSE),VLOOKUP(CONCATENATE(A205,B205,C205),Base!$D$9:$G$386,4,FALSE))),\"\")","v":66.510000000000005},{"$f":"Products!F205","v":0},{"$f":"IF(ISBLANK(Products!F205),0,IF(LEFT(Products!$Z$7,8)=\"Consumer\",D205*E205,IF(C205=\"500+\",IF(E205>=500,E205*D205),IF(C205=\"1000+\",IF(E205>=1000,E205*D205),IF(C205=\"3000+\",IF(E205>=3000,E205*D205),IF(AND(E205>=VLOOKUP(C205,$M$18:$P$34,3,FALSE),E205<=VLOOKUP(C205,$M$18:$P$34,4,FALSE)),E205*D205))))))","v":0},{"$f":"IF(Products!$Z$7=$J$4,Base!H201,IF(Products!$Z$7=$J$5,Base!#REF!,IF(OR(Products!$Z$7=$J$2,Products!$Z$7=$J$3),Base!AD204)))","v":"AL1227200H-EN"}]
[{"$f":"IF(Products!$Z$7=$J$4,Base!A202,IF(Products!$Z$7=$J$5,Base!#REF!,IF(OR(Products!$Z$7=$J$2,Products!$Z$7=$J$3),Base!Y205)))","v":"GravityZone Security for Endpoints Physical Servers"},{"$f":"IF(Products!$Z$7=$J$4,Base!B202,IF(Products!$Z$7=$J$5,Base!#REF!,IF(OR(Products!$Z$7=$J$2,Products!$Z$7=$J$3),Base!Z205)))","v":"2 years"},{"$f":"IF(Products!$Z$7=$J$4,Base!C202,IF(Products!$Z$7=$J$5,Base!#REF!,IF(OR(Products!$Z$7=$J$2,Products!$Z$7=$J$3),Base!AA205)))","v":"1000 - 2999"},{"$f":"IFERROR(IF(Products!$Z$7=$J$3,VLOOKUP(CONCATENATE(A206,B206,C206),Base!$AB$13:$AC$64,2,FALSE),IF(Products!$Z$7=$J$2,VLOOKUP(CONCATENATE(A206,B206,C206),Base!$AB$13:$AE$64,4,FALSE),VLOOKUP(CONCATENATE(A206,B206,C206),Base!$D$9:$G$386,4,FALSE))),\"\")","v":63.18},{"$f":"Products!F206","v":0},{"$f":"IF(ISBLANK(Products!F206),0,IF(LEFT(Products!$Z$7,8)=\"Consumer\",D206*E206,IF(C206=\"500+\",IF(E206>=500,E206*D206),IF(C206=\"1000+\",IF(E206>=1000,E206*D206),IF(C206=\"3000+\",IF(E206>=3000,E206*D206),IF(AND(E206>=VLOOKUP(C206,$M$18:$P$34,3,FALSE),E206<=VLOOKUP(C206,$M$18:$P$34,4,FALSE)),E206*D206))))))","v":0},{"$f":"IF(Products!$Z$7=$J$4,Base!H202,IF(Products!$Z$7=$J$5,Base!#REF!,IF(OR(Products!$Z$7=$J$2,Products!$Z$7=$J$3),Base!AD205)))","v":"AL1227200I-EN"}]
[{"$f":"IF(Products!$Z$7=$J$4,Base!A203,IF(Products!$Z$7=$J$5,Base!#REF!,IF(OR(Products!$Z$7=$J$2,Products!$Z$7=$J$3),Base!Y206)))","v":"GravityZone Security for Endpoints Physical Servers"},{"$f":"IF(Products!$Z$7=$J$4,Base!B203,IF(Products!$Z$7=$J$5,Base!#REF!,IF(OR(Products!$Z$7=$J$2,Products!$Z$7=$J$3),Base!Z206)))","v":"2 years"},{"$f":"IF(Products!$Z$7=$J$4,Base!C203,IF(Products!$Z$7=$J$5,Base!#REF!,IF(OR(Products!$Z$7=$J$2,Products!$Z$7=$J$3),Base!AA206)))","v":"3000+"},{"$f":"IFERROR(IF(Products!$Z$7=$J$3,VLOOKUP(CONCATENATE(A207,B207,C207),Base!$AB$13:$AC$64,2,FALSE),IF(Products!$Z$7=$J$2,VLOOKUP(CONCATENATE(A207,B207,C207),Base!$AB$13:$AE$64,4,FALSE),VLOOKUP(CONCATENATE(A207,B207,C207),Base!$D$9:$G$386,4,FALSE))),\"\")","v":60.02},{"$f":"Products!F207","v":0},{"$f":"IF(ISBLANK(Products!F207),0,IF(LEFT(Products!$Z$7,8)=\"Consumer\",D207*E207,IF(C207=\"500+\",IF(E207>=500,E207*D207),IF(C207=\"1000+\",IF(E207>=1000,E207*D207),IF(C207=\"3000+\",IF(E207>=3000,E207*D207),IF(AND(E207>=VLOOKUP(C207,$M$18:$P$34,3,FALSE),E207<=VLOOKUP(C207,$M$18:$P$34,4,FALSE)),E207*D207))))))","v":0},{"$f":"IF(Products!$Z$7=$J$4,Base!H203,IF(Products!$Z$7=$J$5,Base!#REF!,IF(OR(Products!$Z$7=$J$2,Products!$Z$7=$J$3),Base!AD206)))","v":"AL1227200J-EN"}]
[{"$f":"IF(Products!$Z$7=$J$4,Base!A204,IF(Products!$Z$7=$J$5,Base!#REF!,IF(OR(Products!$Z$7=$J$2,Products!$Z$7=$J$3),Base!Y207)))","v":"GravityZone Security for Endpoints Physical Servers"},{"$f":"IF(Products!$Z$7=$J$4,Base!B204,IF(Products!$Z$7=$J$5,Base!#REF!,IF(OR(Products!$Z$7=$J$2,Products!$Z$7=$J$3),Base!Z207)))","v":"3 years"},{"$f":"IF(Products!$Z$7=$J$4,Base!C204,IF(Products!$Z$7=$J$5,Base!#REF!,IF(OR(Products!$Z$7=$J$2,Products!$Z$7=$J$3),Base!AA207)))","v":"1 - 14"},{"$f":"IFERROR(IF(Products!$Z$7=$J$3,VLOOKUP(CONCATENATE(A208,B208,C208),Base!$AB$13:$AC$64,2,FALSE),IF(Products!$Z$7=$J$2,VLOOKUP(CONCATENATE(A208,B208,C208),Base!$AB$13:$AE$64,4,FALSE),VLOOKUP(CONCATENATE(A208,B208,C208),Base!$D$9:$G$386,4,FALSE))),\"\")","v":143.5},{"$f":"Products!F208","v":0},{"$f":"IF(ISBLANK(Products!F208),0,IF(LEFT(Products!$Z$7,8)=\"Consumer\",D208*E208,IF(C208=\"500+\",IF(E208>=500,E208*D208),IF(C208=\"1000+\",IF(E208>=1000,E208*D208),IF(C208=\"3000+\",IF(E208>=3000,E208*D208),IF(AND(E208>=VLOOKUP(C208,$M$18:$P$34,3,FALSE),E208<=VLOOKUP(C208,$M$18:$P$34,4,FALSE)),E208*D208))))))","v":0},{"$f":"IF(Products!$Z$7=$J$4,Base!H204,IF(Products!$Z$7=$J$5,Base!#REF!,IF(OR(Products!$Z$7=$J$2,Products!$Z$7=$J$3),Base!AD207)))","v":"AL1227300A-EN"}]
[{"$f":"IF(Products!$Z$7=$J$4,Base!A205,IF(Products!$Z$7=$J$5,Base!#REF!,IF(OR(Products!$Z$7=$J$2,Products!$Z$7=$J$3),Base!Y208)))","v":"GravityZone Security for Endpoints Physical Servers"},{"$f":"IF(Products!$Z$7=$J$4,Base!B205,IF(Products!$Z$7=$J$5,Base!#REF!,IF(OR(Products!$Z$7=$J$2,Products!$Z$7=$J$3),Base!Z208)))","v":"3 years"},{"$f":"IF(Products!$Z$7=$J$4,Base!C205,IF(Products!$Z$7=$J$5,Base!#REF!,IF(OR(Products!$Z$7=$J$2,Products!$Z$7=$J$3),Base!AA208)))","v":"15 - 24"},{"$f":"IFERROR(IF(Products!$Z$7=$J$3,VLOOKUP(CONCATENATE(A209,B209,C209),Base!$AB$13:$AC$64,2,FALSE),IF(Products!$Z$7=$J$2,VLOOKUP(CONCATENATE(A209,B209,C209),Base!$AB$13:$AE$64,4,FALSE),VLOOKUP(CONCATENATE(A209,B209,C209),Base!$D$9:$G$386,4,FALSE))),\"\")","v":129.15},{"$f":"Products!F209","v":0},{"$f":"IF(ISBLANK(Products!F209),0,IF(LEFT(Products!$Z$7,8)=\"Consumer\",D209*E209,IF(C209=\"500+\",IF(E209>=500,E209*D209),IF(C209=\"1000+\",IF(E209>=1000,E209*D209),IF(C209=\"3000+\",IF(E209>=3000,E209*D209),IF(AND(E209>=VLOOKUP(C209,$M$18:$P$34,3,FALSE),E209<=VLOOKUP(C209,$M$18:$P$34,4,FALSE)),E209*D209))))))","v":0},{"$f":"IF(Products!$Z$7=$J$4,Base!H205,IF(Products!$Z$7=$J$5,Base!#REF!,IF(OR(Products!$Z$7=$J$2,Products!$Z$7=$J$3),Base!AD208)))","v":"AL1227300B-EN"}]
[{"$f":"IF(Products!$Z$7=$J$4,Base!A206,IF(Products!$Z$7=$J$5,Base!#REF!,IF(OR(Products!$Z$7=$J$2,Products!$Z$7=$J$3),Base!Y209)))","v":"GravityZone Security for Endpoints Physical Servers"},{"$f":"IF(Products!$Z$7=$J$4,Base!B206,IF(Products!$Z$7=$J$5,Base!#REF!,IF(OR(Products!$Z$7=$J$2,Products!$Z$7=$J$3),Base!Z209)))","v":"3 years"},{"$f":"IF(Products!$Z$7=$J$4,Base!C206,IF(Products!$Z$7=$J$5,Base!#REF!,IF(OR(Products!$Z$7=$J$2,Products!$Z$7=$J$3),Base!AA209)))","v":"25 - 49"},{"$f":"IFERROR(IF(Products!$Z$7=$J$3,VLOOKUP(CONCATENATE(A210,B210,C210),Base!$AB$13:$AC$64,2,FALSE),IF(Products!$Z$7=$J$2,VLOOKUP(CONCATENATE(A210,B210,C210),Base!$AB$13:$AE$64,4,FALSE),VLOOKUP(CONCATENATE(A210,B210,C210),Base!$D$9:$G$386,4,FALSE))),\"\")","v":116.24},{"$f":"Products!F210","v":0},{"$f":"IF(ISBLANK(Products!F210),0,IF(LEFT(Products!$Z$7,8)=\"Consumer\",D210*E210,IF(C210=\"500+\",IF(E210>=500,E210*D210),IF(C210=\"1000+\",IF(E210>=1000,E210*D210),IF(C210=\"3000+\",IF(E210>=3000,E210*D210),IF(AND(E210>=VLOOKUP(C210,$M$18:$P$34,3,FALSE),E210<=VLOOKUP(C210,$M$18:$P$34,4,FALSE)),E210*D210))))))","v":0},{"$f":"IF(Products!$Z$7=$J$4,Base!H206,IF(Products!$Z$7=$J$5,Base!#REF!,IF(OR(Products!$Z$7=$J$2,Products!$Z$7=$J$3),Base!AD209)))","v":"AL1227300C-EN"}]
[{"$f":"IF(Products!$Z$7=$J$4,Base!A207,IF(Products!$Z$7=$J$5,Base!#REF!,IF(OR(Products!$Z$7=$J$2,Products!$Z$7=$J$3),Base!Y210)))","v":"GravityZone Security for Endpoints Physical Servers"},{"$f":"IF(Products!$Z$7=$J$4,Base!B207,IF(Products!$Z$7=$J$5,Base!#REF!,IF(OR(Products!$Z$7=$J$2,Products!$Z$7=$J$3),Base!Z210)))","v":"3 years"},{"$f":"IF(Products!$Z$7=$J$4,Base!C207,IF(Products!$Z$7=$J$5,Base!#REF!,IF(OR(Products!$Z$7=$J$2,Products!$Z$7=$J$3),Base!AA210)))","v":"50 - 99"},{"$f":"IFERROR(IF(Products!$Z$7=$J$3,VLOOKUP(CONCATENATE(A211,B211,C211),Base!$AB$13:$AC$64,2,FALSE),IF(Products!$Z$7=$J$2,VLOOKUP(CONCATENATE(A211,B211,C211),Base!$AB$13:$AE$64,4,FALSE),VLOOKUP(CONCATENATE(A211,B211,C211),Base!$D$9:$G$386,4,FALSE))),\"\")","v":104.62},{"$f":"Products!F211","v":0},{"$f":"IF(ISBLANK(Products!F211),0,IF(LEFT(Products!$Z$7,8)=\"Consumer\",D211*E211,IF(C211=\"500+\",IF(E211>=500,E211*D211),IF(C211=\"1000+\",IF(E211>=1000,E211*D211),IF(C211=\"3000+\",IF(E211>=3000,E211*D211),IF(AND(E211>=VLOOKUP(C211,$M$18:$P$34,3,FALSE),E211<=VLOOKUP(C211,$M$18:$P$34,4,FALSE)),E211*D211))))))","v":0},{"$f":"IF(Products!$Z$7=$J$4,Base!H207,IF(Products!$Z$7=$J$5,Base!#REF!,IF(OR(Products!$Z$7=$J$2,Products!$Z$7=$J$3),Base!AD210)))","v":"AL1227300D-EN"}]
[{"$f":"IF(Products!$Z$7=$J$4,Base!A208,IF(Products!$Z$7=$J$5,Base!#REF!,IF(OR(Products!$Z$7=$J$2,Products!$Z$7=$J$3),Base!Y211)))","v":"GravityZone Security for Endpoints Physical Servers"},{"$f":"IF(Products!$Z$7=$J$4,Base!B208,IF(Products!$Z$7=$J$5,Base!#REF!,IF(OR(Products!$Z$7=$J$2,Products!$Z$7=$J$3),Base!Z211)))","v":"3 years"},{"$f":"IF(Products!$Z$7=$J$4,Base!C208,IF(Products!$Z$7=$J$5,Base!#REF!,IF(OR(Products!$Z$7=$J$2,Products!$Z$7=$J$3),Base!AA211)))","v":"100 - 149"},{"$f":"IFERROR(IF(Products!$Z$7=$J$3,VLOOKUP(CONCATENATE(A212,B212,C212),Base!$AB$13:$AC$64,2,FALSE),IF(Products!$Z$7=$J$2,VLOOKUP(CONCATENATE(A212,B212,C212),Base!$AB$13:$AE$64,4,FALSE),VLOOKUP(CONCATENATE(A212,B212,C212),Base!$D$9:$G$386,4,FALSE))),\"\")","v":99.39},{"$f":"Products!F212","v":0},{"$f":"IF(ISBLANK(Products!F212),0,IF(LEFT(Products!$Z$7,8)=\"Consumer\",D212*E212,IF(C212=\"500+\",IF(E212>=500,E212*D212),IF(C212=\"1000+\",IF(E212>=1000,E212*D212),IF(C212=\"3000+\",IF(E212>=3000,E212*D212),IF(AND(E212>=VLOOKUP(C212,$M$18:$P$34,3,FALSE),E212<=VLOOKUP(C212,$M$18:$P$34,4,FALSE)),E212*D212))))))","v":0},{"$f":"IF(Products!$Z$7=$J$4,Base!H208,IF(Products!$Z$7=$J$5,Base!#REF!,IF(OR(Products!$Z$7=$J$2,Products!$Z$7=$J$3),Base!AD211)))","v":"AL1227300E-EN"}]
[{"$f":"IF(Products!$Z$7=$J$4,Base!A209,IF(Products!$Z$7=$J$5,Base!#REF!,IF(OR(Products!$Z$7=$J$2,Products!$Z$7=$J$3),Base!Y212)))","v":"GravityZone Security for Endpoints Physical Servers"},{"$f":"IF(Products!$Z$7=$J$4,Base!B209,IF(Products!$Z$7=$J$5,Base!#REF!,IF(OR(Products!$Z$7=$J$2,Products!$Z$7=$J$3),Base!Z212)))","v":"3 years"},{"$f":"IF(Products!$Z$7=$J$4,Base!C209,IF(Products!$Z$7=$J$5,Base!#REF!,IF(OR(Products!$Z$7=$J$2,Products!$Z$7=$J$3),Base!AA212)))","v":"150 - 249"},{"$f":"IFERROR(IF(Products!$Z$7=$J$3,VLOOKUP(CONCATENATE(A213,B213,C213),Base!$AB$13:$AC$64,2,FALSE),IF(Products!$Z$7=$J$2,VLOOKUP(CONCATENATE(A213,B213,C213),Base!$AB$13:$AE$64,4,FALSE),VLOOKUP(CONCATENATE(A213,B213,C213),Base!$D$9:$G$386,4,FALSE))),\"\")","v":94.42},{"$f":"Products!F213","v":0},{"$f":"IF(ISBLANK(Products!F213),0,IF(LEFT(Products!$Z$7,8)=\"Consumer\",D213*E213,IF(C213=\"500+\",IF(E213>=500,E213*D213),IF(C213=\"1000+\",IF(E213>=1000,E213*D213),IF(C213=\"3000+\",IF(E213>=3000,E213*D213),IF(AND(E213>=VLOOKUP(C213,$M$18:$P$34,3,FALSE),E213<=VLOOKUP(C213,$M$18:$P$34,4,FALSE)),E213*D213))))))","v":0},{"$f":"IF(Products!$Z$7=$J$4,Base!H209,IF(Products!$Z$7=$J$5,Base!#REF!,IF(OR(Products!$Z$7=$J$2,Products!$Z$7=$J$3),Base!AD212)))","v":"AL1227300F-EN"}]
[{"$f":"IF(Products!$Z$7=$J$4,Base!A210,IF(Products!$Z$7=$J$5,Base!#REF!,IF(OR(Products!$Z$7=$J$2,Products!$Z$7=$J$3),Base!Y213)))","v":"GravityZone Security for Endpoints Physical Servers"},{"$f":"IF(Products!$Z$7=$J$4,Base!B210,IF(Products!$Z$7=$J$5,Base!#REF!,IF(OR(Products!$Z$7=$J$2,Products!$Z$7=$J$3),Base!Z213)))","v":"3 years"},{"$f":"IF(Products!$Z$7=$J$4,Base!C210,IF(Products!$Z$7=$J$5,Base!#REF!,IF(OR(Products!$Z$7=$J$2,Products!$Z$7=$J$3),Base!AA213)))","v":"250 - 499"},{"$f":"IFERROR(IF(Products!$Z$7=$J$3,VLOOKUP(CONCATENATE(A214,B214,C214),Base!$AB$13:$AC$64,2,FALSE),IF(Products!$Z$7=$J$2,VLOOKUP(CONCATENATE(A214,B214,C214),Base!$AB$13:$AE$64,4,FALSE),VLOOKUP(CONCATENATE(A214,B214,C214),Base!$D$9:$G$386,4,FALSE))),\"\")","v":89.7},{"$f":"Products!F214","v":0},{"$f":"IF(ISBLANK(Products!F214),0,IF(LEFT(Products!$Z$7,8)=\"Consumer\",D214*E214,IF(C214=\"500+\",IF(E214>=500,E214*D214),IF(C214=\"1000+\",IF(E214>=1000,E214*D214),IF(C214=\"3000+\",IF(E214>=3000,E214*D214),IF(AND(E214>=VLOOKUP(C214,$M$18:$P$34,3,FALSE),E214<=VLOOKUP(C214,$M$18:$P$34,4,FALSE)),E214*D214))))))","v":0},{"$f":"IF(Products!$Z$7=$J$4,Base!H210,IF(Products!$Z$7=$J$5,Base!#REF!,IF(OR(Products!$Z$7=$J$2,Products!$Z$7=$J$3),Base!AD213)))","v":"AL1227300G-EN"}]
[{"$f":"IF(Products!$Z$7=$J$4,Base!A211,IF(Products!$Z$7=$J$5,Base!#REF!,IF(OR(Products!$Z$7=$J$2,Products!$Z$7=$J$3),Base!Y214)))","v":"GravityZone Security for Endpoints Physical Servers"},{"$f":"IF(Products!$Z$7=$J$4,Base!B211,IF(Products!$Z$7=$J$5,Base!#REF!,IF(OR(Products!$Z$7=$J$2,Products!$Z$7=$J$3),Base!Z214)))","v":"3 years"},{"$f":"IF(Products!$Z$7=$J$4,Base!C211,IF(Products!$Z$7=$J$5,Base!#REF!,IF(OR(Products!$Z$7=$J$2,Products!$Z$7=$J$3),Base!AA214)))","v":"500 - 999"},{"$f":"IFERROR(IF(Products!$Z$7=$J$3,VLOOKUP(CONCATENATE(A215,B215,C215),Base!$AB$13:$AC$64,2,FALSE),IF(Products!$Z$7=$J$2,VLOOKUP(CONCATENATE(A215,B215,C215),Base!$AB$13:$AE$64,4,FALSE),VLOOKUP(CONCATENATE(A215,B215,C215),Base!$D$9:$G$386,4,FALSE))),\"\")","v":85.22},{"$f":"Products!F215","v":0},{"$f":"IF(ISBLANK(Products!F215),0,IF(LEFT(Products!$Z$7,8)=\"Consumer\",D215*E215,IF(C215=\"500+\",IF(E215>=500,E215*D215),IF(C215=\"1000+\",IF(E215>=1000,E215*D215),IF(C215=\"3000+\",IF(E215>=3000,E215*D215),IF(AND(E215>=VLOOKUP(C215,$M$18:$P$34,3,FALSE),E215<=VLOOKUP(C215,$M$18:$P$34,4,FALSE)),E215*D215))))))","v":0},{"$f":"IF(Products!$Z$7=$J$4,Base!H211,IF(Products!$Z$7=$J$5,Base!#REF!,IF(OR(Products!$Z$7=$J$2,Products!$Z$7=$J$3),Base!AD214)))","v":"AL1227300H-EN"}]
[{"$f":"IF(Products!$Z$7=$J$4,Base!A212,IF(Products!$Z$7=$J$5,Base!#REF!,IF(OR(Products!$Z$7=$J$2,Products!$Z$7=$J$3),Base!Y215)))","v":"GravityZone Security for Endpoints Physical Servers"},{"$f":"IF(Products!$Z$7=$J$4,Base!B212,IF(Products!$Z$7=$J$5,Base!#REF!,IF(OR(Products!$Z$7=$J$2,Products!$Z$7=$J$3),Base!Z215)))","v":"3 years"},{"$f":"IF(Products!$Z$7=$J$4,Base!C212,IF(Products!$Z$7=$J$5,Base!#REF!,IF(OR(Products!$Z$7=$J$2,Products!$Z$7=$J$3),Base!AA215)))","v":"1000 - 2999"},{"$f":"IFERROR(IF(Products!$Z$7=$J$3,VLOOKUP(CONCATENATE(A216,B216,C216),Base!$AB$13:$AC$64,2,FALSE),IF(Products!$Z$7=$J$2,VLOOKUP(CONCATENATE(A216,B216,C216),Base!$AB$13:$AE$64,4,FALSE),VLOOKUP(CONCATENATE(A216,B216,C216),Base!$D$9:$G$386,4,FALSE))),\"\")","v":80.95},{"$f":"Products!F216","v":0},{"$f":"IF(ISBLANK(Products!F216),0,IF(LEFT(Products!$Z$7,8)=\"Consumer\",D216*E216,IF(C216=\"500+\",IF(E216>=500,E216*D216),IF(C216=\"1000+\",IF(E216>=1000,E216*D216),IF(C216=\"3000+\",IF(E216>=3000,E216*D216),IF(AND(E216>=VLOOKUP(C216,$M$18:$P$34,3,FALSE),E216<=VLOOKUP(C216,$M$18:$P$34,4,FALSE)),E216*D216))))))","v":0},{"$f":"IF(Products!$Z$7=$J$4,Base!H212,IF(Products!$Z$7=$J$5,Base!#REF!,IF(OR(Products!$Z$7=$J$2,Products!$Z$7=$J$3),Base!AD215)))","v":"AL1227300I-EN"}]
[{"$f":"IF(Products!$Z$7=$J$4,Base!A213,IF(Products!$Z$7=$J$5,Base!#REF!,IF(OR(Products!$Z$7=$J$2,Products!$Z$7=$J$3),Base!Y216)))","v":"GravityZone Security for Endpoints Physical Servers"},{"$f":"IF(Products!$Z$7=$J$4,Base!B213,IF(Products!$Z$7=$J$5,Base!#REF!,IF(OR(Products!$Z$7=$J$2,Products!$Z$7=$J$3),Base!Z216)))","v":"3 years"},{"$f":"IF(Products!$Z$7=$J$4,Base!C213,IF(Products!$Z$7=$J$5,Base!#REF!,IF(OR(Products!$Z$7=$J$2,Products!$Z$7=$J$3),Base!AA216)))","v":"3000+"},{"$f":"IFERROR(IF(Products!$Z$7=$J$3,VLOOKUP(CONCATENATE(A217,B217,C217),Base!$AB$13:$AC$64,2,FALSE),IF(Products!$Z$7=$J$2,VLOOKUP(CONCATENATE(A217,B217,C217),Base!$AB$13:$AE$64,4,FALSE),VLOOKUP(CONCATENATE(A217,B217,C217),Base!$D$9:$G$386,4,FALSE))),\"\")","v":76.900000000000006},{"$f":"Products!F217","v":0},{"$f":"IF(ISBLANK(Products!F217),0,IF(LEFT(Products!$Z$7,8)=\"Consumer\",D217*E217,IF(C217=\"500+\",IF(E217>=500,E217*D217),IF(C217=\"1000+\",IF(E217>=1000,E217*D217),IF(C217=\"3000+\",IF(E217>=3000,E217*D217),IF(AND(E217>=VLOOKUP(C217,$M$18:$P$34,3,FALSE),E217<=VLOOKUP(C217,$M$18:$P$34,4,FALSE)),E217*D217))))))","v":0},{"$f":"IF(Products!$Z$7=$J$4,Base!H213,IF(Products!$Z$7=$J$5,Base!#REF!,IF(OR(Products!$Z$7=$J$2,Products!$Z$7=$J$3),Base!AD216)))","v":"AL1227300J-EN"}]
[{"$f":"IF(Products!$Z$7=$J$4,Base!A214,IF(Products!$Z$7=$J$5,Base!#REF!,IF(OR(Products!$Z$7=$J$2,Products!$Z$7=$J$3),Base!Y217)))","v":"GravityZone Security for Exchange"},{"$f":"IF(Products!$Z$7=$J$4,Base!B214,IF(Products!$Z$7=$J$5,Base!#REF!,IF(OR(Products!$Z$7=$J$2,Products!$Z$7=$J$3),Base!Z217)))","v":"1 year"},{"$f":"IF(Products!$Z$7=$J$4,Base!C214,IF(Products!$Z$7=$J$5,Base!#REF!,IF(OR(Products!$Z$7=$J$2,Products!$Z$7=$J$3),Base!AA217)))","v":"5 - 14"},{"$f":"IFERROR(IF(Products!$Z$7=$J$3,VLOOKUP(CONCATENATE(A218,B218,C218),Base!$AB$13:$AC$64,2,FALSE),IF(Products!$Z$7=$J$2,VLOOKUP(CONCATENATE(A218,B218,C218),Base!$AB$13:$AE$64,4,FALSE),VLOOKUP(CONCATENATE(A218,B218,C218),Base!$D$9:$G$386,4,FALSE))),\"\")","v":23.54},{"$f":"Products!F218","v":0},{"$f":"IF(ISBLANK(Products!F218),0,IF(LEFT(Products!$Z$7,8)=\"Consumer\",D218*E218,IF(C218=\"500+\",IF(E218>=500,E218*D218),IF(C218=\"1000+\",IF(E218>=1000,E218*D218),IF(C218=\"3000+\",IF(E218>=3000,E218*D218),IF(AND(E218>=VLOOKUP(C218,$M$18:$P$34,3,FALSE),E218<=VLOOKUP(C218,$M$18:$P$34,4,FALSE)),E218*D218))))))","v":0},{"$f":"IF(Products!$Z$7=$J$4,Base!H214,IF(Products!$Z$7=$J$5,Base!#REF!,IF(OR(Products!$Z$7=$J$2,Products!$Z$7=$J$3),Base!AD217)))","v":"AL1241100A-EN"}]
[{"$f":"IF(Products!$Z$7=$J$4,Base!A215,IF(Products!$Z$7=$J$5,Base!#REF!,IF(OR(Products!$Z$7=$J$2,Products!$Z$7=$J$3),Base!Y218)))","v":"GravityZone Security for Exchange"},{"$f":"IF(Products!$Z$7=$J$4,Base!B215,IF(Products!$Z$7=$J$5,Base!#REF!,IF(OR(Products!$Z$7=$J$2,Products!$Z$7=$J$3),Base!Z218)))","v":"1 year"},{"$f":"IF(Products!$Z$7=$J$4,Base!C215,IF(Products!$Z$7=$J$5,Base!#REF!,IF(OR(Products!$Z$7=$J$2,Products!$Z$7=$J$3),Base!AA218)))","v":"15 - 24"},{"$f":"IFERROR(IF(Products!$Z$7=$J$3,VLOOKUP(CONCATENATE(A219,B219,C219),Base!$AB$13:$AC$64,2,FALSE),IF(Products!$Z$7=$J$2,VLOOKUP(CONCATENATE(A219,B219,C219),Base!$AB$13:$AE$64,4,FALSE),VLOOKUP(CONCATENATE(A219,B219,C219),Base!$D$9:$G$386,4,FALSE))),\"\")","v":21.39},{"$f":"Products!F219","v":0},{"$f":"IF(ISBLANK(Products!F219),0,IF(LEFT(Products!$Z$7,8)=\"Consumer\",D219*E219,IF(C219=\"500+\",IF(E219>=500,E219*D219),IF(C219=\"1000+\",IF(E219>=1000,E219*D219),IF(C219=\"3000+\",IF(E219>=3000,E219*D219),IF(AND(E219>=VLOOKUP(C219,$M$18:$P$34,3,FALSE),E219<=VLOOKUP(C219,$M$18:$P$34,4,FALSE)),E219*D219))))))","v":0},{"$f":"IF(Products!$Z$7=$J$4,Base!H215,IF(Products!$Z$7=$J$5,Base!#REF!,IF(OR(Products!$Z$7=$J$2,Products!$Z$7=$J$3),Base!AD218)))","v":"AL1241100B-EN"}]
[{"$f":"IF(Products!$Z$7=$J$4,Base!A216,IF(Products!$Z$7=$J$5,Base!#REF!,IF(OR(Products!$Z$7=$J$2,Products!$Z$7=$J$3),Base!Y219)))","v":"GravityZone Security for Exchange"},{"$f":"IF(Products!$Z$7=$J$4,Base!B216,IF(Products!$Z$7=$J$5,Base!#REF!,IF(OR(Products!$Z$7=$J$2,Products!$Z$7=$J$3),Base!Z219)))","v":"1 year"},{"$f":"IF(Products!$Z$7=$J$4,Base!C216,IF(Products!$Z$7=$J$5,Base!#REF!,IF(OR(Products!$Z$7=$J$2,Products!$Z$7=$J$3),Base!AA219)))","v":"25 - 49"},{"$f":"IFERROR(IF(Products!$Z$7=$J$3,VLOOKUP(CONCATENATE(A220,B220,C220),Base!$AB$13:$AC$64,2,FALSE),IF(Products!$Z$7=$J$2,VLOOKUP(CONCATENATE(A220,B220,C220),Base!$AB$13:$AE$64,4,FALSE),VLOOKUP(CONCATENATE(A220,B220,C220),Base!$D$9:$G$386,4,FALSE))),\"\")","v":19.25},{"$f":"Products!F220","v":0},{"$f":"IF(ISBLANK(Products!F220),0,IF(LEFT(Products!$Z$7,8)=\"Consumer\",D220*E220,IF(C220=\"500+\",IF(E220>=500,E220*D220),IF(C220=\"1000+\",IF(E220>=1000,E220*D220),IF(C220=\"3000+\",IF(E220>=3000,E220*D220),IF(AND(E220>=VLOOKUP(C220,$M$18:$P$34,3,FALSE),E220<=VLOOKUP(C220,$M$18:$P$34,4,FALSE)),E220*D220))))))","v":0},{"$f":"IF(Products!$Z$7=$J$4,Base!H216,IF(Products!$Z$7=$J$5,Base!#REF!,IF(OR(Products!$Z$7=$J$2,Products!$Z$7=$J$3),Base!AD219)))","v":"AL1241100C-EN"}]
[{"$f":"IF(Products!$Z$7=$J$4,Base!A217,IF(Products!$Z$7=$J$5,Base!#REF!,IF(OR(Products!$Z$7=$J$2,Products!$Z$7=$J$3),Base!Y220)))","v":"GravityZone Security for Exchange"},{"$f":"IF(Products!$Z$7=$J$4,Base!B217,IF(Products!$Z$7=$J$5,Base!#REF!,IF(OR(Products!$Z$7=$J$2,Products!$Z$7=$J$3),Base!Z220)))","v":"1 year"},{"$f":"IF(Products!$Z$7=$J$4,Base!C217,IF(Products!$Z$7=$J$5,Base!#REF!,IF(OR(Products!$Z$7=$J$2,Products!$Z$7=$J$3),Base!AA220)))","v":"50 - 99"},{"$f":"IFERROR(IF(Products!$Z$7=$J$3,VLOOKUP(CONCATENATE(A221,B221,C221),Base!$AB$13:$AC$64,2,FALSE),IF(Products!$Z$7=$J$2,VLOOKUP(CONCATENATE(A221,B221,C221),Base!$AB$13:$AE$64,4,FALSE),VLOOKUP(CONCATENATE(A221,B221,C221),Base!$D$9:$G$386,4,FALSE))),\"\")","v":17.47},{"$f":"Products!F221","v":0},{"$f":"IF(ISBLANK(Products!F221),0,IF(LEFT(Products!$Z$7,8)=\"Consumer\",D221*E221,IF(C221=\"500+\",IF(E221>=500,E221*D221),IF(C221=\"1000+\",IF(E221>=1000,E221*D221),IF(C221=\"3000+\",IF(E221>=3000,E221*D221),IF(AND(E221>=VLOOKUP(C221,$M$18:$P$34,3,FALSE),E221<=VLOOKUP(C221,$M$18:$P$34,4,FALSE)),E221*D221))))))","v":0},{"$f":"IF(Products!$Z$7=$J$4,Base!H217,IF(Products!$Z$7=$J$5,Base!#REF!,IF(OR(Products!$Z$7=$J$2,Products!$Z$7=$J$3),Base!AD220)))","v":"AL1241100D-EN"}]
[{"$f":"IF(Products!$Z$7=$J$4,Base!A218,IF(Products!$Z$7=$J$5,Base!#REF!,IF(OR(Products!$Z$7=$J$2,Products!$Z$7=$J$3),Base!Y221)))","v":"GravityZone Security for Exchange"},{"$f":"IF(Products!$Z$7=$J$4,Base!B218,IF(Products!$Z$7=$J$5,Base!#REF!,IF(OR(Products!$Z$7=$J$2,Products!$Z$7=$J$3),Base!Z221)))","v":"1 year"},{"$f":"IF(Products!$Z$7=$J$4,Base!C218,IF(Products!$Z$7=$J$5,Base!#REF!,IF(OR(Products!$Z$7=$J$2,Products!$Z$7=$J$3),Base!AA221)))","v":"100 - 149"},{"$f":"IFERROR(IF(Products!$Z$7=$J$3,VLOOKUP(CONCATENATE(A222,B222,C222),Base!$AB$13:$AC$64,2,FALSE),IF(Products!$Z$7=$J$2,VLOOKUP(CONCATENATE(A222,B222,C222),Base!$AB$13:$AE$64,4,FALSE),VLOOKUP(CONCATENATE(A222,B222,C222),Base!$D$9:$G$386,4,FALSE))),\"\")","v":15.68},{"$f":"Products!F222","v":0},{"$f":"IF(ISBLANK(Products!F222),0,IF(LEFT(Products!$Z$7,8)=\"Consumer\",D222*E222,IF(C222=\"500+\",IF(E222>=500,E222*D222),IF(C222=\"1000+\",IF(E222>=1000,E222*D222),IF(C222=\"3000+\",IF(E222>=3000,E222*D222),IF(AND(E222>=VLOOKUP(C222,$M$18:$P$34,3,FALSE),E222<=VLOOKUP(C222,$M$18:$P$34,4,FALSE)),E222*D222))))))","v":0},{"$f":"IF(Products!$Z$7=$J$4,Base!H218,IF(Products!$Z$7=$J$5,Base!#REF!,IF(OR(Products!$Z$7=$J$2,Products!$Z$7=$J$3),Base!AD221)))","v":"AL1241100E-EN"}]
[{"$f":"IF(Products!$Z$7=$J$4,Base!A219,IF(Products!$Z$7=$J$5,Base!#REF!,IF(OR(Products!$Z$7=$J$2,Products!$Z$7=$J$3),Base!Y222)))","v":"GravityZone Security for Exchange"},{"$f":"IF(Products!$Z$7=$J$4,Base!B219,IF(Products!$Z$7=$J$5,Base!#REF!,IF(OR(Products!$Z$7=$J$2,Products!$Z$7=$J$3),Base!Z222)))","v":"1 year"},{"$f":"IF(Products!$Z$7=$J$4,Base!C219,IF(Products!$Z$7=$J$5,Base!#REF!,IF(OR(Products!$Z$7=$J$2,Products!$Z$7=$J$3),Base!AA222)))","v":"150 - 249"},{"$f":"IFERROR(IF(Products!$Z$7=$J$3,VLOOKUP(CONCATENATE(A223,B223,C223),Base!$AB$13:$AC$64,2,FALSE),IF(Products!$Z$7=$J$2,VLOOKUP(CONCATENATE(A223,B223,C223),Base!$AB$13:$AE$64,4,FALSE),VLOOKUP(CONCATENATE(A223,B223,C223),Base!$D$9:$G$386,4,FALSE))),\"\")","v":14.39},{"$f":"Products!F223","v":0},{"$f":"IF(ISBLANK(Products!F223),0,IF(LEFT(Products!$Z$7,8)=\"Consumer\",D223*E223,IF(C223=\"500+\",IF(E223>=500,E223*D223),IF(C223=\"1000+\",IF(E223>=1000,E223*D223),IF(C223=\"3000+\",IF(E223>=3000,E223*D223),IF(AND(E223>=VLOOKUP(C223,$M$18:$P$34,3,FALSE),E223<=VLOOKUP(C223,$M$18:$P$34,4,FALSE)),E223*D223))))))","v":0},{"$f":"IF(Products!$Z$7=$J$4,Base!H219,IF(Products!$Z$7=$J$5,Base!#REF!,IF(OR(Products!$Z$7=$J$2,Products!$Z$7=$J$3),Base!AD222)))","v":"AL1241100F-EN"}]
[{"$f":"IF(Products!$Z$7=$J$4,Base!A220,IF(Products!$Z$7=$J$5,Base!#REF!,IF(OR(Products!$Z$7=$J$2,Products!$Z$7=$J$3),Base!Y223)))","v":"GravityZone Security for Exchange"},{"$f":"IF(Products!$Z$7=$J$4,Base!B220,IF(Products!$Z$7=$J$5,Base!#REF!,IF(OR(Products!$Z$7=$J$2,Products!$Z$7=$J$3),Base!Z223)))","v":"1 year"},{"$f":"IF(Products!$Z$7=$J$4,Base!C220,IF(Products!$Z$7=$J$5,Base!#REF!,IF(OR(Products!$Z$7=$J$2,Products!$Z$7=$J$3),Base!AA223)))","v":"250 - 499"},{"$f":"IFERROR(IF(Products!$Z$7=$J$3,VLOOKUP(CONCATENATE(A224,B224,C224),Base!$AB$13:$AC$64,2,FALSE),IF(Products!$Z$7=$J$2,VLOOKUP(CONCATENATE(A224,B224,C224),Base!$AB$13:$AE$64,4,FALSE),VLOOKUP(CONCATENATE(A224,B224,C224),Base!$D$9:$G$386,4,FALSE))),\"\")","v":13.18},{"$f":"Products!F224","v":0},{"$f":"IF(ISBLANK(Products!F224),0,IF(LEFT(Products!$Z$7,8)=\"Consumer\",D224*E224,IF(C224=\"500+\",IF(E224>=500,E224*D224),IF(C224=\"1000+\",IF(E224>=1000,E224*D224),IF(C224=\"3000+\",IF(E224>=3000,E224*D224),IF(AND(E224>=VLOOKUP(C224,$M$18:$P$34,3,FALSE),E224<=VLOOKUP(C224,$M$18:$P$34,4,FALSE)),E224*D224))))))","v":0},{"$f":"IF(Products!$Z$7=$J$4,Base!H220,IF(Products!$Z$7=$J$5,Base!#REF!,IF(OR(Products!$Z$7=$J$2,Products!$Z$7=$J$3),Base!AD223)))","v":"AL1241100G-EN"}]
[{"$f":"IF(Products!$Z$7=$J$4,Base!A221,IF(Products!$Z$7=$J$5,Base!#REF!,IF(OR(Products!$Z$7=$J$2,Products!$Z$7=$J$3),Base!Y224)))","v":"GravityZone Security for Exchange"},{"$f":"IF(Products!$Z$7=$J$4,Base!B221,IF(Products!$Z$7=$J$5,Base!#REF!,IF(OR(Products!$Z$7=$J$2,Products!$Z$7=$J$3),Base!Z224)))","v":"1 year"},{"$f":"IF(Products!$Z$7=$J$4,Base!C221,IF(Products!$Z$7=$J$5,Base!#REF!,IF(OR(Products!$Z$7=$J$2,Products!$Z$7=$J$3),Base!AA224)))","v":"500 - 999"},{"$f":"IFERROR(IF(Products!$Z$7=$J$3,VLOOKUP(CONCATENATE(A225,B225,C225),Base!$AB$13:$AC$64,2,FALSE),IF(Products!$Z$7=$J$2,VLOOKUP(CONCATENATE(A225,B225,C225),Base!$AB$13:$AE$64,4,FALSE),VLOOKUP(CONCATENATE(A225,B225,C225),Base!$D$9:$G$386,4,FALSE))),\"\")","v":12.1},{"$f":"Products!F225","v":0},{"$f":"IF(ISBLANK(Products!F225),0,IF(LEFT(Products!$Z$7,8)=\"Consumer\",D225*E225,IF(C225=\"500+\",IF(E225>=500,E225*D225),IF(C225=\"1000+\",IF(E225>=1000,E225*D225),IF(C225=\"3000+\",IF(E225>=3000,E225*D225),IF(AND(E225>=VLOOKUP(C225,$M$18:$P$34,3,FALSE),E225<=VLOOKUP(C225,$M$18:$P$34,4,FALSE)),E225*D225))))))","v":0},{"$f":"IF(Products!$Z$7=$J$4,Base!H221,IF(Products!$Z$7=$J$5,Base!#REF!,IF(OR(Products!$Z$7=$J$2,Products!$Z$7=$J$3),Base!AD224)))","v":"AL1241100H-EN"}]
[{"$f":"IF(Products!$Z$7=$J$4,Base!A222,IF(Products!$Z$7=$J$5,Base!#REF!,IF(OR(Products!$Z$7=$J$2,Products!$Z$7=$J$3),Base!Y225)))","v":"GravityZone Security for Exchange"},{"$f":"IF(Products!$Z$7=$J$4,Base!B222,IF(Products!$Z$7=$J$5,Base!#REF!,IF(OR(Products!$Z$7=$J$2,Products!$Z$7=$J$3),Base!Z225)))","v":"1 year"},{"$f":"IF(Products!$Z$7=$J$4,Base!C222,IF(Products!$Z$7=$J$5,Base!#REF!,IF(OR(Products!$Z$7=$J$2,Products!$Z$7=$J$3),Base!AA225)))","v":"1000 - 2999"},{"$f":"IFERROR(IF(Products!$Z$7=$J$3,VLOOKUP(CONCATENATE(A226,B226,C226),Base!$AB$13:$AC$64,2,FALSE),IF(Products!$Z$7=$J$2,VLOOKUP(CONCATENATE(A226,B226,C226),Base!$AB$13:$AE$64,4,FALSE),VLOOKUP(CONCATENATE(A226,B226,C226),Base!$D$9:$G$386,4,FALSE))),\"\")","v":11.03},{"$f":"Products!F226","v":0},{"$f":"IF(ISBLANK(Products!F226),0,IF(LEFT(Products!$Z$7,8)=\"Consumer\",D226*E226,IF(C226=\"500+\",IF(E226>=500,E226*D226),IF(C226=\"1000+\",IF(E226>=1000,E226*D226),IF(C226=\"3000+\",IF(E226>=3000,E226*D226),IF(AND(E226>=VLOOKUP(C226,$M$18:$P$34,3,FALSE),E226<=VLOOKUP(C226,$M$18:$P$34,4,FALSE)),E226*D226))))))","v":0},{"$f":"IF(Products!$Z$7=$J$4,Base!H222,IF(Products!$Z$7=$J$5,Base!#REF!,IF(OR(Products!$Z$7=$J$2,Products!$Z$7=$J$3),Base!AD225)))","v":"AL1241100I-EN"}]
[{"$f":"IF(Products!$Z$7=$J$4,Base!A223,IF(Products!$Z$7=$J$5,Base!#REF!,IF(OR(Products!$Z$7=$J$2,Products!$Z$7=$J$3),Base!Y226)))","v":"GravityZone Security for Exchange"},{"$f":"IF(Products!$Z$7=$J$4,Base!B223,IF(Products!$Z$7=$J$5,Base!#REF!,IF(OR(Products!$Z$7=$J$2,Products!$Z$7=$J$3),Base!Z226)))","v":"1 year"},{"$f":"IF(Products!$Z$7=$J$4,Base!C223,IF(Products!$Z$7=$J$5,Base!#REF!,IF(OR(Products!$Z$7=$J$2,Products!$Z$7=$J$3),Base!AA226)))","v":"3000+"},{"$f":"IFERROR(IF(Products!$Z$7=$J$3,VLOOKUP(CONCATENATE(A227,B227,C227),Base!$AB$13:$AC$64,2,FALSE),IF(Products!$Z$7=$J$2,VLOOKUP(CONCATENATE(A227,B227,C227),Base!$AB$13:$AE$64,4,FALSE),VLOOKUP(CONCATENATE(A227,B227,C227),Base!$D$9:$G$386,4,FALSE))),\"\")","v":9.9600000000000009},{"$f":"Products!F227","v":0},{"$f":"IF(ISBLANK(Products!F227),0,IF(LEFT(Products!$Z$7,8)=\"Consumer\",D227*E227,IF(C227=\"500+\",IF(E227>=500,E227*D227),IF(C227=\"1000+\",IF(E227>=1000,E227*D227),IF(C227=\"3000+\",IF(E227>=3000,E227*D227),IF(AND(E227>=VLOOKUP(C227,$M$18:$P$34,3,FALSE),E227<=VLOOKUP(C227,$M$18:$P$34,4,FALSE)),E227*D227))))))","v":0},{"$f":"IF(Products!$Z$7=$J$4,Base!H223,IF(Products!$Z$7=$J$5,Base!#REF!,IF(OR(Products!$Z$7=$J$2,Products!$Z$7=$J$3),Base!AD226)))","v":"AL1241100J-EN"}]
[{"$f":"IF(Products!$Z$7=$J$4,Base!A224,IF(Products!$Z$7=$J$5,Base!#REF!,IF(OR(Products!$Z$7=$J$2,Products!$Z$7=$J$3),Base!Y227)))","v":"GravityZone Security for Exchange"},{"$f":"IF(Products!$Z$7=$J$4,Base!B224,IF(Products!$Z$7=$J$5,Base!#REF!,IF(OR(Products!$Z$7=$J$2,Products!$Z$7=$J$3),Base!Z227)))","v":"2 years"},{"$f":"IF(Products!$Z$7=$J$4,Base!C224,IF(Products!$Z$7=$J$5,Base!#REF!,IF(OR(Products!$Z$7=$J$2,Products!$Z$7=$J$3),Base!AA227)))","v":"5 - 14"},{"$f":"IFERROR(IF(Products!$Z$7=$J$3,VLOOKUP(CONCATENATE(A228,B228,C228),Base!$AB$13:$AC$64,2,FALSE),IF(Products!$Z$7=$J$2,VLOOKUP(CONCATENATE(A228,B228,C228),Base!$AB$13:$AE$64,4,FALSE),VLOOKUP(CONCATENATE(A228,B228,C228),Base!$D$9:$G$386,4,FALSE))),\"\")","v":37.659999999999997},{"$f":"Products!F228","v":0},{"$f":"IF(ISBLANK(Products!F228),0,IF(LEFT(Products!$Z$7,8)=\"Consumer\",D228*E228,IF(C228=\"500+\",IF(E228>=500,E228*D228),IF(C228=\"1000+\",IF(E228>=1000,E228*D228),IF(C228=\"3000+\",IF(E228>=3000,E228*D228),IF(AND(E228>=VLOOKUP(C228,$M$18:$P$34,3,FALSE),E228<=VLOOKUP(C228,$M$18:$P$34,4,FALSE)),E228*D228))))))","v":0},{"$f":"IF(Products!$Z$7=$J$4,Base!H224,IF(Products!$Z$7=$J$5,Base!#REF!,IF(OR(Products!$Z$7=$J$2,Products!$Z$7=$J$3),Base!AD227)))","v":"AL1241200A-EN"}]
[{"$f":"IF(Products!$Z$7=$J$4,Base!A225,IF(Products!$Z$7=$J$5,Base!#REF!,IF(OR(Products!$Z$7=$J$2,Products!$Z$7=$J$3),Base!Y228)))","v":"GravityZone Security for Exchange"},{"$f":"IF(Products!$Z$7=$J$4,Base!B225,IF(Products!$Z$7=$J$5,Base!#REF!,IF(OR(Products!$Z$7=$J$2,Products!$Z$7=$J$3),Base!Z228)))","v":"2 years"},{"$f":"IF(Products!$Z$7=$J$4,Base!C225,IF(Products!$Z$7=$J$5,Base!#REF!,IF(OR(Products!$Z$7=$J$2,Products!$Z$7=$J$3),Base!AA228)))","v":"15 - 24"},{"$f":"IFERROR(IF(Products!$Z$7=$J$3,VLOOKUP(CONCATENATE(A229,B229,C229),Base!$AB$13:$AC$64,2,FALSE),IF(Products!$Z$7=$J$2,VLOOKUP(CONCATENATE(A229,B229,C229),Base!$AB$13:$AE$64,4,FALSE),VLOOKUP(CONCATENATE(A229,B229,C229),Base!$D$9:$G$386,4,FALSE))),\"\")","v":34.229999999999997},{"$f":"Products!F229","v":0},{"$f":"IF(ISBLANK(Products!F229),0,IF(LEFT(Products!$Z$7,8)=\"Consumer\",D229*E229,IF(C229=\"500+\",IF(E229>=500,E229*D229),IF(C229=\"1000+\",IF(E229>=1000,E229*D229),IF(C229=\"3000+\",IF(E229>=3000,E229*D229),IF(AND(E229>=VLOOKUP(C229,$M$18:$P$34,3,FALSE),E229<=VLOOKUP(C229,$M$18:$P$34,4,FALSE)),E229*D229))))))","v":0},{"$f":"IF(Products!$Z$7=$J$4,Base!H225,IF(Products!$Z$7=$J$5,Base!#REF!,IF(OR(Products!$Z$7=$J$2,Products!$Z$7=$J$3),Base!AD228)))","v":"AL1241200B-EN"}]
[{"$f":"IF(Products!$Z$7=$J$4,Base!A226,IF(Products!$Z$7=$J$5,Base!#REF!,IF(OR(Products!$Z$7=$J$2,Products!$Z$7=$J$3),Base!Y229)))","v":"GravityZone Security for Exchange"},{"$f":"IF(Products!$Z$7=$J$4,Base!B226,IF(Products!$Z$7=$J$5,Base!#REF!,IF(OR(Products!$Z$7=$J$2,Products!$Z$7=$J$3),Base!Z229)))","v":"2 years"},{"$f":"IF(Products!$Z$7=$J$4,Base!C226,IF(Products!$Z$7=$J$5,Base!#REF!,IF(OR(Products!$Z$7=$J$2,Products!$Z$7=$J$3),Base!AA229)))","v":"25 - 49"},{"$f":"IFERROR(IF(Products!$Z$7=$J$3,VLOOKUP(CONCATENATE(A230,B230,C230),Base!$AB$13:$AC$64,2,FALSE),IF(Products!$Z$7=$J$2,VLOOKUP(CONCATENATE(A230,B230,C230),Base!$AB$13:$AE$64,4,FALSE),VLOOKUP(CONCATENATE(A230,B230,C230),Base!$D$9:$G$386,4,FALSE))),\"\")","v":30.8},{"$f":"Products!F230","v":0},{"$f":"IF(ISBLANK(Products!F230),0,IF(LEFT(Products!$Z$7,8)=\"Consumer\",D230*E230,IF(C230=\"500+\",IF(E230>=500,E230*D230),IF(C230=\"1000+\",IF(E230>=1000,E230*D230),IF(C230=\"3000+\",IF(E230>=3000,E230*D230),IF(AND(E230>=VLOOKUP(C230,$M$18:$P$34,3,FALSE),E230<=VLOOKUP(C230,$M$18:$P$34,4,FALSE)),E230*D230))))))","v":0},{"$f":"IF(Products!$Z$7=$J$4,Base!H226,IF(Products!$Z$7=$J$5,Base!#REF!,IF(OR(Products!$Z$7=$J$2,Products!$Z$7=$J$3),Base!AD229)))","v":"AL1241200C-EN"}]
[{"$f":"IF(Products!$Z$7=$J$4,Base!A227,IF(Products!$Z$7=$J$5,Base!#REF!,IF(OR(Products!$Z$7=$J$2,Products!$Z$7=$J$3),Base!Y230)))","v":"GravityZone Security for Exchange"},{"$f":"IF(Products!$Z$7=$J$4,Base!B227,IF(Products!$Z$7=$J$5,Base!#REF!,IF(OR(Products!$Z$7=$J$2,Products!$Z$7=$J$3),Base!Z230)))","v":"2 years"},{"$f":"IF(Products!$Z$7=$J$4,Base!C227,IF(Products!$Z$7=$J$5,Base!#REF!,IF(OR(Products!$Z$7=$J$2,Products!$Z$7=$J$3),Base!AA230)))","v":"50 - 99"},{"$f":"IFERROR(IF(Products!$Z$7=$J$3,VLOOKUP(CONCATENATE(A231,B231,C231),Base!$AB$13:$AC$64,2,FALSE),IF(Products!$Z$7=$J$2,VLOOKUP(CONCATENATE(A231,B231,C231),Base!$AB$13:$AE$64,4,FALSE),VLOOKUP(CONCATENATE(A231,B231,C231),Base!$D$9:$G$386,4,FALSE))),\"\")","v":27.95},{"$f":"Products!F231","v":0},{"$f":"IF(ISBLANK(Products!F231),0,IF(LEFT(Products!$Z$7,8)=\"Consumer\",D231*E231,IF(C231=\"500+\",IF(E231>=500,E231*D231),IF(C231=\"1000+\",IF(E231>=1000,E231*D231),IF(C231=\"3000+\",IF(E231>=3000,E231*D231),IF(AND(E231>=VLOOKUP(C231,$M$18:$P$34,3,FALSE),E231<=VLOOKUP(C231,$M$18:$P$34,4,FALSE)),E231*D231))))))","v":0},{"$f":"IF(Products!$Z$7=$J$4,Base!H227,IF(Products!$Z$7=$J$5,Base!#REF!,IF(OR(Products!$Z$7=$J$2,Products!$Z$7=$J$3),Base!AD230)))","v":"AL1241200D-EN"}]
[{"$f":"IF(Products!$Z$7=$J$4,Base!A228,IF(Products!$Z$7=$J$5,Base!#REF!,IF(OR(Products!$Z$7=$J$2,Products!$Z$7=$J$3),Base!Y231)))","v":"GravityZone Security for Exchange"},{"$f":"IF(Products!$Z$7=$J$4,Base!B228,IF(Products!$Z$7=$J$5,Base!#REF!,IF(OR(Products!$Z$7=$J$2,Products!$Z$7=$J$3),Base!Z231)))","v":"2 years"},{"$f":"IF(Products!$Z$7=$J$4,Base!C228,IF(Products!$Z$7=$J$5,Base!#REF!,IF(OR(Products!$Z$7=$J$2,Products!$Z$7=$J$3),Base!AA231)))","v":"100 - 149"},{"$f":"IFERROR(IF(Products!$Z$7=$J$3,VLOOKUP(CONCATENATE(A232,B232,C232),Base!$AB$13:$AC$64,2,FALSE),IF(Products!$Z$7=$J$2,VLOOKUP(CONCATENATE(A232,B232,C232),Base!$AB$13:$AE$64,4,FALSE),VLOOKUP(CONCATENATE(A232,B232,C232),Base!$D$9:$G$386,4,FALSE))),\"\")","v":25.09},{"$f":"Products!F232","v":0},{"$f":"IF(ISBLANK(Products!F232),0,IF(LEFT(Products!$Z$7,8)=\"Consumer\",D232*E232,IF(C232=\"500+\",IF(E232>=500,E232*D232),IF(C232=\"1000+\",IF(E232>=1000,E232*D232),IF(C232=\"3000+\",IF(E232>=3000,E232*D232),IF(AND(E232>=VLOOKUP(C232,$M$18:$P$34,3,FALSE),E232<=VLOOKUP(C232,$M$18:$P$34,4,FALSE)),E232*D232))))))","v":0},{"$f":"IF(Products!$Z$7=$J$4,Base!H228,IF(Products!$Z$7=$J$5,Base!#REF!,IF(OR(Products!$Z$7=$J$2,Products!$Z$7=$J$3),Base!AD231)))","v":"AL1241200E-EN"}]
[{"$f":"IF(Products!$Z$7=$J$4,Base!A229,IF(Products!$Z$7=$J$5,Base!#REF!,IF(OR(Products!$Z$7=$J$2,Products!$Z$7=$J$3),Base!Y232)))","v":"GravityZone Security for Exchange"},{"$f":"IF(Products!$Z$7=$J$4,Base!B229,IF(Products!$Z$7=$J$5,Base!#REF!,IF(OR(Products!$Z$7=$J$2,Products!$Z$7=$J$3),Base!Z232)))","v":"2 years"},{"$f":"IF(Products!$Z$7=$J$4,Base!C229,IF(Products!$Z$7=$J$5,Base!#REF!,IF(OR(Products!$Z$7=$J$2,Products!$Z$7=$J$3),Base!AA232)))","v":"150 - 249"},{"$f":"IFERROR(IF(Products!$Z$7=$J$3,VLOOKUP(CONCATENATE(A233,B233,C233),Base!$AB$13:$AC$64,2,FALSE),IF(Products!$Z$7=$J$2,VLOOKUP(CONCATENATE(A233,B233,C233),Base!$AB$13:$AE$64,4,FALSE),VLOOKUP(CONCATENATE(A233,B233,C233),Base!$D$9:$G$386,4,FALSE))),\"\")","v":23.02},{"$f":"Products!F233","v":0},{"$f":"IF(ISBLANK(Products!F233),0,IF(LEFT(Products!$Z$7,8)=\"Consumer\",D233*E233,IF(C233=\"500+\",IF(E233>=500,E233*D233),IF(C233=\"1000+\",IF(E233>=1000,E233*D233),IF(C233=\"3000+\",IF(E233>=3000,E233*D233),IF(AND(E233>=VLOOKUP(C233,$M$18:$P$34,3,FALSE),E233<=VLOOKUP(C233,$M$18:$P$34,4,FALSE)),E233*D233))))))","v":0},{"$f":"IF(Products!$Z$7=$J$4,Base!H229,IF(Products!$Z$7=$J$5,Base!#REF!,IF(OR(Products!$Z$7=$J$2,Products!$Z$7=$J$3),Base!AD232)))","v":"AL1241200F-EN"}]
[{"$f":"IF(Products!$Z$7=$J$4,Base!A230,IF(Products!$Z$7=$J$5,Base!#REF!,IF(OR(Products!$Z$7=$J$2,Products!$Z$7=$J$3),Base!Y233)))","v":"GravityZone Security for Exchange"},{"$f":"IF(Products!$Z$7=$J$4,Base!B230,IF(Products!$Z$7=$J$5,Base!#REF!,IF(OR(Products!$Z$7=$J$2,Products!$Z$7=$J$3),Base!Z233)))","v":"2 years"},{"$f":"IF(Products!$Z$7=$J$4,Base!C230,IF(Products!$Z$7=$J$5,Base!#REF!,IF(OR(Products!$Z$7=$J$2,Products!$Z$7=$J$3),Base!AA233)))","v":"250 - 499"},{"$f":"IFERROR(IF(Products!$Z$7=$J$3,VLOOKUP(CONCATENATE(A234,B234,C234),Base!$AB$13:$AC$64,2,FALSE),IF(Products!$Z$7=$J$2,VLOOKUP(CONCATENATE(A234,B234,C234),Base!$AB$13:$AE$64,4,FALSE),VLOOKUP(CONCATENATE(A234,B234,C234),Base!$D$9:$G$386,4,FALSE))),\"\")","v":21.08},{"$f":"Products!F234","v":0},{"$f":"IF(ISBLANK(Products!F234),0,IF(LEFT(Products!$Z$7,8)=\"Consumer\",D234*E234,IF(C234=\"500+\",IF(E234>=500,E234*D234),IF(C234=\"1000+\",IF(E234>=1000,E234*D234),IF(C234=\"3000+\",IF(E234>=3000,E234*D234),IF(AND(E234>=VLOOKUP(C234,$M$18:$P$34,3,FALSE),E234<=VLOOKUP(C234,$M$18:$P$34,4,FALSE)),E234*D234))))))","v":0},{"$f":"IF(Products!$Z$7=$J$4,Base!H230,IF(Products!$Z$7=$J$5,Base!#REF!,IF(OR(Products!$Z$7=$J$2,Products!$Z$7=$J$3),Base!AD233)))","v":"AL1241200G-EN"}]
[{"$f":"IF(Products!$Z$7=$J$4,Base!A231,IF(Products!$Z$7=$J$5,Base!#REF!,IF(OR(Products!$Z$7=$J$2,Products!$Z$7=$J$3),Base!Y234)))","v":"GravityZone Security for Exchange"},{"$f":"IF(Products!$Z$7=$J$4,Base!B231,IF(Products!$Z$7=$J$5,Base!#REF!,IF(OR(Products!$Z$7=$J$2,Products!$Z$7=$J$3),Base!Z234)))","v":"2 years"},{"$f":"IF(Products!$Z$7=$J$4,Base!C231,IF(Products!$Z$7=$J$5,Base!#REF!,IF(OR(Products!$Z$7=$J$2,Products!$Z$7=$J$3),Base!AA234)))","v":"500 - 999"},{"$f":"IFERROR(IF(Products!$Z$7=$J$3,VLOOKUP(CONCATENATE(A235,B235,C235),Base!$AB$13:$AC$64,2,FALSE),IF(Products!$Z$7=$J$2,VLOOKUP(CONCATENATE(A235,B235,C235),Base!$AB$13:$AE$64,4,FALSE),VLOOKUP(CONCATENATE(A235,B235,C235),Base!$D$9:$G$386,4,FALSE))),\"\")","v":19.37},{"$f":"Products!F235","v":0},{"$f":"IF(ISBLANK(Products!F235),0,IF(LEFT(Products!$Z$7,8)=\"Consumer\",D235*E235,IF(C235=\"500+\",IF(E235>=500,E235*D235),IF(C235=\"1000+\",IF(E235>=1000,E235*D235),IF(C235=\"3000+\",IF(E235>=3000,E235*D235),IF(AND(E235>=VLOOKUP(C235,$M$18:$P$34,3,FALSE),E235<=VLOOKUP(C235,$M$18:$P$34,4,FALSE)),E235*D235))))))","v":0},{"$f":"IF(Products!$Z$7=$J$4,Base!H231,IF(Products!$Z$7=$J$5,Base!#REF!,IF(OR(Products!$Z$7=$J$2,Products!$Z$7=$J$3),Base!AD234)))","v":"AL1241200H-EN"}]
[{"$f":"IF(Products!$Z$7=$J$4,Base!A232,IF(Products!$Z$7=$J$5,Base!#REF!,IF(OR(Products!$Z$7=$J$2,Products!$Z$7=$J$3),Base!Y235)))","v":"GravityZone Security for Exchange"},{"$f":"IF(Products!$Z$7=$J$4,Base!B232,IF(Products!$Z$7=$J$5,Base!#REF!,IF(OR(Products!$Z$7=$J$2,Products!$Z$7=$J$3),Base!Z235)))","v":"2 years"},{"$f":"IF(Products!$Z$7=$J$4,Base!C232,IF(Products!$Z$7=$J$5,Base!#REF!,IF(OR(Products!$Z$7=$J$2,Products!$Z$7=$J$3),Base!AA235)))","v":"1000 - 2999"},{"$f":"IFERROR(IF(Products!$Z$7=$J$3,VLOOKUP(CONCATENATE(A236,B236,C236),Base!$AB$13:$AC$64,2,FALSE),IF(Products!$Z$7=$J$2,VLOOKUP(CONCATENATE(A236,B236,C236),Base!$AB$13:$AE$64,4,FALSE),VLOOKUP(CONCATENATE(A236,B236,C236),Base!$D$9:$G$386,4,FALSE))),\"\")","v":17.649999999999999},{"$f":"Products!F236","v":0},{"$f":"IF(ISBLANK(Products!F236),0,IF(LEFT(Products!$Z$7,8)=\"Consumer\",D236*E236,IF(C236=\"500+\",IF(E236>=500,E236*D236),IF(C236=\"1000+\",IF(E236>=1000,E236*D236),IF(C236=\"3000+\",IF(E236>=3000,E236*D236),IF(AND(E236>=VLOOKUP(C236,$M$18:$P$34,3,FALSE),E236<=VLOOKUP(C236,$M$18:$P$34,4,FALSE)),E236*D236))))))","v":0},{"$f":"IF(Products!$Z$7=$J$4,Base!H232,IF(Products!$Z$7=$J$5,Base!#REF!,IF(OR(Products!$Z$7=$J$2,Products!$Z$7=$J$3),Base!AD235)))","v":"AL1241200I-EN"}]
[{"$f":"IF(Products!$Z$7=$J$4,Base!A233,IF(Products!$Z$7=$J$5,Base!#REF!,IF(OR(Products!$Z$7=$J$2,Products!$Z$7=$J$3),Base!Y236)))","v":"GravityZone Security for Exchange"},{"$f":"IF(Products!$Z$7=$J$4,Base!B233,IF(Products!$Z$7=$J$5,Base!#REF!,IF(OR(Products!$Z$7=$J$2,Products!$Z$7=$J$3),Base!Z236)))","v":"2 years"},{"$f":"IF(Products!$Z$7=$J$4,Base!C233,IF(Products!$Z$7=$J$5,Base!#REF!,IF(OR(Products!$Z$7=$J$2,Products!$Z$7=$J$3),Base!AA236)))","v":"3000+"},{"$f":"IFERROR(IF(Products!$Z$7=$J$3,VLOOKUP(CONCATENATE(A237,B237,C237),Base!$AB$13:$AC$64,2,FALSE),IF(Products!$Z$7=$J$2,VLOOKUP(CONCATENATE(A237,B237,C237),Base!$AB$13:$AE$64,4,FALSE),VLOOKUP(CONCATENATE(A237,B237,C237),Base!$D$9:$G$386,4,FALSE))),\"\")","v":15.94},{"$f":"Products!F237","v":0},{"$f":"IF(ISBLANK(Products!F237),0,IF(LEFT(Products!$Z$7,8)=\"Consumer\",D237*E237,IF(C237=\"500+\",IF(E237>=500,E237*D237),IF(C237=\"1000+\",IF(E237>=1000,E237*D237),IF(C237=\"3000+\",IF(E237>=3000,E237*D237),IF(AND(E237>=VLOOKUP(C237,$M$18:$P$34,3,FALSE),E237<=VLOOKUP(C237,$M$18:$P$34,4,FALSE)),E237*D237))))))","v":0},{"$f":"IF(Products!$Z$7=$J$4,Base!H233,IF(Products!$Z$7=$J$5,Base!#REF!,IF(OR(Products!$Z$7=$J$2,Products!$Z$7=$J$3),Base!AD236)))","v":"AL1241200J-EN"}]
[{"$f":"IF(Products!$Z$7=$J$4,Base!A234,IF(Products!$Z$7=$J$5,Base!#REF!,IF(OR(Products!$Z$7=$J$2,Products!$Z$7=$J$3),Base!Y237)))","v":"GravityZone Security for Exchange"},{"$f":"IF(Products!$Z$7=$J$4,Base!B234,IF(Products!$Z$7=$J$5,Base!#REF!,IF(OR(Products!$Z$7=$J$2,Products!$Z$7=$J$3),Base!Z237)))","v":"3 years"},{"$f":"IF(Products!$Z$7=$J$4,Base!C234,IF(Products!$Z$7=$J$5,Base!#REF!,IF(OR(Products!$Z$7=$J$2,Products!$Z$7=$J$3),Base!AA237)))","v":"5 - 14"},{"$f":"IFERROR(IF(Products!$Z$7=$J$3,VLOOKUP(CONCATENATE(A238,B238,C238),Base!$AB$13:$AC$64,2,FALSE),IF(Products!$Z$7=$J$2,VLOOKUP(CONCATENATE(A238,B238,C238),Base!$AB$13:$AE$64,4,FALSE),VLOOKUP(CONCATENATE(A238,B238,C238),Base!$D$9:$G$386,4,FALSE))),\"\")","v":48.25},{"$f":"Products!F238","v":0},{"$f":"IF(ISBLANK(Products!F238),0,IF(LEFT(Products!$Z$7,8)=\"Consumer\",D238*E238,IF(C238=\"500+\",IF(E238>=500,E238*D238),IF(C238=\"1000+\",IF(E238>=1000,E238*D238),IF(C238=\"3000+\",IF(E238>=3000,E238*D238),IF(AND(E238>=VLOOKUP(C238,$M$18:$P$34,3,FALSE),E238<=VLOOKUP(C238,$M$18:$P$34,4,FALSE)),E238*D238))))))","v":0},{"$f":"IF(Products!$Z$7=$J$4,Base!H234,IF(Products!$Z$7=$J$5,Base!#REF!,IF(OR(Products!$Z$7=$J$2,Products!$Z$7=$J$3),Base!AD237)))","v":"AL1241300A-EN"}]
[{"$f":"IF(Products!$Z$7=$J$4,Base!A235,IF(Products!$Z$7=$J$5,Base!#REF!,IF(OR(Products!$Z$7=$J$2,Products!$Z$7=$J$3),Base!Y238)))","v":"GravityZone Security for Exchange"},{"$f":"IF(Products!$Z$7=$J$4,Base!B235,IF(Products!$Z$7=$J$5,Base!#REF!,IF(OR(Products!$Z$7=$J$2,Products!$Z$7=$J$3),Base!Z238)))","v":"3 years"},{"$f":"IF(Products!$Z$7=$J$4,Base!C235,IF(Products!$Z$7=$J$5,Base!#REF!,IF(OR(Products!$Z$7=$J$2,Products!$Z$7=$J$3),Base!AA238)))","v":"15 - 24"},{"$f":"IFERROR(IF(Products!$Z$7=$J$3,VLOOKUP(CONCATENATE(A239,B239,C239),Base!$AB$13:$AC$64,2,FALSE),IF(Products!$Z$7=$J$2,VLOOKUP(CONCATENATE(A239,B239,C239),Base!$AB$13:$AE$64,4,FALSE),VLOOKUP(CONCATENATE(A239,B239,C239),Base!$D$9:$G$386,4,FALSE))),\"\")","v":43.86},{"$f":"Products!F239","v":0},{"$f":"IF(ISBLANK(Products!F239),0,IF(LEFT(Products!$Z$7,8)=\"Consumer\",D239*E239,IF(C239=\"500+\",IF(E239>=500,E239*D239),IF(C239=\"1000+\",IF(E239>=1000,E239*D239),IF(C239=\"3000+\",IF(E239>=3000,E239*D239),IF(AND(E239>=VLOOKUP(C239,$M$18:$P$34,3,FALSE),E239<=VLOOKUP(C239,$M$18:$P$34,4,FALSE)),E239*D239))))))","v":0},{"$f":"IF(Products!$Z$7=$J$4,Base!H235,IF(Products!$Z$7=$J$5,Base!#REF!,IF(OR(Products!$Z$7=$J$2,Products!$Z$7=$J$3),Base!AD238)))","v":"AL1241300B-EN"}]
[{"$f":"IF(Products!$Z$7=$J$4,Base!A236,IF(Products!$Z$7=$J$5,Base!#REF!,IF(OR(Products!$Z$7=$J$2,Products!$Z$7=$J$3),Base!Y239)))","v":"GravityZone Security for Exchange"},{"$f":"IF(Products!$Z$7=$J$4,Base!B236,IF(Products!$Z$7=$J$5,Base!#REF!,IF(OR(Products!$Z$7=$J$2,Products!$Z$7=$J$3),Base!Z239)))","v":"3 years"},{"$f":"IF(Products!$Z$7=$J$4,Base!C236,IF(Products!$Z$7=$J$5,Base!#REF!,IF(OR(Products!$Z$7=$J$2,Products!$Z$7=$J$3),Base!AA239)))","v":"25 - 49"},{"$f":"IFERROR(IF(Products!$Z$7=$J$3,VLOOKUP(CONCATENATE(A240,B240,C240),Base!$AB$13:$AC$64,2,FALSE),IF(Products!$Z$7=$J$2,VLOOKUP(CONCATENATE(A240,B240,C240),Base!$AB$13:$AE$64,4,FALSE),VLOOKUP(CONCATENATE(A240,B240,C240),Base!$D$9:$G$386,4,FALSE))),\"\")","v":39.47},{"$f":"Products!F240","v":0},{"$f":"IF(ISBLANK(Products!F240),0,IF(LEFT(Products!$Z$7,8)=\"Consumer\",D240*E240,IF(C240=\"500+\",IF(E240>=500,E240*D240),IF(C240=\"1000+\",IF(E240>=1000,E240*D240),IF(C240=\"3000+\",IF(E240>=3000,E240*D240),IF(AND(E240>=VLOOKUP(C240,$M$18:$P$34,3,FALSE),E240<=VLOOKUP(C240,$M$18:$P$34,4,FALSE)),E240*D240))))))","v":0},{"$f":"IF(Products!$Z$7=$J$4,Base!H236,IF(Products!$Z$7=$J$5,Base!#REF!,IF(OR(Products!$Z$7=$J$2,Products!$Z$7=$J$3),Base!AD239)))","v":"AL1241300C-EN"}]
[{"$f":"IF(Products!$Z$7=$J$4,Base!A237,IF(Products!$Z$7=$J$5,Base!#REF!,IF(OR(Products!$Z$7=$J$2,Products!$Z$7=$J$3),Base!Y240)))","v":"GravityZone Security for Exchange"},{"$f":"IF(Products!$Z$7=$J$4,Base!B237,IF(Products!$Z$7=$J$5,Base!#REF!,IF(OR(Products!$Z$7=$J$2,Products!$Z$7=$J$3),Base!Z240)))","v":"3 years"},{"$f":"IF(Products!$Z$7=$J$4,Base!C237,IF(Products!$Z$7=$J$5,Base!#REF!,IF(OR(Products!$Z$7=$J$2,Products!$Z$7=$J$3),Base!AA240)))","v":"50 - 99"},{"$f":"IFERROR(IF(Products!$Z$7=$J$3,VLOOKUP(CONCATENATE(A241,B241,C241),Base!$AB$13:$AC$64,2,FALSE),IF(Products!$Z$7=$J$2,VLOOKUP(CONCATENATE(A241,B241,C241),Base!$AB$13:$AE$64,4,FALSE),VLOOKUP(CONCATENATE(A241,B241,C241),Base!$D$9:$G$386,4,FALSE))),\"\")","v":35.81},{"$f":"Products!F241","v":0},{"$f":"IF(ISBLANK(Products!F241),0,IF(LEFT(Products!$Z$7,8)=\"Consumer\",D241*E241,IF(C241=\"500+\",IF(E241>=500,E241*D241),IF(C241=\"1000+\",IF(E241>=1000,E241*D241),IF(C241=\"3000+\",IF(E241>=3000,E241*D241),IF(AND(E241>=VLOOKUP(C241,$M$18:$P$34,3,FALSE),E241<=VLOOKUP(C241,$M$18:$P$34,4,FALSE)),E241*D241))))))","v":0},{"$f":"IF(Products!$Z$7=$J$4,Base!H237,IF(Products!$Z$7=$J$5,Base!#REF!,IF(OR(Products!$Z$7=$J$2,Products!$Z$7=$J$3),Base!AD240)))","v":"AL1241300D-EN"}]
[{"$f":"IF(Products!$Z$7=$J$4,Base!A238,IF(Products!$Z$7=$J$5,Base!#REF!,IF(OR(Products!$Z$7=$J$2,Products!$Z$7=$J$3),Base!Y241)))","v":"GravityZone Security for Exchange"},{"$f":"IF(Products!$Z$7=$J$4,Base!B238,IF(Products!$Z$7=$J$5,Base!#REF!,IF(OR(Products!$Z$7=$J$2,Products!$Z$7=$J$3),Base!Z241)))","v":"3 years"},{"$f":"IF(Products!$Z$7=$J$4,Base!C238,IF(Products!$Z$7=$J$5,Base!#REF!,IF(OR(Products!$Z$7=$J$2,Products!$Z$7=$J$3),Base!AA241)))","v":"100 - 149"},{"$f":"IFERROR(IF(Products!$Z$7=$J$3,VLOOKUP(CONCATENATE(A242,B242,C242),Base!$AB$13:$AC$64,2,FALSE),IF(Products!$Z$7=$J$2,VLOOKUP(CONCATENATE(A242,B242,C242),Base!$AB$13:$AE$64,4,FALSE),VLOOKUP(CONCATENATE(A242,B242,C242),Base!$D$9:$G$386,4,FALSE))),\"\")","v":32.15},{"$f":"Products!F242","v":0},{"$f":"IF(ISBLANK(Products!F242),0,IF(LEFT(Products!$Z$7,8)=\"Consumer\",D242*E242,IF(C242=\"500+\",IF(E242>=500,E242*D242),IF(C242=\"1000+\",IF(E242>=1000,E242*D242),IF(C242=\"3000+\",IF(E242>=3000,E242*D242),IF(AND(E242>=VLOOKUP(C242,$M$18:$P$34,3,FALSE),E242<=VLOOKUP(C242,$M$18:$P$34,4,FALSE)),E242*D242))))))","v":0},{"$f":"IF(Products!$Z$7=$J$4,Base!H238,IF(Products!$Z$7=$J$5,Base!#REF!,IF(OR(Products!$Z$7=$J$2,Products!$Z$7=$J$3),Base!AD241)))","v":"AL1241300E-EN"}]
[{"$f":"IF(Products!$Z$7=$J$4,Base!A239,IF(Products!$Z$7=$J$5,Base!#REF!,IF(OR(Products!$Z$7=$J$2,Products!$Z$7=$J$3),Base!Y242)))","v":"GravityZone Security for Exchange"},{"$f":"IF(Products!$Z$7=$J$4,Base!B239,IF(Products!$Z$7=$J$5,Base!#REF!,IF(OR(Products!$Z$7=$J$2,Products!$Z$7=$J$3),Base!Z242)))","v":"3 years"},{"$f":"IF(Products!$Z$7=$J$4,Base!C239,IF(Products!$Z$7=$J$5,Base!#REF!,IF(OR(Products!$Z$7=$J$2,Products!$Z$7=$J$3),Base!AA242)))","v":"150 - 249"},{"$f":"IFERROR(IF(Products!$Z$7=$J$3,VLOOKUP(CONCATENATE(A243,B243,C243),Base!$AB$13:$AC$64,2,FALSE),IF(Products!$Z$7=$J$2,VLOOKUP(CONCATENATE(A243,B243,C243),Base!$AB$13:$AE$64,4,FALSE),VLOOKUP(CONCATENATE(A243,B243,C243),Base!$D$9:$G$386,4,FALSE))),\"\")","v":29.5},{"$f":"Products!F243","v":0},{"$f":"IF(ISBLANK(Products!F243),0,IF(LEFT(Products!$Z$7,8)=\"Consumer\",D243*E243,IF(C243=\"500+\",IF(E243>=500,E243*D243),IF(C243=\"1000+\",IF(E243>=1000,E243*D243),IF(C243=\"3000+\",IF(E243>=3000,E243*D243),IF(AND(E243>=VLOOKUP(C243,$M$18:$P$34,3,FALSE),E243<=VLOOKUP(C243,$M$18:$P$34,4,FALSE)),E243*D243))))))","v":0},{"$f":"IF(Products!$Z$7=$J$4,Base!H239,IF(Products!$Z$7=$J$5,Base!#REF!,IF(OR(Products!$Z$7=$J$2,Products!$Z$7=$J$3),Base!AD242)))","v":"AL1241300F-EN"}]
[{"$f":"IF(Products!$Z$7=$J$4,Base!A240,IF(Products!$Z$7=$J$5,Base!#REF!,IF(OR(Products!$Z$7=$J$2,Products!$Z$7=$J$3),Base!Y243)))","v":"GravityZone Security for Exchange"},{"$f":"IF(Products!$Z$7=$J$4,Base!B240,IF(Products!$Z$7=$J$5,Base!#REF!,IF(OR(Products!$Z$7=$J$2,Products!$Z$7=$J$3),Base!Z243)))","v":"3 years"},{"$f":"IF(Products!$Z$7=$J$4,Base!C240,IF(Products!$Z$7=$J$5,Base!#REF!,IF(OR(Products!$Z$7=$J$2,Products!$Z$7=$J$3),Base!AA243)))","v":"250 - 499"},{"$f":"IFERROR(IF(Products!$Z$7=$J$3,VLOOKUP(CONCATENATE(A244,B244,C244),Base!$AB$13:$AC$64,2,FALSE),IF(Products!$Z$7=$J$2,VLOOKUP(CONCATENATE(A244,B244,C244),Base!$AB$13:$AE$64,4,FALSE),VLOOKUP(CONCATENATE(A244,B244,C244),Base!$D$9:$G$386,4,FALSE))),\"\")","v":27.01},{"$f":"Products!F244","v":0},{"$f":"IF(ISBLANK(Products!F244),0,IF(LEFT(Products!$Z$7,8)=\"Consumer\",D244*E244,IF(C244=\"500+\",IF(E244>=500,E244*D244),IF(C244=\"1000+\",IF(E244>=1000,E244*D244),IF(C244=\"3000+\",IF(E244>=3000,E244*D244),IF(AND(E244>=VLOOKUP(C244,$M$18:$P$34,3,FALSE),E244<=VLOOKUP(C244,$M$18:$P$34,4,FALSE)),E244*D244))))))","v":0},{"$f":"IF(Products!$Z$7=$J$4,Base!H240,IF(Products!$Z$7=$J$5,Base!#REF!,IF(OR(Products!$Z$7=$J$2,Products!$Z$7=$J$3),Base!AD243)))","v":"AL1241300G-EN"}]
[{"$f":"IF(Products!$Z$7=$J$4,Base!A241,IF(Products!$Z$7=$J$5,Base!#REF!,IF(OR(Products!$Z$7=$J$2,Products!$Z$7=$J$3),Base!Y244)))","v":"GravityZone Security for Exchange"},{"$f":"IF(Products!$Z$7=$J$4,Base!B241,IF(Products!$Z$7=$J$5,Base!#REF!,IF(OR(Products!$Z$7=$J$2,Products!$Z$7=$J$3),Base!Z244)))","v":"3 years"},{"$f":"IF(Products!$Z$7=$J$4,Base!C241,IF(Products!$Z$7=$J$5,Base!#REF!,IF(OR(Products!$Z$7=$J$2,Products!$Z$7=$J$3),Base!AA244)))","v":"500 - 999"},{"$f":"IFERROR(IF(Products!$Z$7=$J$3,VLOOKUP(CONCATENATE(A245,B245,C245),Base!$AB$13:$AC$64,2,FALSE),IF(Products!$Z$7=$J$2,VLOOKUP(CONCATENATE(A245,B245,C245),Base!$AB$13:$AE$64,4,FALSE),VLOOKUP(CONCATENATE(A245,B245,C245),Base!$D$9:$G$386,4,FALSE))),\"\")","v":24.82},{"$f":"Products!F245","v":0},{"$f":"IF(ISBLANK(Products!F245),0,IF(LEFT(Products!$Z$7,8)=\"Consumer\",D245*E245,IF(C245=\"500+\",IF(E245>=500,E245*D245),IF(C245=\"1000+\",IF(E245>=1000,E245*D245),IF(C245=\"3000+\",IF(E245>=3000,E245*D245),IF(AND(E245>=VLOOKUP(C245,$M$18:$P$34,3,FALSE),E245<=VLOOKUP(C245,$M$18:$P$34,4,FALSE)),E245*D245))))))","v":0},{"$f":"IF(Products!$Z$7=$J$4,Base!H241,IF(Products!$Z$7=$J$5,Base!#REF!,IF(OR(Products!$Z$7=$J$2,Products!$Z$7=$J$3),Base!AD244)))","v":"AL1241300H-EN"}]
[{"$f":"IF(Products!$Z$7=$J$4,Base!A242,IF(Products!$Z$7=$J$5,Base!#REF!,IF(OR(Products!$Z$7=$J$2,Products!$Z$7=$J$3),Base!Y245)))","v":"GravityZone Security for Exchange"},{"$f":"IF(Products!$Z$7=$J$4,Base!B242,IF(Products!$Z$7=$J$5,Base!#REF!,IF(OR(Products!$Z$7=$J$2,Products!$Z$7=$J$3),Base!Z245)))","v":"3 years"},{"$f":"IF(Products!$Z$7=$J$4,Base!C242,IF(Products!$Z$7=$J$5,Base!#REF!,IF(OR(Products!$Z$7=$J$2,Products!$Z$7=$J$3),Base!AA245)))","v":"1000 - 2999"},{"$f":"IFERROR(IF(Products!$Z$7=$J$3,VLOOKUP(CONCATENATE(A246,B246,C246),Base!$AB$13:$AC$64,2,FALSE),IF(Products!$Z$7=$J$2,VLOOKUP(CONCATENATE(A246,B246,C246),Base!$AB$13:$AE$64,4,FALSE),VLOOKUP(CONCATENATE(A246,B246,C246),Base!$D$9:$G$386,4,FALSE))),\"\")","v":22.62},{"$f":"Products!F246","v":0},{"$f":"IF(ISBLANK(Products!F246),0,IF(LEFT(Products!$Z$7,8)=\"Consumer\",D246*E246,IF(C246=\"500+\",IF(E246>=500,E246*D246),IF(C246=\"1000+\",IF(E246>=1000,E246*D246),IF(C246=\"3000+\",IF(E246>=3000,E246*D246),IF(AND(E246>=VLOOKUP(C246,$M$18:$P$34,3,FALSE),E246<=VLOOKUP(C246,$M$18:$P$34,4,FALSE)),E246*D246))))))","v":0},{"$f":"IF(Products!$Z$7=$J$4,Base!H242,IF(Products!$Z$7=$J$5,Base!#REF!,IF(OR(Products!$Z$7=$J$2,Products!$Z$7=$J$3),Base!AD245)))","v":"AL1241300I-EN"}]
[{"$f":"IF(Products!$Z$7=$J$4,Base!A243,IF(Products!$Z$7=$J$5,Base!#REF!,IF(OR(Products!$Z$7=$J$2,Products!$Z$7=$J$3),Base!Y246)))","v":"GravityZone Security for Exchange"},{"$f":"IF(Products!$Z$7=$J$4,Base!B243,IF(Products!$Z$7=$J$5,Base!#REF!,IF(OR(Products!$Z$7=$J$2,Products!$Z$7=$J$3),Base!Z246)))","v":"3 years"},{"$f":"IF(Products!$Z$7=$J$4,Base!C243,IF(Products!$Z$7=$J$5,Base!#REF!,IF(OR(Products!$Z$7=$J$2,Products!$Z$7=$J$3),Base!AA246)))","v":"3000+"},{"$f":"IFERROR(IF(Products!$Z$7=$J$3,VLOOKUP(CONCATENATE(A247,B247,C247),Base!$AB$13:$AC$64,2,FALSE),IF(Products!$Z$7=$J$2,VLOOKUP(CONCATENATE(A247,B247,C247),Base!$AB$13:$AE$64,4,FALSE),VLOOKUP(CONCATENATE(A247,B247,C247),Base!$D$9:$G$386,4,FALSE))),\"\")","v":20.420000000000002},{"$f":"Products!F247","v":0},{"$f":"IF(ISBLANK(Products!F247),0,IF(LEFT(Products!$Z$7,8)=\"Consumer\",D247*E247,IF(C247=\"500+\",IF(E247>=500,E247*D247),IF(C247=\"1000+\",IF(E247>=1000,E247*D247),IF(C247=\"3000+\",IF(E247>=3000,E247*D247),IF(AND(E247>=VLOOKUP(C247,$M$18:$P$34,3,FALSE),E247<=VLOOKUP(C247,$M$18:$P$34,4,FALSE)),E247*D247))))))","v":0},{"$f":"IF(Products!$Z$7=$J$4,Base!H243,IF(Products!$Z$7=$J$5,Base!#REF!,IF(OR(Products!$Z$7=$J$2,Products!$Z$7=$J$3),Base!AD246)))","v":"AL1241300J-EN"}]
[{"$f":"IF(Products!$Z$7=$J$4,Base!A244,IF(Products!$Z$7=$J$5,Base!#REF!,IF(OR(Products!$Z$7=$J$2,Products!$Z$7=$J$3),Base!Y247)))","v":"GravityZone Security for Mobile"},{"$f":"IF(Products!$Z$7=$J$4,Base!B244,IF(Products!$Z$7=$J$5,Base!#REF!,IF(OR(Products!$Z$7=$J$2,Products!$Z$7=$J$3),Base!Z247)))","v":"1 year"},{"$f":"IF(Products!$Z$7=$J$4,Base!C244,IF(Products!$Z$7=$J$5,Base!#REF!,IF(OR(Products!$Z$7=$J$2,Products!$Z$7=$J$3),Base!AA247)))","v":"5 - 14"},{"$f":"IFERROR(IF(Products!$Z$7=$J$3,VLOOKUP(CONCATENATE(A248,B248,C248),Base!$AB$13:$AC$64,2,FALSE),IF(Products!$Z$7=$J$2,VLOOKUP(CONCATENATE(A248,B248,C248),Base!$AB$13:$AE$64,4,FALSE),VLOOKUP(CONCATENATE(A248,B248,C248),Base!$D$9:$G$386,4,FALSE))),\"\")","v":16.649999999999999},{"$f":"Products!F248","v":0},{"$f":"IF(ISBLANK(Products!F248),0,IF(LEFT(Products!$Z$7,8)=\"Consumer\",D248*E248,IF(C248=\"500+\",IF(E248>=500,E248*D248),IF(C248=\"1000+\",IF(E248>=1000,E248*D248),IF(C248=\"3000+\",IF(E248>=3000,E248*D248),IF(AND(E248>=VLOOKUP(C248,$M$18:$P$34,3,FALSE),E248<=VLOOKUP(C248,$M$18:$P$34,4,FALSE)),E248*D248))))))","v":0},{"$f":"IF(Products!$Z$7=$J$4,Base!H244,IF(Products!$Z$7=$J$5,Base!#REF!,IF(OR(Products!$Z$7=$J$2,Products!$Z$7=$J$3),Base!AD247)))","v":"BL1213100A-EN"}]
[{"$f":"IF(Products!$Z$7=$J$4,Base!A245,IF(Products!$Z$7=$J$5,Base!#REF!,IF(OR(Products!$Z$7=$J$2,Products!$Z$7=$J$3),Base!Y248)))","v":"GravityZone Security for Mobile"},{"$f":"IF(Products!$Z$7=$J$4,Base!B245,IF(Products!$Z$7=$J$5,Base!#REF!,IF(OR(Products!$Z$7=$J$2,Products!$Z$7=$J$3),Base!Z248)))","v":"1 year"},{"$f":"IF(Products!$Z$7=$J$4,Base!C245,IF(Products!$Z$7=$J$5,Base!#REF!,IF(OR(Products!$Z$7=$J$2,Products!$Z$7=$J$3),Base!AA248)))","v":"15 - 24"},{"$f":"IFERROR(IF(Products!$Z$7=$J$3,VLOOKUP(CONCATENATE(A249,B249,C249),Base!$AB$13:$AC$64,2,FALSE),IF(Products!$Z$7=$J$2,VLOOKUP(CONCATENATE(A249,B249,C249),Base!$AB$13:$AE$64,4,FALSE),VLOOKUP(CONCATENATE(A249,B249,C249),Base!$D$9:$G$386,4,FALSE))),\"\")","v":15.33},{"$f":"Products!F249","v":0},{"$f":"IF(ISBLANK(Products!F249),0,IF(LEFT(Products!$Z$7,8)=\"Consumer\",D249*E249,IF(C249=\"500+\",IF(E249>=500,E249*D249),IF(C249=\"1000+\",IF(E249>=1000,E249*D249),IF(C249=\"3000+\",IF(E249>=3000,E249*D249),IF(AND(E249>=VLOOKUP(C249,$M$18:$P$34,3,FALSE),E249<=VLOOKUP(C249,$M$18:$P$34,4,FALSE)),E249*D249))))))","v":0},{"$f":"IF(Products!$Z$7=$J$4,Base!H245,IF(Products!$Z$7=$J$5,Base!#REF!,IF(OR(Products!$Z$7=$J$2,Products!$Z$7=$J$3),Base!AD248)))","v":"BL1213100B-EN"}]
[{"$f":"IF(Products!$Z$7=$J$4,Base!A246,IF(Products!$Z$7=$J$5,Base!#REF!,IF(OR(Products!$Z$7=$J$2,Products!$Z$7=$J$3),Base!Y249)))","v":"GravityZone Security for Mobile"},{"$f":"IF(Products!$Z$7=$J$4,Base!B246,IF(Products!$Z$7=$J$5,Base!#REF!,IF(OR(Products!$Z$7=$J$2,Products!$Z$7=$J$3),Base!Z249)))","v":"1 year"},{"$f":"IF(Products!$Z$7=$J$4,Base!C246,IF(Products!$Z$7=$J$5,Base!#REF!,IF(OR(Products!$Z$7=$J$2,Products!$Z$7=$J$3),Base!AA249)))","v":"25 - 49"},{"$f":"IFERROR(IF(Products!$Z$7=$J$3,VLOOKUP(CONCATENATE(A250,B250,C250),Base!$AB$13:$AC$64,2,FALSE),IF(Products!$Z$7=$J$2,VLOOKUP(CONCATENATE(A250,B250,C250),Base!$AB$13:$AE$64,4,FALSE),VLOOKUP(CONCATENATE(A250,B250,C250),Base!$D$9:$G$386,4,FALSE))),\"\")","v":14.2},{"$f":"Products!F250","v":0},{"$f":"IF(ISBLANK(Products!F250),0,IF(LEFT(Products!$Z$7,8)=\"Consumer\",D250*E250,IF(C250=\"500+\",IF(E250>=500,E250*D250),IF(C250=\"1000+\",IF(E250>=1000,E250*D250),IF(C250=\"3000+\",IF(E250>=3000,E250*D250),IF(AND(E250>=VLOOKUP(C250,$M$18:$P$34,3,FALSE),E250<=VLOOKUP(C250,$M$18:$P$34,4,FALSE)),E250*D250))))))","v":0},{"$f":"IF(Products!$Z$7=$J$4,Base!H246,IF(Products!$Z$7=$J$5,Base!#REF!,IF(OR(Products!$Z$7=$J$2,Products!$Z$7=$J$3),Base!AD249)))","v":"BL1213100C-EN"}]
[{"$f":"IF(Products!$Z$7=$J$4,Base!A247,IF(Products!$Z$7=$J$5,Base!#REF!,IF(OR(Products!$Z$7=$J$2,Products!$Z$7=$J$3),Base!Y250)))","v":"GravityZone Security for Mobile"},{"$f":"IF(Products!$Z$7=$J$4,Base!B247,IF(Products!$Z$7=$J$5,Base!#REF!,IF(OR(Products!$Z$7=$J$2,Products!$Z$7=$J$3),Base!Z250)))","v":"1 year"},{"$f":"IF(Products!$Z$7=$J$4,Base!C247,IF(Products!$Z$7=$J$5,Base!#REF!,IF(OR(Products!$Z$7=$J$2,Products!$Z$7=$J$3),Base!AA250)))","v":"50 - 99"},{"$f":"IFERROR(IF(Products!$Z$7=$J$3,VLOOKUP(CONCATENATE(A251,B251,C251),Base!$AB$13:$AC$64,2,FALSE),IF(Products!$Z$7=$J$2,VLOOKUP(CONCATENATE(A251,B251,C251),Base!$AB$13:$AE$64,4,FALSE),VLOOKUP(CONCATENATE(A251,B251,C251),Base!$D$9:$G$386,4,FALSE))),\"\")","v":13.3},{"$f":"Products!F251","v":0},{"$f":"IF(ISBLANK(Products!F251),0,IF(LEFT(Products!$Z$7,8)=\"Consumer\",D251*E251,IF(C251=\"500+\",IF(E251>=500,E251*D251),IF(C251=\"1000+\",IF(E251>=1000,E251*D251),IF(C251=\"3000+\",IF(E251>=3000,E251*D251),IF(AND(E251>=VLOOKUP(C251,$M$18:$P$34,3,FALSE),E251<=VLOOKUP(C251,$M$18:$P$34,4,FALSE)),E251*D251))))))","v":0},{"$f":"IF(Products!$Z$7=$J$4,Base!H247,IF(Products!$Z$7=$J$5,Base!#REF!,IF(OR(Products!$Z$7=$J$2,Products!$Z$7=$J$3),Base!AD250)))","v":"BL1213100D-EN"}]
[{"$f":"IF(Products!$Z$7=$J$4,Base!A248,IF(Products!$Z$7=$J$5,Base!#REF!,IF(OR(Products!$Z$7=$J$2,Products!$Z$7=$J$3),Base!Y251)))","v":"GravityZone Security for Mobile"},{"$f":"IF(Products!$Z$7=$J$4,Base!B248,IF(Products!$Z$7=$J$5,Base!#REF!,IF(OR(Products!$Z$7=$J$2,Products!$Z$7=$J$3),Base!Z251)))","v":"1 year"},{"$f":"IF(Products!$Z$7=$J$4,Base!C248,IF(Products!$Z$7=$J$5,Base!#REF!,IF(OR(Products!$Z$7=$J$2,Products!$Z$7=$J$3),Base!AA251)))","v":"100 - 149"},{"$f":"IFERROR(IF(Products!$Z$7=$J$3,VLOOKUP(CONCATENATE(A252,B252,C252),Base!$AB$13:$AC$64,2,FALSE),IF(Products!$Z$7=$J$2,VLOOKUP(CONCATENATE(A252,B252,C252),Base!$AB$13:$AE$64,4,FALSE),VLOOKUP(CONCATENATE(A252,B252,C252),Base!$D$9:$G$386,4,FALSE))),\"\")","v":11.85},{"$f":"Products!F252","v":0},{"$f":"IF(ISBLANK(Products!F252),0,IF(LEFT(Products!$Z$7,8)=\"Consumer\",D252*E252,IF(C252=\"500+\",IF(E252>=500,E252*D252),IF(C252=\"1000+\",IF(E252>=1000,E252*D252),IF(C252=\"3000+\",IF(E252>=3000,E252*D252),IF(AND(E252>=VLOOKUP(C252,$M$18:$P$34,3,FALSE),E252<=VLOOKUP(C252,$M$18:$P$34,4,FALSE)),E252*D252))))))","v":0},{"$f":"IF(Products!$Z$7=$J$4,Base!H248,IF(Products!$Z$7=$J$5,Base!#REF!,IF(OR(Products!$Z$7=$J$2,Products!$Z$7=$J$3),Base!AD251)))","v":"BL1213100E-EN"}]
[{"$f":"IF(Products!$Z$7=$J$4,Base!A249,IF(Products!$Z$7=$J$5,Base!#REF!,IF(OR(Products!$Z$7=$J$2,Products!$Z$7=$J$3),Base!Y252)))","v":"GravityZone Security for Mobile"},{"$f":"IF(Products!$Z$7=$J$4,Base!B249,IF(Products!$Z$7=$J$5,Base!#REF!,IF(OR(Products!$Z$7=$J$2,Products!$Z$7=$J$3),Base!Z252)))","v":"1 year"},{"$f":"IF(Products!$Z$7=$J$4,Base!C249,IF(Products!$Z$7=$J$5,Base!#REF!,IF(OR(Products!$Z$7=$J$2,Products!$Z$7=$J$3),Base!AA252)))","v":"150 - 249"},{"$f":"IFERROR(IF(Products!$Z$7=$J$3,VLOOKUP(CONCATENATE(A253,B253,C253),Base!$AB$13:$AC$64,2,FALSE),IF(Products!$Z$7=$J$2,VLOOKUP(CONCATENATE(A253,B253,C253),Base!$AB$13:$AE$64,4,FALSE),VLOOKUP(CONCATENATE(A253,B253,C253),Base!$D$9:$G$386,4,FALSE))),\"\")","v":10.63},{"$f":"Products!F253","v":0},{"$f":"IF(ISBLANK(Products!F253),0,IF(LEFT(Products!$Z$7,8)=\"Consumer\",D253*E253,IF(C253=\"500+\",IF(E253>=500,E253*D253),IF(C253=\"1000+\",IF(E253>=1000,E253*D253),IF(C253=\"3000+\",IF(E253>=3000,E253*D253),IF(AND(E253>=VLOOKUP(C253,$M$18:$P$34,3,FALSE),E253<=VLOOKUP(C253,$M$18:$P$34,4,FALSE)),E253*D253))))))","v":0},{"$f":"IF(Products!$Z$7=$J$4,Base!H249,IF(Products!$Z$7=$J$5,Base!#REF!,IF(OR(Products!$Z$7=$J$2,Products!$Z$7=$J$3),Base!AD252)))","v":"BL1213100F-EN"}]
[{"$f":"IF(Products!$Z$7=$J$4,Base!A250,IF(Products!$Z$7=$J$5,Base!#REF!,IF(OR(Products!$Z$7=$J$2,Products!$Z$7=$J$3),Base!Y253)))","v":"GravityZone Security for Mobile"},{"$f":"IF(Products!$Z$7=$J$4,Base!B250,IF(Products!$Z$7=$J$5,Base!#REF!,IF(OR(Products!$Z$7=$J$2,Products!$Z$7=$J$3),Base!Z253)))","v":"1 year"},{"$f":"IF(Products!$Z$7=$J$4,Base!C250,IF(Products!$Z$7=$J$5,Base!#REF!,IF(OR(Products!$Z$7=$J$2,Products!$Z$7=$J$3),Base!AA253)))","v":"250 - 499"},{"$f":"IFERROR(IF(Products!$Z$7=$J$3,VLOOKUP(CONCATENATE(A254,B254,C254),Base!$AB$13:$AC$64,2,FALSE),IF(Products!$Z$7=$J$2,VLOOKUP(CONCATENATE(A254,B254,C254),Base!$AB$13:$AE$64,4,FALSE),VLOOKUP(CONCATENATE(A254,B254,C254),Base!$D$9:$G$386,4,FALSE))),\"\")","v":9.8800000000000008},{"$f":"Products!F254","v":0},{"$f":"IF(ISBLANK(Products!F254),0,IF(LEFT(Products!$Z$7,8)=\"Consumer\",D254*E254,IF(C254=\"500+\",IF(E254>=500,E254*D254),IF(C254=\"1000+\",IF(E254>=1000,E254*D254),IF(C254=\"3000+\",IF(E254>=3000,E254*D254),IF(AND(E254>=VLOOKUP(C254,$M$18:$P$34,3,FALSE),E254<=VLOOKUP(C254,$M$18:$P$34,4,FALSE)),E254*D254))))))","v":0},{"$f":"IF(Products!$Z$7=$J$4,Base!H250,IF(Products!$Z$7=$J$5,Base!#REF!,IF(OR(Products!$Z$7=$J$2,Products!$Z$7=$J$3),Base!AD253)))","v":"BL1213100G-EN"}]
[{"$f":"IF(Products!$Z$7=$J$4,Base!A251,IF(Products!$Z$7=$J$5,Base!#REF!,IF(OR(Products!$Z$7=$J$2,Products!$Z$7=$J$3),Base!Y254)))","v":"GravityZone Security for Mobile"},{"$f":"IF(Products!$Z$7=$J$4,Base!B251,IF(Products!$Z$7=$J$5,Base!#REF!,IF(OR(Products!$Z$7=$J$2,Products!$Z$7=$J$3),Base!Z254)))","v":"1 year"},{"$f":"IF(Products!$Z$7=$J$4,Base!C251,IF(Products!$Z$7=$J$5,Base!#REF!,IF(OR(Products!$Z$7=$J$2,Products!$Z$7=$J$3),Base!AA254)))","v":"500 - 999"},{"$f":"IFERROR(IF(Products!$Z$7=$J$3,VLOOKUP(CONCATENATE(A255,B255,C255),Base!$AB$13:$AC$64,2,FALSE),IF(Products!$Z$7=$J$2,VLOOKUP(CONCATENATE(A255,B255,C255),Base!$AB$13:$AE$64,4,FALSE),VLOOKUP(CONCATENATE(A255,B255,C255),Base!$D$9:$G$386,4,FALSE))),\"\")","v":8.4},{"$f":"Products!F255","v":0},{"$f":"IF(ISBLANK(Products!F255),0,IF(LEFT(Products!$Z$7,8)=\"Consumer\",D255*E255,IF(C255=\"500+\",IF(E255>=500,E255*D255),IF(C255=\"1000+\",IF(E255>=1000,E255*D255),IF(C255=\"3000+\",IF(E255>=3000,E255*D255),IF(AND(E255>=VLOOKUP(C255,$M$18:$P$34,3,FALSE),E255<=VLOOKUP(C255,$M$18:$P$34,4,FALSE)),E255*D255))))))","v":0},{"$f":"IF(Products!$Z$7=$J$4,Base!H251,IF(Products!$Z$7=$J$5,Base!#REF!,IF(OR(Products!$Z$7=$J$2,Products!$Z$7=$J$3),Base!AD254)))","v":"BL1213100H-EN"}]
[{"$f":"IF(Products!$Z$7=$J$4,Base!A252,IF(Products!$Z$7=$J$5,Base!#REF!,IF(OR(Products!$Z$7=$J$2,Products!$Z$7=$J$3),Base!Y255)))","v":"GravityZone Security for Mobile"},{"$f":"IF(Products!$Z$7=$J$4,Base!B252,IF(Products!$Z$7=$J$5,Base!#REF!,IF(OR(Products!$Z$7=$J$2,Products!$Z$7=$J$3),Base!Z255)))","v":"1 year"},{"$f":"IF(Products!$Z$7=$J$4,Base!C252,IF(Products!$Z$7=$J$5,Base!#REF!,IF(OR(Products!$Z$7=$J$2,Products!$Z$7=$J$3),Base!AA255)))","v":"1000 - 2999"},{"$f":"IFERROR(IF(Products!$Z$7=$J$3,VLOOKUP(CONCATENATE(A256,B256,C256),Base!$AB$13:$AC$64,2,FALSE),IF(Products!$Z$7=$J$2,VLOOKUP(CONCATENATE(A256,B256,C256),Base!$AB$13:$AE$64,4,FALSE),VLOOKUP(CONCATENATE(A256,B256,C256),Base!$D$9:$G$386,4,FALSE))),\"\")","v":7.55},{"$f":"Products!F256","v":0},{"$f":"IF(ISBLANK(Products!F256),0,IF(LEFT(Products!$Z$7,8)=\"Consumer\",D256*E256,IF(C256=\"500+\",IF(E256>=500,E256*D256),IF(C256=\"1000+\",IF(E256>=1000,E256*D256),IF(C256=\"3000+\",IF(E256>=3000,E256*D256),IF(AND(E256>=VLOOKUP(C256,$M$18:$P$34,3,FALSE),E256<=VLOOKUP(C256,$M$18:$P$34,4,FALSE)),E256*D256))))))","v":0},{"$f":"IF(Products!$Z$7=$J$4,Base!H252,IF(Products!$Z$7=$J$5,Base!#REF!,IF(OR(Products!$Z$7=$J$2,Products!$Z$7=$J$3),Base!AD255)))","v":"BL1213100I-EN"}]
[{"$f":"IF(Products!$Z$7=$J$4,Base!A253,IF(Products!$Z$7=$J$5,Base!#REF!,IF(OR(Products!$Z$7=$J$2,Products!$Z$7=$J$3),Base!Y256)))","v":"GravityZone Security for Mobile"},{"$f":"IF(Products!$Z$7=$J$4,Base!B253,IF(Products!$Z$7=$J$5,Base!#REF!,IF(OR(Products!$Z$7=$J$2,Products!$Z$7=$J$3),Base!Z256)))","v":"1 year"},{"$f":"IF(Products!$Z$7=$J$4,Base!C253,IF(Products!$Z$7=$J$5,Base!#REF!,IF(OR(Products!$Z$7=$J$2,Products!$Z$7=$J$3),Base!AA256)))","v":"3000+"},{"$f":"IFERROR(IF(Products!$Z$7=$J$3,VLOOKUP(CONCATENATE(A257,B257,C257),Base!$AB$13:$AC$64,2,FALSE),IF(Products!$Z$7=$J$2,VLOOKUP(CONCATENATE(A257,B257,C257),Base!$AB$13:$AE$64,4,FALSE),VLOOKUP(CONCATENATE(A257,B257,C257),Base!$D$9:$G$386,4,FALSE))),\"\")","v":6.7},{"$f":"Products!F257","v":0},{"$f":"IF(ISBLANK(Products!F257),0,IF(LEFT(Products!$Z$7,8)=\"Consumer\",D257*E257,IF(C257=\"500+\",IF(E257>=500,E257*D257),IF(C257=\"1000+\",IF(E257>=1000,E257*D257),IF(C257=\"3000+\",IF(E257>=3000,E257*D257),IF(AND(E257>=VLOOKUP(C257,$M$18:$P$34,3,FALSE),E257<=VLOOKUP(C257,$M$18:$P$34,4,FALSE)),E257*D257))))))","v":0},{"$f":"IF(Products!$Z$7=$J$4,Base!H253,IF(Products!$Z$7=$J$5,Base!#REF!,IF(OR(Products!$Z$7=$J$2,Products!$Z$7=$J$3),Base!AD256)))","v":"BL1213100J-EN"}]
[{"$f":"IF(Products!$Z$7=$J$4,Base!A254,IF(Products!$Z$7=$J$5,Base!#REF!,IF(OR(Products!$Z$7=$J$2,Products!$Z$7=$J$3),Base!Y257)))","v":"GravityZone Security for Mobile"},{"$f":"IF(Products!$Z$7=$J$4,Base!B254,IF(Products!$Z$7=$J$5,Base!#REF!,IF(OR(Products!$Z$7=$J$2,Products!$Z$7=$J$3),Base!Z257)))","v":"2 years"},{"$f":"IF(Products!$Z$7=$J$4,Base!C254,IF(Products!$Z$7=$J$5,Base!#REF!,IF(OR(Products!$Z$7=$J$2,Products!$Z$7=$J$3),Base!AA257)))","v":"5 - 14"},{"$f":"IFERROR(IF(Products!$Z$7=$J$3,VLOOKUP(CONCATENATE(A258,B258,C258),Base!$AB$13:$AC$64,2,FALSE),IF(Products!$Z$7=$J$2,VLOOKUP(CONCATENATE(A258,B258,C258),Base!$AB$13:$AE$64,4,FALSE),VLOOKUP(CONCATENATE(A258,B258,C258),Base!$D$9:$G$386,4,FALSE))),\"\")","v":26.64},{"$f":"Products!F258","v":0},{"$f":"IF(ISBLANK(Products!F258),0,IF(LEFT(Products!$Z$7,8)=\"Consumer\",D258*E258,IF(C258=\"500+\",IF(E258>=500,E258*D258),IF(C258=\"1000+\",IF(E258>=1000,E258*D258),IF(C258=\"3000+\",IF(E258>=3000,E258*D258),IF(AND(E258>=VLOOKUP(C258,$M$18:$P$34,3,FALSE),E258<=VLOOKUP(C258,$M$18:$P$34,4,FALSE)),E258*D258))))))","v":0},{"$f":"IF(Products!$Z$7=$J$4,Base!H254,IF(Products!$Z$7=$J$5,Base!#REF!,IF(OR(Products!$Z$7=$J$2,Products!$Z$7=$J$3),Base!AD257)))","v":"BL1213200A-EN"}]
[{"$f":"IF(Products!$Z$7=$J$4,Base!A255,IF(Products!$Z$7=$J$5,Base!#REF!,IF(OR(Products!$Z$7=$J$2,Products!$Z$7=$J$3),Base!Y258)))","v":"GravityZone Security for Mobile"},{"$f":"IF(Products!$Z$7=$J$4,Base!B255,IF(Products!$Z$7=$J$5,Base!#REF!,IF(OR(Products!$Z$7=$J$2,Products!$Z$7=$J$3),Base!Z258)))","v":"2 years"},{"$f":"IF(Products!$Z$7=$J$4,Base!C255,IF(Products!$Z$7=$J$5,Base!#REF!,IF(OR(Products!$Z$7=$J$2,Products!$Z$7=$J$3),Base!AA258)))","v":"15 - 24"},{"$f":"IFERROR(IF(Products!$Z$7=$J$3,VLOOKUP(CONCATENATE(A259,B259,C259),Base!$AB$13:$AC$64,2,FALSE),IF(Products!$Z$7=$J$2,VLOOKUP(CONCATENATE(A259,B259,C259),Base!$AB$13:$AE$64,4,FALSE),VLOOKUP(CONCATENATE(A259,B259,C259),Base!$D$9:$G$386,4,FALSE))),\"\")","v":24.53},{"$f":"Products!F259","v":0},{"$f":"IF(ISBLANK(Products!F259),0,IF(LEFT(Products!$Z$7,8)=\"Consumer\",D259*E259,IF(C259=\"500+\",IF(E259>=500,E259*D259),IF(C259=\"1000+\",IF(E259>=1000,E259*D259),IF(C259=\"3000+\",IF(E259>=3000,E259*D259),IF(AND(E259>=VLOOKUP(C259,$M$18:$P$34,3,FALSE),E259<=VLOOKUP(C259,$M$18:$P$34,4,FALSE)),E259*D259))))))","v":0},{"$f":"IF(Products!$Z$7=$J$4,Base!H255,IF(Products!$Z$7=$J$5,Base!#REF!,IF(OR(Products!$Z$7=$J$2,Products!$Z$7=$J$3),Base!AD258)))","v":"BL1213200B-EN"}]
[{"$f":"IF(Products!$Z$7=$J$4,Base!A256,IF(Products!$Z$7=$J$5,Base!#REF!,IF(OR(Products!$Z$7=$J$2,Products!$Z$7=$J$3),Base!Y259)))","v":"GravityZone Security for Mobile"},{"$f":"IF(Products!$Z$7=$J$4,Base!B256,IF(Products!$Z$7=$J$5,Base!#REF!,IF(OR(Products!$Z$7=$J$2,Products!$Z$7=$J$3),Base!Z259)))","v":"2 years"},{"$f":"IF(Products!$Z$7=$J$4,Base!C256,IF(Products!$Z$7=$J$5,Base!#REF!,IF(OR(Products!$Z$7=$J$2,Products!$Z$7=$J$3),Base!AA259)))","v":"25 - 49"},{"$f":"IFERROR(IF(Products!$Z$7=$J$3,VLOOKUP(CONCATENATE(A260,B260,C260),Base!$AB$13:$AC$64,2,FALSE),IF(Products!$Z$7=$J$2,VLOOKUP(CONCATENATE(A260,B260,C260),Base!$AB$13:$AE$64,4,FALSE),VLOOKUP(CONCATENATE(A260,B260,C260),Base!$D$9:$G$386,4,FALSE))),\"\")","v":22.72},{"$f":"Products!F260","v":0},{"$f":"IF(ISBLANK(Products!F260),0,IF(LEFT(Products!$Z$7,8)=\"Consumer\",D260*E260,IF(C260=\"500+\",IF(E260>=500,E260*D260),IF(C260=\"1000+\",IF(E260>=1000,E260*D260),IF(C260=\"3000+\",IF(E260>=3000,E260*D260),IF(AND(E260>=VLOOKUP(C260,$M$18:$P$34,3,FALSE),E260<=VLOOKUP(C260,$M$18:$P$34,4,FALSE)),E260*D260))))))","v":0},{"$f":"IF(Products!$Z$7=$J$4,Base!H256,IF(Products!$Z$7=$J$5,Base!#REF!,IF(OR(Products!$Z$7=$J$2,Products!$Z$7=$J$3),Base!AD259)))","v":"BL1213200C-EN"}]
[{"$f":"IF(Products!$Z$7=$J$4,Base!A257,IF(Products!$Z$7=$J$5,Base!#REF!,IF(OR(Products!$Z$7=$J$2,Products!$Z$7=$J$3),Base!Y260)))","v":"GravityZone Security for Mobile"},{"$f":"IF(Products!$Z$7=$J$4,Base!B257,IF(Products!$Z$7=$J$5,Base!#REF!,IF(OR(Products!$Z$7=$J$2,Products!$Z$7=$J$3),Base!Z260)))","v":"2 years"},{"$f":"IF(Products!$Z$7=$J$4,Base!C257,IF(Products!$Z$7=$J$5,Base!#REF!,IF(OR(Products!$Z$7=$J$2,Products!$Z$7=$J$3),Base!AA260)))","v":"50 - 99"},{"$f":"IFERROR(IF(Products!$Z$7=$J$3,VLOOKUP(CONCATENATE(A261,B261,C261),Base!$AB$13:$AC$64,2,FALSE),IF(Products!$Z$7=$J$2,VLOOKUP(CONCATENATE(A261,B261,C261),Base!$AB$13:$AE$64,4,FALSE),VLOOKUP(CONCATENATE(A261,B261,C261),Base!$D$9:$G$386,4,FALSE))),\"\")","v":21.28},{"$f":"Products!F261","v":0},{"$f":"IF(ISBLANK(Products!F261),0,IF(LEFT(Products!$Z$7,8)=\"Consumer\",D261*E261,IF(C261=\"500+\",IF(E261>=500,E261*D261),IF(C261=\"1000+\",IF(E261>=1000,E261*D261),IF(C261=\"3000+\",IF(E261>=3000,E261*D261),IF(AND(E261>=VLOOKUP(C261,$M$18:$P$34,3,FALSE),E261<=VLOOKUP(C261,$M$18:$P$34,4,FALSE)),E261*D261))))))","v":0},{"$f":"IF(Products!$Z$7=$J$4,Base!H257,IF(Products!$Z$7=$J$5,Base!#REF!,IF(OR(Products!$Z$7=$J$2,Products!$Z$7=$J$3),Base!AD260)))","v":"BL1213200D-EN"}]
[{"$f":"IF(Products!$Z$7=$J$4,Base!A258,IF(Products!$Z$7=$J$5,Base!#REF!,IF(OR(Products!$Z$7=$J$2,Products!$Z$7=$J$3),Base!Y261)))","v":"GravityZone Security for Mobile"},{"$f":"IF(Products!$Z$7=$J$4,Base!B258,IF(Products!$Z$7=$J$5,Base!#REF!,IF(OR(Products!$Z$7=$J$2,Products!$Z$7=$J$3),Base!Z261)))","v":"2 years"},{"$f":"IF(Products!$Z$7=$J$4,Base!C258,IF(Products!$Z$7=$J$5,Base!#REF!,IF(OR(Products!$Z$7=$J$2,Products!$Z$7=$J$3),Base!AA261)))","v":"100 - 149"},{"$f":"IFERROR(IF(Products!$Z$7=$J$3,VLOOKUP(CONCATENATE(A262,B262,C262),Base!$AB$13:$AC$64,2,FALSE),IF(Products!$Z$7=$J$2,VLOOKUP(CONCATENATE(A262,B262,C262),Base!$AB$13:$AE$64,4,FALSE),VLOOKUP(CONCATENATE(A262,B262,C262),Base!$D$9:$G$386,4,FALSE))),\"\")","v":18.96},{"$f":"Products!F262","v":0},{"$f":"IF(ISBLANK(Products!F262),0,IF(LEFT(Products!$Z$7,8)=\"Consumer\",D262*E262,IF(C262=\"500+\",IF(E262>=500,E262*D262),IF(C262=\"1000+\",IF(E262>=1000,E262*D262),IF(C262=\"3000+\",IF(E262>=3000,E262*D262),IF(AND(E262>=VLOOKUP(C262,$M$18:$P$34,3,FALSE),E262<=VLOOKUP(C262,$M$18:$P$34,4,FALSE)),E262*D262))))))","v":0},{"$f":"IF(Products!$Z$7=$J$4,Base!H258,IF(Products!$Z$7=$J$5,Base!#REF!,IF(OR(Products!$Z$7=$J$2,Products!$Z$7=$J$3),Base!AD261)))","v":"BL1213200E-EN"}]
[{"$f":"IF(Products!$Z$7=$J$4,Base!A259,IF(Products!$Z$7=$J$5,Base!#REF!,IF(OR(Products!$Z$7=$J$2,Products!$Z$7=$J$3),Base!Y262)))","v":"GravityZone Security for Mobile"},{"$f":"IF(Products!$Z$7=$J$4,Base!B259,IF(Products!$Z$7=$J$5,Base!#REF!,IF(OR(Products!$Z$7=$J$2,Products!$Z$7=$J$3),Base!Z262)))","v":"2 years"},{"$f":"IF(Products!$Z$7=$J$4,Base!C259,IF(Products!$Z$7=$J$5,Base!#REF!,IF(OR(Products!$Z$7=$J$2,Products!$Z$7=$J$3),Base!AA262)))","v":"150 - 249"},{"$f":"IFERROR(IF(Products!$Z$7=$J$3,VLOOKUP(CONCATENATE(A263,B263,C263),Base!$AB$13:$AC$64,2,FALSE),IF(Products!$Z$7=$J$2,VLOOKUP(CONCATENATE(A263,B263,C263),Base!$AB$13:$AE$64,4,FALSE),VLOOKUP(CONCATENATE(A263,B263,C263),Base!$D$9:$G$386,4,FALSE))),\"\")","v":17.010000000000002},{"$f":"Products!F263","v":0},{"$f":"IF(ISBLANK(Products!F263),0,IF(LEFT(Products!$Z$7,8)=\"Consumer\",D263*E263,IF(C263=\"500+\",IF(E263>=500,E263*D263),IF(C263=\"1000+\",IF(E263>=1000,E263*D263),IF(C263=\"3000+\",IF(E263>=3000,E263*D263),IF(AND(E263>=VLOOKUP(C263,$M$18:$P$34,3,FALSE),E263<=VLOOKUP(C263,$M$18:$P$34,4,FALSE)),E263*D263))))))","v":0},{"$f":"IF(Products!$Z$7=$J$4,Base!H259,IF(Products!$Z$7=$J$5,Base!#REF!,IF(OR(Products!$Z$7=$J$2,Products!$Z$7=$J$3),Base!AD262)))","v":"BL1213200F-EN"}]
[{"$f":"IF(Products!$Z$7=$J$4,Base!A260,IF(Products!$Z$7=$J$5,Base!#REF!,IF(OR(Products!$Z$7=$J$2,Products!$Z$7=$J$3),Base!Y263)))","v":"GravityZone Security for Mobile"},{"$f":"IF(Products!$Z$7=$J$4,Base!B260,IF(Products!$Z$7=$J$5,Base!#REF!,IF(OR(Products!$Z$7=$J$2,Products!$Z$7=$J$3),Base!Z263)))","v":"2 years"},{"$f":"IF(Products!$Z$7=$J$4,Base!C260,IF(Products!$Z$7=$J$5,Base!#REF!,IF(OR(Products!$Z$7=$J$2,Products!$Z$7=$J$3),Base!AA263)))","v":"250 - 499"},{"$f":"IFERROR(IF(Products!$Z$7=$J$3,VLOOKUP(CONCATENATE(A264,B264,C264),Base!$AB$13:$AC$64,2,FALSE),IF(Products!$Z$7=$J$2,VLOOKUP(CONCATENATE(A264,B264,C264),Base!$AB$13:$AE$64,4,FALSE),VLOOKUP(CONCATENATE(A264,B264,C264),Base!$D$9:$G$386,4,FALSE))),\"\")","v":15.81},{"$f":"Products!F264","v":0},{"$f":"IF(ISBLANK(Products!F264),0,IF(LEFT(Products!$Z$7,8)=\"Consumer\",D264*E264,IF(C264=\"500+\",IF(E264>=500,E264*D264),IF(C264=\"1000+\",IF(E264>=1000,E264*D264),IF(C264=\"3000+\",IF(E264>=3000,E264*D264),IF(AND(E264>=VLOOKUP(C264,$M$18:$P$34,3,FALSE),E264<=VLOOKUP(C264,$M$18:$P$34,4,FALSE)),E264*D264))))))","v":0},{"$f":"IF(Products!$Z$7=$J$4,Base!H260,IF(Products!$Z$7=$J$5,Base!#REF!,IF(OR(Products!$Z$7=$J$2,Products!$Z$7=$J$3),Base!AD263)))","v":"BL1213200G-EN"}]
[{"$f":"IF(Products!$Z$7=$J$4,Base!A261,IF(Products!$Z$7=$J$5,Base!#REF!,IF(OR(Products!$Z$7=$J$2,Products!$Z$7=$J$3),Base!Y264)))","v":"GravityZone Security for Mobile"},{"$f":"IF(Products!$Z$7=$J$4,Base!B261,IF(Products!$Z$7=$J$5,Base!#REF!,IF(OR(Products!$Z$7=$J$2,Products!$Z$7=$J$3),Base!Z264)))","v":"2 years"},{"$f":"IF(Products!$Z$7=$J$4,Base!C261,IF(Products!$Z$7=$J$5,Base!#REF!,IF(OR(Products!$Z$7=$J$2,Products!$Z$7=$J$3),Base!AA264)))","v":"500 - 999"},{"$f":"IFERROR(IF(Products!$Z$7=$J$3,VLOOKUP(CONCATENATE(A265,B265,C265),Base!$AB$13:$AC$64,2,FALSE),IF(Products!$Z$7=$J$2,VLOOKUP(CONCATENATE(A265,B265,C265),Base!$AB$13:$AE$64,4,FALSE),VLOOKUP(CONCATENATE(A265,B265,C265),Base!$D$9:$G$386,4,FALSE))),\"\")","v":13.44},{"$f":"Products!F265","v":0},{"$f":"IF(ISBLANK(Products!F265),0,IF(LEFT(Products!$Z$7,8)=\"Consumer\",D265*E265,IF(C265=\"500+\",IF(E265>=500,E265*D265),IF(C265=\"1000+\",IF(E265>=1000,E265*D265),IF(C265=\"3000+\",IF(E265>=3000,E265*D265),IF(AND(E265>=VLOOKUP(C265,$M$18:$P$34,3,FALSE),E265<=VLOOKUP(C265,$M$18:$P$34,4,FALSE)),E265*D265))))))","v":0},{"$f":"IF(Products!$Z$7=$J$4,Base!H261,IF(Products!$Z$7=$J$5,Base!#REF!,IF(OR(Products!$Z$7=$J$2,Products!$Z$7=$J$3),Base!AD264)))","v":"BL1213200H-EN"}]
[{"$f":"IF(Products!$Z$7=$J$4,Base!A262,IF(Products!$Z$7=$J$5,Base!#REF!,IF(OR(Products!$Z$7=$J$2,Products!$Z$7=$J$3),Base!Y265)))","v":"GravityZone Security for Mobile"},{"$f":"IF(Products!$Z$7=$J$4,Base!B262,IF(Products!$Z$7=$J$5,Base!#REF!,IF(OR(Products!$Z$7=$J$2,Products!$Z$7=$J$3),Base!Z265)))","v":"2 years"},{"$f":"IF(Products!$Z$7=$J$4,Base!C262,IF(Products!$Z$7=$J$5,Base!#REF!,IF(OR(Products!$Z$7=$J$2,Products!$Z$7=$J$3),Base!AA265)))","v":"1000 - 2999"},{"$f":"IFERROR(IF(Products!$Z$7=$J$3,VLOOKUP(CONCATENATE(A266,B266,C266),Base!$AB$13:$AC$64,2,FALSE),IF(Products!$Z$7=$J$2,VLOOKUP(CONCATENATE(A266,B266,C266),Base!$AB$13:$AE$64,4,FALSE),VLOOKUP(CONCATENATE(A266,B266,C266),Base!$D$9:$G$386,4,FALSE))),\"\")","v":12.08},{"$f":"Products!F266","v":0},{"$f":"IF(ISBLANK(Products!F266),0,IF(LEFT(Products!$Z$7,8)=\"Consumer\",D266*E266,IF(C266=\"500+\",IF(E266>=500,E266*D266),IF(C266=\"1000+\",IF(E266>=1000,E266*D266),IF(C266=\"3000+\",IF(E266>=3000,E266*D266),IF(AND(E266>=VLOOKUP(C266,$M$18:$P$34,3,FALSE),E266<=VLOOKUP(C266,$M$18:$P$34,4,FALSE)),E266*D266))))))","v":0},{"$f":"IF(Products!$Z$7=$J$4,Base!H262,IF(Products!$Z$7=$J$5,Base!#REF!,IF(OR(Products!$Z$7=$J$2,Products!$Z$7=$J$3),Base!AD265)))","v":"BL1213200I-EN"}]
[{"$f":"IF(Products!$Z$7=$J$4,Base!A263,IF(Products!$Z$7=$J$5,Base!#REF!,IF(OR(Products!$Z$7=$J$2,Products!$Z$7=$J$3),Base!Y266)))","v":"GravityZone Security for Mobile"},{"$f":"IF(Products!$Z$7=$J$4,Base!B263,IF(Products!$Z$7=$J$5,Base!#REF!,IF(OR(Products!$Z$7=$J$2,Products!$Z$7=$J$3),Base!Z266)))","v":"2 years"},{"$f":"IF(Products!$Z$7=$J$4,Base!C263,IF(Products!$Z$7=$J$5,Base!#REF!,IF(OR(Products!$Z$7=$J$2,Products!$Z$7=$J$3),Base!AA266)))","v":"3000+"},{"$f":"IFERROR(IF(Products!$Z$7=$J$3,VLOOKUP(CONCATENATE(A267,B267,C267),Base!$AB$13:$AC$64,2,FALSE),IF(Products!$Z$7=$J$2,VLOOKUP(CONCATENATE(A267,B267,C267),Base!$AB$13:$AE$64,4,FALSE),VLOOKUP(CONCATENATE(A267,B267,C267),Base!$D$9:$G$386,4,FALSE))),\"\")","v":10.72},{"$f":"Products!F267","v":0},{"$f":"IF(ISBLANK(Products!F267),0,IF(LEFT(Products!$Z$7,8)=\"Consumer\",D267*E267,IF(C267=\"500+\",IF(E267>=500,E267*D267),IF(C267=\"1000+\",IF(E267>=1000,E267*D267),IF(C267=\"3000+\",IF(E267>=3000,E267*D267),IF(AND(E267>=VLOOKUP(C267,$M$18:$P$34,3,FALSE),E267<=VLOOKUP(C267,$M$18:$P$34,4,FALSE)),E267*D267))))))","v":0},{"$f":"IF(Products!$Z$7=$J$4,Base!H263,IF(Products!$Z$7=$J$5,Base!#REF!,IF(OR(Products!$Z$7=$J$2,Products!$Z$7=$J$3),Base!AD266)))","v":"BL1213200J-EN"}]
[{"$f":"IF(Products!$Z$7=$J$4,Base!A264,IF(Products!$Z$7=$J$5,Base!#REF!,IF(OR(Products!$Z$7=$J$2,Products!$Z$7=$J$3),Base!Y267)))","v":"GravityZone Security for Mobile"},{"$f":"IF(Products!$Z$7=$J$4,Base!B264,IF(Products!$Z$7=$J$5,Base!#REF!,IF(OR(Products!$Z$7=$J$2,Products!$Z$7=$J$3),Base!Z267)))","v":"3 years"},{"$f":"IF(Products!$Z$7=$J$4,Base!C264,IF(Products!$Z$7=$J$5,Base!#REF!,IF(OR(Products!$Z$7=$J$2,Products!$Z$7=$J$3),Base!AA267)))","v":"5 - 14"},{"$f":"IFERROR(IF(Products!$Z$7=$J$3,VLOOKUP(CONCATENATE(A268,B268,C268),Base!$AB$13:$AC$64,2,FALSE),IF(Products!$Z$7=$J$2,VLOOKUP(CONCATENATE(A268,B268,C268),Base!$AB$13:$AE$64,4,FALSE),VLOOKUP(CONCATENATE(A268,B268,C268),Base!$D$9:$G$386,4,FALSE))),\"\")","v":34.130000000000003},{"$f":"Products!F268","v":0},{"$f":"IF(ISBLANK(Products!F268),0,IF(LEFT(Products!$Z$7,8)=\"Consumer\",D268*E268,IF(C268=\"500+\",IF(E268>=500,E268*D268),IF(C268=\"1000+\",IF(E268>=1000,E268*D268),IF(C268=\"3000+\",IF(E268>=3000,E268*D268),IF(AND(E268>=VLOOKUP(C268,$M$18:$P$34,3,FALSE),E268<=VLOOKUP(C268,$M$18:$P$34,4,FALSE)),E268*D268))))))","v":0},{"$f":"IF(Products!$Z$7=$J$4,Base!H264,IF(Products!$Z$7=$J$5,Base!#REF!,IF(OR(Products!$Z$7=$J$2,Products!$Z$7=$J$3),Base!AD267)))","v":"BL1213300A-EN"}]
[{"$f":"IF(Products!$Z$7=$J$4,Base!A265,IF(Products!$Z$7=$J$5,Base!#REF!,IF(OR(Products!$Z$7=$J$2,Products!$Z$7=$J$3),Base!Y268)))","v":"GravityZone Security for Mobile"},{"$f":"IF(Products!$Z$7=$J$4,Base!B265,IF(Products!$Z$7=$J$5,Base!#REF!,IF(OR(Products!$Z$7=$J$2,Products!$Z$7=$J$3),Base!Z268)))","v":"3 years"},{"$f":"IF(Products!$Z$7=$J$4,Base!C265,IF(Products!$Z$7=$J$5,Base!#REF!,IF(OR(Products!$Z$7=$J$2,Products!$Z$7=$J$3),Base!AA268)))","v":"15 - 24"},{"$f":"IFERROR(IF(Products!$Z$7=$J$3,VLOOKUP(CONCATENATE(A269,B269,C269),Base!$AB$13:$AC$64,2,FALSE),IF(Products!$Z$7=$J$2,VLOOKUP(CONCATENATE(A269,B269,C269),Base!$AB$13:$AE$64,4,FALSE),VLOOKUP(CONCATENATE(A269,B269,C269),Base!$D$9:$G$386,4,FALSE))),\"\")","v":31.43},{"$f":"Products!F269","v":0},{"$f":"IF(ISBLANK(Products!F269),0,IF(LEFT(Products!$Z$7,8)=\"Consumer\",D269*E269,IF(C269=\"500+\",IF(E269>=500,E269*D269),IF(C269=\"1000+\",IF(E269>=1000,E269*D269),IF(C269=\"3000+\",IF(E269>=3000,E269*D269),IF(AND(E269>=VLOOKUP(C269,$M$18:$P$34,3,FALSE),E269<=VLOOKUP(C269,$M$18:$P$34,4,FALSE)),E269*D269))))))","v":0},{"$f":"IF(Products!$Z$7=$J$4,Base!H265,IF(Products!$Z$7=$J$5,Base!#REF!,IF(OR(Products!$Z$7=$J$2,Products!$Z$7=$J$3),Base!AD268)))","v":"BL1213300B-EN"}]
[{"$f":"IF(Products!$Z$7=$J$4,Base!A266,IF(Products!$Z$7=$J$5,Base!#REF!,IF(OR(Products!$Z$7=$J$2,Products!$Z$7=$J$3),Base!Y269)))","v":"GravityZone Security for Mobile"},{"$f":"IF(Products!$Z$7=$J$4,Base!B266,IF(Products!$Z$7=$J$5,Base!#REF!,IF(OR(Products!$Z$7=$J$2,Products!$Z$7=$J$3),Base!Z269)))","v":"3 years"},{"$f":"IF(Products!$Z$7=$J$4,Base!C266,IF(Products!$Z$7=$J$5,Base!#REF!,IF(OR(Products!$Z$7=$J$2,Products!$Z$7=$J$3),Base!AA269)))","v":"25 - 49"},{"$f":"IFERROR(IF(Products!$Z$7=$J$3,VLOOKUP(CONCATENATE(A270,B270,C270),Base!$AB$13:$AC$64,2,FALSE),IF(Products!$Z$7=$J$2,VLOOKUP(CONCATENATE(A270,B270,C270),Base!$AB$13:$AE$64,4,FALSE),VLOOKUP(CONCATENATE(A270,B270,C270),Base!$D$9:$G$386,4,FALSE))),\"\")","v":29.11},{"$f":"Products!F270","v":0},{"$f":"IF(ISBLANK(Products!F270),0,IF(LEFT(Products!$Z$7,8)=\"Consumer\",D270*E270,IF(C270=\"500+\",IF(E270>=500,E270*D270),IF(C270=\"1000+\",IF(E270>=1000,E270*D270),IF(C270=\"3000+\",IF(E270>=3000,E270*D270),IF(AND(E270>=VLOOKUP(C270,$M$18:$P$34,3,FALSE),E270<=VLOOKUP(C270,$M$18:$P$34,4,FALSE)),E270*D270))))))","v":0},{"$f":"IF(Products!$Z$7=$J$4,Base!H266,IF(Products!$Z$7=$J$5,Base!#REF!,IF(OR(Products!$Z$7=$J$2,Products!$Z$7=$J$3),Base!AD269)))","v":"BL1213300C-EN"}]
[{"$f":"IF(Products!$Z$7=$J$4,Base!A267,IF(Products!$Z$7=$J$5,Base!#REF!,IF(OR(Products!$Z$7=$J$2,Products!$Z$7=$J$3),Base!Y270)))","v":"GravityZone Security for Mobile"},{"$f":"IF(Products!$Z$7=$J$4,Base!B267,IF(Products!$Z$7=$J$5,Base!#REF!,IF(OR(Products!$Z$7=$J$2,Products!$Z$7=$J$3),Base!Z270)))","v":"3 years"},{"$f":"IF(Products!$Z$7=$J$4,Base!C267,IF(Products!$Z$7=$J$5,Base!#REF!,IF(OR(Products!$Z$7=$J$2,Products!$Z$7=$J$3),Base!AA270)))","v":"50 - 99"},{"$f":"IFERROR(IF(Products!$Z$7=$J$3,VLOOKUP(CONCATENATE(A271,B271,C271),Base!$AB$13:$AC$64,2,FALSE),IF(Products!$Z$7=$J$2,VLOOKUP(CONCATENATE(A271,B271,C271),Base!$AB$13:$AE$64,4,FALSE),VLOOKUP(CONCATENATE(A271,B271,C271),Base!$D$9:$G$386,4,FALSE))),\"\")","v":27.27},{"$f":"Products!F271","v":0},{"$f":"IF(ISBLANK(Products!F271),0,IF(LEFT(Products!$Z$7,8)=\"Consumer\",D271*E271,IF(C271=\"500+\",IF(E271>=500,E271*D271),IF(C271=\"1000+\",IF(E271>=1000,E271*D271),IF(C271=\"3000+\",IF(E271>=3000,E271*D271),IF(AND(E271>=VLOOKUP(C271,$M$18:$P$34,3,FALSE),E271<=VLOOKUP(C271,$M$18:$P$34,4,FALSE)),E271*D271))))))","v":0},{"$f":"IF(Products!$Z$7=$J$4,Base!H267,IF(Products!$Z$7=$J$5,Base!#REF!,IF(OR(Products!$Z$7=$J$2,Products!$Z$7=$J$3),Base!AD270)))","v":"BL1213300D-EN"}]
[{"$f":"IF(Products!$Z$7=$J$4,Base!A268,IF(Products!$Z$7=$J$5,Base!#REF!,IF(OR(Products!$Z$7=$J$2,Products!$Z$7=$J$3),Base!Y271)))","v":"GravityZone Security for Mobile"},{"$f":"IF(Products!$Z$7=$J$4,Base!B268,IF(Products!$Z$7=$J$5,Base!#REF!,IF(OR(Products!$Z$7=$J$2,Products!$Z$7=$J$3),Base!Z271)))","v":"3 years"},{"$f":"IF(Products!$Z$7=$J$4,Base!C268,IF(Products!$Z$7=$J$5,Base!#REF!,IF(OR(Products!$Z$7=$J$2,Products!$Z$7=$J$3),Base!AA271)))","v":"100 - 149"},{"$f":"IFERROR(IF(Products!$Z$7=$J$3,VLOOKUP(CONCATENATE(A272,B272,C272),Base!$AB$13:$AC$64,2,FALSE),IF(Products!$Z$7=$J$2,VLOOKUP(CONCATENATE(A272,B272,C272),Base!$AB$13:$AE$64,4,FALSE),VLOOKUP(CONCATENATE(A272,B272,C272),Base!$D$9:$G$386,4,FALSE))),\"\")","v":24.29},{"$f":"Products!F272","v":0},{"$f":"IF(ISBLANK(Products!F272),0,IF(LEFT(Products!$Z$7,8)=\"Consumer\",D272*E272,IF(C272=\"500+\",IF(E272>=500,E272*D272),IF(C272=\"1000+\",IF(E272>=1000,E272*D272),IF(C272=\"3000+\",IF(E272>=3000,E272*D272),IF(AND(E272>=VLOOKUP(C272,$M$18:$P$34,3,FALSE),E272<=VLOOKUP(C272,$M$18:$P$34,4,FALSE)),E272*D272))))))","v":0},{"$f":"IF(Products!$Z$7=$J$4,Base!H268,IF(Products!$Z$7=$J$5,Base!#REF!,IF(OR(Products!$Z$7=$J$2,Products!$Z$7=$J$3),Base!AD271)))","v":"BL1213300E-EN"}]
[{"$f":"IF(Products!$Z$7=$J$4,Base!A269,IF(Products!$Z$7=$J$5,Base!#REF!,IF(OR(Products!$Z$7=$J$2,Products!$Z$7=$J$3),Base!Y272)))","v":"GravityZone Security for Mobile"},{"$f":"IF(Products!$Z$7=$J$4,Base!B269,IF(Products!$Z$7=$J$5,Base!#REF!,IF(OR(Products!$Z$7=$J$2,Products!$Z$7=$J$3),Base!Z272)))","v":"3 years"},{"$f":"IF(Products!$Z$7=$J$4,Base!C269,IF(Products!$Z$7=$J$5,Base!#REF!,IF(OR(Products!$Z$7=$J$2,Products!$Z$7=$J$3),Base!AA272)))","v":"150 - 249"},{"$f":"IFERROR(IF(Products!$Z$7=$J$3,VLOOKUP(CONCATENATE(A273,B273,C273),Base!$AB$13:$AC$64,2,FALSE),IF(Products!$Z$7=$J$2,VLOOKUP(CONCATENATE(A273,B273,C273),Base!$AB$13:$AE$64,4,FALSE),VLOOKUP(CONCATENATE(A273,B273,C273),Base!$D$9:$G$386,4,FALSE))),\"\")","v":21.79},{"$f":"Products!F273","v":0},{"$f":"IF(ISBLANK(Products!F273),0,IF(LEFT(Products!$Z$7,8)=\"Consumer\",D273*E273,IF(C273=\"500+\",IF(E273>=500,E273*D273),IF(C273=\"1000+\",IF(E273>=1000,E273*D273),IF(C273=\"3000+\",IF(E273>=3000,E273*D273),IF(AND(E273>=VLOOKUP(C273,$M$18:$P$34,3,FALSE),E273<=VLOOKUP(C273,$M$18:$P$34,4,FALSE)),E273*D273))))))","v":0},{"$f":"IF(Products!$Z$7=$J$4,Base!H269,IF(Products!$Z$7=$J$5,Base!#REF!,IF(OR(Products!$Z$7=$J$2,Products!$Z$7=$J$3),Base!AD272)))","v":"BL1213300F-EN"}]
[{"$f":"IF(Products!$Z$7=$J$4,Base!A270,IF(Products!$Z$7=$J$5,Base!#REF!,IF(OR(Products!$Z$7=$J$2,Products!$Z$7=$J$3),Base!Y273)))","v":"GravityZone Security for Mobile"},{"$f":"IF(Products!$Z$7=$J$4,Base!B270,IF(Products!$Z$7=$J$5,Base!#REF!,IF(OR(Products!$Z$7=$J$2,Products!$Z$7=$J$3),Base!Z273)))","v":"3 years"},{"$f":"IF(Products!$Z$7=$J$4,Base!C270,IF(Products!$Z$7=$J$5,Base!#REF!,IF(OR(Products!$Z$7=$J$2,Products!$Z$7=$J$3),Base!AA273)))","v":"250 - 499"},{"$f":"IFERROR(IF(Products!$Z$7=$J$3,VLOOKUP(CONCATENATE(A274,B274,C274),Base!$AB$13:$AC$64,2,FALSE),IF(Products!$Z$7=$J$2,VLOOKUP(CONCATENATE(A274,B274,C274),Base!$AB$13:$AE$64,4,FALSE),VLOOKUP(CONCATENATE(A274,B274,C274),Base!$D$9:$G$386,4,FALSE))),\"\")","v":20.25},{"$f":"Products!F274","v":0},{"$f":"IF(ISBLANK(Products!F274),0,IF(LEFT(Products!$Z$7,8)=\"Consumer\",D274*E274,IF(C274=\"500+\",IF(E274>=500,E274*D274),IF(C274=\"1000+\",IF(E274>=1000,E274*D274),IF(C274=\"3000+\",IF(E274>=3000,E274*D274),IF(AND(E274>=VLOOKUP(C274,$M$18:$P$34,3,FALSE),E274<=VLOOKUP(C274,$M$18:$P$34,4,FALSE)),E274*D274))))))","v":0},{"$f":"IF(Products!$Z$7=$J$4,Base!H270,IF(Products!$Z$7=$J$5,Base!#REF!,IF(OR(Products!$Z$7=$J$2,Products!$Z$7=$J$3),Base!AD273)))","v":"BL1213300G-EN"}]
[{"$f":"IF(Products!$Z$7=$J$4,Base!A271,IF(Products!$Z$7=$J$5,Base!#REF!,IF(OR(Products!$Z$7=$J$2,Products!$Z$7=$J$3),Base!Y274)))","v":"GravityZone Security for Mobile"},{"$f":"IF(Products!$Z$7=$J$4,Base!B271,IF(Products!$Z$7=$J$5,Base!#REF!,IF(OR(Products!$Z$7=$J$2,Products!$Z$7=$J$3),Base!Z274)))","v":"3 years"},{"$f":"IF(Products!$Z$7=$J$4,Base!C271,IF(Products!$Z$7=$J$5,Base!#REF!,IF(OR(Products!$Z$7=$J$2,Products!$Z$7=$J$3),Base!AA274)))","v":"500 - 999"},{"$f":"IFERROR(IF(Products!$Z$7=$J$3,VLOOKUP(CONCATENATE(A275,B275,C275),Base!$AB$13:$AC$64,2,FALSE),IF(Products!$Z$7=$J$2,VLOOKUP(CONCATENATE(A275,B275,C275),Base!$AB$13:$AE$64,4,FALSE),VLOOKUP(CONCATENATE(A275,B275,C275),Base!$D$9:$G$386,4,FALSE))),\"\")","v":17.22},{"$f":"Products!F275","v":0},{"$f":"IF(ISBLANK(Products!F275),0,IF(LEFT(Products!$Z$7,8)=\"Consumer\",D275*E275,IF(C275=\"500+\",IF(E275>=500,E275*D275),IF(C275=\"1000+\",IF(E275>=1000,E275*D275),IF(C275=\"3000+\",IF(E275>=3000,E275*D275),IF(AND(E275>=VLOOKUP(C275,$M$18:$P$34,3,FALSE),E275<=VLOOKUP(C275,$M$18:$P$34,4,FALSE)),E275*D275))))))","v":0},{"$f":"IF(Products!$Z$7=$J$4,Base!H271,IF(Products!$Z$7=$J$5,Base!#REF!,IF(OR(Products!$Z$7=$J$2,Products!$Z$7=$J$3),Base!AD274)))","v":"BL1213300H-EN"}]
[{"$f":"IF(Products!$Z$7=$J$4,Base!A272,IF(Products!$Z$7=$J$5,Base!#REF!,IF(OR(Products!$Z$7=$J$2,Products!$Z$7=$J$3),Base!Y275)))","v":"GravityZone Security for Mobile"},{"$f":"IF(Products!$Z$7=$J$4,Base!B272,IF(Products!$Z$7=$J$5,Base!#REF!,IF(OR(Products!$Z$7=$J$2,Products!$Z$7=$J$3),Base!Z275)))","v":"3 years"},{"$f":"IF(Products!$Z$7=$J$4,Base!C272,IF(Products!$Z$7=$J$5,Base!#REF!,IF(OR(Products!$Z$7=$J$2,Products!$Z$7=$J$3),Base!AA275)))","v":"1000 - 2999"},{"$f":"IFERROR(IF(Products!$Z$7=$J$3,VLOOKUP(CONCATENATE(A276,B276,C276),Base!$AB$13:$AC$64,2,FALSE),IF(Products!$Z$7=$J$2,VLOOKUP(CONCATENATE(A276,B276,C276),Base!$AB$13:$AE$64,4,FALSE),VLOOKUP(CONCATENATE(A276,B276,C276),Base!$D$9:$G$386,4,FALSE))),\"\")","v":15.48},{"$f":"Products!F276","v":0},{"$f":"IF(ISBLANK(Products!F276),0,IF(LEFT(Products!$Z$7,8)=\"Consumer\",D276*E276,IF(C276=\"500+\",IF(E276>=500,E276*D276),IF(C276=\"1000+\",IF(E276>=1000,E276*D276),IF(C276=\"3000+\",IF(E276>=3000,E276*D276),IF(AND(E276>=VLOOKUP(C276,$M$18:$P$34,3,FALSE),E276<=VLOOKUP(C276,$M$18:$P$34,4,FALSE)),E276*D276))))))","v":0},{"$f":"IF(Products!$Z$7=$J$4,Base!H272,IF(Products!$Z$7=$J$5,Base!#REF!,IF(OR(Products!$Z$7=$J$2,Products!$Z$7=$J$3),Base!AD275)))","v":"BL1213300I-EN"}]
[{"$f":"IF(Products!$Z$7=$J$4,Base!A273,IF(Products!$Z$7=$J$5,Base!#REF!,IF(OR(Products!$Z$7=$J$2,Products!$Z$7=$J$3),Base!Y276)))","v":"GravityZone Security for Mobile"},{"$f":"IF(Products!$Z$7=$J$4,Base!B273,IF(Products!$Z$7=$J$5,Base!#REF!,IF(OR(Products!$Z$7=$J$2,Products!$Z$7=$J$3),Base!Z276)))","v":"3 years"},{"$f":"IF(Products!$Z$7=$J$4,Base!C273,IF(Products!$Z$7=$J$5,Base!#REF!,IF(OR(Products!$Z$7=$J$2,Products!$Z$7=$J$3),Base!AA276)))","v":"3000+"},{"$f":"IFERROR(IF(Products!$Z$7=$J$3,VLOOKUP(CONCATENATE(A277,B277,C277),Base!$AB$13:$AC$64,2,FALSE),IF(Products!$Z$7=$J$2,VLOOKUP(CONCATENATE(A277,B277,C277),Base!$AB$13:$AE$64,4,FALSE),VLOOKUP(CONCATENATE(A277,B277,C277),Base!$D$9:$G$386,4,FALSE))),\"\")","v":13.74},{"$f":"Products!F277","v":0},{"$f":"IF(ISBLANK(Products!F277),0,IF(LEFT(Products!$Z$7,8)=\"Consumer\",D277*E277,IF(C277=\"500+\",IF(E277>=500,E277*D277),IF(C277=\"1000+\",IF(E277>=1000,E277*D277),IF(C277=\"3000+\",IF(E277>=3000,E277*D277),IF(AND(E277>=VLOOKUP(C277,$M$18:$P$34,3,FALSE),E277<=VLOOKUP(C277,$M$18:$P$34,4,FALSE)),E277*D277))))))","v":0},{"$f":"IF(Products!$Z$7=$J$4,Base!H273,IF(Products!$Z$7=$J$5,Base!#REF!,IF(OR(Products!$Z$7=$J$2,Products!$Z$7=$J$3),Base!AD276)))","v":"BL1213300J-EN"}]
[{"$f":"IF(Products!$Z$7=$J$4,Base!A274,IF(Products!$Z$7=$J$5,Base!#REF!,IF(OR(Products!$Z$7=$J$2,Products!$Z$7=$J$3),Base!Y277)))","v":"Bitdefender Security for Mail Servers - Linux"},{"$f":"IF(Products!$Z$7=$J$4,Base!B274,IF(Products!$Z$7=$J$5,Base!#REF!,IF(OR(Products!$Z$7=$J$2,Products!$Z$7=$J$3),Base!Z277)))","v":"1 year"},{"$f":"IF(Products!$Z$7=$J$4,Base!C274,IF(Products!$Z$7=$J$5,Base!#REF!,IF(OR(Products!$Z$7=$J$2,Products!$Z$7=$J$3),Base!AA277)))","v":"5 - 14"},{"$f":"IFERROR(IF(Products!$Z$7=$J$3,VLOOKUP(CONCATENATE(A278,B278,C278),Base!$AB$13:$AC$64,2,FALSE),IF(Products!$Z$7=$J$2,VLOOKUP(CONCATENATE(A278,B278,C278),Base!$AB$13:$AE$64,4,FALSE),VLOOKUP(CONCATENATE(A278,B278,C278),Base!$D$9:$G$386,4,FALSE))),\"\")","v":23.54},{"$f":"Products!F278","v":0},{"$f":"IF(ISBLANK(Products!F278),0,IF(LEFT(Products!$Z$7,8)=\"Consumer\",D278*E278,IF(C278=\"500+\",IF(E278>=500,E278*D278),IF(C278=\"1000+\",IF(E278>=1000,E278*D278),IF(C278=\"3000+\",IF(E278>=3000,E278*D278),IF(AND(E278>=VLOOKUP(C278,$M$18:$P$34,3,FALSE),E278<=VLOOKUP(C278,$M$18:$P$34,4,FALSE)),E278*D278))))))","v":0},{"$f":"IF(Products!$Z$7=$J$4,Base!H274,IF(Products!$Z$7=$J$5,Base!#REF!,IF(OR(Products!$Z$7=$J$2,Products!$Z$7=$J$3),Base!AD277)))","v":"AL1242100A-EN"}]
[{"$f":"IF(Products!$Z$7=$J$4,Base!A275,IF(Products!$Z$7=$J$5,Base!#REF!,IF(OR(Products!$Z$7=$J$2,Products!$Z$7=$J$3),Base!Y278)))","v":"Bitdefender Security for Mail Servers - Linux"},{"$f":"IF(Products!$Z$7=$J$4,Base!B275,IF(Products!$Z$7=$J$5,Base!#REF!,IF(OR(Products!$Z$7=$J$2,Products!$Z$7=$J$3),Base!Z278)))","v":"1 year"},{"$f":"IF(Products!$Z$7=$J$4,Base!C275,IF(Products!$Z$7=$J$5,Base!#REF!,IF(OR(Products!$Z$7=$J$2,Products!$Z$7=$J$3),Base!AA278)))","v":"15 - 24"},{"$f":"IFERROR(IF(Products!$Z$7=$J$3,VLOOKUP(CONCATENATE(A279,B279,C279),Base!$AB$13:$AC$64,2,FALSE),IF(Products!$Z$7=$J$2,VLOOKUP(CONCATENATE(A279,B279,C279),Base!$AB$13:$AE$64,4,FALSE),VLOOKUP(CONCATENATE(A279,B279,C279),Base!$D$9:$G$386,4,FALSE))),\"\")","v":21.39},{"$f":"Products!F279","v":0},{"$f":"IF(ISBLANK(Products!F279),0,IF(LEFT(Products!$Z$7,8)=\"Consumer\",D279*E279,IF(C279=\"500+\",IF(E279>=500,E279*D279),IF(C279=\"1000+\",IF(E279>=1000,E279*D279),IF(C279=\"3000+\",IF(E279>=3000,E279*D279),IF(AND(E279>=VLOOKUP(C279,$M$18:$P$34,3,FALSE),E279<=VLOOKUP(C279,$M$18:$P$34,4,FALSE)),E279*D279))))))","v":0},{"$f":"IF(Products!$Z$7=$J$4,Base!H275,IF(Products!$Z$7=$J$5,Base!#REF!,IF(OR(Products!$Z$7=$J$2,Products!$Z$7=$J$3),Base!AD278)))","v":"AL1242100B-EN"}]
[{"$f":"IF(Products!$Z$7=$J$4,Base!A276,IF(Products!$Z$7=$J$5,Base!#REF!,IF(OR(Products!$Z$7=$J$2,Products!$Z$7=$J$3),Base!Y279)))","v":"Bitdefender Security for Mail Servers - Linux"},{"$f":"IF(Products!$Z$7=$J$4,Base!B276,IF(Products!$Z$7=$J$5,Base!#REF!,IF(OR(Products!$Z$7=$J$2,Products!$Z$7=$J$3),Base!Z279)))","v":"1 year"},{"$f":"IF(Products!$Z$7=$J$4,Base!C276,IF(Products!$Z$7=$J$5,Base!#REF!,IF(OR(Products!$Z$7=$J$2,Products!$Z$7=$J$3),Base!AA279)))","v":"25 - 49"},{"$f":"IFERROR(IF(Products!$Z$7=$J$3,VLOOKUP(CONCATENATE(A280,B280,C280),Base!$AB$13:$AC$64,2,FALSE),IF(Products!$Z$7=$J$2,VLOOKUP(CONCATENATE(A280,B280,C280),Base!$AB$13:$AE$64,4,FALSE),VLOOKUP(CONCATENATE(A280,B280,C280),Base!$D$9:$G$386,4,FALSE))),\"\")","v":19.25},{"$f":"Products!F280","v":0},{"$f":"IF(ISBLANK(Products!F280),0,IF(LEFT(Products!$Z$7,8)=\"Consumer\",D280*E280,IF(C280=\"500+\",IF(E280>=500,E280*D280),IF(C280=\"1000+\",IF(E280>=1000,E280*D280),IF(C280=\"3000+\",IF(E280>=3000,E280*D280),IF(AND(E280>=VLOOKUP(C280,$M$18:$P$34,3,FALSE),E280<=VLOOKUP(C280,$M$18:$P$34,4,FALSE)),E280*D280))))))","v":0},{"$f":"IF(Products!$Z$7=$J$4,Base!H276,IF(Products!$Z$7=$J$5,Base!#REF!,IF(OR(Products!$Z$7=$J$2,Products!$Z$7=$J$3),Base!AD279)))","v":"AL1242100C-EN"}]
[{"$f":"IF(Products!$Z$7=$J$4,Base!A277,IF(Products!$Z$7=$J$5,Base!#REF!,IF(OR(Products!$Z$7=$J$2,Products!$Z$7=$J$3),Base!Y280)))","v":"Bitdefender Security for Mail Servers - Linux"},{"$f":"IF(Products!$Z$7=$J$4,Base!B277,IF(Products!$Z$7=$J$5,Base!#REF!,IF(OR(Products!$Z$7=$J$2,Products!$Z$7=$J$3),Base!Z280)))","v":"1 year"},{"$f":"IF(Products!$Z$7=$J$4,Base!C277,IF(Products!$Z$7=$J$5,Base!#REF!,IF(OR(Products!$Z$7=$J$2,Products!$Z$7=$J$3),Base!AA280)))","v":"50 - 99"},{"$f":"IFERROR(IF(Products!$Z$7=$J$3,VLOOKUP(CONCATENATE(A281,B281,C281),Base!$AB$13:$AC$64,2,FALSE),IF(Products!$Z$7=$J$2,VLOOKUP(CONCATENATE(A281,B281,C281),Base!$AB$13:$AE$64,4,FALSE),VLOOKUP(CONCATENATE(A281,B281,C281),Base!$D$9:$G$386,4,FALSE))),\"\")","v":17.47},{"$f":"Products!F281","v":0},{"$f":"IF(ISBLANK(Products!F281),0,IF(LEFT(Products!$Z$7,8)=\"Consumer\",D281*E281,IF(C281=\"500+\",IF(E281>=500,E281*D281),IF(C281=\"1000+\",IF(E281>=1000,E281*D281),IF(C281=\"3000+\",IF(E281>=3000,E281*D281),IF(AND(E281>=VLOOKUP(C281,$M$18:$P$34,3,FALSE),E281<=VLOOKUP(C281,$M$18:$P$34,4,FALSE)),E281*D281))))))","v":0},{"$f":"IF(Products!$Z$7=$J$4,Base!H277,IF(Products!$Z$7=$J$5,Base!#REF!,IF(OR(Products!$Z$7=$J$2,Products!$Z$7=$J$3),Base!AD280)))","v":"AL1242100D-EN"}]
[{"$f":"IF(Products!$Z$7=$J$4,Base!A278,IF(Products!$Z$7=$J$5,Base!#REF!,IF(OR(Products!$Z$7=$J$2,Products!$Z$7=$J$3),Base!Y281)))","v":"Bitdefender Security for Mail Servers - Linux"},{"$f":"IF(Products!$Z$7=$J$4,Base!B278,IF(Products!$Z$7=$J$5,Base!#REF!,IF(OR(Products!$Z$7=$J$2,Products!$Z$7=$J$3),Base!Z281)))","v":"1 year"},{"$f":"IF(Products!$Z$7=$J$4,Base!C278,IF(Products!$Z$7=$J$5,Base!#REF!,IF(OR(Products!$Z$7=$J$2,Products!$Z$7=$J$3),Base!AA281)))","v":"100 - 149"},{"$f":"IFERROR(IF(Products!$Z$7=$J$3,VLOOKUP(CONCATENATE(A282,B282,C282),Base!$AB$13:$AC$64,2,FALSE),IF(Products!$Z$7=$J$2,VLOOKUP(CONCATENATE(A282,B282,C282),Base!$AB$13:$AE$64,4,FALSE),VLOOKUP(CONCATENATE(A282,B282,C282),Base!$D$9:$G$386,4,FALSE))),\"\")","v":15.68},{"$f":"Products!F282","v":0},{"$f":"IF(ISBLANK(Products!F282),0,IF(LEFT(Products!$Z$7,8)=\"Consumer\",D282*E282,IF(C282=\"500+\",IF(E282>=500,E282*D282),IF(C282=\"1000+\",IF(E282>=1000,E282*D282),IF(C282=\"3000+\",IF(E282>=3000,E282*D282),IF(AND(E282>=VLOOKUP(C282,$M$18:$P$34,3,FALSE),E282<=VLOOKUP(C282,$M$18:$P$34,4,FALSE)),E282*D282))))))","v":0},{"$f":"IF(Products!$Z$7=$J$4,Base!H278,IF(Products!$Z$7=$J$5,Base!#REF!,IF(OR(Products!$Z$7=$J$2,Products!$Z$7=$J$3),Base!AD281)))","v":"AL1242100E-EN"}]
[{"$f":"IF(Products!$Z$7=$J$4,Base!A279,IF(Products!$Z$7=$J$5,Base!#REF!,IF(OR(Products!$Z$7=$J$2,Products!$Z$7=$J$3),Base!Y282)))","v":"Bitdefender Security for Mail Servers - Linux"},{"$f":"IF(Products!$Z$7=$J$4,Base!B279,IF(Products!$Z$7=$J$5,Base!#REF!,IF(OR(Products!$Z$7=$J$2,Products!$Z$7=$J$3),Base!Z282)))","v":"1 year"},{"$f":"IF(Products!$Z$7=$J$4,Base!C279,IF(Products!$Z$7=$J$5,Base!#REF!,IF(OR(Products!$Z$7=$J$2,Products!$Z$7=$J$3),Base!AA282)))","v":"150 - 249"},{"$f":"IFERROR(IF(Products!$Z$7=$J$3,VLOOKUP(CONCATENATE(A283,B283,C283),Base!$AB$13:$AC$64,2,FALSE),IF(Products!$Z$7=$J$2,VLOOKUP(CONCATENATE(A283,B283,C283),Base!$AB$13:$AE$64,4,FALSE),VLOOKUP(CONCATENATE(A283,B283,C283),Base!$D$9:$G$386,4,FALSE))),\"\")","v":14.39},{"$f":"Products!F283","v":0},{"$f":"IF(ISBLANK(Products!F283),0,IF(LEFT(Products!$Z$7,8)=\"Consumer\",D283*E283,IF(C283=\"500+\",IF(E283>=500,E283*D283),IF(C283=\"1000+\",IF(E283>=1000,E283*D283),IF(C283=\"3000+\",IF(E283>=3000,E283*D283),IF(AND(E283>=VLOOKUP(C283,$M$18:$P$34,3,FALSE),E283<=VLOOKUP(C283,$M$18:$P$34,4,FALSE)),E283*D283))))))","v":0},{"$f":"IF(Products!$Z$7=$J$4,Base!H279,IF(Products!$Z$7=$J$5,Base!#REF!,IF(OR(Products!$Z$7=$J$2,Products!$Z$7=$J$3),Base!AD282)))","v":"AL1242100F-EN"}]
[{"$f":"IF(Products!$Z$7=$J$4,Base!A280,IF(Products!$Z$7=$J$5,Base!#REF!,IF(OR(Products!$Z$7=$J$2,Products!$Z$7=$J$3),Base!Y283)))","v":"Bitdefender Security for Mail Servers - Linux"},{"$f":"IF(Products!$Z$7=$J$4,Base!B280,IF(Products!$Z$7=$J$5,Base!#REF!,IF(OR(Products!$Z$7=$J$2,Products!$Z$7=$J$3),Base!Z283)))","v":"1 year"},{"$f":"IF(Products!$Z$7=$J$4,Base!C280,IF(Products!$Z$7=$J$5,Base!#REF!,IF(OR(Products!$Z$7=$J$2,Products!$Z$7=$J$3),Base!AA283)))","v":"250 - 499"},{"$f":"IFERROR(IF(Products!$Z$7=$J$3,VLOOKUP(CONCATENATE(A284,B284,C284),Base!$AB$13:$AC$64,2,FALSE),IF(Products!$Z$7=$J$2,VLOOKUP(CONCATENATE(A284,B284,C284),Base!$AB$13:$AE$64,4,FALSE),VLOOKUP(CONCATENATE(A284,B284,C284),Base!$D$9:$G$386,4,FALSE))),\"\")","v":13.18},{"$f":"Products!F284","v":0},{"$f":"IF(ISBLANK(Products!F284),0,IF(LEFT(Products!$Z$7,8)=\"Consumer\",D284*E284,IF(C284=\"500+\",IF(E284>=500,E284*D284),IF(C284=\"1000+\",IF(E284>=1000,E284*D284),IF(C284=\"3000+\",IF(E284>=3000,E284*D284),IF(AND(E284>=VLOOKUP(C284,$M$18:$P$34,3,FALSE),E284<=VLOOKUP(C284,$M$18:$P$34,4,FALSE)),E284*D284))))))","v":0},{"$f":"IF(Products!$Z$7=$J$4,Base!H280,IF(Products!$Z$7=$J$5,Base!#REF!,IF(OR(Products!$Z$7=$J$2,Products!$Z$7=$J$3),Base!AD283)))","v":"AL1242100G-EN"}]
[{"$f":"IF(Products!$Z$7=$J$4,Base!A281,IF(Products!$Z$7=$J$5,Base!#REF!,IF(OR(Products!$Z$7=$J$2,Products!$Z$7=$J$3),Base!Y284)))","v":"Bitdefender Security for Mail Servers - Linux"},{"$f":"IF(Products!$Z$7=$J$4,Base!B281,IF(Products!$Z$7=$J$5,Base!#REF!,IF(OR(Products!$Z$7=$J$2,Products!$Z$7=$J$3),Base!Z284)))","v":"1 year"},{"$f":"IF(Products!$Z$7=$J$4,Base!C281,IF(Products!$Z$7=$J$5,Base!#REF!,IF(OR(Products!$Z$7=$J$2,Products!$Z$7=$J$3),Base!AA284)))","v":"500 - 999"},{"$f":"IFERROR(IF(Products!$Z$7=$J$3,VLOOKUP(CONCATENATE(A285,B285,C285),Base!$AB$13:$AC$64,2,FALSE),IF(Products!$Z$7=$J$2,VLOOKUP(CONCATENATE(A285,B285,C285),Base!$AB$13:$AE$64,4,FALSE),VLOOKUP(CONCATENATE(A285,B285,C285),Base!$D$9:$G$386,4,FALSE))),\"\")","v":12.1},{"$f":"Products!F285","v":0},{"$f":"IF(ISBLANK(Products!F285),0,IF(LEFT(Products!$Z$7,8)=\"Consumer\",D285*E285,IF(C285=\"500+\",IF(E285>=500,E285*D285),IF(C285=\"1000+\",IF(E285>=1000,E285*D285),IF(C285=\"3000+\",IF(E285>=3000,E285*D285),IF(AND(E285>=VLOOKUP(C285,$M$18:$P$34,3,FALSE),E285<=VLOOKUP(C285,$M$18:$P$34,4,FALSE)),E285*D285))))))","v":0},{"$f":"IF(Products!$Z$7=$J$4,Base!H281,IF(Products!$Z$7=$J$5,Base!#REF!,IF(OR(Products!$Z$7=$J$2,Products!$Z$7=$J$3),Base!AD284)))","v":"AL1242100H-EN"}]
[{"$f":"IF(Products!$Z$7=$J$4,Base!A282,IF(Products!$Z$7=$J$5,Base!#REF!,IF(OR(Products!$Z$7=$J$2,Products!$Z$7=$J$3),Base!Y285)))","v":"Bitdefender Security for Mail Servers - Linux"},{"$f":"IF(Products!$Z$7=$J$4,Base!B282,IF(Products!$Z$7=$J$5,Base!#REF!,IF(OR(Products!$Z$7=$J$2,Products!$Z$7=$J$3),Base!Z285)))","v":"1 year"},{"$f":"IF(Products!$Z$7=$J$4,Base!C282,IF(Products!$Z$7=$J$5,Base!#REF!,IF(OR(Products!$Z$7=$J$2,Products!$Z$7=$J$3),Base!AA285)))","v":"1000 - 2999"},{"$f":"IFERROR(IF(Products!$Z$7=$J$3,VLOOKUP(CONCATENATE(A286,B286,C286),Base!$AB$13:$AC$64,2,FALSE),IF(Products!$Z$7=$J$2,VLOOKUP(CONCATENATE(A286,B286,C286),Base!$AB$13:$AE$64,4,FALSE),VLOOKUP(CONCATENATE(A286,B286,C286),Base!$D$9:$G$386,4,FALSE))),\"\")","v":11.03},{"$f":"Products!F286","v":0},{"$f":"IF(ISBLANK(Products!F286),0,IF(LEFT(Products!$Z$7,8)=\"Consumer\",D286*E286,IF(C286=\"500+\",IF(E286>=500,E286*D286),IF(C286=\"1000+\",IF(E286>=1000,E286*D286),IF(C286=\"3000+\",IF(E286>=3000,E286*D286),IF(AND(E286>=VLOOKUP(C286,$M$18:$P$34,3,FALSE),E286<=VLOOKUP(C286,$M$18:$P$34,4,FALSE)),E286*D286))))))","v":0},{"$f":"IF(Products!$Z$7=$J$4,Base!H282,IF(Products!$Z$7=$J$5,Base!#REF!,IF(OR(Products!$Z$7=$J$2,Products!$Z$7=$J$3),Base!AD285)))","v":"AL1242100I-EN"}]
[{"$f":"IF(Products!$Z$7=$J$4,Base!A283,IF(Products!$Z$7=$J$5,Base!#REF!,IF(OR(Products!$Z$7=$J$2,Products!$Z$7=$J$3),Base!Y286)))","v":"Bitdefender Security for Mail Servers - Linux"},{"$f":"IF(Products!$Z$7=$J$4,Base!B283,IF(Products!$Z$7=$J$5,Base!#REF!,IF(OR(Products!$Z$7=$J$2,Products!$Z$7=$J$3),Base!Z286)))","v":"1 year"},{"$f":"IF(Products!$Z$7=$J$4,Base!C283,IF(Products!$Z$7=$J$5,Base!#REF!,IF(OR(Products!$Z$7=$J$2,Products!$Z$7=$J$3),Base!AA286)))","v":"3000+"},{"$f":"IFERROR(IF(Products!$Z$7=$J$3,VLOOKUP(CONCATENATE(A287,B287,C287),Base!$AB$13:$AC$64,2,FALSE),IF(Products!$Z$7=$J$2,VLOOKUP(CONCATENATE(A287,B287,C287),Base!$AB$13:$AE$64,4,FALSE),VLOOKUP(CONCATENATE(A287,B287,C287),Base!$D$9:$G$386,4,FALSE))),\"\")","v":9.9600000000000009},{"$f":"Products!F287","v":0},{"$f":"IF(ISBLANK(Products!F287),0,IF(LEFT(Products!$Z$7,8)=\"Consumer\",D287*E287,IF(C287=\"500+\",IF(E287>=500,E287*D287),IF(C287=\"1000+\",IF(E287>=1000,E287*D287),IF(C287=\"3000+\",IF(E287>=3000,E287*D287),IF(AND(E287>=VLOOKUP(C287,$M$18:$P$34,3,FALSE),E287<=VLOOKUP(C287,$M$18:$P$34,4,FALSE)),E287*D287))))))","v":0},{"$f":"IF(Products!$Z$7=$J$4,Base!H283,IF(Products!$Z$7=$J$5,Base!#REF!,IF(OR(Products!$Z$7=$J$2,Products!$Z$7=$J$3),Base!AD286)))","v":"AL1242100J-EN"}]
[{"$f":"IF(Products!$Z$7=$J$4,Base!A284,IF(Products!$Z$7=$J$5,Base!#REF!,IF(OR(Products!$Z$7=$J$2,Products!$Z$7=$J$3),Base!Y287)))","v":"Bitdefender Security for Mail Servers - Linux"},{"$f":"IF(Products!$Z$7=$J$4,Base!B284,IF(Products!$Z$7=$J$5,Base!#REF!,IF(OR(Products!$Z$7=$J$2,Products!$Z$7=$J$3),Base!Z287)))","v":"2 years"},{"$f":"IF(Products!$Z$7=$J$4,Base!C284,IF(Products!$Z$7=$J$5,Base!#REF!,IF(OR(Products!$Z$7=$J$2,Products!$Z$7=$J$3),Base!AA287)))","v":"5 - 14"},{"$f":"IFERROR(IF(Products!$Z$7=$J$3,VLOOKUP(CONCATENATE(A288,B288,C288),Base!$AB$13:$AC$64,2,FALSE),IF(Products!$Z$7=$J$2,VLOOKUP(CONCATENATE(A288,B288,C288),Base!$AB$13:$AE$64,4,FALSE),VLOOKUP(CONCATENATE(A288,B288,C288),Base!$D$9:$G$386,4,FALSE))),\"\")","v":37.659999999999997},{"$f":"Products!F288","v":0},{"$f":"IF(ISBLANK(Products!F288),0,IF(LEFT(Products!$Z$7,8)=\"Consumer\",D288*E288,IF(C288=\"500+\",IF(E288>=500,E288*D288),IF(C288=\"1000+\",IF(E288>=1000,E288*D288),IF(C288=\"3000+\",IF(E288>=3000,E288*D288),IF(AND(E288>=VLOOKUP(C288,$M$18:$P$34,3,FALSE),E288<=VLOOKUP(C288,$M$18:$P$34,4,FALSE)),E288*D288))))))","v":0},{"$f":"IF(Products!$Z$7=$J$4,Base!H284,IF(Products!$Z$7=$J$5,Base!#REF!,IF(OR(Products!$Z$7=$J$2,Products!$Z$7=$J$3),Base!AD287)))","v":"AL1242200A-EN"}]
[{"$f":"IF(Products!$Z$7=$J$4,Base!A285,IF(Products!$Z$7=$J$5,Base!#REF!,IF(OR(Products!$Z$7=$J$2,Products!$Z$7=$J$3),Base!Y288)))","v":"Bitdefender Security for Mail Servers - Linux"},{"$f":"IF(Products!$Z$7=$J$4,Base!B285,IF(Products!$Z$7=$J$5,Base!#REF!,IF(OR(Products!$Z$7=$J$2,Products!$Z$7=$J$3),Base!Z288)))","v":"2 years"},{"$f":"IF(Products!$Z$7=$J$4,Base!C285,IF(Products!$Z$7=$J$5,Base!#REF!,IF(OR(Products!$Z$7=$J$2,Products!$Z$7=$J$3),Base!AA288)))","v":"15 - 24"},{"$f":"IFERROR(IF(Products!$Z$7=$J$3,VLOOKUP(CONCATENATE(A289,B289,C289),Base!$AB$13:$AC$64,2,FALSE),IF(Products!$Z$7=$J$2,VLOOKUP(CONCATENATE(A289,B289,C289),Base!$AB$13:$AE$64,4,FALSE),VLOOKUP(CONCATENATE(A289,B289,C289),Base!$D$9:$G$386,4,FALSE))),\"\")","v":34.229999999999997},{"$f":"Products!F289","v":0},{"$f":"IF(ISBLANK(Products!F289),0,IF(LEFT(Products!$Z$7,8)=\"Consumer\",D289*E289,IF(C289=\"500+\",IF(E289>=500,E289*D289),IF(C289=\"1000+\",IF(E289>=1000,E289*D289),IF(C289=\"3000+\",IF(E289>=3000,E289*D289),IF(AND(E289>=VLOOKUP(C289,$M$18:$P$34,3,FALSE),E289<=VLOOKUP(C289,$M$18:$P$34,4,FALSE)),E289*D289))))))","v":0},{"$f":"IF(Products!$Z$7=$J$4,Base!H285,IF(Products!$Z$7=$J$5,Base!#REF!,IF(OR(Products!$Z$7=$J$2,Products!$Z$7=$J$3),Base!AD288)))","v":"AL1242200B-EN"}]
[{"$f":"IF(Products!$Z$7=$J$4,Base!A286,IF(Products!$Z$7=$J$5,Base!#REF!,IF(OR(Products!$Z$7=$J$2,Products!$Z$7=$J$3),Base!Y289)))","v":"Bitdefender Security for Mail Servers - Linux"},{"$f":"IF(Products!$Z$7=$J$4,Base!B286,IF(Products!$Z$7=$J$5,Base!#REF!,IF(OR(Products!$Z$7=$J$2,Products!$Z$7=$J$3),Base!Z289)))","v":"2 years"},{"$f":"IF(Products!$Z$7=$J$4,Base!C286,IF(Products!$Z$7=$J$5,Base!#REF!,IF(OR(Products!$Z$7=$J$2,Products!$Z$7=$J$3),Base!AA289)))","v":"25 - 49"},{"$f":"IFERROR(IF(Products!$Z$7=$J$3,VLOOKUP(CONCATENATE(A290,B290,C290),Base!$AB$13:$AC$64,2,FALSE),IF(Products!$Z$7=$J$2,VLOOKUP(CONCATENATE(A290,B290,C290),Base!$AB$13:$AE$64,4,FALSE),VLOOKUP(CONCATENATE(A290,B290,C290),Base!$D$9:$G$386,4,FALSE))),\"\")","v":30.8},{"$f":"Products!F290","v":0},{"$f":"IF(ISBLANK(Products!F290),0,IF(LEFT(Products!$Z$7,8)=\"Consumer\",D290*E290,IF(C290=\"500+\",IF(E290>=500,E290*D290),IF(C290=\"1000+\",IF(E290>=1000,E290*D290),IF(C290=\"3000+\",IF(E290>=3000,E290*D290),IF(AND(E290>=VLOOKUP(C290,$M$18:$P$34,3,FALSE),E290<=VLOOKUP(C290,$M$18:$P$34,4,FALSE)),E290*D290))))))","v":0},{"$f":"IF(Products!$Z$7=$J$4,Base!H286,IF(Products!$Z$7=$J$5,Base!#REF!,IF(OR(Products!$Z$7=$J$2,Products!$Z$7=$J$3),Base!AD289)))","v":"AL1242200C-EN"}]
[{"$f":"IF(Products!$Z$7=$J$4,Base!A287,IF(Products!$Z$7=$J$5,Base!#REF!,IF(OR(Products!$Z$7=$J$2,Products!$Z$7=$J$3),Base!Y290)))","v":"Bitdefender Security for Mail Servers - Linux"},{"$f":"IF(Products!$Z$7=$J$4,Base!B287,IF(Products!$Z$7=$J$5,Base!#REF!,IF(OR(Products!$Z$7=$J$2,Products!$Z$7=$J$3),Base!Z290)))","v":"2 years"},{"$f":"IF(Products!$Z$7=$J$4,Base!C287,IF(Products!$Z$7=$J$5,Base!#REF!,IF(OR(Products!$Z$7=$J$2,Products!$Z$7=$J$3),Base!AA290)))","v":"50 - 99"},{"$f":"IFERROR(IF(Products!$Z$7=$J$3,VLOOKUP(CONCATENATE(A291,B291,C291),Base!$AB$13:$AC$64,2,FALSE),IF(Products!$Z$7=$J$2,VLOOKUP(CONCATENATE(A291,B291,C291),Base!$AB$13:$AE$64,4,FALSE),VLOOKUP(CONCATENATE(A291,B291,C291),Base!$D$9:$G$386,4,FALSE))),\"\")","v":27.95},{"$f":"Products!F291","v":0},{"$f":"IF(ISBLANK(Products!F291),0,IF(LEFT(Products!$Z$7,8)=\"Consumer\",D291*E291,IF(C291=\"500+\",IF(E291>=500,E291*D291),IF(C291=\"1000+\",IF(E291>=1000,E291*D291),IF(C291=\"3000+\",IF(E291>=3000,E291*D291),IF(AND(E291>=VLOOKUP(C291,$M$18:$P$34,3,FALSE),E291<=VLOOKUP(C291,$M$18:$P$34,4,FALSE)),E291*D291))))))","v":0},{"$f":"IF(Products!$Z$7=$J$4,Base!H287,IF(Products!$Z$7=$J$5,Base!#REF!,IF(OR(Products!$Z$7=$J$2,Products!$Z$7=$J$3),Base!AD290)))","v":"AL1242200D-EN"}]
[{"$f":"IF(Products!$Z$7=$J$4,Base!A288,IF(Products!$Z$7=$J$5,Base!#REF!,IF(OR(Products!$Z$7=$J$2,Products!$Z$7=$J$3),Base!Y291)))","v":"Bitdefender Security for Mail Servers - Linux"},{"$f":"IF(Products!$Z$7=$J$4,Base!B288,IF(Products!$Z$7=$J$5,Base!#REF!,IF(OR(Products!$Z$7=$J$2,Products!$Z$7=$J$3),Base!Z291)))","v":"2 years"},{"$f":"IF(Products!$Z$7=$J$4,Base!C288,IF(Products!$Z$7=$J$5,Base!#REF!,IF(OR(Products!$Z$7=$J$2,Products!$Z$7=$J$3),Base!AA291)))","v":"100 - 149"},{"$f":"IFERROR(IF(Products!$Z$7=$J$3,VLOOKUP(CONCATENATE(A292,B292,C292),Base!$AB$13:$AC$64,2,FALSE),IF(Products!$Z$7=$J$2,VLOOKUP(CONCATENATE(A292,B292,C292),Base!$AB$13:$AE$64,4,FALSE),VLOOKUP(CONCATENATE(A292,B292,C292),Base!$D$9:$G$386,4,FALSE))),\"\")","v":25.09},{"$f":"Products!F292","v":0},{"$f":"IF(ISBLANK(Products!F292),0,IF(LEFT(Products!$Z$7,8)=\"Consumer\",D292*E292,IF(C292=\"500+\",IF(E292>=500,E292*D292),IF(C292=\"1000+\",IF(E292>=1000,E292*D292),IF(C292=\"3000+\",IF(E292>=3000,E292*D292),IF(AND(E292>=VLOOKUP(C292,$M$18:$P$34,3,FALSE),E292<=VLOOKUP(C292,$M$18:$P$34,4,FALSE)),E292*D292))))))","v":0},{"$f":"IF(Products!$Z$7=$J$4,Base!H288,IF(Products!$Z$7=$J$5,Base!#REF!,IF(OR(Products!$Z$7=$J$2,Products!$Z$7=$J$3),Base!AD291)))","v":"AL1242200E-EN"}]
[{"$f":"IF(Products!$Z$7=$J$4,Base!A289,IF(Products!$Z$7=$J$5,Base!#REF!,IF(OR(Products!$Z$7=$J$2,Products!$Z$7=$J$3),Base!Y292)))","v":"Bitdefender Security for Mail Servers - Linux"},{"$f":"IF(Products!$Z$7=$J$4,Base!B289,IF(Products!$Z$7=$J$5,Base!#REF!,IF(OR(Products!$Z$7=$J$2,Products!$Z$7=$J$3),Base!Z292)))","v":"2 years"},{"$f":"IF(Products!$Z$7=$J$4,Base!C289,IF(Products!$Z$7=$J$5,Base!#REF!,IF(OR(Products!$Z$7=$J$2,Products!$Z$7=$J$3),Base!AA292)))","v":"150 - 249"},{"$f":"IFERROR(IF(Products!$Z$7=$J$3,VLOOKUP(CONCATENATE(A293,B293,C293),Base!$AB$13:$AC$64,2,FALSE),IF(Products!$Z$7=$J$2,VLOOKUP(CONCATENATE(A293,B293,C293),Base!$AB$13:$AE$64,4,FALSE),VLOOKUP(CONCATENATE(A293,B293,C293),Base!$D$9:$G$386,4,FALSE))),\"\")","v":23.02},{"$f":"Products!F293","v":0},{"$f":"IF(ISBLANK(Products!F293),0,IF(LEFT(Products!$Z$7,8)=\"Consumer\",D293*E293,IF(C293=\"500+\",IF(E293>=500,E293*D293),IF(C293=\"1000+\",IF(E293>=1000,E293*D293),IF(C293=\"3000+\",IF(E293>=3000,E293*D293),IF(AND(E293>=VLOOKUP(C293,$M$18:$P$34,3,FALSE),E293<=VLOOKUP(C293,$M$18:$P$34,4,FALSE)),E293*D293))))))","v":0},{"$f":"IF(Products!$Z$7=$J$4,Base!H289,IF(Products!$Z$7=$J$5,Base!#REF!,IF(OR(Products!$Z$7=$J$2,Products!$Z$7=$J$3),Base!AD292)))","v":"AL1242200F-EN"}]
[{"$f":"IF(Products!$Z$7=$J$4,Base!A290,IF(Products!$Z$7=$J$5,Base!#REF!,IF(OR(Products!$Z$7=$J$2,Products!$Z$7=$J$3),Base!Y293)))","v":"Bitdefender Security for Mail Servers - Linux"},{"$f":"IF(Products!$Z$7=$J$4,Base!B290,IF(Products!$Z$7=$J$5,Base!#REF!,IF(OR(Products!$Z$7=$J$2,Products!$Z$7=$J$3),Base!Z293)))","v":"2 years"},{"$f":"IF(Products!$Z$7=$J$4,Base!C290,IF(Products!$Z$7=$J$5,Base!#REF!,IF(OR(Products!$Z$7=$J$2,Products!$Z$7=$J$3),Base!AA293)))","v":"250 - 499"},{"$f":"IFERROR(IF(Products!$Z$7=$J$3,VLOOKUP(CONCATENATE(A294,B294,C294),Base!$AB$13:$AC$64,2,FALSE),IF(Products!$Z$7=$J$2,VLOOKUP(CONCATENATE(A294,B294,C294),Base!$AB$13:$AE$64,4,FALSE),VLOOKUP(CONCATENATE(A294,B294,C294),Base!$D$9:$G$386,4,FALSE))),\"\")","v":21.08},{"$f":"Products!F294","v":0},{"$f":"IF(ISBLANK(Products!F294),0,IF(LEFT(Products!$Z$7,8)=\"Consumer\",D294*E294,IF(C294=\"500+\",IF(E294>=500,E294*D294),IF(C294=\"1000+\",IF(E294>=1000,E294*D294),IF(C294=\"3000+\",IF(E294>=3000,E294*D294),IF(AND(E294>=VLOOKUP(C294,$M$18:$P$34,3,FALSE),E294<=VLOOKUP(C294,$M$18:$P$34,4,FALSE)),E294*D294))))))","v":0},{"$f":"IF(Products!$Z$7=$J$4,Base!H290,IF(Products!$Z$7=$J$5,Base!#REF!,IF(OR(Products!$Z$7=$J$2,Products!$Z$7=$J$3),Base!AD293)))","v":"AL1242200G-EN"}]
[{"$f":"IF(Products!$Z$7=$J$4,Base!A291,IF(Products!$Z$7=$J$5,Base!#REF!,IF(OR(Products!$Z$7=$J$2,Products!$Z$7=$J$3),Base!Y294)))","v":"Bitdefender Security for Mail Servers - Linux"},{"$f":"IF(Products!$Z$7=$J$4,Base!B291,IF(Products!$Z$7=$J$5,Base!#REF!,IF(OR(Products!$Z$7=$J$2,Products!$Z$7=$J$3),Base!Z294)))","v":"2 years"},{"$f":"IF(Products!$Z$7=$J$4,Base!C291,IF(Products!$Z$7=$J$5,Base!#REF!,IF(OR(Products!$Z$7=$J$2,Products!$Z$7=$J$3),Base!AA294)))","v":"500 - 999"},{"$f":"IFERROR(IF(Products!$Z$7=$J$3,VLOOKUP(CONCATENATE(A295,B295,C295),Base!$AB$13:$AC$64,2,FALSE),IF(Products!$Z$7=$J$2,VLOOKUP(CONCATENATE(A295,B295,C295),Base!$AB$13:$AE$64,4,FALSE),VLOOKUP(CONCATENATE(A295,B295,C295),Base!$D$9:$G$386,4,FALSE))),\"\")","v":19.37},{"$f":"Products!F295","v":0},{"$f":"IF(ISBLANK(Products!F295),0,IF(LEFT(Products!$Z$7,8)=\"Consumer\",D295*E295,IF(C295=\"500+\",IF(E295>=500,E295*D295),IF(C295=\"1000+\",IF(E295>=1000,E295*D295),IF(C295=\"3000+\",IF(E295>=3000,E295*D295),IF(AND(E295>=VLOOKUP(C295,$M$18:$P$34,3,FALSE),E295<=VLOOKUP(C295,$M$18:$P$34,4,FALSE)),E295*D295))))))","v":0},{"$f":"IF(Products!$Z$7=$J$4,Base!H291,IF(Products!$Z$7=$J$5,Base!#REF!,IF(OR(Products!$Z$7=$J$2,Products!$Z$7=$J$3),Base!AD294)))","v":"AL1242200H-EN"}]
[{"$f":"IF(Products!$Z$7=$J$4,Base!A292,IF(Products!$Z$7=$J$5,Base!#REF!,IF(OR(Products!$Z$7=$J$2,Products!$Z$7=$J$3),Base!Y295)))","v":"Bitdefender Security for Mail Servers - Linux"},{"$f":"IF(Products!$Z$7=$J$4,Base!B292,IF(Products!$Z$7=$J$5,Base!#REF!,IF(OR(Products!$Z$7=$J$2,Products!$Z$7=$J$3),Base!Z295)))","v":"2 years"},{"$f":"IF(Products!$Z$7=$J$4,Base!C292,IF(Products!$Z$7=$J$5,Base!#REF!,IF(OR(Products!$Z$7=$J$2,Products!$Z$7=$J$3),Base!AA295)))","v":"1000 - 2999"},{"$f":"IFERROR(IF(Products!$Z$7=$J$3,VLOOKUP(CONCATENATE(A296,B296,C296),Base!$AB$13:$AC$64,2,FALSE),IF(Products!$Z$7=$J$2,VLOOKUP(CONCATENATE(A296,B296,C296),Base!$AB$13:$AE$64,4,FALSE),VLOOKUP(CONCATENATE(A296,B296,C296),Base!$D$9:$G$386,4,FALSE))),\"\")","v":17.649999999999999},{"$f":"Products!F296","v":0},{"$f":"IF(ISBLANK(Products!F296),0,IF(LEFT(Products!$Z$7,8)=\"Consumer\",D296*E296,IF(C296=\"500+\",IF(E296>=500,E296*D296),IF(C296=\"1000+\",IF(E296>=1000,E296*D296),IF(C296=\"3000+\",IF(E296>=3000,E296*D296),IF(AND(E296>=VLOOKUP(C296,$M$18:$P$34,3,FALSE),E296<=VLOOKUP(C296,$M$18:$P$34,4,FALSE)),E296*D296))))))","v":0},{"$f":"IF(Products!$Z$7=$J$4,Base!H292,IF(Products!$Z$7=$J$5,Base!#REF!,IF(OR(Products!$Z$7=$J$2,Products!$Z$7=$J$3),Base!AD295)))","v":"AL1242200I-EN"}]
[{"$f":"IF(Products!$Z$7=$J$4,Base!A293,IF(Products!$Z$7=$J$5,Base!#REF!,IF(OR(Products!$Z$7=$J$2,Products!$Z$7=$J$3),Base!Y296)))","v":"Bitdefender Security for Mail Servers - Linux"},{"$f":"IF(Products!$Z$7=$J$4,Base!B293,IF(Products!$Z$7=$J$5,Base!#REF!,IF(OR(Products!$Z$7=$J$2,Products!$Z$7=$J$3),Base!Z296)))","v":"2 years"},{"$f":"IF(Products!$Z$7=$J$4,Base!C293,IF(Products!$Z$7=$J$5,Base!#REF!,IF(OR(Products!$Z$7=$J$2,Products!$Z$7=$J$3),Base!AA296)))","v":"3000+"},{"$f":"IFERROR(IF(Products!$Z$7=$J$3,VLOOKUP(CONCATENATE(A297,B297,C297),Base!$AB$13:$AC$64,2,FALSE),IF(Products!$Z$7=$J$2,VLOOKUP(CONCATENATE(A297,B297,C297),Base!$AB$13:$AE$64,4,FALSE),VLOOKUP(CONCATENATE(A297,B297,C297),Base!$D$9:$G$386,4,FALSE))),\"\")","v":15.94},{"$f":"Products!F297","v":0},{"$f":"IF(ISBLANK(Products!F297),0,IF(LEFT(Products!$Z$7,8)=\"Consumer\",D297*E297,IF(C297=\"500+\",IF(E297>=500,E297*D297),IF(C297=\"1000+\",IF(E297>=1000,E297*D297),IF(C297=\"3000+\",IF(E297>=3000,E297*D297),IF(AND(E297>=VLOOKUP(C297,$M$18:$P$34,3,FALSE),E297<=VLOOKUP(C297,$M$18:$P$34,4,FALSE)),E297*D297))))))","v":0},{"$f":"IF(Products!$Z$7=$J$4,Base!H293,IF(Products!$Z$7=$J$5,Base!#REF!,IF(OR(Products!$Z$7=$J$2,Products!$Z$7=$J$3),Base!AD296)))","v":"AL1242200J-EN"}]
[{"$f":"IF(Products!$Z$7=$J$4,Base!A294,IF(Products!$Z$7=$J$5,Base!#REF!,IF(OR(Products!$Z$7=$J$2,Products!$Z$7=$J$3),Base!Y297)))","v":"Bitdefender Security for Mail Servers - Linux"},{"$f":"IF(Products!$Z$7=$J$4,Base!B294,IF(Products!$Z$7=$J$5,Base!#REF!,IF(OR(Products!$Z$7=$J$2,Products!$Z$7=$J$3),Base!Z297)))","v":"3 years"},{"$f":"IF(Products!$Z$7=$J$4,Base!C294,IF(Products!$Z$7=$J$5,Base!#REF!,IF(OR(Products!$Z$7=$J$2,Products!$Z$7=$J$3),Base!AA297)))","v":"5 - 14"},{"$f":"IFERROR(IF(Products!$Z$7=$J$3,VLOOKUP(CONCATENATE(A298,B298,C298),Base!$AB$13:$AC$64,2,FALSE),IF(Products!$Z$7=$J$2,VLOOKUP(CONCATENATE(A298,B298,C298),Base!$AB$13:$AE$64,4,FALSE),VLOOKUP(CONCATENATE(A298,B298,C298),Base!$D$9:$G$386,4,FALSE))),\"\")","v":48.25},{"$f":"Products!F298","v":0},{"$f":"IF(ISBLANK(Products!F298),0,IF(LEFT(Products!$Z$7,8)=\"Consumer\",D298*E298,IF(C298=\"500+\",IF(E298>=500,E298*D298),IF(C298=\"1000+\",IF(E298>=1000,E298*D298),IF(C298=\"3000+\",IF(E298>=3000,E298*D298),IF(AND(E298>=VLOOKUP(C298,$M$18:$P$34,3,FALSE),E298<=VLOOKUP(C298,$M$18:$P$34,4,FALSE)),E298*D298))))))","v":0},{"$f":"IF(Products!$Z$7=$J$4,Base!H294,IF(Products!$Z$7=$J$5,Base!#REF!,IF(OR(Products!$Z$7=$J$2,Products!$Z$7=$J$3),Base!AD297)))","v":"AL1242300A-EN"}]
[{"$f":"IF(Products!$Z$7=$J$4,Base!A295,IF(Products!$Z$7=$J$5,Base!#REF!,IF(OR(Products!$Z$7=$J$2,Products!$Z$7=$J$3),Base!Y298)))","v":"Bitdefender Security for Mail Servers - Linux"},{"$f":"IF(Products!$Z$7=$J$4,Base!B295,IF(Products!$Z$7=$J$5,Base!#REF!,IF(OR(Products!$Z$7=$J$2,Products!$Z$7=$J$3),Base!Z298)))","v":"3 years"},{"$f":"IF(Products!$Z$7=$J$4,Base!C295,IF(Products!$Z$7=$J$5,Base!#REF!,IF(OR(Products!$Z$7=$J$2,Products!$Z$7=$J$3),Base!AA298)))","v":"15 - 24"},{"$f":"IFERROR(IF(Products!$Z$7=$J$3,VLOOKUP(CONCATENATE(A299,B299,C299),Base!$AB$13:$AC$64,2,FALSE),IF(Products!$Z$7=$J$2,VLOOKUP(CONCATENATE(A299,B299,C299),Base!$AB$13:$AE$64,4,FALSE),VLOOKUP(CONCATENATE(A299,B299,C299),Base!$D$9:$G$386,4,FALSE))),\"\")","v":43.86},{"$f":"Products!F299","v":0},{"$f":"IF(ISBLANK(Products!F299),0,IF(LEFT(Products!$Z$7,8)=\"Consumer\",D299*E299,IF(C299=\"500+\",IF(E299>=500,E299*D299),IF(C299=\"1000+\",IF(E299>=1000,E299*D299),IF(C299=\"3000+\",IF(E299>=3000,E299*D299),IF(AND(E299>=VLOOKUP(C299,$M$18:$P$34,3,FALSE),E299<=VLOOKUP(C299,$M$18:$P$34,4,FALSE)),E299*D299))))))","v":0},{"$f":"IF(Products!$Z$7=$J$4,Base!H295,IF(Products!$Z$7=$J$5,Base!#REF!,IF(OR(Products!$Z$7=$J$2,Products!$Z$7=$J$3),Base!AD298)))","v":"AL1242300B-EN"}]
[{"$f":"IF(Products!$Z$7=$J$4,Base!A296,IF(Products!$Z$7=$J$5,Base!#REF!,IF(OR(Products!$Z$7=$J$2,Products!$Z$7=$J$3),Base!Y299)))","v":"Bitdefender Security for Mail Servers - Linux"},{"$f":"IF(Products!$Z$7=$J$4,Base!B296,IF(Products!$Z$7=$J$5,Base!#REF!,IF(OR(Products!$Z$7=$J$2,Products!$Z$7=$J$3),Base!Z299)))","v":"3 years"},{"$f":"IF(Products!$Z$7=$J$4,Base!C296,IF(Products!$Z$7=$J$5,Base!#REF!,IF(OR(Products!$Z$7=$J$2,Products!$Z$7=$J$3),Base!AA299)))","v":"25 - 49"},{"$f":"IFERROR(IF(Products!$Z$7=$J$3,VLOOKUP(CONCATENATE(A300,B300,C300),Base!$AB$13:$AC$64,2,FALSE),IF(Products!$Z$7=$J$2,VLOOKUP(CONCATENATE(A300,B300,C300),Base!$AB$13:$AE$64,4,FALSE),VLOOKUP(CONCATENATE(A300,B300,C300),Base!$D$9:$G$386,4,FALSE))),\"\")","v":39.47},{"$f":"Products!F300","v":0},{"$f":"IF(ISBLANK(Products!F300),0,IF(LEFT(Products!$Z$7,8)=\"Consumer\",D300*E300,IF(C300=\"500+\",IF(E300>=500,E300*D300),IF(C300=\"1000+\",IF(E300>=1000,E300*D300),IF(C300=\"3000+\",IF(E300>=3000,E300*D300),IF(AND(E300>=VLOOKUP(C300,$M$18:$P$34,3,FALSE),E300<=VLOOKUP(C300,$M$18:$P$34,4,FALSE)),E300*D300))))))","v":0},{"$f":"IF(Products!$Z$7=$J$4,Base!H296,IF(Products!$Z$7=$J$5,Base!#REF!,IF(OR(Products!$Z$7=$J$2,Products!$Z$7=$J$3),Base!AD299)))","v":"AL1242300C-EN"}]
[{"$f":"IF(Products!$Z$7=$J$4,Base!A297,IF(Products!$Z$7=$J$5,Base!#REF!,IF(OR(Products!$Z$7=$J$2,Products!$Z$7=$J$3),Base!Y300)))","v":"Bitdefender Security for Mail Servers - Linux"},{"$f":"IF(Products!$Z$7=$J$4,Base!B297,IF(Products!$Z$7=$J$5,Base!#REF!,IF(OR(Products!$Z$7=$J$2,Products!$Z$7=$J$3),Base!Z300)))","v":"3 years"},{"$f":"IF(Products!$Z$7=$J$4,Base!C297,IF(Products!$Z$7=$J$5,Base!#REF!,IF(OR(Products!$Z$7=$J$2,Products!$Z$7=$J$3),Base!AA300)))","v":"50 - 99"},{"$f":"IFERROR(IF(Products!$Z$7=$J$3,VLOOKUP(CONCATENATE(A301,B301,C301),Base!$AB$13:$AC$64,2,FALSE),IF(Products!$Z$7=$J$2,VLOOKUP(CONCATENATE(A301,B301,C301),Base!$AB$13:$AE$64,4,FALSE),VLOOKUP(CONCATENATE(A301,B301,C301),Base!$D$9:$G$386,4,FALSE))),\"\")","v":35.81},{"$f":"Products!F301","v":0},{"$f":"IF(ISBLANK(Products!F301),0,IF(LEFT(Products!$Z$7,8)=\"Consumer\",D301*E301,IF(C301=\"500+\",IF(E301>=500,E301*D301),IF(C301=\"1000+\",IF(E301>=1000,E301*D301),IF(C301=\"3000+\",IF(E301>=3000,E301*D301),IF(AND(E301>=VLOOKUP(C301,$M$18:$P$34,3,FALSE),E301<=VLOOKUP(C301,$M$18:$P$34,4,FALSE)),E301*D301))))))","v":0},{"$f":"IF(Products!$Z$7=$J$4,Base!H297,IF(Products!$Z$7=$J$5,Base!#REF!,IF(OR(Products!$Z$7=$J$2,Products!$Z$7=$J$3),Base!AD300)))","v":"AL1242300D-EN"}]
[{"$f":"IF(Products!$Z$7=$J$4,Base!A298,IF(Products!$Z$7=$J$5,Base!#REF!,IF(OR(Products!$Z$7=$J$2,Products!$Z$7=$J$3),Base!Y301)))","v":"Bitdefender Security for Mail Servers - Linux"},{"$f":"IF(Products!$Z$7=$J$4,Base!B298,IF(Products!$Z$7=$J$5,Base!#REF!,IF(OR(Products!$Z$7=$J$2,Products!$Z$7=$J$3),Base!Z301)))","v":"3 years"},{"$f":"IF(Products!$Z$7=$J$4,Base!C298,IF(Products!$Z$7=$J$5,Base!#REF!,IF(OR(Products!$Z$7=$J$2,Products!$Z$7=$J$3),Base!AA301)))","v":"100 - 149"},{"$f":"IFERROR(IF(Products!$Z$7=$J$3,VLOOKUP(CONCATENATE(A302,B302,C302),Base!$AB$13:$AC$64,2,FALSE),IF(Products!$Z$7=$J$2,VLOOKUP(CONCATENATE(A302,B302,C302),Base!$AB$13:$AE$64,4,FALSE),VLOOKUP(CONCATENATE(A302,B302,C302),Base!$D$9:$G$386,4,FALSE))),\"\")","v":32.15},{"$f":"Products!F302","v":0},{"$f":"IF(ISBLANK(Products!F302),0,IF(LEFT(Products!$Z$7,8)=\"Consumer\",D302*E302,IF(C302=\"500+\",IF(E302>=500,E302*D302),IF(C302=\"1000+\",IF(E302>=1000,E302*D302),IF(C302=\"3000+\",IF(E302>=3000,E302*D302),IF(AND(E302>=VLOOKUP(C302,$M$18:$P$34,3,FALSE),E302<=VLOOKUP(C302,$M$18:$P$34,4,FALSE)),E302*D302))))))","v":0},{"$f":"IF(Products!$Z$7=$J$4,Base!H298,IF(Products!$Z$7=$J$5,Base!#REF!,IF(OR(Products!$Z$7=$J$2,Products!$Z$7=$J$3),Base!AD301)))","v":"AL1242300E-EN"}]
[{"$f":"IF(Products!$Z$7=$J$4,Base!A299,IF(Products!$Z$7=$J$5,Base!#REF!,IF(OR(Products!$Z$7=$J$2,Products!$Z$7=$J$3),Base!Y302)))","v":"Bitdefender Security for Mail Servers - Linux"},{"$f":"IF(Products!$Z$7=$J$4,Base!B299,IF(Products!$Z$7=$J$5,Base!#REF!,IF(OR(Products!$Z$7=$J$2,Products!$Z$7=$J$3),Base!Z302)))","v":"3 years"},{"$f":"IF(Products!$Z$7=$J$4,Base!C299,IF(Products!$Z$7=$J$5,Base!#REF!,IF(OR(Products!$Z$7=$J$2,Products!$Z$7=$J$3),Base!AA302)))","v":"150 - 249"},{"$f":"IFERROR(IF(Products!$Z$7=$J$3,VLOOKUP(CONCATENATE(A303,B303,C303),Base!$AB$13:$AC$64,2,FALSE),IF(Products!$Z$7=$J$2,VLOOKUP(CONCATENATE(A303,B303,C303),Base!$AB$13:$AE$64,4,FALSE),VLOOKUP(CONCATENATE(A303,B303,C303),Base!$D$9:$G$386,4,FALSE))),\"\")","v":29.5},{"$f":"Products!F303","v":0},{"$f":"IF(ISBLANK(Products!F303),0,IF(LEFT(Products!$Z$7,8)=\"Consumer\",D303*E303,IF(C303=\"500+\",IF(E303>=500,E303*D303),IF(C303=\"1000+\",IF(E303>=1000,E303*D303),IF(C303=\"3000+\",IF(E303>=3000,E303*D303),IF(AND(E303>=VLOOKUP(C303,$M$18:$P$34,3,FALSE),E303<=VLOOKUP(C303,$M$18:$P$34,4,FALSE)),E303*D303))))))","v":0},{"$f":"IF(Products!$Z$7=$J$4,Base!H299,IF(Products!$Z$7=$J$5,Base!#REF!,IF(OR(Products!$Z$7=$J$2,Products!$Z$7=$J$3),Base!AD302)))","v":"AL1242300F-EN"}]
[{"$f":"IF(Products!$Z$7=$J$4,Base!A300,IF(Products!$Z$7=$J$5,Base!#REF!,IF(OR(Products!$Z$7=$J$2,Products!$Z$7=$J$3),Base!Y303)))","v":"Bitdefender Security for Mail Servers - Linux"},{"$f":"IF(Products!$Z$7=$J$4,Base!B300,IF(Products!$Z$7=$J$5,Base!#REF!,IF(OR(Products!$Z$7=$J$2,Products!$Z$7=$J$3),Base!Z303)))","v":"3 years"},{"$f":"IF(Products!$Z$7=$J$4,Base!C300,IF(Products!$Z$7=$J$5,Base!#REF!,IF(OR(Products!$Z$7=$J$2,Products!$Z$7=$J$3),Base!AA303)))","v":"250 - 499"},{"$f":"IFERROR(IF(Products!$Z$7=$J$3,VLOOKUP(CONCATENATE(A304,B304,C304),Base!$AB$13:$AC$64,2,FALSE),IF(Products!$Z$7=$J$2,VLOOKUP(CONCATENATE(A304,B304,C304),Base!$AB$13:$AE$64,4,FALSE),VLOOKUP(CONCATENATE(A304,B304,C304),Base!$D$9:$G$386,4,FALSE))),\"\")","v":27.01},{"$f":"Products!F304","v":0},{"$f":"IF(ISBLANK(Products!F304),0,IF(LEFT(Products!$Z$7,8)=\"Consumer\",D304*E304,IF(C304=\"500+\",IF(E304>=500,E304*D304),IF(C304=\"1000+\",IF(E304>=1000,E304*D304),IF(C304=\"3000+\",IF(E304>=3000,E304*D304),IF(AND(E304>=VLOOKUP(C304,$M$18:$P$34,3,FALSE),E304<=VLOOKUP(C304,$M$18:$P$34,4,FALSE)),E304*D304))))))","v":0},{"$f":"IF(Products!$Z$7=$J$4,Base!H300,IF(Products!$Z$7=$J$5,Base!#REF!,IF(OR(Products!$Z$7=$J$2,Products!$Z$7=$J$3),Base!AD303)))","v":"AL1242300G-EN"}]
[{"$f":"IF(Products!$Z$7=$J$4,Base!A301,IF(Products!$Z$7=$J$5,Base!#REF!,IF(OR(Products!$Z$7=$J$2,Products!$Z$7=$J$3),Base!Y304)))","v":"Bitdefender Security for Mail Servers - Linux"},{"$f":"IF(Products!$Z$7=$J$4,Base!B301,IF(Products!$Z$7=$J$5,Base!#REF!,IF(OR(Products!$Z$7=$J$2,Products!$Z$7=$J$3),Base!Z304)))","v":"3 years"},{"$f":"IF(Products!$Z$7=$J$4,Base!C301,IF(Products!$Z$7=$J$5,Base!#REF!,IF(OR(Products!$Z$7=$J$2,Products!$Z$7=$J$3),Base!AA304)))","v":"500 - 999"},{"$f":"IFERROR(IF(Products!$Z$7=$J$3,VLOOKUP(CONCATENATE(A305,B305,C305),Base!$AB$13:$AC$64,2,FALSE),IF(Products!$Z$7=$J$2,VLOOKUP(CONCATENATE(A305,B305,C305),Base!$AB$13:$AE$64,4,FALSE),VLOOKUP(CONCATENATE(A305,B305,C305),Base!$D$9:$G$386,4,FALSE))),\"\")","v":24.82},{"$f":"Products!F305","v":0},{"$f":"IF(ISBLANK(Products!F305),0,IF(LEFT(Products!$Z$7,8)=\"Consumer\",D305*E305,IF(C305=\"500+\",IF(E305>=500,E305*D305),IF(C305=\"1000+\",IF(E305>=1000,E305*D305),IF(C305=\"3000+\",IF(E305>=3000,E305*D305),IF(AND(E305>=VLOOKUP(C305,$M$18:$P$34,3,FALSE),E305<=VLOOKUP(C305,$M$18:$P$34,4,FALSE)),E305*D305))))))","v":0},{"$f":"IF(Products!$Z$7=$J$4,Base!H301,IF(Products!$Z$7=$J$5,Base!#REF!,IF(OR(Products!$Z$7=$J$2,Products!$Z$7=$J$3),Base!AD304)))","v":"AL1242300H-EN"}]
[{"$f":"IF(Products!$Z$7=$J$4,Base!A302,IF(Products!$Z$7=$J$5,Base!#REF!,IF(OR(Products!$Z$7=$J$2,Products!$Z$7=$J$3),Base!Y305)))","v":"Bitdefender Security for Mail Servers - Linux"},{"$f":"IF(Products!$Z$7=$J$4,Base!B302,IF(Products!$Z$7=$J$5,Base!#REF!,IF(OR(Products!$Z$7=$J$2,Products!$Z$7=$J$3),Base!Z305)))","v":"3 years"},{"$f":"IF(Products!$Z$7=$J$4,Base!C302,IF(Products!$Z$7=$J$5,Base!#REF!,IF(OR(Products!$Z$7=$J$2,Products!$Z$7=$J$3),Base!AA305)))","v":"1000 - 2999"},{"$f":"IFERROR(IF(Products!$Z$7=$J$3,VLOOKUP(CONCATENATE(A306,B306,C306),Base!$AB$13:$AC$64,2,FALSE),IF(Products!$Z$7=$J$2,VLOOKUP(CONCATENATE(A306,B306,C306),Base!$AB$13:$AE$64,4,FALSE),VLOOKUP(CONCATENATE(A306,B306,C306),Base!$D$9:$G$386,4,FALSE))),\"\")","v":22.62},{"$f":"Products!F306","v":0},{"$f":"IF(ISBLANK(Products!F306),0,IF(LEFT(Products!$Z$7,8)=\"Consumer\",D306*E306,IF(C306=\"500+\",IF(E306>=500,E306*D306),IF(C306=\"1000+\",IF(E306>=1000,E306*D306),IF(C306=\"3000+\",IF(E306>=3000,E306*D306),IF(AND(E306>=VLOOKUP(C306,$M$18:$P$34,3,FALSE),E306<=VLOOKUP(C306,$M$18:$P$34,4,FALSE)),E306*D306))))))","v":0},{"$f":"IF(Products!$Z$7=$J$4,Base!H302,IF(Products!$Z$7=$J$5,Base!#REF!,IF(OR(Products!$Z$7=$J$2,Products!$Z$7=$J$3),Base!AD305)))","v":"AL1242300I-EN"}]
[{"$f":"IF(Products!$Z$7=$J$4,Base!A303,IF(Products!$Z$7=$J$5,Base!#REF!,IF(OR(Products!$Z$7=$J$2,Products!$Z$7=$J$3),Base!Y306)))","v":"Bitdefender Security for Mail Servers - Linux"},{"$f":"IF(Products!$Z$7=$J$4,Base!B303,IF(Products!$Z$7=$J$5,Base!#REF!,IF(OR(Products!$Z$7=$J$2,Products!$Z$7=$J$3),Base!Z306)))","v":"3 years"},{"$f":"IF(Products!$Z$7=$J$4,Base!C303,IF(Products!$Z$7=$J$5,Base!#REF!,IF(OR(Products!$Z$7=$J$2,Products!$Z$7=$J$3),Base!AA306)))","v":"3000+"},{"$f":"IFERROR(IF(Products!$Z$7=$J$3,VLOOKUP(CONCATENATE(A307,B307,C307),Base!$AB$13:$AC$64,2,FALSE),IF(Products!$Z$7=$J$2,VLOOKUP(CONCATENATE(A307,B307,C307),Base!$AB$13:$AE$64,4,FALSE),VLOOKUP(CONCATENATE(A307,B307,C307),Base!$D$9:$G$386,4,FALSE))),\"\")","v":20.420000000000002},{"$f":"Products!F307","v":0},{"$f":"IF(ISBLANK(Products!F307),0,IF(LEFT(Products!$Z$7,8)=\"Consumer\",D307*E307,IF(C307=\"500+\",IF(E307>=500,E307*D307),IF(C307=\"1000+\",IF(E307>=1000,E307*D307),IF(C307=\"3000+\",IF(E307>=3000,E307*D307),IF(AND(E307>=VLOOKUP(C307,$M$18:$P$34,3,FALSE),E307<=VLOOKUP(C307,$M$18:$P$34,4,FALSE)),E307*D307))))))","v":0},{"$f":"IF(Products!$Z$7=$J$4,Base!H303,IF(Products!$Z$7=$J$5,Base!#REF!,IF(OR(Products!$Z$7=$J$2,Products!$Z$7=$J$3),Base!AD306)))","v":"AL1242300J-EN"}]